Workbook

Sheet Feuil1 (2)
C1: 1 | D1: =+A2 -> 71275150
A2: 71275150 | B2: 6 | C2: =+C1+B2 -> 7 | D2: =+A3 -> 71275157
A3: 71275157 | B3: 1 | C3: =+C2+B3 -> 8 | D3: =+A4 -> 71275160
A4: 71275160 | B4: 7 | C4: =+C3+B4 -> 15 | D4: =+A5 -> 71275170
A5: 71275170 | B5: 4 | C5: =+C4+B5 -> 19 | D5: =+A6 -> 71275171
A6: 71275171 | B6: 7 | C6: =+C5+B6 -> 26

Sheet exemple (2)
A1: =VLOOKUP(ROW(),'Feuil1 (2)'!$C$1:$D$6,2,TRUE) -> 71275150 | B1: =IF(A1<>0,1,"") -> 1
A2: =VLOOKUP(ROW(),'Feuil1 (2)'!$C$1:$D$6,2,TRUE) -> 71275150 | B2: =IF(A2<>0,1,"") -> 1
A3: =VLOOKUP(ROW(),'Feuil1 (2)'!$C$1:$D$6,2,TRUE) -> 71275150 | B3: =IF(A3<>0,1,"") -> 1
A4: =VLOOKUP(ROW(),'Feuil1 (2)'!$C$1:$D$6,2,TRUE) -> 71275150 | B4: =IF(A4<>0,1,"") -> 1
A5: =VLOOKUP(ROW(),'Feuil1 (2)'!$C$1:$D$6,2,TRUE) -> 71275150 | B5: =IF(A5<>0,1,"") -> 1
A6: =VLOOKUP(ROW(),'Feuil1 (2)'!$C$1:$D$6,2,TRUE) -> 71275150 | B6: =IF(A6<>0,1,"") -> 1
A7: =VLOOKUP(ROW(),'Feuil1 (2)'!$C$1:$D$6,2,TRUE) -> 71275157 | B7: =IF(A7<>0,1,"") -> 1
A8: =VLOOKUP(ROW(),'Feuil1 (2)'!$C$1:$D$6,2,TRUE) -> 71275160 | B8: =IF(A8<>0,1,"") -> 1
A9: =VLOOKUP(ROW(),'Feuil1 (2)'!$C$1:$D$6,2,TRUE) -> 71275160 | B9: =IF(A9<>0,1,"") -> 1
A10: =VLOOKUP(ROW(),'Feuil1 (2)'!$C$1:$D$6,2,TRUE) -> 71275160 | B10: =IF(A10<>0,1,"") -> 1
A11: =VLOOKUP(ROW(),'Feuil1 (2)'!$C$1:$D$6,2,TRUE) -> 71275160 | B11: =IF(A11<>0,1,"") -> 1
A12: =VLOOKUP(ROW(),'Feuil1 (2)'!$C$1:$D$6,2,TRUE) -> 71275160 | B12: =IF(A12<>0,1,"") -> 1
... A28: =VLOOKUP(ROW(),'Feuil1 (2)'!$C$1:$D$6,2,TRUE) -> 0 | B28: =IF(A28<>0,1,"")

Sheet Feuil1
A1: 71275150 | B1: 6
A2: 71275157 | B2: 1
A3: 71275160 | B3: 7
A4: 71275170 | B4: 4
A5: 71275171 | B5: 7

Sheet exemple
A1: 71275150 | B1: 1
A2: 71275150 | B2: 1
A3: 71275150 | B3: 1
A4: 71275150 | B4: 1
A5: 71275150 | B5: 1
A6: 71275150 | B6: 1
A7: 71275157 | B7: 1
A8: 71275160 | B8: 1
A9: 71275160 | B9: 1
A10: 71275160 | B10: 1
A11: 71275160 | B11: 1
A12: 71275160 | B12: 1
... A22: 71275171 | B22: 1
