Workbook
Name Cru: Données!$D$14
Name dateFinGN: Données!$D$12
Name entree: Données!$D$7
Name NumCOOP: Données!$D$17
Name sortie: Données!$D$8

Sheet Données
C5: Donnée sur stock FSA
C7: Dernier numéro Entrée de cave | D7: 5965
C8: Dernier numéro Sortie de cave | D8: 28761
C10: Données sur stock GN
C12: Date fin de mois | D12: 41670
C14: Crû | D14: 2013
C17: Numéro d'une Coop | D17: 025

Sheet Feuil7 TEST
C6: Mois de Fabrication | D6: Num Mois du Lot GN
BK7: Total
C8: 1 | H8: 2 | M8: 3 | R8: 4 | W8: 5 | AB8: 6 | AG8: 7 | AL8: 8 | AQ8: 9 | AV8: 10 | BA8: 11 | BF8: 12
A9: Num Coop | B9: Num Coop du Lot GN | C9: Quantitée entrée FSA | D9: Quantité Sortie FSA | E9: Quantité Retour | F9: Quantite signee | G9: Stock | H9: Quantitée entrée FSA | I9: Quantité Sortie FSA | J9: Quantité Retour | K9: Quantite signee | L9: Stock | M9: Quantitée entrée FSA | N9: Quantité Sortie FSA | O9: Quantité Retour | P9: Quantite signee | Q9: Stock | R9: Quantitée entrée FSA | S9: Quantité Sortie FSA | T9: Quantité Retour | U9: Quantite signee | V9: Stock | W9: Quantitée entrée FSA | X9: Quantité Sortie FSA | Y9: Quantité Retour | Z9: Quantite signee | AA9: Stock | AB9: Quantitée entrée FSA | AC9: Quantité Sortie FSA | AD9: Quantité Retour | AE9: Quantite signee | AF9: Stock | AG9: Quantitée entrée FSA | AH9: Quantité Sortie FSA | AI9: Quantité Retour | AJ9: Quantite signee | AK9: Stock | AL9: Quantitée entrée FSA | AM9: Quantité Sortie FSA | AN9: Quantité Retour | AO9: Quantite signee | AP9: Stock | AQ9: Quantitée entrée FSA | AR9: Quantité Sortie FSA | AS9: Quantité Retour | AT9: Quantite signee | AU9: Stock | AV9: Quantitée entrée FSA | AW9: Quantité Sortie FSA | AX9: Quantité Retour | AY9: Quantite signee | AZ9: Stock | BA9: Quantitée entrée FSA | BB9: Quantité Sortie FSA | BC9: Quantité Retour | BD9: Quantite signee | BE9: Stock | BF9: Quantitée entrée FSA | BG9: Quantité Sortie FSA | BH9: Quantité Retour | BI9: Quantite signee | BJ9: Stock | BK9: Quantitée entrée FSA | BL9: Quantité Sortie FSA | BM9: Quantité Retour | BN9: Quantite signee | BO9: Stock
A10: 17 | B10: 17 | F10: 0 | G10: =C10-D10 + E10 -> 0 | K10: 0 | L10: =H10-I10 + J10 -> 0 | P10: 0 | Q10: =M10-N10 + O10 -> 0 | U10: 0 | V10: =R10-S10 + T10 -> 0 | Z10: 374 | AA10: =W10-X10 + Y10 -> 0 | AE10: 391 | AF10: =AB10-AC10 + AD10 -> 0 | AJ10: 314 | AK10: =AG10-AH10 + AI10 -> 0 | AO10: 335 | AP10: =AL10-AM10 + AN10 -> 0 | AT10: 326 | AU10: =AQ10-AR10 + AS10 -> 0 | AY10: 373 | AZ10: =AV10-AW10 + AX10 -> 0 | BD10: 310 | BE10: =BA10-BB10 + BC10 -> 0 | BI10: 425 | BJ10: =BF10-BG10 + BH10 -> 0 | BN10: 2848 | BO10: =BK10-BL10 + BM10 -> 0
A11: 20 | B11: 20 | G11: =C11-D11 + E11 -> 0 | L11: =H11-I11 + J11 -> 0 | Q11: =M11-N11 + O11 -> 0 | V11: =R11-S11 + T11 -> 0 | AA11: =W11-X11 + Y11 -> 0 | AF11: =AB11-AC11 + AD11 -> 0 | AK11: =AG11-AH11 + AI11 -> 0 | AP11: =AL11-AM11 + AN11 -> 0 | AU11: =AQ11-AR11 + AS11 -> 0 | AZ11: =AV11-AW11 + AX11 -> 0 | BD11: 41 | BE11: =BA11-BB11 + BC11 -> 0 | BJ11: =BF11-BG11 + BH11 -> 0 | BN11: 41 | BO11: =BK11-BL11 + BM11 -> 0
A12: 22 | B12: 22 | F12: 0 | G12: =C12-D12 + E12 -> 0 | K12: 0 | L12: =H12-I12 + J12 -> 0 | P12: 141 | Q12: =M12-N12 + O12 -> 0 | U12: 703 | V12: =R12-S12 + T12 -> 0 | Z12: 449 | AA12: =W12-X12 + Y12 -> 0 | AE12: 564 | AF12: =AB12-AC12 + AD12 -> 0 | AJ12: 341 | AK12: =AG12-AH12 + AI12 -> 0 | AO12: 510 | AP12: =AL12-AM12 + AN12 -> 0 | AT12: 0 | AU12: =AQ12-AR12 + AS12 -> 0 | AY12: 80 | AZ12: =AV12-AW12 + AX12 -> 0 | BD12: 39 | BE12: =BA12-BB12 + BC12 -> 0 | BI12: 80 | BJ12: =BF12-BG12 + BH12 -> 0 | BN12: 2907 | BO12: =BK12-BL12 + BM12 -> 0
A13: 24 | B13: 24 | F13: 0 | G13: =C13-D13 + E13 -> 0 | K13: 0 | L13: =H13-I13 + J13 -> 0 | P13: 0 | Q13: =M13-N13 + O13 -> 0 | U13: 0 | V13: =R13-S13 + T13 -> 0 | Z13: 111 | AA13: =W13-X13 + Y13 -> 0 | AE13: 99 | AF13: =AB13-AC13 + AD13 -> 0 | AJ13: 475 | AK13: =AG13-AH13 + AI13 -> 0 | AO13: 456 | AP13: =AL13-AM13 + AN13 -> 0 | AT13: 444 | AU13: =AQ13-AR13 + AS13 -> 0 | AY13: 408 | AZ13: =AV13-AW13 + AX13 -> 0 | BD13: 394 | BE13: =BA13-BB13 + BC13 -> 0 | BI13: 458 | BJ13: =BF13-BG13 + BH13 -> 0 | BN13: 2845 | BO13: =BK13-BL13 + BM13 -> 0
A14: 25 | B14: 25 | F14: 0 | G14: =C14-D14 + E14 -> 0 | K14: 0 | L14: =H14-I14 + J14 -> 0 | P14: 0 | Q14: =M14-N14 + O14 -> 0 | U14: 170 | V14: =R14-S14 + T14 -> 0 | AA14: =W14-X14 + Y14 -> 0 | AF14: =AB14-AC14 + AD14 -> 0 | AK14: =AG14-AH14 + AI14 -> 0 | AP14: =AL14-AM14 + AN14 -> 0 | AU14: =AQ14-AR14 + AS14 -> 0 | AZ14: =AV14-AW14 + AX14 -> 0 | BE14: =BA14-BB14 + BC14 -> 0 | BJ14: =BF14-BG14 + BH14 -> 0 | BN14: 170 | BO14: =BK14-BL14 + BM14 -> 0
A15: 26 | B15: 26 | F15: 237 | G15: =C15-D15 + E15 -> 0 | K15: 0 | L15: =H15-I15 + J15 -> 0 | P15: 1 | Q15: =M15-N15 + O15 -> 0 | U15: 197 | V15: =R15-S15 + T15 -> 0 | AA15: =W15-X15 + Y15 -> 0 | AF15: =AB15-AC15 + AD15 -> 0 | AK15: =AG15-AH15 + AI15 -> 0 | AP15: =AL15-AM15 + AN15 -> 0 | AU15: =AQ15-AR15 + AS15 -> 0 | AZ15: =AV15-AW15 + AX15 -> 0 | BE15: =BA15-BB15 + BC15 -> 0 | BI15: 116 | BJ15: =BF15-BG15 + BH15 -> 0 | BN15: 551 | BO15: =BK15-BL15 + BM15 -> 0
A16: 27 | B16: 27 | G16: =C16-D16 + E16 -> 0 | K16: 0 | L16: =H16-I16 + J16 -> 0 | P16: 0 | Q16: =M16-N16 + O16 -> 0 | U16: 0 | V16: =R16-S16 + T16 -> 0 | AA16: =W16-X16 + Y16 -> 0 | AF16: =AB16-AC16 + AD16 -> 0 | AJ16: 3 | AK16: =AG16-AH16 + AI16 -> 0 | AO16: 7 | AP16: =AL16-AM16 + AN16 -> 0 | AT16: 6 | AU16: =AQ16-AR16 + AS16 -> 0 | AY16: 2 | AZ16: =AV16-AW16 + AX16 -> 0 | BD16: 7 | BE16: =BA16-BB16 + BC16 -> 0 | BJ16: =BF16-BG16 + BH16 -> 0 | BN16: 25 | BO16: =BK16-BL16 + BM16 -> 0
A17: 28 | B17: 28 | F17: 0 | G17: =C17-D17 + E17 -> 0 | K17: 0 | L17: =H17-I17 + J17 -> 0 | P17: 0 | Q17: =M17-N17 + O17 -> 0 | U17: 0 | V17: =R17-S17 + T17 -> 0 | Z17: 0 | AA17: =W17-X17 + Y17 -> 0 | AE17: 0 | AF17: =AB17-AC17 + AD17 -> 0 | AJ17: 2 | AK17: =AG17-AH17 + AI17 -> 0 | AO17: 80 | AP17: =AL17-AM17 + AN17 -> 0 | AT17: 32 | AU17: =AQ17-AR17 + AS17 -> 0 | AY17: 33 | AZ17: =AV17-AW17 + AX17 -> 0 | BD17: 112 | BE17: =BA17-BB17 + BC17 -> 0 | BI17: 55 | BJ17: =BF17-BG17 + BH17 -> 0 | BN17: 314 | BO17: =BK17-BL17 + BM17 -> 0
A18: 31 | B18: 31 | F18: 0 | G18: =C18-D18 + E18 -> 0 | K18: 0 | L18: =H18-I18 + J18 -> 0 | P18: 0 | Q18: =M18-N18 + O18 -> 0 | U18: 297 | V18: =R18-S18 + T18 -> 0 | Z18: 222 | AA18: =W18-X18 + Y18 -> 0 | AE18: 197 | AF18: =AB18-AC18 + AD18 -> 0 | AJ18: 147 | AK18: =AG18-AH18 + AI18 -> 0 | AP18: =AL18-AM18 + AN18 -> 0 | AT18: 98 | AU18: =AQ18-AR18 + AS18 -> 0 | AY18: 76 | AZ18: =AV18-AW18 + AX18 -> 0 | BE18: =BA18-BB18 + BC18 -> 0 | BI18: 60 | BJ18: =BF18-BG18 + BH18 -> 0 | BN18: 1097 | BO18: =BK18-BL18 + BM18 -> 0
A19: 32 | B19: 32 | F19: 0 | G19: =C19-D19 + E19 -> 0 | K19: 0 | L19: =H19-I19 + J19 -> 0 | P19: 0 | Q19: =M19-N19 + O19 -> 0 | U19: 0 | V19: =R19-S19 + T19 -> 0 | Z19: 138 | AA19: =W19-X19 + Y19 -> 0 | AE19: 364 | AF19: =AB19-AC19 + AD19 -> 0 | AJ19: 369 | AK19: =AG19-AH19 + AI19 -> 0 | AO19: 323 | AP19: =AL19-AM19 + AN19 -> 0 | AT19: 293 | AU19: =AQ19-AR19 + AS19 -> 0 | AY19: 286 | AZ19: =AV19-AW19 + AX19 -> 0 | BD19: 239 | BE19: =BA19-BB19 + BC19 -> 0 | BI19: 272 | BJ19: =BF19-BG19 + BH19 -> 0 | BN19: 2284 | BO19: =BK19-BL19 + BM19 -> 0
A20: 42 | B20: 42 | F20: 0 | G20: =C20-D20 + E20 -> 0 | K20: 0 | L20: =H20-I20 + J20 -> 0 | P20: 400 | Q20: =M20-N20 + O20 -> 0 | U20: 378 | V20: =R20-S20 + T20 -> 0 | Z20: 448 | AA20: =W20-X20 + Y20 -> 0 | AE20: 440 | AF20: =AB20-AC20 + AD20 -> 0 | AJ20: 357 | AK20: =AG20-AH20 + AI20 -> 0 | AO20: 348 | AP20: =AL20-AM20 + AN20 -> 0 | AT20: 370 | AU20: =AQ20-AR20 + AS20 -> 0 | AY20: 328 | AZ20: =AV20-AW20 + AX20 -> 0 | BD20: 351 | BE20: =BA20-BB20 + BC20 -> 0 | BI20: 431 | BJ20: =BF20-BG20 + BH20 -> 0 | BN20: 3851 | BO20: =BK20-BL20 + BM20 -> 0
A21: 45 | B21: 45 | F21: 0 | G21: =C21-D21 + E21 -> 0 | K21: 0 | L21: =H21-I21 + J21 -> 0 | P21: 0 | Q21: =M21-N21 + O21 -> 0 | U21: 10 | V21: =R21-S21 + T21 -> 0 | Z21: 189 | AA21: =W21-X21 + Y21 -> 0 | AE21: 173 | AF21: =AB21-AC21 + AD21 -> 0 | AJ21: 141 | AK21: =AG21-AH21 + AI21 -> 0 | AO21: 113 | AP21: =AL21-AM21 + AN21 -> 0 | AT21: 119 | AU21: =AQ21-AR21 + AS21 -> 0 | AY21: 107 | AZ21: =AV21-AW21 + AX21 -> 0 | BD21: 106 | BE21: =BA21-BB21 + BC21 -> 0 | BI21: 220 | BJ21: =BF21-BG21 + BH21 -> 0 | BN21: 1178 | BO21: =BK21-BL21 + BM21 -> 0
A22: 51 | B22: 51 | G22: =C22-D22 + E22 -> 0 | K22: 0 | L22: =H22-I22 + J22 -> 0 | P22: 0 | Q22: =M22-N22 + O22 -> 0 | V22: =R22-S22 + T22 -> 0 | AA22: =W22-X22 + Y22 -> 0 | AF22: =AB22-AC22 + AD22 -> 0 | AK22: =AG22-AH22 + AI22 -> 0 | AP22: =AL22-AM22 + AN22 -> 0 | AU22: =AQ22-AR22 + AS22 -> 0 | AZ22: =AV22-AW22 + AX22 -> 0 | BE22: =BA22-BB22 + BC22 -> 0 | BJ22: =BF22-BG22 + BH22 -> 0 | BN22: 0 | BO22: =BK22-BL22 + BM22 -> 0
A23: 54 | B23: 54 | F23: 0 | G23: =C23-D23 + E23 -> 0 | K23: 0 | L23: =H23-I23 + J23 -> 0 | P23: 2 | Q23: =M23-N23 + O23 -> 0 | U23: 131 | V23: =R23-S23 + T23 -> 0 | AA23: =W23-X23 + Y23 -> 0 | AF23: =AB23-AC23 + AD23 -> 0 | AK23: =AG23-AH23 + AI23 -> 0 | AP23: =AL23-AM23 + AN23 -> 0 | AU23: =AQ23-AR23 + AS23 -> 0 | AZ23: =AV23-AW23 + AX23 -> 0 | BE23: =BA23-BB23 + BC23 -> 0 | BJ23: =BF23-BG23 + BH23 -> 0 | BN23: 133 | BO23: =BK23-BL23 + BM23 -> 0
A24: 55 | B24: 55 | F24: 0 | G24: =C24-D24 + E24 -> 0 | K24: 0 | L24: =H24-I24 + J24 -> 0 | P24: 0 | Q24: =M24-N24 + O24 -> 0 | U24: 200 | V24: =R24-S24 + T24 -> 0 | Z24: 560 | AA24: =W24-X24 + Y24 -> 0 | AE24: 448 | AF24: =AB24-AC24 + AD24 -> 0 | AJ24: 395 | AK24: =AG24-AH24 + AI24 -> 0 | AO24: 371 | AP24: =AL24-AM24 + AN24 -> 0 | AT24: 375 | AU24: =AQ24-AR24 + AS24 -> 0 | AY24: 494 | AZ24: =AV24-AW24 + AX24 -> 0 | BD24: 531 | BE24: =BA24-BB24 + BC24 -> 0 | BI24: 611 | BJ24: =BF24-BG24 + BH24 -> 0 | BN24: 3985 | BO24: =BK24-BL24 + BM24 -> 0
A25: 57 | B25: 57 | F25: 0 | G25: =C25-D25 + E25 -> 0 | K25: 0 | L25: =H25-I25 + J25 -> 0 | P25: 0 | Q25: =M25-N25 + O25 -> 0 | U25: 0 | V25: =R25-S25 + T25 -> 0 | Z25: 630 | AA25: =W25-X25 + Y25 -> 0 | AE25: 657 | AF25: =AB25-AC25 + AD25 -> 0 | AJ25: 272 | AK25: =AG25-AH25 + AI25 -> 0 | AO25: 427 | AP25: =AL25-AM25 + AN25 -> 0 | AT25: 455 | AU25: =AQ25-AR25 + AS25 -> 0 | AY25: 629 | AZ25: =AV25-AW25 + AX25 -> 0 | BD25: 602 | BE25: =BA25-BB25 + BC25 -> 0 | BI25: 637 | BJ25: =BF25-BG25 + BH25 -> 0 | BN25: 4309 | BO25: =BK25-BL25 + BM25 -> 0
A26: 64 | B26: 64 | F26: 0 | G26: =C26-D26 + E26 -> 0 | K26: 0 | L26: =H26-I26 + J26 -> 0 | P26: 0 | Q26: =M26-N26 + O26 -> 0 | U26: 115 | V26: =R26-S26 + T26 -> 0 | Z26: 356 | AA26: =W26-X26 + Y26 -> 0 | AE26: 507 | AF26: =AB26-AC26 + AD26 -> 0 | AJ26: 377 | AK26: =AG26-AH26 + AI26 -> 0 | AO26: 399 | AP26: =AL26-AM26 + AN26 -> 0 | AT26: 424 | AU26: =AQ26-AR26 + AS26 -> 0 | AY26: 433 | AZ26: =AV26-AW26 + AX26 -> 0 | BD26: 440 | BE26: =BA26-BB26 + BC26 -> 0 | BI26: 540 | BJ26: =BF26-BG26 + BH26 -> 0 | BN26: 3591 | BO26: =BK26-BL26 + BM26 -> 0
A27: 71 | B27: 71 | F27: 0 | G27: =C27-D27 + E27 -> 0 | K27: 0 | L27: =H27-I27 + J27 -> 0 | P27: 0 | Q27: =M27-N27 + O27 -> 0 | U27: 0 | V27: =R27-S27 + T27 -> 0 | Z27: 79 | AA27: =W27-X27 + Y27 -> 0 | AE27: 94 | AF27: =AB27-AC27 + AD27 -> 0 | AJ27: 84 | AK27: =AG27-AH27 + AI27 -> 0 | AO27: 149 | AP27: =AL27-AM27 + AN27 -> 0 | AT27: 135 | AU27: =AQ27-AR27 + AS27 -> 0 | AY27: 138 | AZ27: =AV27-AW27 + AX27 -> 0 | BD27: 80 | BE27: =BA27-BB27 + BC27 -> 0 | BI27: 94 | BJ27: =BF27-BG27 + BH27 -> 0 | BN27: 853 | BO27: =BK27-BL27 + BM27 -> 0
A28: 72 | B28: 72 | F28: 0 | G28: =C28-D28 + E28 -> 0 | K28: 0 | L28: =H28-I28 + J28 -> 0 | P28: 0 | Q28: =M28-N28 + O28 -> 0 | U28: 0 | V28: =R28-S28 + T28 -> 0 | Z28: 61 | AA28: =W28-X28 + Y28 -> 0 | AE28: 254 | AF28: =AB28-AC28 + AD28 -> 0 | AJ28: 200 | AK28: =AG28-AH28 + AI28 -> 0 | AO28: 210 | AP28: =AL28-AM28 + AN28 -> 0 | AT28: 210 | AU28: =AQ28-AR28 + AS28 -> 0 | AY28: 199 | AZ28: =AV28-AW28 + AX28 -> 0 | BD28: 195 | BE28: =BA28-BB28 + BC28 -> 0 | BI28: 195 | BJ28: =BF28-BG28 + BH28 -> 0 | BN28: 1524 | BO28: =BK28-BL28 + BM28 -> 0
A29: 83 | B29: 83 | F29: 0 | G29: =C29-D29 + E29 -> 0 | K29: 0 | L29: =H29-I29 + J29 -> 0 | P29: 0 | Q29: =M29-N29 + O29 -> 0 | U29: 0 | V29: =R29-S29 + T29 -> 0 | AA29: =W29-X29 + Y29 -> 0 | AE29: 8 | AF29: =AB29-AC29 + AD29 -> 0 | AJ29: 1 | AK29: =AG29-AH29 + AI29 -> 0 | AO29: 104 | AP29: =AL29-AM29 + AN29 -> 0 | AT29: 265 | AU29: =AQ29-AR29 + AS29 -> 0 | AY29: 288 | AZ29: =AV29-AW29 + AX29 -> 0 | BD29: 294 | BE29: =BA29-BB29 + BC29 -> 0 | BI29: 341 | BJ29: =BF29-BG29 + BH29 -> 0 | BN29: 1301 | BO29: =BK29-BL29 + BM29 -> 0
A30: 88 | B30: 88 | G30: =C30-D30 + E30 -> 0 | L30: =H30-I30 + J30 -> 0 | Q30: =M30-N30 + O30 -> 0 | U30: 0 | V30: =R30-S30 + T30 -> 0 | Z30: 1062 | AA30: =W30-X30 + Y30 -> 0 | AE30: 354 | AF30: =AB30-AC30 + AD30 -> 0 | AK30: =AG30-AH30 + AI30 -> 0 | AP30: =AL30-AM30 + AN30 -> 0 | AU30: =AQ30-AR30 + AS30 -> 0 | AZ30: =AV30-AW30 + AX30 -> 0 | BE30: =BA30-BB30 + BC30 -> 0 | BJ30: =BF30-BG30 + BH30 -> 0 | BN30: 1416 | BO30: =BK30-BL30 + BM30 -> 0
A31: 171 | B31: 171 | G31: =C31-D31 + E31 -> 0 | L31: =H31-I31 + J31 -> 0 | Q31: =M31-N31 + O31 -> 0 | V31: =R31-S31 + T31 -> 0 | AA31: =W31-X31 + Y31 -> 0 | AF31: =AB31-AC31 + AD31 -> 0 | AJ31: 30 | AK31: =AG31-AH31 + AI31 -> 0 | AP31: =AL31-AM31 + AN31 -> 0 | AU31: =AQ31-AR31 + AS31 -> 0 | AZ31: =AV31-AW31 + AX31 -> 0 | BE31: =BA31-BB31 + BC31 -> 0 | BJ31: =BF31-BG31 + BH31 -> 0 | BN31: 30 | BO31: =BK31-BL31 + BM31 -> 0
A32: 205 | B32: 205 | F32: 0 | G32: =C32-D32 + E32 -> 0 | K32: 2 | L32: =H32-I32 + J32 -> 0 | P32: 0 | Q32: =M32-N32 + O32 -> 0 | U32: 4 | V32: =R32-S32 + T32 -> 0 | AA32: =W32-X32 + Y32 -> 0 | AF32: =AB32-AC32 + AD32 -> 0 | AK32: =AG32-AH32 + AI32 -> 0 | AP32: =AL32-AM32 + AN32 -> 0 | AU32: =AQ32-AR32 + AS32 -> 0 | AZ32: =AV32-AW32 + AX32 -> 0 | BE32: =BA32-BB32 + BC32 -> 0 | BJ32: =BF32-BG32 + BH32 -> 0 | BN32: 6 | BO32: =BK32-BL32 + BM32 -> 0
A33: 220 | B33: 220 | F33: 0 | G33: =C33-D33 + E33 -> 0 | K33: 0 | L33: =H33-I33 + J33 -> 0 | P33: 0 | Q33: =M33-N33 + O33 -> 0 | U33: 0 | V33: =R33-S33 + T33 -> 0 | AA33: =W33-X33 + Y33 -> 0 | AF33: =AB33-AC33 + AD33 -> 0 | AK33: =AG33-AH33 + AI33 -> 0 | AP33: =AL33-AM33 + AN33 -> 0 | AU33: =AQ33-AR33 + AS33 -> 0 | AZ33: =AV33-AW33 + AX33 -> 0 | BE33: =BA33-BB33 + BC33 -> 0 | BJ33: =BF33-BG33 + BH33 -> 0 | BN33: 0 | BO33: =BK33-BL33 + BM33 -> 0
A34: 390 | B34: 390 | F34: 0 | G34: =C34-D34 + E34 -> 0 | K34: 0 | L34: =H34-I34 + J34 -> 0 | P34: 0 | Q34: =M34-N34 + O34 -> 0 | U34: 0 | V34: =R34-S34 + T34 -> 0 | Z34: 235 | AA34: =W34-X34 + Y34 -> 0 | AE34: 243 | AF34: =AB34-AC34 + AD34 -> 0 | AJ34: 211 | AK34: =AG34-AH34 + AI34 -> 0 | AO34: 188 | AP34: =AL34-AM34 + AN34 -> 0 | AT34: 215 | AU34: =AQ34-AR34 + AS34 -> 0 | AY34: 201 | AZ34: =AV34-AW34 + AX34 -> 0 | BD34: 185 | BE34: =BA34-BB34 + BC34 -> 0 | BI34: 180 | BJ34: =BF34-BG34 + BH34 -> 0 | BN34: 1658 | BO34: =BK34-BL34 + BM34 -> 0
A35: 415 | B35: 415 | G35: =C35-D35 + E35 -> 0 | L35: =H35-I35 + J35 -> 0 | Q35: =M35-N35 + O35 -> 0 | U35: 25 | V35: =R35-S35 + T35 -> 0 | AA35: =W35-X35 + Y35 -> 0 | AF35: =AB35-AC35 + AD35 -> 0 | AK35: =AG35-AH35 + AI35 -> 0 | AP35: =AL35-AM35 + AN35 -> 0 | AU35: =AQ35-AR35 + AS35 -> 0 | AZ35: =AV35-AW35 + AX35 -> 0 | BE35: =BA35-BB35 + BC35 -> 0 | BJ35: =BF35-BG35 + BH35 -> 0 | BN35: 25 | BO35: =BK35-BL35 + BM35 -> 0
A36: 425 | B36: 425 | F36: 0 | G36: =C36-D36 + E36 -> 0 | K36: 0 | L36: =H36-I36 + J36 -> 0 | P36: 0 | Q36: =M36-N36 + O36 -> 0 | V36: =R36-S36 + T36 -> 0 | AA36: =W36-X36 + Y36 -> 0 | AF36: =AB36-AC36 + AD36 -> 0 | AK36: =AG36-AH36 + AI36 -> 0 | AP36: =AL36-AM36 + AN36 -> 0 | AT36: 96 | AU36: =AQ36-AR36 + AS36 -> 0 | AY36: 96 | AZ36: =AV36-AW36 + AX36 -> 0 | BD36: 76 | BE36: =BA36-BB36 + BC36 -> 0 | BJ36: =BF36-BG36 + BH36 -> 0 | BN36: 268 | BO36: =BK36-BL36 + BM36 -> 0
A37: 450 | B37: 450 | F37: 0 | G37: =C37-D37 + E37 -> 0 | K37: 0 | L37: =H37-I37 + J37 -> 0 | P37: 0 | Q37: =M37-N37 + O37 -> 0 | U37: 430 | V37: =R37-S37 + T37 -> 0 | Z37: 15 | AA37: =W37-X37 + Y37 -> 0 | AE37: 237 | AF37: =AB37-AC37 + AD37 -> 0 | AJ37: 330 | AK37: =AG37-AH37 + AI37 -> 0 | AO37: 76 | AP37: =AL37-AM37 + AN37 -> 0 | AT37: 476 | AU37: =AQ37-AR37 + AS37 -> 0 | AY37: 488 | AZ37: =AV37-AW37 + AX37 -> 0 | BD37: 548 | BE37: =BA37-BB37 + BC37 -> 0 | BI37: 690 | BJ37: =BF37-BG37 + BH37 -> 0 | BN37: 3290 | BO37: =BK37-BL37 + BM37 -> 0
A38: 503 | B38: 503 | G38: =C38-D38 + E38 -> 0 | L38: =H38-I38 + J38 -> 0 | Q38: =M38-N38 + O38 -> 0 | U38: 5 | V38: =R38-S38 + T38 -> 0 | AA38: =W38-X38 + Y38 -> 0 | AF38: =AB38-AC38 + AD38 -> 0 | AK38: =AG38-AH38 + AI38 -> 0 | AP38: =AL38-AM38 + AN38 -> 0 | AU38: =AQ38-AR38 + AS38 -> 0 | AZ38: =AV38-AW38 + AX38 -> 0 | BE38: =BA38-BB38 + BC38 -> 0 | BJ38: =BF38-BG38 + BH38 -> 0 | BN38: 5 | BO38: =BK38-BL38 + BM38 -> 0
A39: 505 | B39: 505 | G39: =C39-D39 + E39 -> 0 | L39: =H39-I39 + J39 -> 0 | Q39: =M39-N39 + O39 -> 0 | V39: =R39-S39 + T39 -> 0 | AA39: =W39-X39 + Y39 -> 0 | AF39: =AB39-AC39 + AD39 -> 0 | AK39: =AG39-AH39 + AI39 -> 0 | AP39: =AL39-AM39 + AN39 -> 0 | AU39: =AQ39-AR39 + AS39 -> 0 | AZ39: =AV39-AW39 + AX39 -> 0 | BE39: =BA39-BB39 + BC39 -> 0 | BI39: 7 | BJ39: =BF39-BG39 + BH39 -> 0 | BN39: 7 | BO39: =BK39-BL39 + BM39 -> 0
A40: 506 | B40: 506 | G40: =C40-D40 + E40 -> 0 | K40: 0 | L40: =H40-I40 + J40 -> 0 | P40: 0 | Q40: =M40-N40 + O40 -> 0 | V40: =R40-S40 + T40 -> 0 | AA40: =W40-X40 + Y40 -> 0 | AF40: =AB40-AC40 + AD40 -> 0 | AK40: =AG40-AH40 + AI40 -> 0 | AP40: =AL40-AM40 + AN40 -> 0 | AU40: =AQ40-AR40 + AS40 -> 0 | AZ40: =AV40-AW40 + AX40 -> 0 | BE40: =BA40-BB40 + BC40 -> 0 | BJ40: =BF40-BG40 + BH40 -> 0 | BN40: 0 | BO40: =BK40-BL40 + BM40 -> 0
A41: 704 | B41: 704 | F41: 0 | G41: =C41-D41 + E41 -> 0 | K41: 244 | L41: =H41-I41 + J41 -> 0 | P41: 32 | Q41: =M41-N41 + O41 -> 0 | V41: =R41-S41 + T41 -> 0 | Z41: 307 | AA41: =W41-X41 + Y41 -> 0 | AE41: 412 | AF41: =AB41-AC41 + AD41 -> 0 | AJ41: 286 | AK41: =AG41-AH41 + AI41 -> 0 | AP41: =AL41-AM41 + AN41 -> 0 | AT41: 296 | AU41: =AQ41-AR41 + AS41 -> 0 | AY41: 354 | AZ41: =AV41-AW41 + AX41 -> 0 | BE41: =BA41-BB41 + BC41 -> 0 | BI41: 366 | BJ41: =BF41-BG41 + BH41 -> 0 | BN41: 2297 | BO41: =BK41-BL41 + BM41 -> 0
A42: 730 | B42: 730 | G42: =C42-D42 + E42 -> 0 | K42: 0 | L42: =H42-I42 + J42 -> 0 | Q42: =M42-N42 + O42 -> 0 | V42: =R42-S42 + T42 -> 0 | AA42: =W42-X42 + Y42 -> 0 | AF42: =AB42-AC42 + AD42 -> 0 | AK42: =AG42-AH42 + AI42 -> 0 | AP42: =AL42-AM42 + AN42 -> 0 | AU42: =AQ42-AR42 + AS42 -> 0 | AZ42: =AV42-AW42 + AX42 -> 0 | BE42: =BA42-BB42 + BC42 -> 0 | BJ42: =BF42-BG42 + BH42 -> 0 | BN42: 0 | BO42: =BK42-BL42 + BM42 -> 0
A43: 747 | B43: 747 | F43: 0 | G43: =C43-D43 + E43 -> 0 | K43: 0 | L43: =H43-I43 + J43 -> 0 | P43: 2 | Q43: =M43-N43 + O43 -> 0 | U43: 1 | V43: =R43-S43 + T43 -> 0 | Z43: 520 | AA43: =W43-X43 + Y43 -> 0 | AE43: 630 | AF43: =AB43-AC43 + AD43 -> 0 | AJ43: 589 | AK43: =AG43-AH43 + AI43 -> 0 | AO43: 990 | AP43: =AL43-AM43 + AN43 -> 0 | AT43: 878 | AU43: =AQ43-AR43 + AS43 -> 0 | AY43: 925 | AZ43: =AV43-AW43 + AX43 -> 0 | BD43: 517 | BE43: =BA43-BB43 + BC43 -> 0 | BI43: 642 | BJ43: =BF43-BG43 + BH43 -> 0 | BN43: 5694 | BO43: =BK43-BL43 + BM43 -> 0
A44: 763 | B44: 763 | F44: 0 | G44: =C44-D44 + E44 -> 0 | K44: 45 | L44: =H44-I44 + J44 -> 0 | P44: 0 | Q44: =M44-N44 + O44 -> 0 | U44: 1 | V44: =R44-S44 + T44 -> 0 | AA44: =W44-X44 + Y44 -> 0 | AE44: 252 | AF44: =AB44-AC44 + AD44 -> 0 | AJ44: 274 | AK44: =AG44-AH44 + AI44 -> 0 | AO44: 167 | AP44: =AL44-AM44 + AN44 -> 0 | AT44: 255 | AU44: =AQ44-AR44 + AS44 -> 0 | AY44: 256 | AZ44: =AV44-AW44 + AX44 -> 0 | BD44: 210 | BE44: =BA44-BB44 + BC44 -> 0 | BI44: 182 | BJ44: =BF44-BG44 + BH44 -> 0 | BN44: 1642 | BO44: =BK44-BL44 + BM44 -> 0
A45: 803 | B45: 803 | F45: 0 | G45: =C45-D45 + E45 -> 0 | K45: 0 | L45: =H45-I45 + J45 -> 0 | P45: 0 | Q45: =M45-N45 + O45 -> 0 | U45: 0 | V45: =R45-S45 + T45 -> 0 | Z45: 0 | AA45: =W45-X45 + Y45 -> 0 | AE45: 215 | AF45: =AB45-AC45 + AD45 -> 0 | AJ45: 447 | AK45: =AG45-AH45 + AI45 -> 0 | AO45: 377 | AP45: =AL45-AM45 + AN45 -> 0 | AT45: 343 | AU45: =AQ45-AR45 + AS45 -> 0 | AY45: 334 | AZ45: =AV45-AW45 + AX45 -> 0 | BD45: 341 | BE45: =BA45-BB45 + BC45 -> 0 | BI45: 400 | BJ45: =BF45-BG45 + BH45 -> 0 | BN45: 2457 | BO45: =BK45-BL45 + BM45 -> 0
A46: 815 | B46: 815 | G46: =C46-D46 + E46 -> 0 | K46: 0 | L46: =H46-I46 + J46 -> 0 | P46: 0 | Q46: =M46-N46 + O46 -> 0 | U46: 0 | V46: =R46-S46 + T46 -> 0 | Z46: 0 | AA46: =W46-X46 + Y46 -> 0 | AF46: =AB46-AC46 + AD46 -> 0 | AK46: =AG46-AH46 + AI46 -> 0 | AP46: =AL46-AM46 + AN46 -> 0 | AU46: =AQ46-AR46 + AS46 -> 0 | AZ46: =AV46-AW46 + AX46 -> 0 | BE46: =BA46-BB46 + BC46 -> 0 | BJ46: =BF46-BG46 + BH46 -> 0 | BN46: 0 | BO46: =BK46-BL46 + BM46 -> 0
A47: 822 | B47: 822 | F47: 99 | G47: =C47-D47 + E47 -> 0 | K47: 0 | L47: =H47-I47 + J47 -> 0 | P47: 0 | Q47: =M47-N47 + O47 -> 0 | U47: 206 | V47: =R47-S47 + T47 -> 0 | AA47: =W47-X47 + Y47 -> 0 | AF47: =AB47-AC47 + AD47 -> 0 | AK47: =AG47-AH47 + AI47 -> 0 | AP47: =AL47-AM47 + AN47 -> 0 | AU47: =AQ47-AR47 + AS47 -> 0 | AZ47: =AV47-AW47 + AX47 -> 0 | BE47: =BA47-BB47 + BC47 -> 0 | BI47: 115 | BJ47: =BF47-BG47 + BH47 -> 0 | BN47: 420 | BO47: =BK47-BL47 + BM47 -> 0
A48: 907 | B48: 907 | F48: 0 | G48: =C48-D48 + E48 -> 0 | K48: 0 | L48: =H48-I48 + J48 -> 0 | P48: 0 | Q48: =M48-N48 + O48 -> 0 | U48: 0 | V48: =R48-S48 + T48 -> 0 | AA48: =W48-X48 + Y48 -> 0 | AF48: =AB48-AC48 + AD48 -> 0 | AK48: =AG48-AH48 + AI48 -> 0 | AP48: =AL48-AM48 + AN48 -> 0 | AU48: =AQ48-AR48 + AS48 -> 0 | AZ48: =AV48-AW48 + AX48 -> 0 | BE48: =BA48-BB48 + BC48 -> 0 | BJ48: =BF48-BG48 + BH48 -> 0 | BN48: 0 | BO48: =BK48-BL48 + BM48 -> 0
A49: 920 | B49: 920 | F49: 0 | G49: =C49-D49 + E49 -> 0 | K49: 242 | L49: =H49-I49 + J49 -> 0 | P49: 194 | Q49: =M49-N49 + O49 -> 0 | U49: 1088 | V49: =R49-S49 + T49 -> 0 | Z49: 787 | AA49: =W49-X49 + Y49 -> 0 | AE49: 797 | AF49: =AB49-AC49 + AD49 -> 0 | AJ49: 632 | AK49: =AG49-AH49 + AI49 -> 0 | AO49: 400 | AP49: =AL49-AM49 + AN49 -> 0 | AT49: 309 | AU49: =AQ49-AR49 + AS49 -> 0 | AY49: 622 | AZ49: =AV49-AW49 + AX49 -> 0 | BD49: 352 | BE49: =BA49-BB49 + BC49 -> 0 | BI49: 300 | BJ49: =BF49-BG49 + BH49 -> 0 | BN49: 5723 | BO49: =BK49-BL49 + BM49 -> 0
A50: 921 | B50: 921 | F50: 0 | G50: =C50-D50 + E50 -> 0 | K50: 0 | L50: =H50-I50 + J50 -> 0 | P50: 185 | Q50: =M50-N50 + O50 -> 0 | U50: 238 | V50: =R50-S50 + T50 -> 0 | Z50: 740 | AA50: =W50-X50 + Y50 -> 0 | AE50: 700 | AF50: =AB50-AC50 + AD50 -> 0 | AJ50: 658 | AK50: =AG50-AH50 + AI50 -> 0 | AO50: 613 | AP50: =AL50-AM50 + AN50 -> 0 | AT50: 616 | AU50: =AQ50-AR50 + AS50 -> 0 | AY50: 631 | AZ50: =AV50-AW50 + AX50 -> 0 | BD50: 400 | BE50: =BA50-BB50 + BC50 -> 0 | BI50: 372 | BJ50: =BF50-BG50 + BH50 -> 0 | BN50: 5153 | BO50: =BK50-BL50 + BM50 -> 0
A51: 942 | B51: 942 | F51: 0 | G51: =C51-D51 + E51 -> 0 | K51: 0 | L51: =H51-I51 + J51 -> 0 | P51: 0 | Q51: =M51-N51 + O51 -> 0 | U51: 0 | V51: =R51-S51 + T51 -> 0 | AA51: =W51-X51 + Y51 -> 0 | AF51: =AB51-AC51 + AD51 -> 0 | AK51: =AG51-AH51 + AI51 -> 0 | AP51: =AL51-AM51 + AN51 -> 0 | AU51: =AQ51-AR51 + AS51 -> 0 | AZ51: =AV51-AW51 + AX51 -> 0 | BE51: =BA51-BB51 + BC51 -> 0 | BJ51: =BF51-BG51 + BH51 -> 0 | BN51: 0 | BO51: =BK51-BL51 + BM51 -> 0
A52: 962 | B52: 962 | F52: 0 | G52: =C52-D52 + E52 -> 0 | K52: 0 | L52: =H52-I52 + J52 -> 0 | P52: 0 | Q52: =M52-N52 + O52 -> 0 | U52: 20 | V52: =R52-S52 + T52 -> 0 | Z52: 20 | AA52: =W52-X52 + Y52 -> 0 | AE52: 327 | AF52: =AB52-AC52 + AD52 -> 0 | AJ52: 182 | AK52: =AG52-AH52 + AI52 -> 0 | AO52: 249 | AP52: =AL52-AM52 + AN52 -> 0 | AT52: 244 | AU52: =AQ52-AR52 + AS52 -> 0 | AY52: 217 | AZ52: =AV52-AW52 + AX52 -> 0 | BD52: 245 | BE52: =BA52-BB52 + BC52 -> 0 | BI52: 251 | BJ52: =BF52-BG52 + BH52 -> 0 | BN52: 1755 | BO52: =BK52-BL52 + BM52 -> 0
A53: 980 | B53: 980 | G53: =C53-D53 + E53 -> 0 | K53: 0 | L53: =H53-I53 + J53 -> 0 | P53: 0 | Q53: =M53-N53 + O53 -> 0 | V53: =R53-S53 + T53 -> 0 | AA53: =W53-X53 + Y53 -> 0 | AF53: =AB53-AC53 + AD53 -> 0 | AK53: =AG53-AH53 + AI53 -> 0 | AP53: =AL53-AM53 + AN53 -> 0 | AU53: =AQ53-AR53 + AS53 -> 0 | AZ53: =AV53-AW53 + AX53 -> 0 | BE53: =BA53-BB53 + BC53 -> 0 | BJ53: =BF53-BG53 + BH53 -> 0 | BN53: 0 | BO53: =BK53-BL53 + BM53 -> 0
A54: Total | F54: 336 | G54: =C54-D54 + E54 -> 0 | K54: 533 | L54: =H54-I54 + J54 -> 0 | P54: 957 | Q54: =M54-N54 + O54 -> 0 | U54: 4219 | V54: =R54-S54 + T54 -> 0 | Z54: 7303 | AA54: =W54-X54 + Y54 -> 0 | AE54: 8363 | AF54: =AB54-AC54 + AD54 -> 0 | AJ54: 7117 | AK54: =AG54-AH54 + AI54 -> 0 | AO54: 6892 | AP54: =AL54-AM54 + AN54 -> 0 | AT54: 7280 | AU54: =AQ54-AR54 + AS54 -> 0 | AY54: 7998 | AZ54: =AV54-AW54 + AX54 -> 0 | BD54: 6615 | BE54: =BA54-BB54 + BC54 -> 0 | BI54: 8040 | BJ54: =BF54-BG54 + BH54 -> 0 | BN54: 65653 | BO54: =BK54-BL54 + BM54 -> 0

Sheet mr_Feuil7
C6: Mois de Fabrication | D6: Num Mois du Lot GN
H7: Total
A9: Num Coop | B9: Num Coop du Lot GN | C9: Quantitée entrée FSA | D9: Quantité Sortie FSA | E9: Quantité Retour | F9: Quantite signee | G9: Stock | H9: Quantitée entrée FSA | I9: Quantité Sortie FSA | J9: Quantité Retour | K9: Quantite signee | L9: Stock
G10: =C10-D10 + E10 -> 0 | L10: =H10-I10 + J10 -> 0
A11: Total | G11: =C11-D11 + E11 -> 0 | L11: =H11-I11 + J11 -> 0

Sheet Stock FSA
D5: Mois de Fabrication
D6: 1 | E6: 1 | F6: 1 | G6: 1 | H6: 2 | I6: 2 | J6: 2 | K6: 2 | L6: 3 | M6: 3 | N6: 3 | O6: 3 | P6: 4 | Q6: 4 | R6: 4 | S6: 4 | T6: 5 | U6: 5 | V6: 5 | W6: 5 | X6: 6 | Y6: 6 | Z6: 6 | AA6: 6 | AB6: 7 | AC6: 7 | AD6: 7 | AE6: 7 | AF6: Total | AG6: Total | AH6: Total | AI6: Total
A7: Num Coop | B7: Mois de Fabrication | C7: Année de Fabrication | D7: Quantitée entrée FSA | E7: Quantité Sortie FSA | F7: Quantité Retour | G7: Stock | H7: Quantitée entrée FSA | I7: Quantité Sortie FSA | J7: Quantité Retour | K7: Stock | L7: Quantitée entrée FSA | M7: Quantité Sortie FSA | N7: Quantité Retour | O7: Stock | P7: Quantitée entrée FSA | Q7: Quantité Sortie FSA | R7: Quantité Retour | S7: Stock | T7: Quantitée entrée FSA | U7: Quantité Sortie FSA | V7: Quantité Retour | W7: Stock | X7: Quantitée entrée FSA | Y7: Quantité Sortie FSA | Z7: Quantité Retour | AA7: Stock | AB7: Quantitée entrée FSA | AC7: Quantité Sortie FSA | AD7: Quantité Retour | AE7: Stock | AF7: Quantitée entrée FSA | AG7: Quantité Sortie FSA | AH7: Quantité Retour | AI7: Stock
A8: 25 | B8: 1 | C8: 2013 | D8: 442 | E8: 25 | G8: =D8-E8 + F8 -> 417 | K8: =H8-I8 + J8 -> 0 | O8: =L8-M8 + N8 -> 0 | S8: =P8-Q8 + R8 -> 0 | W8: =T8-U8 + V8 -> 0 | AA8: =X8-Y8 + Z8 -> 0 | AE8: =AB8-AC8 + AD8 -> 0 | AF8: 442 | AG8: 25 | AI8: =AF8-AG8 + AH8 -> 417
A9: 25 | B9: 4 | C9: 2013 | G9: =D9-E9 + F9 -> 0 | K9: =H9-I9 + J9 -> 0 | O9: =L9-M9 + N9 -> 0 | P9: 348 | Q9: 326 | S9: =P9-Q9 + R9 -> 22 | W9: =T9-U9 + V9 -> 0 | AA9: =X9-Y9 + Z9 -> 0 | AE9: =AB9-AC9 + AD9 -> 0 | AF9: 348 | AG9: 326 | AI9: =AF9-AG9 + AH9 -> 22
A10: 25 | B10: 5 | C10: 2013 | G10: =D10-E10 + F10 -> 0 | K10: =H10-I10 + J10 -> 0 | O10: =L10-M10 + N10 -> 0 | S10: =P10-Q10 + R10 -> 0 | T10: 727 | W10: =T10-U10 + V10 -> 727 | AA10: =X10-Y10 + Z10 -> 0 | AE10: =AB10-AC10 + AD10 -> 0 | AF10: 727 | AI10: =AF10-AG10 + AH10 -> 727
A11: 25 | B11: 6 | C11: 2013 | G11: =D11-E11 + F11 -> 0 | K11: =H11-I11 + J11 -> 0 | O11: =L11-M11 + N11 -> 0 | S11: =P11-Q11 + R11 -> 0 | W11: =T11-U11 + V11 -> 0 | X11: 596 | AA11: =X11-Y11 + Z11 -> 596 | AE11: =AB11-AC11 + AD11 -> 0 | AF11: 596 | AI11: =AF11-AG11 + AH11 -> 596
A12: 25 | B12: 7 | C12: 2013 | G12: =D12-E12 + F12 -> 0 | K12: =H12-I12 + J12 -> 0 | O12: =L12-M12 + N12 -> 0 | S12: =P12-Q12 + R12 -> 0 | W12: =T12-U12 + V12 -> 0 | AA12: =X12-Y12 + Z12 -> 0 | AB12: 380 | AE12: =AB12-AC12 + AD12 -> 380 | AF12: 380 | AI12: =AF12-AG12 + AH12 -> 380
A13: 26 | B13: 4 | C13: 2013 | G13: =D13-E13 + F13 -> 0 | K13: =H13-I13 + J13 -> 0 | O13: =L13-M13 + N13 -> 0 | P13: 111 | S13: =P13-Q13 + R13 -> 111 | W13: =T13-U13 + V13 -> 0 | AA13: =X13-Y13 + Z13 -> 0 | AE13: =AB13-AC13 + AD13 -> 0 | AF13: 111 | AI13: =AF13-AG13 + AH13 -> 111
A14: 26 | B14: 5 | C14: 2013 | G14: =D14-E14 + F14 -> 0 | K14: =H14-I14 + J14 -> 0 | O14: =L14-M14 + N14 -> 0 | S14: =P14-Q14 + R14 -> 0 | T14: 382 | W14: =T14-U14 + V14 -> 382 | AA14: =X14-Y14 + Z14 -> 0 | AE14: =AB14-AC14 + AD14 -> 0 | AF14: 382 | AI14: =AF14-AG14 + AH14 -> 382
A15: 26 | B15: 6 | C15: 2013 | G15: =D15-E15 + F15 -> 0 | K15: =H15-I15 + J15 -> 0 | O15: =L15-M15 + N15 -> 0 | S15: =P15-Q15 + R15 -> 0 | W15: =T15-U15 + V15 -> 0 | X15: 359 | AA15: =X15-Y15 + Z15 -> 359 | AE15: =AB15-AC15 + AD15 -> 0 | AF15: 359 | AI15: =AF15-AG15 + AH15 -> 359
A16: 26 | B16: 7 | C16: 2013 | G16: =D16-E16 + F16 -> 0 | K16: =H16-I16 + J16 -> 0 | O16: =L16-M16 + N16 -> 0 | S16: =P16-Q16 + R16 -> 0 | W16: =T16-U16 + V16 -> 0 | AA16: =X16-Y16 + Z16 -> 0 | AB16: 223 | AE16: =AB16-AC16 + AD16 -> 223 | AF16: 223 | AI16: =AF16-AG16 + AH16 -> 223
A17: 45 | B17: 1 | C17: 2013 | D17: 48 | E17: 18 | G17: =D17-E17 + F17 -> 30 | K17: =H17-I17 + J17 -> 0 | O17: =L17-M17 + N17 -> 0 | S17: =P17-Q17 + R17 -> 0 | W17: =T17-U17 + V17 -> 0 | AA17: =X17-Y17 + Z17 -> 0 | AE17: =AB17-AC17 + AD17 -> 0 | AF17: 48 | AG17: 18 | AI17: =AF17-AG17 + AH17 -> 30
A18: 45 | B18: 4 | C18: 2013 | G18: =D18-E18 + F18 -> 0 | K18: =H18-I18 + J18 -> 0 | O18: =L18-M18 + N18 -> 0 | P18: 42 | S18: =P18-Q18 + R18 -> 42 | W18: =T18-U18 + V18 -> 0 | AA18: =X18-Y18 + Z18 -> 0 | AE18: =AB18-AC18 + AD18 -> 0 | AF18: 42 | AI18: =AF18-AG18 + AH18 -> 42
A19: 45 | B19: 5 | C19: 2013 | G19: =D19-E19 + F19 -> 0 | K19: =H19-I19 + J19 -> 0 | O19: =L19-M19 + N19 -> 0 | S19: =P19-Q19 + R19 -> 0 | T19: 43 | W19: =T19-U19 + V19 -> 43 | AA19: =X19-Y19 + Z19 -> 0 | AE19: =AB19-AC19 + AD19 -> 0 | AF19: 43 | AI19: =AF19-AG19 + AH19 -> 43
A20: 45 | B20: 6 | C20: 2013 | G20: =D20-E20 + F20 -> 0 | K20: =H20-I20 + J20 -> 0 | O20: =L20-M20 + N20 -> 0 | S20: =P20-Q20 + R20 -> 0 | W20: =T20-U20 + V20 -> 0 | X20: 41 | AA20: =X20-Y20 + Z20 -> 41 | AE20: =AB20-AC20 + AD20 -> 0 | AF20: 41 | AI20: =AF20-AG20 + AH20 -> 41
A21: 45 | B21: 7 | C21: 2013 | G21: =D21-E21 + F21 -> 0 | K21: =H21-I21 + J21 -> 0 | O21: =L21-M21 + N21 -> 0 | S21: =P21-Q21 + R21 -> 0 | W21: =T21-U21 + V21 -> 0 | AA21: =X21-Y21 + Z21 -> 0 | AB21: 40 | AE21: =AB21-AC21 + AD21 -> 40 | AF21: 40 | AI21: =AF21-AG21 + AH21 -> 40
A22: 51 | B22: 1 | C22: 2013 | D22: 627 | E22: 257 | G22: =D22-E22 + F22 -> 370 | K22: =H22-I22 + J22 -> 0 | O22: =L22-M22 + N22 -> 0 | S22: =P22-Q22 + R22 -> 0 | W22: =T22-U22 + V22 -> 0 | AA22: =X22-Y22 + Z22 -> 0 | AE22: =AB22-AC22 + AD22 -> 0 | AF22: 627 | AG22: 257 | AI22: =AF22-AG22 + AH22 -> 370
A23: 51 | B23: 2 | C23: 2013 | G23: =D23-E23 + F23 -> 0 | H23: 283 | I23: 203 | J23: 5 | K23: =H23-I23 + J23 -> 85 | O23: =L23-M23 + N23 -> 0 | S23: =P23-Q23 + R23 -> 0 | W23: =T23-U23 + V23 -> 0 | AA23: =X23-Y23 + Z23 -> 0 | AE23: =AB23-AC23 + AD23 -> 0 | AF23: 283 | AG23: 203 | AH23: 5 | AI23: =AF23-AG23 + AH23 -> 85
A24: 51 | B24: 3 | C24: 2013 | G24: =D24-E24 + F24 -> 0 | K24: =H24-I24 + J24 -> 0 | L24: 283 | M24: 83 | O24: =L24-M24 + N24 -> 200 | S24: =P24-Q24 + R24 -> 0 | W24: =T24-U24 + V24 -> 0 | AA24: =X24-Y24 + Z24 -> 0 | AE24: =AB24-AC24 + AD24 -> 0 | AF24: 283 | AG24: 83 | AI24: =AF24-AG24 + AH24 -> 200
A25: 51 | B25: 4 | C25: 2013 | G25: =D25-E25 + F25 -> 0 | K25: =H25-I25 + J25 -> 0 | O25: =L25-M25 + N25 -> 0 | P25: 668 | S25: =P25-Q25 + R25 -> 668 | W25: =T25-U25 + V25 -> 0 | AA25: =X25-Y25 + Z25 -> 0 | AE25: =AB25-AC25 + AD25 -> 0 | AF25: 668 | AI25: =AF25-AG25 + AH25 -> 668
A26: 51 | B26: 5 | C26: 2013 | G26: =D26-E26 + F26 -> 0 | K26: =H26-I26 + J26 -> 0 | O26: =L26-M26 + N26 -> 0 | S26: =P26-Q26 + R26 -> 0 | T26: 720 | W26: =T26-U26 + V26 -> 720 | AA26: =X26-Y26 + Z26 -> 0 | AE26: =AB26-AC26 + AD26 -> 0 | AF26: 720 | AI26: =AF26-AG26 + AH26 -> 720
A27: 51 | B27: 6 | C27: 2013 | G27: =D27-E27 + F27 -> 0 | K27: =H27-I27 + J27 -> 0 | O27: =L27-M27 + N27 -> 0 | S27: =P27-Q27 + R27 -> 0 | W27: =T27-U27 + V27 -> 0 | X27: 671 | AA27: =X27-Y27 + Z27 -> 671 | AE27: =AB27-AC27 + AD27 -> 0 | AF27: 671 | AI27: =AF27-AG27 + AH27 -> 671
A28: 51 | B28: 7 | C28: 2013 | G28: =D28-E28 + F28 -> 0 | K28: =H28-I28 + J28 -> 0 | O28: =L28-M28 + N28 -> 0 | S28: =P28-Q28 + R28 -> 0 | W28: =T28-U28 + V28 -> 0 | AA28: =X28-Y28 + Z28 -> 0 | AB28: 276 | AE28: =AB28-AC28 + AD28 -> 276 | AF28: 276 | AI28: =AF28-AG28 + AH28 -> 276
A29: 54 | B29: 5 | C29: 2013 | G29: =D29-E29 + F29 -> 0 | K29: =H29-I29 + J29 -> 0 | O29: =L29-M29 + N29 -> 0 | S29: =P29-Q29 + R29 -> 0 | T29: 226 | W29: =T29-U29 + V29 -> 226 | AA29: =X29-Y29 + Z29 -> 0 | AE29: =AB29-AC29 + AD29 -> 0 | AF29: 226 | AI29: =AF29-AG29 + AH29 -> 226
A30: 54 | B30: 6 | C30: 2013 | G30: =D30-E30 + F30 -> 0 | K30: =H30-I30 + J30 -> 0 | O30: =L30-M30 + N30 -> 0 | S30: =P30-Q30 + R30 -> 0 | W30: =T30-U30 + V30 -> 0 | X30: 186 | AA30: =X30-Y30 + Z30 -> 186 | AE30: =AB30-AC30 + AD30 -> 0 | AF30: 186 | AI30: =AF30-AG30 + AH30 -> 186
A31: 71 | B31: 1 | C31: 2013 | D31: 158 | E31: 158 | G31: =D31-E31 + F31 -> 0 | K31: =H31-I31 + J31 -> 0 | O31: =L31-M31 + N31 -> 0 | S31: =P31-Q31 + R31 -> 0 | W31: =T31-U31 + V31 -> 0 | AA31: =X31-Y31 + Z31 -> 0 | AE31: =AB31-AC31 + AD31 -> 0 | AF31: 158 | AG31: 158 | AI31: =AF31-AG31 + AH31 -> 0
A32: 71 | B32: 2 | C32: 2013 | G32: =D32-E32 + F32 -> 0 | H32: 76 | I32: 76 | K32: =H32-I32 + J32 -> 0 | O32: =L32-M32 + N32 -> 0 | S32: =P32-Q32 + R32 -> 0 | W32: =T32-U32 + V32 -> 0 | AA32: =X32-Y32 + Z32 -> 0 | AE32: =AB32-AC32 + AD32 -> 0 | AF32: 76 | AG32: 76 | AI32: =AF32-AG32 + AH32 -> 0
A33: 71 | B33: 3 | C33: 2013 | G33: =D33-E33 + F33 -> 0 | K33: =H33-I33 + J33 -> 0 | L33: 141 | M33: 141 | O33: =L33-M33 + N33 -> 0 | S33: =P33-Q33 + R33 -> 0 | W33: =T33-U33 + V33 -> 0 | AA33: =X33-Y33 + Z33 -> 0 | AE33: =AB33-AC33 + AD33 -> 0 | AF33: 141 | AG33: 141 | AI33: =AF33-AG33 + AH33 -> 0
A34: 71 | B34: 4 | C34: 2013 | G34: =D34-E34 + F34 -> 0 | K34: =H34-I34 + J34 -> 0 | O34: =L34-M34 + N34 -> 0 | P34: 50 | Q34: 50 | S34: =P34-Q34 + R34 -> 0 | W34: =T34-U34 + V34 -> 0 | AA34: =X34-Y34 + Z34 -> 0 | AE34: =AB34-AC34 + AD34 -> 0 | AF34: 50 | AG34: 50 | AI34: =AF34-AG34 + AH34 -> 0
A35: 71 | B35: 5 | C35: 2013 | G35: =D35-E35 + F35 -> 0 | K35: =H35-I35 + J35 -> 0 | O35: =L35-M35 + N35 -> 0 | S35: =P35-Q35 + R35 -> 0 | T35: 128 | W35: =T35-U35 + V35 -> 128 | AA35: =X35-Y35 + Z35 -> 0 | AE35: =AB35-AC35 + AD35 -> 0 | AF35: 128 | AI35: =AF35-AG35 + AH35 -> 128
A36: 71 | B36: 6 | C36: 2013 | G36: =D36-E36 + F36 -> 0 | K36: =H36-I36 + J36 -> 0 | O36: =L36-M36 + N36 -> 0 | S36: =P36-Q36 + R36 -> 0 | W36: =T36-U36 + V36 -> 0 | X36: 100 | AA36: =X36-Y36 + Z36 -> 100 | AE36: =AB36-AC36 + AD36 -> 0 | AF36: 100 | AI36: =AF36-AG36 + AH36 -> 100
A37: 71 | B37: 7 | C37: 2013 | G37: =D37-E37 + F37 -> 0 | K37: =H37-I37 + J37 -> 0 | O37: =L37-M37 + N37 -> 0 | S37: =P37-Q37 + R37 -> 0 | W37: =T37-U37 + V37 -> 0 | AA37: =X37-Y37 + Z37 -> 0 | AB37: 90 | AE37: =AB37-AC37 + AD37 -> 90 | AF37: 90 | AI37: =AF37-AG37 + AH37 -> 90
A38: 205 | B38: 5 | C38: 2013 | G38: =D38-E38 + F38 -> 0 | K38: =H38-I38 + J38 -> 0 | O38: =L38-M38 + N38 -> 0 | S38: =P38-Q38 + R38 -> 0 | T38: 605 | U38: 1 | W38: =T38-U38 + V38 -> 604 | AA38: =X38-Y38 + Z38 -> 0 | AE38: =AB38-AC38 + AD38 -> 0 | AF38: 605 | AG38: 1 | AI38: =AF38-AG38 + AH38 -> 604
A39: 205 | B39: 6 | C39: 2013 | G39: =D39-E39 + F39 -> 0 | K39: =H39-I39 + J39 -> 0 | O39: =L39-M39 + N39 -> 0 | S39: =P39-Q39 + R39 -> 0 | W39: =T39-U39 + V39 -> 0 | X39: 505 | AA39: =X39-Y39 + Z39 -> 505 | AE39: =AB39-AC39 + AD39 -> 0 | AF39: 505 | AI39: =AF39-AG39 + AH39 -> 505
A40: 205 | B40: 7 | C40: 2013 | G40: =D40-E40 + F40 -> 0 | K40: =H40-I40 + J40 -> 0 | O40: =L40-M40 + N40 -> 0 | S40: =P40-Q40 + R40 -> 0 | W40: =T40-U40 + V40 -> 0 | AA40: =X40-Y40 + Z40 -> 0 | AB40: 243 | AC40: 1 | AE40: =AB40-AC40 + AD40 -> 242 | AF40: 243 | AG40: 1 | AI40: =AF40-AG40 + AH40 -> 242
A41: 390 | B41: 5 | C41: 2013 | G41: =D41-E41 + F41 -> 0 | K41: =H41-I41 + J41 -> 0 | O41: =L41-M41 + N41 -> 0 | S41: =P41-Q41 + R41 -> 0 | T41: 308 | W41: =T41-U41 + V41 -> 308 | AA41: =X41-Y41 + Z41 -> 0 | AE41: =AB41-AC41 + AD41 -> 0 | AF41: 308 | AI41: =AF41-AG41 + AH41 -> 308
A42: 390 | B42: 6 | C42: 2013 | G42: =D42-E42 + F42 -> 0 | K42: =H42-I42 + J42 -> 0 | O42: =L42-M42 + N42 -> 0 | S42: =P42-Q42 + R42 -> 0 | W42: =T42-U42 + V42 -> 0 | X42: 279 | AA42: =X42-Y42 + Z42 -> 279 | AE42: =AB42-AC42 + AD42 -> 0 | AF42: 279 | AI42: =AF42-AG42 + AH42 -> 279
A43: 390 | B43: 7 | C43: 2013 | G43: =D43-E43 + F43 -> 0 | K43: =H43-I43 + J43 -> 0 | O43: =L43-M43 + N43 -> 0 | S43: =P43-Q43 + R43 -> 0 | W43: =T43-U43 + V43 -> 0 | AA43: =X43-Y43 + Z43 -> 0 | AB43: 264 | AE43: =AB43-AC43 + AD43 -> 264 | AF43: 264 | AI43: =AF43-AG43 + AH43 -> 264
A44: 450 | B44: 1 | C44: 2013 | D44: 51 | G44: =D44-E44 + F44 -> 51 | K44: =H44-I44 + J44 -> 0 | O44: =L44-M44 + N44 -> 0 | S44: =P44-Q44 + R44 -> 0 | W44: =T44-U44 + V44 -> 0 | AA44: =X44-Y44 + Z44 -> 0 | AE44: =AB44-AC44 + AD44 -> 0 | AF44: 51 | AI44: =AF44-AG44 + AH44 -> 51
A45: 450 | B45: 2 | C45: 2013 | G45: =D45-E45 + F45 -> 0 | H45: 18 | I45: 18 | K45: =H45-I45 + J45 -> 0 | O45: =L45-M45 + N45 -> 0 | S45: =P45-Q45 + R45 -> 0 | W45: =T45-U45 + V45 -> 0 | AA45: =X45-Y45 + Z45 -> 0 | AE45: =AB45-AC45 + AD45 -> 0 | AF45: 18 | AG45: 18 | AI45: =AF45-AG45 + AH45 -> 0
A46: 450 | B46: 5 | C46: 2013 | G46: =D46-E46 + F46 -> 0 | K46: =H46-I46 + J46 -> 0 | O46: =L46-M46 + N46 -> 0 | S46: =P46-Q46 + R46 -> 0 | T46: 543 | W46: =T46-U46 + V46 -> 543 | AA46: =X46-Y46 + Z46 -> 0 | AE46: =AB46-AC46 + AD46 -> 0 | AF46: 543 | AI46: =AF46-AG46 + AH46 -> 543
A47: 450 | B47: 6 | C47: 2013 | G47: =D47-E47 + F47 -> 0 | K47: =H47-I47 + J47 -> 0 | O47: =L47-M47 + N47 -> 0 | S47: =P47-Q47 + R47 -> 0 | W47: =T47-U47 + V47 -> 0 | X47: 659 | AA47: =X47-Y47 + Z47 -> 659 | AE47: =AB47-AC47 + AD47 -> 0 | AF47: 659 | AI47: =AF47-AG47 + AH47 -> 659
A48: 450 | B48: 7 | C48: 2013 | G48: =D48-E48 + F48 -> 0 | K48: =H48-I48 + J48 -> 0 | O48: =L48-M48 + N48 -> 0 | S48: =P48-Q48 + R48 -> 0 | W48: =T48-U48 + V48 -> 0 | AA48: =X48-Y48 + Z48 -> 0 | AB48: 350 | AE48: =AB48-AC48 + AD48 -> 350 | AF48: 350 | AI48: =AF48-AG48 + AH48 -> 350
A49: 704 | B49: 1 | C49: 2013 | D49: 333 | E49: 62 | G49: =D49-E49 + F49 -> 271 | K49: =H49-I49 + J49 -> 0 | O49: =L49-M49 + N49 -> 0 | S49: =P49-Q49 + R49 -> 0 | W49: =T49-U49 + V49 -> 0 | AA49: =X49-Y49 + Z49 -> 0 | AE49: =AB49-AC49 + AD49 -> 0 | AF49: 333 | AG49: 62 | AI49: =AF49-AG49 + AH49 -> 271
A50: 704 | B50: 3 | C50: 2013 | G50: =D50-E50 + F50 -> 0 | K50: =H50-I50 + J50 -> 0 | L50: 88 | O50: =L50-M50 + N50 -> 88 | S50: =P50-Q50 + R50 -> 0 | W50: =T50-U50 + V50 -> 0 | AA50: =X50-Y50 + Z50 -> 0 | AE50: =AB50-AC50 + AD50 -> 0 | AF50: 88 | AI50: =AF50-AG50 + AH50 -> 88
A51: 704 | B51: 4 | C51: 2013 | G51: =D51-E51 + F51 -> 0 | K51: =H51-I51 + J51 -> 0 | O51: =L51-M51 + N51 -> 0 | P51: 957 | Q51: 74 | S51: =P51-Q51 + R51 -> 883 | W51: =T51-U51 + V51 -> 0 | AA51: =X51-Y51 + Z51 -> 0 | AE51: =AB51-AC51 + AD51 -> 0 | AF51: 957 | AG51: 74 | AI51: =AF51-AG51 + AH51 -> 883
A52: 704 | B52: 5 | C52: 2013 | G52: =D52-E52 + F52 -> 0 | K52: =H52-I52 + J52 -> 0 | O52: =L52-M52 + N52 -> 0 | S52: =P52-Q52 + R52 -> 0 | T52: 689 | W52: =T52-U52 + V52 -> 689 | AA52: =X52-Y52 + Z52 -> 0 | AE52: =AB52-AC52 + AD52 -> 0 | AF52: 689 | AI52: =AF52-AG52 + AH52 -> 689
A53: 704 | B53: 6 | C53: 2013 | G53: =D53-E53 + F53 -> 0 | K53: =H53-I53 + J53 -> 0 | O53: =L53-M53 + N53 -> 0 | S53: =P53-Q53 + R53 -> 0 | W53: =T53-U53 + V53 -> 0 | X53: 501 | AA53: =X53-Y53 + Z53 -> 501 | AE53: =AB53-AC53 + AD53 -> 0 | AF53: 501 | AI53: =AF53-AG53 + AH53 -> 501
A54: 730 | B54: 1 | C54: 2013 | D54: 323 | E54: 53 | G54: =D54-E54 + F54 -> 270 | K54: =H54-I54 + J54 -> 0 | O54: =L54-M54 + N54 -> 0 | S54: =P54-Q54 + R54 -> 0 | W54: =T54-U54 + V54 -> 0 | AA54: =X54-Y54 + Z54 -> 0 | AE54: =AB54-AC54 + AD54 -> 0 | AF54: 323 | AG54: 53 | AI54: =AF54-AG54 + AH54 -> 270
A55: 730 | B55: 3 | C55: 2013 | G55: =D55-E55 + F55 -> 0 | K55: =H55-I55 + J55 -> 0 | L55: 343 | O55: =L55-M55 + N55 -> 343 | S55: =P55-Q55 + R55 -> 0 | W55: =T55-U55 + V55 -> 0 | AA55: =X55-Y55 + Z55 -> 0 | AE55: =AB55-AC55 + AD55 -> 0 | AF55: 343 | AI55: =AF55-AG55 + AH55 -> 343
A56: 730 | B56: 4 | C56: 2013 | G56: =D56-E56 + F56 -> 0 | K56: =H56-I56 + J56 -> 0 | O56: =L56-M56 + N56 -> 0 | P56: 328 | S56: =P56-Q56 + R56 -> 328 | W56: =T56-U56 + V56 -> 0 | AA56: =X56-Y56 + Z56 -> 0 | AE56: =AB56-AC56 + AD56 -> 0 | AF56: 328 | AI56: =AF56-AG56 + AH56 -> 328
A57: 730 | B57: 5 | C57: 2013 | G57: =D57-E57 + F57 -> 0 | K57: =H57-I57 + J57 -> 0 | O57: =L57-M57 + N57 -> 0 | S57: =P57-Q57 + R57 -> 0 | T57: 369 | W57: =T57-U57 + V57 -> 369 | AA57: =X57-Y57 + Z57 -> 0 | AE57: =AB57-AC57 + AD57 -> 0 | AF57: 369 | AI57: =AF57-AG57 + AH57 -> 369
A58: 730 | B58: 6 | C58: 2013 | G58: =D58-E58 + F58 -> 0 | K58: =H58-I58 + J58 -> 0 | O58: =L58-M58 + N58 -> 0 | S58: =P58-Q58 + R58 -> 0 | W58: =T58-U58 + V58 -> 0 | X58: 359 | AA58: =X58-Y58 + Z58 -> 359 | AE58: =AB58-AC58 + AD58 -> 0 | AF58: 359 | AI58: =AF58-AG58 + AH58 -> 359
A59: 747 | B59: 1 | C59: 2013 | D59: 1063 | E59: 753 | G59: =D59-E59 + F59 -> 310 | K59: =H59-I59 + J59 -> 0 | O59: =L59-M59 + N59 -> 0 | S59: =P59-Q59 + R59 -> 0 | W59: =T59-U59 + V59 -> 0 | AA59: =X59-Y59 + Z59 -> 0 | AE59: =AB59-AC59 + AD59 -> 0 | AF59: 1063 | AG59: 753 | AI59: =AF59-AG59 + AH59 -> 310
A60: 747 | B60: 2 | C60: 2013 | G60: =D60-E60 + F60 -> 0 | H60: 499 | I60: 499 | K60: =H60-I60 + J60 -> 0 | O60: =L60-M60 + N60 -> 0 | S60: =P60-Q60 + R60 -> 0 | W60: =T60-U60 + V60 -> 0 | AA60: =X60-Y60 + Z60 -> 0 | AE60: =AB60-AC60 + AD60 -> 0 | AF60: 499 | AG60: 499 | AI60: =AF60-AG60 + AH60 -> 0
A61: 747 | B61: 3 | C61: 2013 | G61: =D61-E61 + F61 -> 0 | K61: =H61-I61 + J61 -> 0 | L61: 929 | M61: 929 | O61: =L61-M61 + N61 -> 0 | S61: =P61-Q61 + R61 -> 0 | W61: =T61-U61 + V61 -> 0 | AA61: =X61-Y61 + Z61 -> 0 | AE61: =AB61-AC61 + AD61 -> 0 | AF61: 929 | AG61: 929 | AI61: =AF61-AG61 + AH61 -> 0
A62: 747 | B62: 4 | C62: 2013 | G62: =D62-E62 + F62 -> 0 | K62: =H62-I62 + J62 -> 0 | O62: =L62-M62 + N62 -> 0 | P62: 324 | Q62: 324 | S62: =P62-Q62 + R62 -> 0 | W62: =T62-U62 + V62 -> 0 | AA62: =X62-Y62 + Z62 -> 0 | AE62: =AB62-AC62 + AD62 -> 0 | AF62: 324 | AG62: 324 | AI62: =AF62-AG62 + AH62 -> 0
A63: 747 | B63: 5 | C63: 2013 | G63: =D63-E63 + F63 -> 0 | K63: =H63-I63 + J63 -> 0 | O63: =L63-M63 + N63 -> 0 | S63: =P63-Q63 + R63 -> 0 | T63: 870 | W63: =T63-U63 + V63 -> 870 | AA63: =X63-Y63 + Z63 -> 0 | AE63: =AB63-AC63 + AD63 -> 0 | AF63: 870 | AI63: =AF63-AG63 + AH63 -> 870
A64: 747 | B64: 6 | C64: 2013 | G64: =D64-E64 + F64 -> 0 | K64: =H64-I64 + J64 -> 0 | O64: =L64-M64 + N64 -> 0 | S64: =P64-Q64 + R64 -> 0 | W64: =T64-U64 + V64 -> 0 | X64: 637 | AA64: =X64-Y64 + Z64 -> 637 | AE64: =AB64-AC64 + AD64 -> 0 | AF64: 637 | AI64: =AF64-AG64 + AH64 -> 637
A65: 747 | B65: 7 | C65: 2013 | G65: =D65-E65 + F65 -> 0 | K65: =H65-I65 + J65 -> 0 | O65: =L65-M65 + N65 -> 0 | S65: =P65-Q65 + R65 -> 0 | W65: =T65-U65 + V65 -> 0 | AA65: =X65-Y65 + Z65 -> 0 | AB65: 628 | AE65: =AB65-AC65 + AD65 -> 628 | AF65: 628 | AI65: =AF65-AG65 + AH65 -> 628
A66: 763 | B66: 1 | C66: 2013 | D66: 225 | E66: 8 | G66: =D66-E66 + F66 -> 217 | K66: =H66-I66 + J66 -> 0 | O66: =L66-M66 + N66 -> 0 | S66: =P66-Q66 + R66 -> 0 | W66: =T66-U66 + V66 -> 0 | AA66: =X66-Y66 + Z66 -> 0 | AE66: =AB66-AC66 + AD66 -> 0 | AF66: 225 | AG66: 8 | AI66: =AF66-AG66 + AH66 -> 217
A67: 763 | B67: 2 | C67: 2013 | G67: =D67-E67 + F67 -> 0 | H67: 183 | I67: 112 | K67: =H67-I67 + J67 -> 71 | O67: =L67-M67 + N67 -> 0 | S67: =P67-Q67 + R67 -> 0 | W67: =T67-U67 + V67 -> 0 | AA67: =X67-Y67 + Z67 -> 0 | AE67: =AB67-AC67 + AD67 -> 0 | AF67: 183 | AG67: 112 | AI67: =AF67-AG67 + AH67 -> 71
A68: 763 | B68: 3 | C68: 2013 | G68: =D68-E68 + F68 -> 0 | K68: =H68-I68 + J68 -> 0 | L68: 217 | M68: 100 | O68: =L68-M68 + N68 -> 117 | S68: =P68-Q68 + R68 -> 0 | W68: =T68-U68 + V68 -> 0 | AA68: =X68-Y68 + Z68 -> 0 | AE68: =AB68-AC68 + AD68 -> 0 | AF68: 217 | AG68: 100 | AI68: =AF68-AG68 + AH68 -> 117
A69: 763 | B69: 4 | C69: 2013 | G69: =D69-E69 + F69 -> 0 | K69: =H69-I69 + J69 -> 0 | O69: =L69-M69 + N69 -> 0 | P69: 210 | Q69: 100 | S69: =P69-Q69 + R69 -> 110 | W69: =T69-U69 + V69 -> 0 | AA69: =X69-Y69 + Z69 -> 0 | AE69: =AB69-AC69 + AD69 -> 0 | AF69: 210 | AG69: 100 | AI69: =AF69-AG69 + AH69 -> 110
A70: 763 | B70: 5 | C70: 2013 | G70: =D70-E70 + F70 -> 0 | K70: =H70-I70 + J70 -> 0 | O70: =L70-M70 + N70 -> 0 | S70: =P70-Q70 + R70 -> 0 | T70: 548 | U70: 2 | W70: =T70-U70 + V70 -> 546 | AA70: =X70-Y70 + Z70 -> 0 | AE70: =AB70-AC70 + AD70 -> 0 | AF70: 548 | AG70: 2 | AI70: =AF70-AG70 + AH70 -> 546
A71: 763 | B71: 6 | C71: 2013 | G71: =D71-E71 + F71 -> 0 | K71: =H71-I71 + J71 -> 0 | O71: =L71-M71 + N71 -> 0 | S71: =P71-Q71 + R71 -> 0 | W71: =T71-U71 + V71 -> 0 | X71: 260 | AA71: =X71-Y71 + Z71 -> 260 | AE71: =AB71-AC71 + AD71 -> 0 | AF71: 260 | AI71: =AF71-AG71 + AH71 -> 260
A72: 763 | B72: 7 | C72: 2013 | G72: =D72-E72 + F72 -> 0 | K72: =H72-I72 + J72 -> 0 | O72: =L72-M72 + N72 -> 0 | S72: =P72-Q72 + R72 -> 0 | W72: =T72-U72 + V72 -> 0 | AA72: =X72-Y72 + Z72 -> 0 | AB72: 260 | AE72: =AB72-AC72 + AD72 -> 260 | AF72: 260 | AI72: =AF72-AG72 + AH72 -> 260
A73: 803 | B73: 5 | C73: 2013 | G73: =D73-E73 + F73 -> 0 | K73: =H73-I73 + J73 -> 0 | O73: =L73-M73 + N73 -> 0 | S73: =P73-Q73 + R73 -> 0 | T73: 229 | U73: 100 | W73: =T73-U73 + V73 -> 129 | AA73: =X73-Y73 + Z73 -> 0 | AE73: =AB73-AC73 + AD73 -> 0 | AF73: 229 | AG73: 100 | AI73: =AF73-AG73 + AH73 -> 129
A74: 815 | B74: 1 | C74: 2013 | D74: 629 | E74: 68 | F74: 2 | G74: =D74-E74 + F74 -> 563 | K74: =H74-I74 + J74 -> 0 | O74: =L74-M74 + N74 -> 0 | S74: =P74-Q74 + R74 -> 0 | W74: =T74-U74 + V74 -> 0 | AA74: =X74-Y74 + Z74 -> 0 | AE74: =AB74-AC74 + AD74 -> 0 | AF74: 629 | AG74: 68 | AH74: 2 | AI74: =AF74-AG74 + AH74 -> 563
A75: 815 | B75: 2 | C75: 2013 | G75: =D75-E75 + F75 -> 0 | H75: 400 | I75: 140 | K75: =H75-I75 + J75 -> 260 | O75: =L75-M75 + N75 -> 0 | S75: =P75-Q75 + R75 -> 0 | W75: =T75-U75 + V75 -> 0 | AA75: =X75-Y75 + Z75 -> 0 | AE75: =AB75-AC75 + AD75 -> 0 | AF75: 400 | AG75: 140 | AI75: =AF75-AG75 + AH75 -> 260
A76: 815 | B76: 3 | C76: 2013 | G76: =D76-E76 + F76 -> 0 | K76: =H76-I76 + J76 -> 0 | L76: 300 | O76: =L76-M76 + N76 -> 300 | S76: =P76-Q76 + R76 -> 0 | W76: =T76-U76 + V76 -> 0 | AA76: =X76-Y76 + Z76 -> 0 | AE76: =AB76-AC76 + AD76 -> 0 | AF76: 300 | AI76: =AF76-AG76 + AH76 -> 300
A77: 815 | B77: 4 | C77: 2013 | G77: =D77-E77 + F77 -> 0 | K77: =H77-I77 + J77 -> 0 | O77: =L77-M77 + N77 -> 0 | P77: 778 | Q77: 2 | S77: =P77-Q77 + R77 -> 776 | W77: =T77-U77 + V77 -> 0 | AA77: =X77-Y77 + Z77 -> 0 | AE77: =AB77-AC77 + AD77 -> 0 | AF77: 778 | AG77: 2 | AI77: =AF77-AG77 + AH77 -> 776
A78: 815 | B78: 5 | C78: 2013 | G78: =D78-E78 + F78 -> 0 | K78: =H78-I78 + J78 -> 0 | O78: =L78-M78 + N78 -> 0 | S78: =P78-Q78 + R78 -> 0 | T78: 1113 | U78: 1 | W78: =T78-U78 + V78 -> 1112 | AA78: =X78-Y78 + Z78 -> 0 | AE78: =AB78-AC78 + AD78 -> 0 | AF78: 1113 | AG78: 1 | AI78: =AF78-AG78 + AH78 -> 1112
A79: 815 | B79: 6 | C79: 2013 | G79: =D79-E79 + F79 -> 0 | K79: =H79-I79 + J79 -> 0 | O79: =L79-M79 + N79 -> 0 | S79: =P79-Q79 + R79 -> 0 | W79: =T79-U79 + V79 -> 0 | X79: 1005 | AA79: =X79-Y79 + Z79 -> 1005 | AE79: =AB79-AC79 + AD79 -> 0 | AF79: 1005 | AI79: =AF79-AG79 + AH79 -> 1005
A80: 815 | B80: 7 | C80: 2013 | G80: =D80-E80 + F80 -> 0 | K80: =H80-I80 + J80 -> 0 | O80: =L80-M80 + N80 -> 0 | S80: =P80-Q80 + R80 -> 0 | W80: =T80-U80 + V80 -> 0 | AA80: =X80-Y80 + Z80 -> 0 | AB80: 370 | AE80: =AB80-AC80 + AD80 -> 370 | AF80: 370 | AI80: =AF80-AG80 + AH80 -> 370
A81: 822 | B81: 4 | C81: 2013 | G81: =D81-E81 + F81 -> 0 | K81: =H81-I81 + J81 -> 0 | O81: =L81-M81 + N81 -> 0 | P81: 110 | S81: =P81-Q81 + R81 -> 110 | W81: =T81-U81 + V81 -> 0 | AA81: =X81-Y81 + Z81 -> 0 | AE81: =AB81-AC81 + AD81 -> 0 | AF81: 110 | AI81: =AF81-AG81 + AH81 -> 110
A82: 822 | B82: 5 | C82: 2013 | G82: =D82-E82 + F82 -> 0 | K82: =H82-I82 + J82 -> 0 | O82: =L82-M82 + N82 -> 0 | S82: =P82-Q82 + R82 -> 0 | T82: 380 | W82: =T82-U82 + V82 -> 380 | AA82: =X82-Y82 + Z82 -> 0 | AE82: =AB82-AC82 + AD82 -> 0 | AF82: 380 | AI82: =AF82-AG82 + AH82 -> 380
A83: 822 | B83: 6 | C83: 2013 | G83: =D83-E83 + F83 -> 0 | K83: =H83-I83 + J83 -> 0 | O83: =L83-M83 + N83 -> 0 | S83: =P83-Q83 + R83 -> 0 | W83: =T83-U83 + V83 -> 0 | X83: 359 | Y83: 1 | AA83: =X83-Y83 + Z83 -> 358 | AE83: =AB83-AC83 + AD83 -> 0 | AF83: 359 | AG83: 1 | AI83: =AF83-AG83 + AH83 -> 358
A84: 822 | B84: 7 | C84: 2013 | G84: =D84-E84 + F84 -> 0 | K84: =H84-I84 + J84 -> 0 | O84: =L84-M84 + N84 -> 0 | S84: =P84-Q84 + R84 -> 0 | W84: =T84-U84 + V84 -> 0 | AA84: =X84-Y84 + Z84 -> 0 | AB84: 223 | AE84: =AB84-AC84 + AD84 -> 223 | AF84: 223 | AI84: =AF84-AG84 + AH84 -> 223
A85: 907 | B85: 1 | C85: 2013 | D85: 184 | E85: 184 | G85: =D85-E85 + F85 -> 0 | K85: =H85-I85 + J85 -> 0 | O85: =L85-M85 + N85 -> 0 | S85: =P85-Q85 + R85 -> 0 | W85: =T85-U85 + V85 -> 0 | AA85: =X85-Y85 + Z85 -> 0 | AE85: =AB85-AC85 + AD85 -> 0 | AF85: 184 | AG85: 184 | AI85: =AF85-AG85 + AH85 -> 0
A86: 907 | B86: 5 | C86: 2013 | G86: =D86-E86 + F86 -> 0 | K86: =H86-I86 + J86 -> 0 | O86: =L86-M86 + N86 -> 0 | S86: =P86-Q86 + R86 -> 0 | T86: 449 | U86: 2 | W86: =T86-U86 + V86 -> 447 | AA86: =X86-Y86 + Z86 -> 0 | AE86: =AB86-AC86 + AD86 -> 0 | AF86: 449 | AG86: 2 | AI86: =AF86-AG86 + AH86 -> 447
A87: 907 | B87: 6 | C87: 2013 | G87: =D87-E87 + F87 -> 0 | K87: =H87-I87 + J87 -> 0 | O87: =L87-M87 + N87 -> 0 | S87: =P87-Q87 + R87 -> 0 | W87: =T87-U87 + V87 -> 0 | X87: 370 | AA87: =X87-Y87 + Z87 -> 370 | AE87: =AB87-AC87 + AD87 -> 0 | AF87: 370 | AI87: =AF87-AG87 + AH87 -> 370
A88: 907 | B88: 7 | C88: 2013 | G88: =D88-E88 + F88 -> 0 | K88: =H88-I88 + J88 -> 0 | O88: =L88-M88 + N88 -> 0 | S88: =P88-Q88 + R88 -> 0 | W88: =T88-U88 + V88 -> 0 | AA88: =X88-Y88 + Z88 -> 0 | AB88: 178 | AE88: =AB88-AC88 + AD88 -> 178 | AF88: 178 | AI88: =AF88-AG88 + AH88 -> 178
A89: 920 | B89: 5 | C89: 2013 | G89: =D89-E89 + F89 -> 0 | K89: =H89-I89 + J89 -> 0 | O89: =L89-M89 + N89 -> 0 | S89: =P89-Q89 + R89 -> 0 | T89: 242 | W89: =T89-U89 + V89 -> 242 | AA89: =X89-Y89 + Z89 -> 0 | AE89: =AB89-AC89 + AD89 -> 0 | AF89: 242 | AI89: =AF89-AG89 + AH89 -> 242
A90: 920 | B90: 6 | C90: 2013 | G90: =D90-E90 + F90 -> 0 | K90: =H90-I90 + J90 -> 0 | O90: =L90-M90 + N90 -> 0 | S90: =P90-Q90 + R90 -> 0 | W90: =T90-U90 + V90 -> 0 | X90: 408 | Y90: 1 | AA90: =X90-Y90 + Z90 -> 407 | AE90: =AB90-AC90 + AD90 -> 0 | AF90: 408 | AG90: 1 | AI90: =AF90-AG90 + AH90 -> 407
A91: 920 | B91: 7 | C91: 2013 | G91: =D91-E91 + F91 -> 0 | K91: =H91-I91 + J91 -> 0 | O91: =L91-M91 + N91 -> 0 | S91: =P91-Q91 + R91 -> 0 | W91: =T91-U91 + V91 -> 0 | AA91: =X91-Y91 + Z91 -> 0 | AB91: 394 | AE91: =AB91-AC91 + AD91 -> 394 | AF91: 394 | AI91: =AF91-AG91 + AH91 -> 394
A92: 942 | B92: 1 | C92: 2013 | D92: 66 | E92: 3 | G92: =D92-E92 + F92 -> 63 | K92: =H92-I92 + J92 -> 0 | O92: =L92-M92 + N92 -> 0 | S92: =P92-Q92 + R92 -> 0 | W92: =T92-U92 + V92 -> 0 | AA92: =X92-Y92 + Z92 -> 0 | AE92: =AB92-AC92 + AD92 -> 0 | AF92: 66 | AG92: 3 | AI92: =AF92-AG92 + AH92 -> 63
A93: 942 | B93: 5 | C93: 2013 | G93: =D93-E93 + F93 -> 0 | K93: =H93-I93 + J93 -> 0 | O93: =L93-M93 + N93 -> 0 | S93: =P93-Q93 + R93 -> 0 | T93: 406 | W93: =T93-U93 + V93 -> 406 | AA93: =X93-Y93 + Z93 -> 0 | AE93: =AB93-AC93 + AD93 -> 0 | AF93: 406 | AI93: =AF93-AG93 + AH93 -> 406
A94: 942 | B94: 6 | C94: 2013 | G94: =D94-E94 + F94 -> 0 | K94: =H94-I94 + J94 -> 0 | O94: =L94-M94 + N94 -> 0 | S94: =P94-Q94 + R94 -> 0 | W94: =T94-U94 + V94 -> 0 | X94: 339 | AA94: =X94-Y94 + Z94 -> 339 | AE94: =AB94-AC94 + AD94 -> 0 | AF94: 339 | AI94: =AF94-AG94 + AH94 -> 339
A95: 942 | B95: 7 | C95: 2013 | G95: =D95-E95 + F95 -> 0 | K95: =H95-I95 + J95 -> 0 | O95: =L95-M95 + N95 -> 0 | S95: =P95-Q95 + R95 -> 0 | W95: =T95-U95 + V95 -> 0 | AA95: =X95-Y95 + Z95 -> 0 | AB95: 290 | AC95: 1 | AE95: =AB95-AC95 + AD95 -> 289 | AF95: 290 | AG95: 1 | AI95: =AF95-AG95 + AH95 -> 289
A96: 980 | B96: 1 | C96: 2013 | D96: 738 | E96: 296 | G96: =D96-E96 + F96 -> 442 | K96: =H96-I96 + J96 -> 0 | O96: =L96-M96 + N96 -> 0 | S96: =P96-Q96 + R96 -> 0 | W96: =T96-U96 + V96 -> 0 | AA96: =X96-Y96 + Z96 -> 0 | AE96: =AB96-AC96 + AD96 -> 0 | AF96: 738 | AG96: 296 | AI96: =AF96-AG96 + AH96 -> 442
A97: 980 | B97: 2 | C97: 2013 | G97: =D97-E97 + F97 -> 0 | H97: 285 | K97: =H97-I97 + J97 -> 285 | O97: =L97-M97 + N97 -> 0 | S97: =P97-Q97 + R97 -> 0 | W97: =T97-U97 + V97 -> 0 | AA97: =X97-Y97 + Z97 -> 0 | AE97: =AB97-AC97 + AD97 -> 0 | AF97: 285 | AI97: =AF97-AG97 + AH97 -> 285
A98: 980 | B98: 3 | C98: 2013 | G98: =D98-E98 + F98 -> 0 | K98: =H98-I98 + J98 -> 0 | L98: 346 | M98: 4 | O98: =L98-M98 + N98 -> 342 | S98: =P98-Q98 + R98 -> 0 | W98: =T98-U98 + V98 -> 0 | AA98: =X98-Y98 + Z98 -> 0 | AE98: =AB98-AC98 + AD98 -> 0 | AF98: 346 | AG98: 4 | AI98: =AF98-AG98 + AH98 -> 342
A99: 980 | B99: 4 | C99: 2013 | G99: =D99-E99 + F99 -> 0 | K99: =H99-I99 + J99 -> 0 | O99: =L99-M99 + N99 -> 0 | P99: 634 | S99: =P99-Q99 + R99 -> 634 | W99: =T99-U99 + V99 -> 0 | AA99: =X99-Y99 + Z99 -> 0 | AE99: =AB99-AC99 + AD99 -> 0 | AF99: 634 | AI99: =AF99-AG99 + AH99 -> 634
A100: 980 | B100: 5 | C100: 2013 | G100: =D100-E100 + F100 -> 0 | K100: =H100-I100 + J100 -> 0 | O100: =L100-M100 + N100 -> 0 | S100: =P100-Q100 + R100 -> 0 | T100: 675 | W100: =T100-U100 + V100 -> 675 | AA100: =X100-Y100 + Z100 -> 0 | AE100: =AB100-AC100 + AD100 -> 0 | AF100: 675 | AI100: =AF100-AG100 + AH100 -> 675
A101: 980 | B101: 6 | C101: 2013 | G101: =D101-E101 + F101 -> 0 | K101: =H101-I101 + J101 -> 0 | O101: =L101-M101 + N101 -> 0 | S101: =P101-Q101 + R101 -> 0 | W101: =T101-U101 + V101 -> 0 | X101: 596 | AA101: =X101-Y101 + Z101 -> 596 | AE101: =AB101-AC101 + AD101 -> 0 | AF101: 596 | AI101: =AF101-AG101 + AH101 -> 596
A102: 980 | B102: 7 | C102: 2013 | G102: =D102-E102 + F102 -> 0 | K102: =H102-I102 + J102 -> 0 | O102: =L102-M102 + N102 -> 0 | S102: =P102-Q102 + R102 -> 0 | W102: =T102-U102 + V102 -> 0 | AA102: =X102-Y102 + Z102 -> 0 | AB102: 242 | AE102: =AB102-AC102 + AD102 -> 242 | AF102: 242 | AI102: =AF102-AG102 + AH102 -> 242
A103: Total | D103: 4887 | E103: 1885 | F103: 2 | G103: =D103-E103 + F103 -> 3004 | H103: 1744 | I103: 1048 | J103: 5 | K103: =H103-I103 + J103 -> 701 | L103: 2647 | M103: 1257 | O103: =L103-M103 + N103 -> 1390 | P103: 4560 | Q103: 876 | S103: =P103-Q103 + R103 -> 3684 | T103: 9652 | U103: 106 | W103: =T103-U103 + V103 -> 9546 | X103: 8230 | Y103: 2 | AA103: =X103-Y103 + Z103 -> 8228 | AB103: 4451 | AC103: 2 | AE103: =AB103-AC103 + AD103 -> 4449 | AF103: 36171 | AG103: 5176 | AH103: 7 | AI103: =AF103-AG103 + AH103 -> 31002

Sheet Stock GN
B1: =CONCATENATE("Récaputilatif des stock GN par mois de fabrication sur le crû ",Données!D14," avec comme derniere date de mouvement le "&TEXT(Données!D12,"jj/mm/aaaa")) -> #VALUE!
F7: Mois de production | G7: Annee/Cru
F8: 1 | G8: 2 | H8: 3 | I8: 4 | J8: 5 | K8: 6 | L8: 7 | M8: 8 | N8: 9 | O8: 10 | P8: 11 | Q8: 12 | R8: Total
F9: 2013 | G9: 2013 | H9: 2013 | I9: 2013 | J9: 2013 | K9: 2013 | L9: 2013 | M9: 2013 | N9: 2013 | O9: 2013 | P9: 2013 | Q9: 2013
B10: Lot | C10: Num Coop du Lot GN | D10: Num Mois du Lot GN | E10: Num Année du Lot GN | F10: Quantite signee | G10: Quantite signee | H10: Quantite signee | I10: Quantite signee | J10: Quantite signee | K10: Quantite signee | L10: Quantite signee | M10: Quantite signee | N10: Quantite signee | O10: Quantite signee | P10: Quantite signee | Q10: Quantite signee | R10: Quantite signee
B11: 017 05 13 | C11: 17 | D11: 5 | E11: 13 | J11: 374 | R11: 374
B12: 017 06 13 | C12: 17 | D12: 6 | E12: 13 | K12: 391 | R12: 391
B13: 017 07 13 | C13: 17 | D13: 7 | E13: 13 | L13: 314 | R13: 314
B14: 017 08 13 | C14: 17 | D14: 8 | E14: 13 | M14: 335 | R14: 335
B15: 017 09 13 | C15: 17 | D15: 9 | E15: 13 | N15: 326 | R15: 326
B16: 017 10 13 | C16: 17 | D16: 10 | E16: 13 | O16: 373 | R16: 373
B17: 017 11 13 | C17: 17 | D17: 11 | E17: 13 | P17: 310 | R17: 310
B18: 017 12 13 | C18: 17 | D18: 12 | E18: 13 | Q18: 425 | R18: 425
B19: 020 11 13 | C19: 20 | D19: 11 | E19: 13 | P19: 41 | R19: 41
B20: 022 03 13 | C20: 22 | D20: 3 | E20: 13 | H20: 141 | R20: 141
B21: 022 04 13 | C21: 22 | D21: 4 | E21: 13 | I21: 703 | R21: 703
B22: 022 05 13 | C22: 22 | D22: 5 | E22: 13 | J22: 449 | R22: 449
B23: 022 06 13 | C23: 22 | D23: 6 | E23: 13 | K23: 564 | R23: 564
B24: 022 07 13 | C24: 22 | D24: 7 | E24: 13 | L24: 341 | R24: 341
B25: 022 08 13 | C25: 22 | D25: 8 | E25: 13 | M25: 510 | R25: 510
B26: 022 10 13 | C26: 22 | D26: 10 | E26: 13 | O26: 80 | R26: 80
B27: 022 11 13 | C27: 22 | D27: 11 | E27: 13 | P27: 39 | R27: 39
B28: 022 12 13 | C28: 22 | D28: 12 | E28: 13 | Q28: 80 | R28: 80
B29: 024 05 13 | C29: 24 | D29: 5 | E29: 13 | J29: 111 | R29: 111
B30: 024 06 13 | C30: 24 | D30: 6 | E30: 13 | K30: 99 | R30: 99
B31: 024 07 13 | C31: 24 | D31: 7 | E31: 13 | L31: 475 | R31: 475
B32: 024 08 13 | C32: 24 | D32: 8 | E32: 13 | M32: 456 | R32: 456
B33: 024 09 13 | C33: 24 | D33: 9 | E33: 13 | N33: 444 | R33: 444
B34: 024 10 13 | C34: 24 | D34: 10 | E34: 13 | O34: 408 | R34: 408
B35: 024 11 13 | C35: 24 | D35: 11 | E35: 13 | P35: 394 | R35: 394
B36: 024 12 13 | C36: 24 | D36: 12 | E36: 13 | Q36: 458 | R36: 458
B37: 025 04 13 | C37: 25 | D37: 4 | E37: 13 | I37: 170 | R37: 170
B38: 026 01 13 | C38: 26 | D38: 1 | E38: 13 | F38: 237 | R38: 237
B39: 026 03 13 | C39: 26 | D39: 3 | E39: 13 | H39: 1 | R39: 1
B40: 026 04 13 | C40: 26 | D40: 4 | E40: 13 | I40: 197 | R40: 197
B41: 026 12 13 | C41: 26 | D41: 12 | E41: 13 | Q41: 116 | R41: 116
B42: 027 07 13 | C42: 27 | D42: 7 | E42: 13 | L42: 3 | R42: 3
B43: 027 08 13 | C43: 27 | D43: 8 | E43: 13 | M43: 7 | R43: 7
B44: 027 09 13 | C44: 27 | D44: 9 | E44: 13 | N44: 6 | R44: 6
B45: 027 10 13 | C45: 27 | D45: 10 | E45: 13 | O45: 2 | R45: 2
B46: 027 11 13 | C46: 27 | D46: 11 | E46: 13 | P46: 7 | R46: 7
B47: 028 07 13 | C47: 28 | D47: 7 | E47: 13 | L47: 2 | R47: 2
B48: 028 08 13 | C48: 28 | D48: 8 | E48: 13 | M48: 80 | R48: 80
B49: 028 09 13 | C49: 28 | D49: 9 | E49: 13 | N49: 32 | R49: 32
B50: 028 10 13 | C50: 28 | D50: 10 | E50: 13 | O50: 33 | R50: 33
B51: 028 11 13 | C51: 28 | D51: 11 | E51: 13 | P51: 112 | R51: 112
B52: 028 12 13 | C52: 28 | D52: 12 | E52: 13 | Q52: 55 | R52: 55
B53: 031 04 13 | C53: 31 | D53: 4 | E53: 13 | I53: 297 | R53: 297
B54: 031 05 13 | C54: 31 | D54: 5 | E54: 13 | J54: 222 | R54: 222
B55: 031 06 13 | C55: 31 | D55: 6 | E55: 13 | K55: 197 | R55: 197
B56: 031 07 13 | C56: 31 | D56: 7 | E56: 13 | L56: 147 | R56: 147
B57: 031 09 13 | C57: 31 | D57: 9 | E57: 13 | N57: 98 | R57: 98
B58: 031 10 13 | C58: 31 | D58: 10 | E58: 13 | O58: 76 | R58: 76
B59: 031 12 13 | C59: 31 | D59: 12 | E59: 13 | Q59: 60 | R59: 60
B60: 032 05 13 | C60: 32 | D60: 5 | E60: 13 | J60: 138 | R60: 138
B61: 032 06 13 | C61: 32 | D61: 6 | E61: 13 | K61: 364 | R61: 364
B62: 032 07 13 | C62: 32 | D62: 7 | E62: 13 | L62: 369 | R62: 369
B63: 032 08 13 | C63: 32 | D63: 8 | E63: 13 | M63: 323 | R63: 323
B64: 032 09 13 | C64: 32 | D64: 9 | E64: 13 | N64: 293 | R64: 293
B65: 032 10 13 | C65: 32 | D65: 10 | E65: 13 | O65: 286 | R65: 286
B66: 032 11 13 | C66: 32 | D66: 11 | E66: 13 | P66: 239 | R66: 239
B67: 032 12 13 | C67: 32 | D67: 12 | E67: 13 | Q67: 272 | R67: 272
B68: 042 03 13 | C68: 42 | D68: 3 | E68: 13 | H68: 400 | R68: 400
B69: 042 04 13 | C69: 42 | D69: 4 | E69: 13 | I69: 378 | R69: 378
B70: 042 05 13 | C70: 42 | D70: 5 | E70: 13 | J70: 448 | R70: 448
B71: 042 06 13 | C71: 42 | D71: 6 | E71: 13 | K71: 440 | R71: 440
B72: 042 07 13 | C72: 42 | D72: 7 | E72: 13 | L72: 357 | R72: 357
B73: 042 08 13 | C73: 42 | D73: 8 | E73: 13 | M73: 348 | R73: 348
B74: 042 09 13 | C74: 42 | D74: 9 | E74: 13 | N74: 370 | R74: 370
B75: 042 10 13 | C75: 42 | D75: 10 | E75: 13 | O75: 328 | R75: 328
B76: 042 11 13 | C76: 42 | D76: 11 | E76: 13 | P76: 351 | R76: 351
B77: 042 12 13 | C77: 42 | D77: 12 | E77: 13 | Q77: 431 | R77: 431
B78: 045 04 13 | C78: 45 | D78: 4 | E78: 13 | I78: 10 | R78: 10
B79: 045 05 13 | C79: 45 | D79: 5 | E79: 13 | J79: 189 | R79: 189
B80: 045 06 13 | C80: 45 | D80: 6 | E80: 13 | K80: 173 | R80: 173
B81: 045 07 13 | C81: 45 | D81: 7 | E81: 13 | L81: 141 | R81: 141
B82: 045 08 13 | C82: 45 | D82: 8 | E82: 13 | M82: 113 | R82: 113
B83: 045 09 13 | C83: 45 | D83: 9 | E83: 13 | N83: 119 | R83: 119
B84: 045 10 13 | C84: 45 | D84: 10 | E84: 13 | O84: 107 | R84: 107
B85: 045 11 13 | C85: 45 | D85: 11 | E85: 13 | P85: 106 | R85: 106
B86: 045 12 13 | C86: 45 | D86: 12 | E86: 13 | Q86: 220 | R86: 220
B87: 054 03 13 | C87: 54 | D87: 3 | E87: 13 | H87: 2 | R87: 2
B88: 054 04 13 | C88: 54 | D88: 4 | E88: 13 | I88: 131 | R88: 131
B89: 055 04 13 | C89: 55 | D89: 4 | E89: 13 | I89: 200 | R89: 200
B90: 055 05 13 | C90: 55 | D90: 5 | E90: 13 | J90: 560 | R90: 560
B91: 055 06 13 | C91: 55 | D91: 6 | E91: 13 | K91: 448 | R91: 448
B92: 055 07 13 | C92: 55 | D92: 7 | E92: 13 | L92: 395 | R92: 395
B93: 055 08 13 | C93: 55 | D93: 8 | E93: 13 | M93: 371 | R93: 371
B94: 055 09 13 | C94: 55 | D94: 9 | E94: 13 | N94: 375 | R94: 375
B95: 055 10 13 | C95: 55 | D95: 10 | E95: 13 | O95: 494 | R95: 494
B96: 055 11 13 | C96: 55 | D96: 11 | E96: 13 | P96: 531 | R96: 531
B97: 055 12 13 | C97: 55 | D97: 12 | E97: 13 | Q97: 611 | R97: 611
B98: 057 05 13 | C98: 57 | D98: 5 | E98: 13 | J98: 630 | R98: 630
B99: 057 06 13 | C99: 57 | D99: 6 | E99: 13 | K99: 657 | R99: 657
B100: 057 07 13 | C100: 57 | D100: 7 | E100: 13 | L100: 272 | R100: 272
B101: 057 08 13 | C101: 57 | D101: 8 | E101: 13 | M101: 427 | R101: 427
B102: 057 09 13 | C102: 57 | D102: 9 | E102: 13 | N102: 455 | R102: 455
B103: 057 10 13 | C103: 57 | D103: 10 | E103: 13 | O103: 629 | R103: 629
B104: 057 11 13 | C104: 57 | D104: 11 | E104: 13 | P104: 602 | R104: 602
B105: 057 12 13 | C105: 57 | D105: 12 | E105: 13 | Q105: 637 | R105: 637
...

Sheet Recap 2
A6: Num Coop | B6: 1 | C6: 1 | D6: 1 | E6: 2 | F6: 2 | G6: 2 | H6: 3 | I6: 3 | J6: 3 | K6: 4 | L6: 4 | M6: 4 | N6: 5 | O6: 5 | P6: 5 | Q6: 6 | R6: 6 | S6: 6 | T6: 7 | U6: 7 | V6: 7 | W6: 8 | X6: 8 | Y6: 8 | Z6: 9 | AA6: 9 | AB6: 9 | AC6: 10 | AD6: 10 | AE6: 10 | AF6: 11 | AG6: 11 | AH6: 11 | AI6: 12 | AJ6: 12 | AK6: 12
B7: Stock FSA | C7: Stock GN | D7: Total | E7: Stock FSA | F7: Stock GN | G7: Total | H7: Stock FSA | I7: Stock GN | J7: Total | K7: Stock FSA | L7: Stock GN | M7: Total | N7: Stock FSA | O7: Stock GN | P7: Total | Q7: Stock FSA | R7: Stock GN | S7: Total | T7: Stock FSA | U7: Stock GN | V7: Total | W7: Stock FSA | X7: Stock GN | Y7: Total | Z7: Stock FSA | AA7: Stock GN | AB7: Total | AC7: Stock FSA | AD7: Stock GN | AE7: Total | AF7: Stock FSA | AG7: Stock GN | AH7: Total | AI7: Stock FSA | AJ7: Stock GN | AK7: Total
A8: 17 | B8: =SUMPRODUCT(('Stock FSA'!$A$8:$A$102='Recap 2'!$A8)*('Stock FSA'!$D$6:$AE$6='Recap 2'!B$6)*('Stock FSA'!$D$7:$AE$7="Stock")*'Stock FSA'!$D$8:$AE$102) -> 0 | C8: =SUMPRODUCT(('Stock GN'!$C$11:$C$232='Recap 2'!$A8)*('Stock GN'!$F$8:$Q$8='Recap 2'!B$6)*'Stock GN'!$F$11:$Q$232) -> 0 | D8: =+B8+C8 -> 0 | E8: =SUMPRODUCT(('Stock FSA'!$A$8:$A$102='Recap 2'!$A8)*('Stock FSA'!$D$6:$AE$6='Recap 2'!E$6)*('Stock FSA'!$D$7:$AE$7="Stock")*'Stock FSA'!$D$8:$AE$102) -> 0 | F8: =SUMPRODUCT(('Stock GN'!$C$11:$C$232='Recap 2'!$A8)*('Stock GN'!$F$8:$Q$8='Recap 2'!E$6)*'Stock GN'!$F$11:$Q$232) -> 0 | G8: =+E8+F8 -> 0 | H8: =SUMPRODUCT(('Stock FSA'!$A$8:$A$102='Recap 2'!$A8)*('Stock FSA'!$D$6:$AE$6='Recap 2'!H$6)*('Stock FSA'!$D$7:$AE$7="Stock")*'Stock FSA'!$D$8:$AE$102) -> 0 | I8: =SUMPRODUCT(('Stock GN'!$C$11:$C$232='Recap 2'!$A8)*('Stock GN'!$F$8:$Q$8='Recap 2'!H$6)*'Stock GN'!$F$11:$Q$232) -> 0 | J8: =+H8+I8 -> 0 | K8: =SUMPRODUCT(('Stock FSA'!$A$8:$A$102='Recap 2'!$A8)*('Stock FSA'!$D$6:$AE$6='Recap 2'!K$6)*('Stock FSA'!$D$7:$AE$7="Stock")*'Stock FSA'!$D$8:$AE$102) -> 0 | L8: =SUMPRODUCT(('Stock GN'!$C$11:$C$232='Recap 2'!$A8)*('Stock GN'!$F$8:$Q$8='Recap 2'!K$6)*'Stock GN'!$F$11:$Q$232) -> 0 | M8: =+K8+L8 -> 0 | N8: =SUMPRODUCT(('Stock FSA'!$A$8:$A$102='Recap 2'!$A8)*('Stock FSA'!$D$6:$AE$6='Recap 2'!N$6)*('Stock FSA'!$D$7:$AE$7="Stock")*'Stock FSA'!$D$8:$AE$102) -> 0 | O8: =SUMPRODUCT(('Stock GN'!$C$11:$C$232='Recap 2'!$A8)*('Stock GN'!$F$8:$Q$8='Recap 2'!N$6)*'Stock GN'!$F$11:$Q$232) -> 374 | P8: =+N8+O8 -> 374 | Q8: =SUMPRODUCT(('Stock FSA'!$A$8:$A$102='Recap 2'!$A8)*('Stock FSA'!$D$6:$AE$6='Recap 2'!Q$6)*('Stock FSA'!$D$7:$AE$7="Stock")*'Stock FSA'!$D$8:$AE$102) -> 0 | R8: =SUMPRODUCT(('Stock GN'!$C$11:$C$232='Recap 2'!$A8)*('Stock GN'!$F$8:$Q$8='Recap 2'!Q$6)*'Stock GN'!$F$11:$Q$232) -> 391 | S8: =+Q8+R8 -> 391 | T8: =SUMPRODUCT(('Stock FSA'!$A$8:$A$102='Recap 2'!$A8)*('Stock FSA'!$D$6:$AE$6='Recap 2'!T$6)*('Stock FSA'!$D$7:$AE$7="Stock")*'Stock FSA'!$D$8:$AE$102) -> 0 | U8: =SUMPRODUCT(('Stock GN'!$C$11:$C$232='Recap 2'!$A8)*('Stock GN'!$F$8:$Q$8='Recap 2'!T$6)*'Stock GN'!$F$11:$Q$232) -> 314 | V8: =+T8+U8 -> 314 | W8: =SUMPRODUCT(('Stock FSA'!$A$8:$A$102='Recap 2'!$A8)*('Stock FSA'!$D$6:$AE$6='Recap 2'!W$6)*('Stock FSA'!$D$7:$AE$7="Stock")*'Stock FSA'!$D$8:$AE$102) -> 0 | X8: =SUMPRODUCT(('Stock GN'!$C$11:$C$232='Recap 2'!$A8)*('Stock GN'!$F$8:$Q$8='Recap 2'!W$6)*'Stock GN'!$F$11:$Q$232) -> 335 | Y8: =+W8+X8 -> 335 | Z8: =SUMPRODUCT(('Stock FSA'!$A$8:$A$102='Recap 2'!$A8)*('Stock FSA'!$D$6:$AE$6='Recap 2'!Z$6)*('Stock FSA'!$D$7:$AE$7="Stock")*'Stock FSA'!$D$8:$AE$102) -> 0 | AA8: =SUMPRODUCT(('Stock GN'!$C$11:$C$232='Recap 2'!$A8)*('Stock GN'!$F$8:$Q$8='Recap 2'!Z$6)*'Stock GN'!$F$11:$Q$232) -> 326 | AB8: =+Z8+AA8 -> 326 | AC8: =SUMPRODUCT(('Stock FSA'!$A$8:$A$102='Recap 2'!$A8)*('Stock FSA'!$D$6:$AE$6='Recap 2'!AC$6)*('Stock FSA'!$D$7:$AE$7="Stock")*'Stock FSA'!$D$8:$AE$102) -> 0 | AD8: =SUMPRODUCT(('Stock GN'!$C$11:$C$232='Recap 2'!$A8)*('Stock GN'!$F$8:$Q$8='Recap 2'!AC$6)*'Stock GN'!$F$11:$Q$232) -> 373 | AE8: =+AC8+AD8 -> 373 | AF8: =SUMPRODUCT(('Stock FSA'!$A$8:$A$102='Recap 2'!$A8)*('Stock FSA'!$D$6:$AE$6='Recap 2'!AF$6)*('Stock FSA'!$D$7:$AE$7="Stock")*'Stock FSA'!$D$8:$AE$102) -> 0 | AG8: =SUMPRODUCT(('Stock GN'!$C$11:$C$232='Recap 2'!$A8)*('Stock GN'!$F$8:$Q$8='Recap 2'!AF$6)*'Stock GN'!$F$11:$Q$232) -> 310 | AH8: =+AF8+AG8 -> 310 | AI8: =SUMPRODUCT(('Stock FSA'!$A$8:$A$102='Recap 2'!$A8)*('Stock FSA'!$D$6:$AE$6='Recap 2'!AI$6)*('Stock FSA'!$D$7:$AE$7="Stock")*'Stock FSA'!$D$8:$AE$102) -> 0 | AJ8: =SUMPRODUCT(('Stock GN'!$C$11:$C$232='Recap 2'!$A8)*('Stock GN'!$F$8:$Q$8='Recap 2'!AI$6)*'Stock GN'!$F$11:$Q$232) -> 425 | AK8: =+AI8+AJ8 -> 425
A9: 20 | B9: =SUMPRODUCT(('Stock FSA'!$A$8:$A$102='Recap 2'!$A9)*('Stock FSA'!$D$6:$AE$6='Recap 2'!B$6)*('Stock FSA'!$D$7:$AE$7="Stock")*'Stock FSA'!$D$8:$AE$102) -> 0 | C9: =SUMPRODUCT(('Stock GN'!$C$11:$C$232='Recap 2'!$A9)*('Stock GN'!$F$8:$Q$8='Recap 2'!B$6)*'Stock GN'!$F$11:$Q$232) -> 0 | D9: =+B9+C9 -> 0 | E9: =SUMPRODUCT(('Stock FSA'!$A$8:$A$102='Recap 2'!$A9)*('Stock FSA'!$D$6:$AE$6='Recap 2'!E$6)*('Stock FSA'!$D$7:$AE$7="Stock")*'Stock FSA'!$D$8:$AE$102) -> 0 | F9: =SUMPRODUCT(('Stock GN'!$C$11:$C$232='Recap 2'!$A9)*('Stock GN'!$F$8:$Q$8='Recap 2'!E$6)*'Stock GN'!$F$11:$Q$232) -> 0 | G9: =+E9+F9 -> 0 | H9: =SUMPRODUCT(('Stock FSA'!$A$8:$A$102='Recap 2'!$A9)*('Stock FSA'!$D$6:$AE$6='Recap 2'!H$6)*('Stock FSA'!$D$7:$AE$7="Stock")*'Stock FSA'!$D$8:$AE$102) -> 0 | I9: =SUMPRODUCT(('Stock GN'!$C$11:$C$232='Recap 2'!$A9)*('Stock GN'!$F$8:$Q$8='Recap 2'!H$6)*'Stock GN'!$F$11:$Q$232) -> 0 | J9: =+H9+I9 -> 0 | K9: =SUMPRODUCT(('Stock FSA'!$A$8:$A$102='Recap 2'!$A9)*('Stock FSA'!$D$6:$AE$6='Recap 2'!K$6)*('Stock FSA'!$D$7:$AE$7="Stock")*'Stock FSA'!$D$8:$AE$102) -> 0 | L9: =SUMPRODUCT(('Stock GN'!$C$11:$C$232='Recap 2'!$A9)*('Stock GN'!$F$8:$Q$8='Recap 2'!K$6)*'Stock GN'!$F$11:$Q$232) -> 0 | M9: =+K9+L9 -> 0 | N9: =SUMPRODUCT(('Stock FSA'!$A$8:$A$102='Recap 2'!$A9)*('Stock FSA'!$D$6:$AE$6='Recap 2'!N$6)*('Stock FSA'!$D$7:$AE$7="Stock")*'Stock FSA'!$D$8:$AE$102) -> 0 | O9: =SUMPRODUCT(('Stock GN'!$C$11:$C$232='Recap 2'!$A9)*('Stock GN'!$F$8:$Q$8='Recap 2'!N$6)*'Stock GN'!$F$11:$Q$232) -> 0 | P9: =+N9+O9 -> 0 | Q9: =SUMPRODUCT(('Stock FSA'!$A$8:$A$102='Recap 2'!$A9)*('Stock FSA'!$D$6:$AE$6='Recap 2'!Q$6)*('Stock FSA'!$D$7:$AE$7="Stock")*'Stock FSA'!$D$8:$AE$102) -> 0 | R9: =SUMPRODUCT(('Stock GN'!$C$11:$C$232='Recap 2'!$A9)*('Stock GN'!$F$8:$Q$8='Recap 2'!Q$6)*'Stock GN'!$F$11:$Q$232) -> 0 | S9: =+Q9+R9 -> 0 | T9: =SUMPRODUCT(('Stock FSA'!$A$8:$A$102='Recap 2'!$A9)*('Stock FSA'!$D$6:$AE$6='Recap 2'!T$6)*('Stock FSA'!$D$7:$AE$7="Stock")*'Stock FSA'!$D$8:$AE$102) -> 0 | U9: =SUMPRODUCT(('Stock GN'!$C$11:$C$232='Recap 2'!$A9)*('Stock GN'!$F$8:$Q$8='Recap 2'!T$6)*'Stock GN'!$F$11:$Q$232) -> 0 | V9: =+T9+U9 -> 0 | W9: =SUMPRODUCT(('Stock FSA'!$A$8:$A$102='Recap 2'!$A9)*('Stock FSA'!$D$6:$AE$6='Recap 2'!W$6)*('Stock FSA'!$D$7:$AE$7="Stock")*'Stock FSA'!$D$8:$AE$102) -> 0 | X9: =SUMPRODUCT(('Stock GN'!$C$11:$C$232='Recap 2'!$A9)*('Stock GN'!$F$8:$Q$8='Recap 2'!W$6)*'Stock GN'!$F$11:$Q$232) -> 0 | Y9: =+W9+X9 -> 0 | Z9: =SUMPRODUCT(('Stock FSA'!$A$8:$A$102='Recap 2'!$A9)*('Stock FSA'!$D$6:$AE$6='Recap 2'!Z$6)*('Stock FSA'!$D$7:$AE$7="Stock")*'Stock FSA'!$D$8:$AE$102) -> 0 | AA9: =SUMPRODUCT(('Stock GN'!$C$11:$C$232='Recap 2'!$A9)*('Stock GN'!$F$8:$Q$8='Recap 2'!Z$6)*'Stock GN'!$F$11:$Q$232) -> 0 | AB9: =+Z9+AA9 -> 0 | AC9: =SUMPRODUCT(('Stock FSA'!$A$8:$A$102='Recap 2'!$A9)*('Stock FSA'!$D$6:$AE$6='Recap 2'!AC$6)*('Stock FSA'!$D$7:$AE$7="Stock")*'Stock FSA'!$D$8:$AE$102) -> 0 | AD9: =SUMPRODUCT(('Stock GN'!$C$11:$C$232='Recap 2'!$A9)*('Stock GN'!$F$8:$Q$8='Recap 2'!AC$6)*'Stock GN'!$F$11:$Q$232) -> 0 | AE9: =+AC9+AD9 -> 0 | AF9: =SUMPRODUCT(('Stock FSA'!$A$8:$A$102='Recap 2'!$A9)*('Stock FSA'!$D$6:$AE$6='Recap 2'!AF$6)*('Stock FSA'!$D$7:$AE$7="Stock")*'Stock FSA'!$D$8:$AE$102) -> 0 | AG9: =SUMPRODUCT(('Stock GN'!$C$11:$C$232='Recap 2'!$A9)*('Stock GN'!$F$8:$Q$8='Recap 2'!AF$6)*'Stock GN'!$F$11:$Q$232) -> 41 | AH9: =+AF9+AG9 -> 41 | AI9: =SUMPRODUCT(('Stock FSA'!$A$8:$A$102='Recap 2'!$A9)*('Stock FSA'!$D$6:$AE$6='Recap 2'!AI$6)*('Stock FSA'!$D$7:$AE$7="Stock")*'Stock FSA'!$D$8:$AE$102) -> 0 | AJ9: =SUMPRODUCT(('Stock GN'!$C$11:$C$232='Recap 2'!$A9)*('Stock GN'!$F$8:$Q$8='Recap 2'!AI$6)*'Stock GN'!$F$11:$Q$232) -> 0 | AK9: =+AI9+AJ9 -> 0
A10: 22 | B10: =SUMPRODUCT(('Stock FSA'!$A$8:$A$102='Recap 2'!$A10)*('Stock FSA'!$D$6:$AE$6='Recap 2'!B$6)*('Stock FSA'!$D$7:$AE$7="Stock")*'Stock FSA'!$D$8:$AE$102) -> 0 | C10: =SUMPRODUCT(('Stock GN'!$C$11:$C$232='Recap 2'!$A10)*('Stock GN'!$F$8:$Q$8='Recap 2'!B$6)*'Stock GN'!$F$11:$Q$232) -> 0 | D10: =+B10+C10 -> 0 | E10: =SUMPRODUCT(('Stock FSA'!$A$8:$A$102='Recap 2'!$A10)*('Stock FSA'!$D$6:$AE$6='Recap 2'!E$6)*('Stock FSA'!$D$7:$AE$7="Stock")*'Stock FSA'!$D$8:$AE$102) -> 0 | F10: =SUMPRODUCT(('Stock GN'!$C$11:$C$232='Recap 2'!$A10)*('Stock GN'!$F$8:$Q$8='Recap 2'!E$6)*'Stock GN'!$F$11:$Q$232) -> 0 | G10: =+E10+F10 -> 0 | H10: =SUMPRODUCT(('Stock FSA'!$A$8:$A$102='Recap 2'!$A10)*('Stock FSA'!$D$6:$AE$6='Recap 2'!H$6)*('Stock FSA'!$D$7:$AE$7="Stock")*'Stock FSA'!$D$8:$AE$102) -> 0 | I10: =SUMPRODUCT(('Stock GN'!$C$11:$C$232='Recap 2'!$A10)*('Stock GN'!$F$8:$Q$8='Recap 2'!H$6)*'Stock GN'!$F$11:$Q$232) -> 141 | J10: =+H10+I10 -> 141 | K10: =SUMPRODUCT(('Stock FSA'!$A$8:$A$102='Recap 2'!$A10)*('Stock FSA'!$D$6:$AE$6='Recap 2'!K$6)*('Stock FSA'!$D$7:$AE$7="Stock")*'Stock FSA'!$D$8:$AE$102) -> 0 | L10: =SUMPRODUCT(('Stock GN'!$C$11:$C$232='Recap 2'!$A10)*('Stock GN'!$F$8:$Q$8='Recap 2'!K$6)*'Stock GN'!$F$11:$Q$232) -> 703 | M10: =+K10+L10 -> 703 | N10: =SUMPRODUCT(('Stock FSA'!$A$8:$A$102='Recap 2'!$A10)*('Stock FSA'!$D$6:$AE$6='Recap 2'!N$6)*('Stock FSA'!$D$7:$AE$7="Stock")*'Stock FSA'!$D$8:$AE$102) -> 0 | O10: =SUMPRODUCT(('Stock GN'!$C$11:$C$232='Recap 2'!$A10)*('Stock GN'!$F$8:$Q$8='Recap 2'!N$6)*'Stock GN'!$F$11:$Q$232) -> 449 | P10: =+N10+O10 -> 449 | Q10: =SUMPRODUCT(('Stock FSA'!$A$8:$A$102='Recap 2'!$A10)*('Stock FSA'!$D$6:$AE$6='Recap 2'!Q$6)*('Stock FSA'!$D$7:$AE$7="Stock")*'Stock FSA'!$D$8:$AE$102) -> 0 | R10: =SUMPRODUCT(('Stock GN'!$C$11:$C$232='Recap 2'!$A10)*('Stock GN'!$F$8:$Q$8='Recap 2'!Q$6)*'Stock GN'!$F$11:$Q$232) -> 564 | S10: =+Q10+R10 -> 564 | T10: =SUMPRODUCT(('Stock FSA'!$A$8:$A$102='Recap 2'!$A10)*('Stock FSA'!$D$6:$AE$6='Recap 2'!T$6)*('Stock FSA'!$D$7:$AE$7="Stock")*'Stock FSA'!$D$8:$AE$102) -> 0 | U10: =SUMPRODUCT(('Stock GN'!$C$11:$C$232='Recap 2'!$A10)*('Stock GN'!$F$8:$Q$8='Recap 2'!T$6)*'Stock GN'!$F$11:$Q$232) -> 341 | V10: =+T10+U10 -> 341 | W10: =SUMPRODUCT(('Stock FSA'!$A$8:$A$102='Recap 2'!$A10)*('Stock FSA'!$D$6:$AE$6='Recap 2'!W$6)*('Stock FSA'!$D$7:$AE$7="Stock")*'Stock FSA'!$D$8:$AE$102) -> 0 | X10: =SUMPRODUCT(('Stock GN'!$C$11:$C$232='Recap 2'!$A10)*('Stock GN'!$F$8:$Q$8='Recap 2'!W$6)*'Stock GN'!$F$11:$Q$232) -> 510 | Y10: =+W10+X10 -> 510 | Z10: =SUMPRODUCT(('Stock FSA'!$A$8:$A$102='Recap 2'!$A10)*('Stock FSA'!$D$6:$AE$6='Recap 2'!Z$6)*('Stock FSA'!$D$7:$AE$7="Stock")*'Stock FSA'!$D$8:$AE$102) -> 0 | AA10: =SUMPRODUCT(('Stock GN'!$C$11:$C$232='Recap 2'!$A10)*('Stock GN'!$F$8:$Q$8='Recap 2'!Z$6)*'Stock GN'!$F$11:$Q$232) -> 0 | AB10: =+Z10+AA10 -> 0 | AC10: =SUMPRODUCT(('Stock FSA'!$A$8:$A$102='Recap 2'!$A10)*('Stock FSA'!$D$6:$AE$6='Recap 2'!AC$6)*('Stock FSA'!$D$7:$AE$7="Stock")*'Stock FSA'!$D$8:$AE$102) -> 0 | AD10: =SUMPRODUCT(('Stock GN'!$C$11:$C$232='Recap 2'!$A10)*('Stock GN'!$F$8:$Q$8='Recap 2'!AC$6)*'Stock GN'!$F$11:$Q$232) -> 80 | AE10: =+AC10+AD10 -> 80 | AF10: =SUMPRODUCT(('Stock FSA'!$A$8:$A$102='Recap 2'!$A10)*('Stock FSA'!$D$6:$AE$6='Recap 2'!AF$6)*('Stock FSA'!$D$7:$AE$7="Stock")*'Stock FSA'!$D$8:$AE$102) -> 0 | AG10: =SUMPRODUCT(('Stock GN'!$C$11:$C$232='Recap 2'!$A10)*('Stock GN'!$F$8:$Q$8='Recap 2'!AF$6)*'Stock GN'!$F$11:$Q$232) -> 39 | AH10: =+AF10+AG10 -> 39 | AI10: =SUMPRODUCT(('Stock FSA'!$A$8:$A$102='Recap 2'!$A10)*('Stock FSA'!$D$6:$AE$6='Recap 2'!AI$6)*('Stock FSA'!$D$7:$AE$7="Stock")*'Stock FSA'!$D$8:$AE$102) -> 0 | AJ10: =SUMPRODUCT(('Stock GN'!$C$11:$C$232='Recap 2'!$A10)*('Stock GN'!$F$8:$Q$8='Recap 2'!AI$6)*'Stock GN'!$F$11:$Q$232) -> 80 | AK10: =+AI10+AJ10 -> 80
A11: 24 | B11: =SUMPRODUCT(('Stock FSA'!$A$8:$A$102='Recap 2'!$A11)*('Stock FSA'!$D$6:$AE$6='Recap 2'!B$6)*('Stock FSA'!$D$7:$AE$7="Stock")*'Stock FSA'!$D$8:$AE$102) -> 0 | C11: =SUMPRODUCT(('Stock GN'!$C$11:$C$232='Recap 2'!$A11)*('Stock GN'!$F$8:$Q$8='Recap 2'!B$6)*'Stock GN'!$F$11:$Q$232) -> 0 | D11: =+B11+C11 -> 0 | E11: =SUMPRODUCT(('Stock FSA'!$A$8:$A$102='Recap 2'!$A11)*('Stock FSA'!$D$6:$AE$6='Recap 2'!E$6)*('Stock FSA'!$D$7:$AE$7="Stock")*'Stock FSA'!$D$8:$AE$102) -> 0 | F11: =SUMPRODUCT(('Stock GN'!$C$11:$C$232='Recap 2'!$A11)*('Stock GN'!$F$8:$Q$8='Recap 2'!E$6)*'Stock GN'!$F$11:$Q$232) -> 0 | G11: =+E11+F11 -> 0 | H11: =SUMPRODUCT(('Stock FSA'!$A$8:$A$102='Recap 2'!$A11)*('Stock FSA'!$D$6:$AE$6='Recap 2'!H$6)*('Stock FSA'!$D$7:$AE$7="Stock")*'Stock FSA'!$D$8:$AE$102) -> 0 | I11: =SUMPRODUCT(('Stock GN'!$C$11:$C$232='Recap 2'!$A11)*('Stock GN'!$F$8:$Q$8='Recap 2'!H$6)*'Stock GN'!$F$11:$Q$232) -> 0 | J11: =+H11+I11 -> 0 | K11: =SUMPRODUCT(('Stock FSA'!$A$8:$A$102='Recap 2'!$A11)*('Stock FSA'!$D$6:$AE$6='Recap 2'!K$6)*('Stock FSA'!$D$7:$AE$7="Stock")*'Stock FSA'!$D$8:$AE$102) -> 0 | L11: =SUMPRODUCT(('Stock GN'!$C$11:$C$232='Recap 2'!$A11)*('Stock GN'!$F$8:$Q$8='Recap 2'!K$6)*'Stock GN'!$F$11:$Q$232) -> 0 | M11: =+K11+L11 -> 0 | N11: =SUMPRODUCT(('Stock FSA'!$A$8:$A$102='Recap 2'!$A11)*('Stock FSA'!$D$6:$AE$6='Recap 2'!N$6)*('Stock FSA'!$D$7:$AE$7="Stock")*'Stock FSA'!$D$8:$AE$102) -> 0 | O11: =SUMPRODUCT(('Stock GN'!$C$11:$C$232='Recap 2'!$A11)*('Stock GN'!$F$8:$Q$8='Recap 2'!N$6)*'Stock GN'!$F$11:$Q$232) -> 111 | P11: =+N11+O11 -> 111 | Q11: =SUMPRODUCT(('Stock FSA'!$A$8:$A$102='Recap 2'!$A11)*('Stock FSA'!$D$6:$AE$6='Recap 2'!Q$6)*('Stock FSA'!$D$7:$AE$7="Stock")*'Stock FSA'!$D$8:$AE$102) -> 0 | R11: =SUMPRODUCT(('Stock GN'!$C$11:$C$232='Recap 2'!$A11)*('Stock GN'!$F$8:$Q$8='Recap 2'!Q$6)*'Stock GN'!$F$11:$Q$232) -> 99 | S11: =+Q11+R11 -> 99 | T11: =SUMPRODUCT(('Stock FSA'!$A$8:$A$102='Recap 2'!$A11)*('Stock FSA'!$D$6:$AE$6='Recap 2'!T$6)*('Stock FSA'!$D$7:$AE$7="Stock")*'Stock FSA'!$D$8:$AE$102) -> 0 | U11: =SUMPRODUCT(('Stock GN'!$C$11:$C$232='Recap 2'!$A11)*('Stock GN'!$F$8:$Q$8='Recap 2'!T$6)*'Stock GN'!$F$11:$Q$232) -> 475 | V11: =+T11+U11 -> 475 | W11: =SUMPRODUCT(('Stock FSA'!$A$8:$A$102='Recap 2'!$A11)*('Stock FSA'!$D$6:$AE$6='Recap 2'!W$6)*('Stock FSA'!$D$7:$AE$7="Stock")*'Stock FSA'!$D$8:$AE$102) -> 0 | X11: =SUMPRODUCT(('Stock GN'!$C$11:$C$232='Recap 2'!$A11)*('Stock GN'!$F$8:$Q$8='Recap 2'!W$6)*'Stock GN'!$F$11:$Q$232) -> 456 | Y11: =+W11+X11 -> 456 | Z11: =SUMPRODUCT(('Stock FSA'!$A$8:$A$102='Recap 2'!$A11)*('Stock FSA'!$D$6:$AE$6='Recap 2'!Z$6)*('Stock FSA'!$D$7:$AE$7="Stock")*'Stock FSA'!$D$8:$AE$102) -> 0 | AA11: =SUMPRODUCT(('Stock GN'!$C$11:$C$232='Recap 2'!$A11)*('Stock GN'!$F$8:$Q$8='Recap 2'!Z$6)*'Stock GN'!$F$11:$Q$232) -> 444 | AB11: =+Z11+AA11 -> 444 | AC11: =SUMPRODUCT(('Stock FSA'!$A$8:$A$102='Recap 2'!$A11)*('Stock FSA'!$D$6:$AE$6='Recap 2'!AC$6)*('Stock FSA'!$D$7:$AE$7="Stock")*'Stock FSA'!$D$8:$AE$102) -> 0 | AD11: =SUMPRODUCT(('Stock GN'!$C$11:$C$232='Recap 2'!$A11)*('Stock GN'!$F$8:$Q$8='Recap 2'!AC$6)*'Stock GN'!$F$11:$Q$232) -> 408 | AE11: =+AC11+AD11 -> 408 | AF11: =SUMPRODUCT(('Stock FSA'!$A$8:$A$102='Recap 2'!$A11)*('Stock FSA'!$D$6:$AE$6='Recap 2'!AF$6)*('Stock FSA'!$D$7:$AE$7="Stock")*'Stock FSA'!$D$8:$AE$102) -> 0 | AG11: =SUMPRODUCT(('Stock GN'!$C$11:$C$232='Recap 2'!$A11)*('Stock GN'!$F$8:$Q$8='Recap 2'!AF$6)*'Stock GN'!$F$11:$Q$232) -> 394 | AH11: =+AF11+AG11 -> 394 | AI11: =SUMPRODUCT(('Stock FSA'!$A$8:$A$102='Recap 2'!$A11)*('Stock FSA'!$D$6:$AE$6='Recap 2'!AI$6)*('Stock FSA'!$D$7:$AE$7="Stock")*'Stock FSA'!$D$8:$AE$102) -> 0 | AJ11: =SUMPRODUCT(('Stock GN'!$C$11:$C$232='Recap 2'!$A11)*('Stock GN'!$F$8:$Q$8='Recap 2'!AI$6)*'Stock GN'!$F$11:$Q$232) -> 458 | AK11: =+AI11+AJ11 -> 458
A12: 25 | B12: =SUMPRODUCT(('Stock FSA'!$A$8:$A$102='Recap 2'!$A12)*('Stock FSA'!$D$6:$AE$6='Recap 2'!B$6)*('Stock FSA'!$D$7:$AE$7="Stock")*'Stock FSA'!$D$8:$AE$102) -> 417 | C12: =SUMPRODUCT(('Stock GN'!$C$11:$C$232='Recap 2'!$A12)*('Stock GN'!$F$8:$Q$8='Recap 2'!B$6)*'Stock GN'!$F$11:$Q$232) -> 0 | D12: =+B12+C12 -> 417 | E12: =SUMPRODUCT(('Stock FSA'!$A$8:$A$102='Recap 2'!$A12)*('Stock FSA'!$D$6:$AE$6='Recap 2'!E$6)*('Stock FSA'!$D$7:$AE$7="Stock")*'Stock FSA'!$D$8:$AE$102) -> 0 | F12: =SUMPRODUCT(('Stock GN'!$C$11:$C$232='Recap 2'!$A12)*('Stock GN'!$F$8:$Q$8='Recap 2'!E$6)*'Stock GN'!$F$11:$Q$232) -> 0 | G12: =+E12+F12 -> 0 | H12: =SUMPRODUCT(('Stock FSA'!$A$8:$A$102='Recap 2'!$A12)*('Stock FSA'!$D$6:$AE$6='Recap 2'!H$6)*('Stock FSA'!$D$7:$AE$7="Stock")*'Stock FSA'!$D$8:$AE$102) -> 0 | I12: =SUMPRODUCT(('Stock GN'!$C$11:$C$232='Recap 2'!$A12)*('Stock GN'!$F$8:$Q$8='Recap 2'!H$6)*'Stock GN'!$F$11:$Q$232) -> 0 | J12: =+H12+I12 -> 0 | K12: =SUMPRODUCT(('Stock FSA'!$A$8:$A$102='Recap 2'!$A12)*('Stock FSA'!$D$6:$AE$6='Recap 2'!K$6)*('Stock FSA'!$D$7:$AE$7="Stock")*'Stock FSA'!$D$8:$AE$102) -> 22 | L12: =SUMPRODUCT(('Stock GN'!$C$11:$C$232='Recap 2'!$A12)*('Stock GN'!$F$8:$Q$8='Recap 2'!K$6)*'Stock GN'!$F$11:$Q$232) -> 170 | M12: =+K12+L12 -> 192 | N12: =SUMPRODUCT(('Stock FSA'!$A$8:$A$102='Recap 2'!$A12)*('Stock FSA'!$D$6:$AE$6='Recap 2'!N$6)*('Stock FSA'!$D$7:$AE$7="Stock")*'Stock FSA'!$D$8:$AE$102) -> 727 | O12: =SUMPRODUCT(('Stock GN'!$C$11:$C$232='Recap 2'!$A12)*('Stock GN'!$F$8:$Q$8='Recap 2'!N$6)*'Stock GN'!$F$11:$Q$232) -> 0 | P12: =+N12+O12 -> 727 | Q12: =SUMPRODUCT(('Stock FSA'!$A$8:$A$102='Recap 2'!$A12)*('Stock FSA'!$D$6:$AE$6='Recap 2'!Q$6)*('Stock FSA'!$D$7:$AE$7="Stock")*'Stock FSA'!$D$8:$AE$102) -> 596 | R12: =SUMPRODUCT(('Stock GN'!$C$11:$C$232='Recap 2'!$A12)*('Stock GN'!$F$8:$Q$8='Recap 2'!Q$6)*'Stock GN'!$F$11:$Q$232) -> 0 | S12: =+Q12+R12 -> 596 | T12: =SUMPRODUCT(('Stock FSA'!$A$8:$A$102='Recap 2'!$A12)*('Stock FSA'!$D$6:$AE$6='Recap 2'!T$6)*('Stock FSA'!$D$7:$AE$7="Stock")*'Stock FSA'!$D$8:$AE$102) -> 380 | U12: =SUMPRODUCT(('Stock GN'!$C$11:$C$232='Recap 2'!$A12)*('Stock GN'!$F$8:$Q$8='Recap 2'!T$6)*'Stock GN'!$F$11:$Q$232) -> 0 | V12: =+T12+U12 -> 380 | W12: =SUMPRODUCT(('Stock FSA'!$A$8:$A$102='Recap 2'!$A12)*('Stock FSA'!$D$6:$AE$6='Recap 2'!W$6)*('Stock FSA'!$D$7:$AE$7="Stock")*'Stock FSA'!$D$8:$AE$102) -> 0 | X12: =SUMPRODUCT(('Stock GN'!$C$11:$C$232='Recap 2'!$A12)*('Stock GN'!$F$8:$Q$8='Recap 2'!W$6)*'Stock GN'!$F$11:$Q$232) -> 0 | Y12: =+W12+X12 -> 0 | Z12: =SUMPRODUCT(('Stock FSA'!$A$8:$A$102='Recap 2'!$A12)*('Stock FSA'!$D$6:$AE$6='Recap 2'!Z$6)*('Stock FSA'!$D$7:$AE$7="Stock")*'Stock FSA'!$D$8:$AE$102) -> 0 | AA12: =SUMPRODUCT(('Stock GN'!$C$11:$C$232='Recap 2'!$A12)*('Stock GN'!$F$8:$Q$8='Recap 2'!Z$6)*'Stock GN'!$F$11:$Q$232) -> 0 | AB12: =+Z12+AA12 -> 0 | AC12: =SUMPRODUCT(('Stock FSA'!$A$8:$A$102='Recap 2'!$A12)*('Stock FSA'!$D$6:$AE$6='Recap 2'!AC$6)*('Stock FSA'!$D$7:$AE$7="Stock")*'Stock FSA'!$D$8:$AE$102) -> 0 | AD12: =SUMPRODUCT(('Stock GN'!$C$11:$C$232='Recap 2'!$A12)*('Stock GN'!$F$8:$Q$8='Recap 2'!AC$6)*'Stock GN'!$F$11:$Q$232) -> 0 | AE12: =+AC12+AD12 -> 0 | AF12: =SUMPRODUCT(('Stock FSA'!$A$8:$A$102='Recap 2'!$A12)*('Stock FSA'!$D$6:$AE$6='Recap 2'!AF$6)*('Stock FSA'!$D$7:$AE$7="Stock")*'Stock FSA'!$D$8:$AE$102) -> 0 | AG12: =SUMPRODUCT(('Stock GN'!$C$11:$C$232='Recap 2'!$A12)*('Stock GN'!$F$8:$Q$8='Recap 2'!AF$6)*'Stock GN'!$F$11:$Q$232) -> 0 | AH12: =+AF12+AG12 -> 0 | AI12: =SUMPRODUCT(('Stock FSA'!$A$8:$A$102='Recap 2'!$A12)*('Stock FSA'!$D$6:$AE$6='Recap 2'!AI$6)*('Stock FSA'!$D$7:$AE$7="Stock")*'Stock FSA'!$D$8:$AE$102) -> 0 | AJ12: =SUMPRODUCT(('Stock GN'!$C$11:$C$232='Recap 2'!$A12)*('Stock GN'!$F$8:$Q$8='Recap 2'!AI$6)*'Stock GN'!$F$11:$Q$232) -> 0 | AK12: =+AI12+AJ12 -> 0
A13: 26 | B13: =SUMPRODUCT(('Stock FSA'!$A$8:$A$102='Recap 2'!$A13)*('Stock FSA'!$D$6:$AE$6='Recap 2'!B$6)*('Stock FSA'!$D$7:$AE$7="Stock")*'Stock FSA'!$D$8:$AE$102) -> 0 | C13: =SUMPRODUCT(('Stock GN'!$C$11:$C$232='Recap 2'!$A13)*('Stock GN'!$F$8:$Q$8='Recap 2'!B$6)*'Stock GN'!$F$11:$Q$232) -> 237 | D13: =+B13+C13 -> 237 | E13: =SUMPRODUCT(('Stock FSA'!$A$8:$A$102='Recap 2'!$A13)*('Stock FSA'!$D$6:$AE$6='Recap 2'!E$6)*('Stock FSA'!$D$7:$AE$7="Stock")*'Stock FSA'!$D$8:$AE$102) -> 0 | F13: =SUMPRODUCT(('Stock GN'!$C$11:$C$232='Recap 2'!$A13)*('Stock GN'!$F$8:$Q$8='Recap 2'!E$6)*'Stock GN'!$F$11:$Q$232) -> 0 | G13: =+E13+F13 -> 0 | H13: =SUMPRODUCT(('Stock FSA'!$A$8:$A$102='Recap 2'!$A13)*('Stock FSA'!$D$6:$AE$6='Recap 2'!H$6)*('Stock FSA'!$D$7:$AE$7="Stock")*'Stock FSA'!$D$8:$AE$102) -> 0 | I13: =SUMPRODUCT(('Stock GN'!$C$11:$C$232='Recap 2'!$A13)*('Stock GN'!$F$8:$Q$8='Recap 2'!H$6)*'Stock GN'!$F$11:$Q$232) -> 1 | J13: =+H13+I13 -> 1 | K13: =SUMPRODUCT(('Stock FSA'!$A$8:$A$102='Recap 2'!$A13)*('Stock FSA'!$D$6:$AE$6='Recap 2'!K$6)*('Stock FSA'!$D$7:$AE$7="Stock")*'Stock FSA'!$D$8:$AE$102) -> 111 | L13: =SUMPRODUCT(('Stock GN'!$C$11:$C$232='Recap 2'!$A13)*('Stock GN'!$F$8:$Q$8='Recap 2'!K$6)*'Stock GN'!$F$11:$Q$232) -> 197 | M13: =+K13+L13 -> 308 | N13: =SUMPRODUCT(('Stock FSA'!$A$8:$A$102='Recap 2'!$A13)*('Stock FSA'!$D$6:$AE$6='Recap 2'!N$6)*('Stock FSA'!$D$7:$AE$7="Stock")*'Stock FSA'!$D$8:$AE$102) -> 382 | O13: =SUMPRODUCT(('Stock GN'!$C$11:$C$232='Recap 2'!$A13)*('Stock GN'!$F$8:$Q$8='Recap 2'!N$6)*'Stock GN'!$F$11:$Q$232) -> 0 | P13: =+N13+O13 -> 382 | Q13: =SUMPRODUCT(('Stock FSA'!$A$8:$A$102='Recap 2'!$A13)*('Stock FSA'!$D$6:$AE$6='Recap 2'!Q$6)*('Stock FSA'!$D$7:$AE$7="Stock")*'Stock FSA'!$D$8:$AE$102) -> 359 | R13: =SUMPRODUCT(('Stock GN'!$C$11:$C$232='Recap 2'!$A13)*('Stock GN'!$F$8:$Q$8='Recap 2'!Q$6)*'Stock GN'!$F$11:$Q$232) -> 0 | S13: =+Q13+R13 -> 359 | T13: =SUMPRODUCT(('Stock FSA'!$A$8:$A$102='Recap 2'!$A13)*('Stock FSA'!$D$6:$AE$6='Recap 2'!T$6)*('Stock FSA'!$D$7:$AE$7="Stock")*'Stock FSA'!$D$8:$AE$102) -> 223 | U13: =SUMPRODUCT(('Stock GN'!$C$11:$C$232='Recap 2'!$A13)*('Stock GN'!$F$8:$Q$8='Recap 2'!T$6)*'Stock GN'!$F$11:$Q$232) -> 0 | V13: =+T13+U13 -> 223 | W13: =SUMPRODUCT(('Stock FSA'!$A$8:$A$102='Recap 2'!$A13)*('Stock FSA'!$D$6:$AE$6='Recap 2'!W$6)*('Stock FSA'!$D$7:$AE$7="Stock")*'Stock FSA'!$D$8:$AE$102) -> 0 | X13: =SUMPRODUCT(('Stock GN'!$C$11:$C$232='Recap 2'!$A13)*('Stock GN'!$F$8:$Q$8='Recap 2'!W$6)*'Stock GN'!$F$11:$Q$232) -> 0 | Y13: =+W13+X13 -> 0 | Z13: =SUMPRODUCT(('Stock FSA'!$A$8:$A$102='Recap 2'!$A13)*('Stock FSA'!$D$6:$AE$6='Recap 2'!Z$6)*('Stock FSA'!$D$7:$AE$7="Stock")*'Stock FSA'!$D$8:$AE$102) -> 0 | AA13: =SUMPRODUCT(('Stock GN'!$C$11:$C$232='Recap 2'!$A13)*('Stock GN'!$F$8:$Q$8='Recap 2'!Z$6)*'Stock GN'!$F$11:$Q$232) -> 0 | AB13: =+Z13+AA13 -> 0 | AC13: =SUMPRODUCT(('Stock FSA'!$A$8:$A$102='Recap 2'!$A13)*('Stock FSA'!$D$6:$AE$6='Recap 2'!AC$6)*('Stock FSA'!$D$7:$AE$7="Stock")*'Stock FSA'!$D$8:$AE$102) -> 0 | AD13: =SUMPRODUCT(('Stock GN'!$C$11:$C$232='Recap 2'!$A13)*('Stock GN'!$F$8:$Q$8='Recap 2'!AC$6)*'Stock GN'!$F$11:$Q$232) -> 0 | AE13: =+AC13+AD13 -> 0 | AF13: =SUMPRODUCT(('Stock FSA'!$A$8:$A$102='Recap 2'!$A13)*('Stock FSA'!$D$6:$AE$6='Recap 2'!AF$6)*('Stock FSA'!$D$7:$AE$7="Stock")*'Stock FSA'!$D$8:$AE$102) -> 0 | AG13: =SUMPRODUCT(('Stock GN'!$C$11:$C$232='Recap 2'!$A13)*('Stock GN'!$F$8:$Q$8='Recap 2'!AF$6)*'Stock GN'!$F$11:$Q$232) -> 0 | AH13: =+AF13+AG13 -> 0 | AI13: =SUMPRODUCT(('Stock FSA'!$A$8:$A$102='Recap 2'!$A13)*('Stock FSA'!$D$6:$AE$6='Recap 2'!AI$6)*('Stock FSA'!$D$7:$AE$7="Stock")*'Stock FSA'!$D$8:$AE$102) -> 0 | AJ13: =SUMPRODUCT(('Stock GN'!$C$11:$C$232='Recap 2'!$A13)*('Stock GN'!$F$8:$Q$8='Recap 2'!AI$6)*'Stock GN'!$F$11:$Q$232) -> 116 | AK13: =+AI13+AJ13 -> 116
A14: 27 | B14: =SUMPRODUCT(('Stock FSA'!$A$8:$A$102='Recap 2'!$A14)*('Stock FSA'!$D$6:$AE$6='Recap 2'!B$6)*('Stock FSA'!$D$7:$AE$7="Stock")*'Stock FSA'!$D$8:$AE$102) -> 0 | C14: =SUMPRODUCT(('Stock GN'!$C$11:$C$232='Recap 2'!$A14)*('Stock GN'!$F$8:$Q$8='Recap 2'!B$6)*'Stock GN'!$F$11:$Q$232) -> 0 | D14: =+B14+C14 -> 0 | E14: =SUMPRODUCT(('Stock FSA'!$A$8:$A$102='Recap 2'!$A14)*('Stock FSA'!$D$6:$AE$6='Recap 2'!E$6)*('Stock FSA'!$D$7:$AE$7="Stock")*'Stock FSA'!$D$8:$AE$102) -> 0 | F14: =SUMPRODUCT(('Stock GN'!$C$11:$C$232='Recap 2'!$A14)*('Stock GN'!$F$8:$Q$8='Recap 2'!E$6)*'Stock GN'!$F$11:$Q$232) -> 0 | G14: =+E14+F14 -> 0 | H14: =SUMPRODUCT(('Stock FSA'!$A$8:$A$102='Recap 2'!$A14)*('Stock FSA'!$D$6:$AE$6='Recap 2'!H$6)*('Stock FSA'!$D$7:$AE$7="Stock")*'Stock FSA'!$D$8:$AE$102) -> 0 | I14: =SUMPRODUCT(('Stock GN'!$C$11:$C$232='Recap 2'!$A14)*('Stock GN'!$F$8:$Q$8='Recap 2'!H$6)*'Stock GN'!$F$11:$Q$232) -> 0 | J14: =+H14+I14 -> 0 | K14: =SUMPRODUCT(('Stock FSA'!$A$8:$A$102='Recap 2'!$A14)*('Stock FSA'!$D$6:$AE$6='Recap 2'!K$6)*('Stock FSA'!$D$7:$AE$7="Stock")*'Stock FSA'!$D$8:$AE$102) -> 0 | L14: =SUMPRODUCT(('Stock GN'!$C$11:$C$232='Recap 2'!$A14)*('Stock GN'!$F$8:$Q$8='Recap 2'!K$6)*'Stock GN'!$F$11:$Q$232) -> 0 | M14: =+K14+L14 -> 0 | N14: =SUMPRODUCT(('Stock FSA'!$A$8:$A$102='Recap 2'!$A14)*('Stock FSA'!$D$6:$AE$6='Recap 2'!N$6)*('Stock FSA'!$D$7:$AE$7="Stock")*'Stock FSA'!$D$8:$AE$102) -> 0 | O14: =SUMPRODUCT(('Stock GN'!$C$11:$C$232='Recap 2'!$A14)*('Stock GN'!$F$8:$Q$8='Recap 2'!N$6)*'Stock GN'!$F$11:$Q$232) -> 0 | P14: =+N14+O14 -> 0 | Q14: =SUMPRODUCT(('Stock FSA'!$A$8:$A$102='Recap 2'!$A14)*('Stock FSA'!$D$6:$AE$6='Recap 2'!Q$6)*('Stock FSA'!$D$7:$AE$7="Stock")*'Stock FSA'!$D$8:$AE$102) -> 0 | R14: =SUMPRODUCT(('Stock GN'!$C$11:$C$232='Recap 2'!$A14)*('Stock GN'!$F$8:$Q$8='Recap 2'!Q$6)*'Stock GN'!$F$11:$Q$232) -> 0 | S14: =+Q14+R14 -> 0 | T14: =SUMPRODUCT(('Stock FSA'!$A$8:$A$102='Recap 2'!$A14)*('Stock FSA'!$D$6:$AE$6='Recap 2'!T$6)*('Stock FSA'!$D$7:$AE$7="Stock")*'Stock FSA'!$D$8:$AE$102) -> 0 | U14: =SUMPRODUCT(('Stock GN'!$C$11:$C$232='Recap 2'!$A14)*('Stock GN'!$F$8:$Q$8='Recap 2'!T$6)*'Stock GN'!$F$11:$Q$232) -> 3 | V14: =+T14+U14 -> 3 | W14: =SUMPRODUCT(('Stock FSA'!$A$8:$A$102='Recap 2'!$A14)*('Stock FSA'!$D$6:$AE$6='Recap 2'!W$6)*('Stock FSA'!$D$7:$AE$7="Stock")*'Stock FSA'!$D$8:$AE$102) -> 0 | X14: =SUMPRODUCT(('Stock GN'!$C$11:$C$232='Recap 2'!$A14)*('Stock GN'!$F$8:$Q$8='Recap 2'!W$6)*'Stock GN'!$F$11:$Q$232) -> 7 | Y14: =+W14+X14 -> 7 | Z14: =SUMPRODUCT(('Stock FSA'!$A$8:$A$102='Recap 2'!$A14)*('Stock FSA'!$D$6:$AE$6='Recap 2'!Z$6)*('Stock FSA'!$D$7:$AE$7="Stock")*'Stock FSA'!$D$8:$AE$102) -> 0 | AA14: =SUMPRODUCT(('Stock GN'!$C$11:$C$232='Recap 2'!$A14)*('Stock GN'!$F$8:$Q$8='Recap 2'!Z$6)*'Stock GN'!$F$11:$Q$232) -> 6 | AB14: =+Z14+AA14 -> 6 | AC14: =SUMPRODUCT(('Stock FSA'!$A$8:$A$102='Recap 2'!$A14)*('Stock FSA'!$D$6:$AE$6='Recap 2'!AC$6)*('Stock FSA'!$D$7:$AE$7="Stock")*'Stock FSA'!$D$8:$AE$102) -> 0 | AD14: =SUMPRODUCT(('Stock GN'!$C$11:$C$232='Recap 2'!$A14)*('Stock GN'!$F$8:$Q$8='Recap 2'!AC$6)*'Stock GN'!$F$11:$Q$232) -> 2 | AE14: =+AC14+AD14 -> 2 | AF14: =SUMPRODUCT(('Stock FSA'!$A$8:$A$102='Recap 2'!$A14)*('Stock FSA'!$D$6:$AE$6='Recap 2'!AF$6)*('Stock FSA'!$D$7:$AE$7="Stock")*'Stock FSA'!$D$8:$AE$102) -> 0 | AG14: =SUMPRODUCT(('Stock GN'!$C$11:$C$232='Recap 2'!$A14)*('Stock GN'!$F$8:$Q$8='Recap 2'!AF$6)*'Stock GN'!$F$11:$Q$232) -> 7 | AH14: =+AF14+AG14 -> 7 | AI14: =SUMPRODUCT(('Stock FSA'!$A$8:$A$102='Recap 2'!$A14)*('Stock FSA'!$D$6:$AE$6='Recap 2'!AI$6)*('Stock FSA'!$D$7:$AE$7="Stock")*'Stock FSA'!$D$8:$AE$102) -> 0 | AJ14: =SUMPRODUCT(('Stock GN'!$C$11:$C$232='Recap 2'!$A14)*('Stock GN'!$F$8:$Q$8='Recap 2'!AI$6)*'Stock GN'!$F$11:$Q$232) -> 0 | AK14: =+AI14+AJ14 -> 0
A15: 28 | B15: =SUMPRODUCT(('Stock FSA'!$A$8:$A$102='Recap 2'!$A15)*('Stock FSA'!$D$6:$AE$6='Recap 2'!B$6)*('Stock FSA'!$D$7:$AE$7="Stock")*'Stock FSA'!$D$8:$AE$102) -> 0 | C15: =SUMPRODUCT(('Stock GN'!$C$11:$C$232='Recap 2'!$A15)*('Stock GN'!$F$8:$Q$8='Recap 2'!B$6)*'Stock GN'!$F$11:$Q$232) -> 0 | D15: =+B15+C15 -> 0 | E15: =SUMPRODUCT(('Stock FSA'!$A$8:$A$102='Recap 2'!$A15)*('Stock FSA'!$D$6:$AE$6='Recap 2'!E$6)*('Stock FSA'!$D$7:$AE$7="Stock")*'Stock FSA'!$D$8:$AE$102) -> 0 | F15: =SUMPRODUCT(('Stock GN'!$C$11:$C$232='Recap 2'!$A15)*('Stock GN'!$F$8:$Q$8='Recap 2'!E$6)*'Stock GN'!$F$11:$Q$232) -> 0 | G15: =+E15+F15 -> 0 | H15: =SUMPRODUCT(('Stock FSA'!$A$8:$A$102='Recap 2'!$A15)*('Stock FSA'!$D$6:$AE$6='Recap 2'!H$6)*('Stock FSA'!$D$7:$AE$7="Stock")*'Stock FSA'!$D$8:$AE$102) -> 0 | I15: =SUMPRODUCT(('Stock GN'!$C$11:$C$232='Recap 2'!$A15)*('Stock GN'!$F$8:$Q$8='Recap 2'!H$6)*'Stock GN'!$F$11:$Q$232) -> 0 | J15: =+H15+I15 -> 0 | K15: =SUMPRODUCT(('Stock FSA'!$A$8:$A$102='Recap 2'!$A15)*('Stock FSA'!$D$6:$AE$6='Recap 2'!K$6)*('Stock FSA'!$D$7:$AE$7="Stock")*'Stock FSA'!$D$8:$AE$102) -> 0 | L15: =SUMPRODUCT(('Stock GN'!$C$11:$C$232='Recap 2'!$A15)*('Stock GN'!$F$8:$Q$8='Recap 2'!K$6)*'Stock GN'!$F$11:$Q$232) -> 0 | M15: =+K15+L15 -> 0 | N15: =SUMPRODUCT(('Stock FSA'!$A$8:$A$102='Recap 2'!$A15)*('Stock FSA'!$D$6:$AE$6='Recap 2'!N$6)*('Stock FSA'!$D$7:$AE$7="Stock")*'Stock FSA'!$D$8:$AE$102) -> 0 | O15: =SUMPRODUCT(('Stock GN'!$C$11:$C$232='Recap 2'!$A15)*('Stock GN'!$F$8:$Q$8='Recap 2'!N$6)*'Stock GN'!$F$11:$Q$232) -> 0 | P15: =+N15+O15 -> 0 | Q15: =SUMPRODUCT(('Stock FSA'!$A$8:$A$102='Recap 2'!$A15)*('Stock FSA'!$D$6:$AE$6='Recap 2'!Q$6)*('Stock FSA'!$D$7:$AE$7="Stock")*'Stock FSA'!$D$8:$AE$102) -> 0 | R15: =SUMPRODUCT(('Stock GN'!$C$11:$C$232='Recap 2'!$A15)*('Stock GN'!$F$8:$Q$8='Recap 2'!Q$6)*'Stock GN'!$F$11:$Q$232) -> 0 | S15: =+Q15+R15 -> 0 | T15: =SUMPRODUCT(('Stock FSA'!$A$8:$A$102='Recap 2'!$A15)*('Stock FSA'!$D$6:$AE$6='Recap 2'!T$6)*('Stock FSA'!$D$7:$AE$7="Stock")*'Stock FSA'!$D$8:$AE$102) -> 0 | U15: =SUMPRODUCT(('Stock GN'!$C$11:$C$232='Recap 2'!$A15)*('Stock GN'!$F$8:$Q$8='Recap 2'!T$6)*'Stock GN'!$F$11:$Q$232) -> 2 | V15: =+T15+U15 -> 2 | W15: =SUMPRODUCT(('Stock FSA'!$A$8:$A$102='Recap 2'!$A15)*('Stock FSA'!$D$6:$AE$6='Recap 2'!W$6)*('Stock FSA'!$D$7:$AE$7="Stock")*'Stock FSA'!$D$8:$AE$102) -> 0 | X15: =SUMPRODUCT(('Stock GN'!$C$11:$C$232='Recap 2'!$A15)*('Stock GN'!$F$8:$Q$8='Recap 2'!W$6)*'Stock GN'!$F$11:$Q$232) -> 80 | Y15: =+W15+X15 -> 80 | Z15: =SUMPRODUCT(('Stock FSA'!$A$8:$A$102='Recap 2'!$A15)*('Stock FSA'!$D$6:$AE$6='Recap 2'!Z$6)*('Stock FSA'!$D$7:$AE$7="Stock")*'Stock FSA'!$D$8:$AE$102) -> 0 | AA15: =SUMPRODUCT(('Stock GN'!$C$11:$C$232='Recap 2'!$A15)*('Stock GN'!$F$8:$Q$8='Recap 2'!Z$6)*'Stock GN'!$F$11:$Q$232) -> 32 | AB15: =+Z15+AA15 -> 32 | AC15: =SUMPRODUCT(('Stock FSA'!$A$8:$A$102='Recap 2'!$A15)*('Stock FSA'!$D$6:$AE$6='Recap 2'!AC$6)*('Stock FSA'!$D$7:$AE$7="Stock")*'Stock FSA'!$D$8:$AE$102) -> 0 | AD15: =SUMPRODUCT(('Stock GN'!$C$11:$C$232='Recap 2'!$A15)*('Stock GN'!$F$8:$Q$8='Recap 2'!AC$6)*'Stock GN'!$F$11:$Q$232) -> 33 | AE15: =+AC15+AD15 -> 33 | AF15: =SUMPRODUCT(('Stock FSA'!$A$8:$A$102='Recap 2'!$A15)*('Stock FSA'!$D$6:$AE$6='Recap 2'!AF$6)*('Stock FSA'!$D$7:$AE$7="Stock")*'Stock FSA'!$D$8:$AE$102) -> 0 | AG15: =SUMPRODUCT(('Stock GN'!$C$11:$C$232='Recap 2'!$A15)*('Stock GN'!$F$8:$Q$8='Recap 2'!AF$6)*'Stock GN'!$F$11:$Q$232) -> 112 | AH15: =+AF15+AG15 -> 112 | AI15: =SUMPRODUCT(('Stock FSA'!$A$8:$A$102='Recap 2'!$A15)*('Stock FSA'!$D$6:$AE$6='Recap 2'!AI$6)*('Stock FSA'!$D$7:$AE$7="Stock")*'Stock FSA'!$D$8:$AE$102) -> 0 | AJ15: =SUMPRODUCT(('Stock GN'!$C$11:$C$232='Recap 2'!$A15)*('Stock GN'!$F$8:$Q$8='Recap 2'!AI$6)*'Stock GN'!$F$11:$Q$232) -> 55 | AK15: =+AI15+AJ15 -> 55
A16: 31 | B16: =SUMPRODUCT(('Stock FSA'!$A$8:$A$102='Recap 2'!$A16)*('Stock FSA'!$D$6:$AE$6='Recap 2'!B$6)*('Stock FSA'!$D$7:$AE$7="Stock")*'Stock FSA'!$D$8:$AE$102) -> 0 | C16: =SUMPRODUCT(('Stock GN'!$C$11:$C$232='Recap 2'!$A16)*('Stock GN'!$F$8:$Q$8='Recap 2'!B$6)*'Stock GN'!$F$11:$Q$232) -> 0 | D16: =+B16+C16 -> 0 | E16: =SUMPRODUCT(('Stock FSA'!$A$8:$A$102='Recap 2'!$A16)*('Stock FSA'!$D$6:$AE$6='Recap 2'!E$6)*('Stock FSA'!$D$7:$AE$7="Stock")*'Stock FSA'!$D$8:$AE$102) -> 0 | F16: =SUMPRODUCT(('Stock GN'!$C$11:$C$232='Recap 2'!$A16)*('Stock GN'!$F$8:$Q$8='Recap 2'!E$6)*'Stock GN'!$F$11:$Q$232) -> 0 | G16: =+E16+F16 -> 0 | H16: =SUMPRODUCT(('Stock FSA'!$A$8:$A$102='Recap 2'!$A16)*('Stock FSA'!$D$6:$AE$6='Recap 2'!H$6)*('Stock FSA'!$D$7:$AE$7="Stock")*'Stock FSA'!$D$8:$AE$102) -> 0 | I16: =SUMPRODUCT(('Stock GN'!$C$11:$C$232='Recap 2'!$A16)*('Stock GN'!$F$8:$Q$8='Recap 2'!H$6)*'Stock GN'!$F$11:$Q$232) -> 0 | J16: =+H16+I16 -> 0 | K16: =SUMPRODUCT(('Stock FSA'!$A$8:$A$102='Recap 2'!$A16)*('Stock FSA'!$D$6:$AE$6='Recap 2'!K$6)*('Stock FSA'!$D$7:$AE$7="Stock")*'Stock FSA'!$D$8:$AE$102) -> 0 | L16: =SUMPRODUCT(('Stock GN'!$C$11:$C$232='Recap 2'!$A16)*('Stock GN'!$F$8:$Q$8='Recap 2'!K$6)*'Stock GN'!$F$11:$Q$232) -> 297 | M16: =+K16+L16 -> 297 | N16: =SUMPRODUCT(('Stock FSA'!$A$8:$A$102='Recap 2'!$A16)*('Stock FSA'!$D$6:$AE$6='Recap 2'!N$6)*('Stock FSA'!$D$7:$AE$7="Stock")*'Stock FSA'!$D$8:$AE$102) -> 0 | O16: =SUMPRODUCT(('Stock GN'!$C$11:$C$232='Recap 2'!$A16)*('Stock GN'!$F$8:$Q$8='Recap 2'!N$6)*'Stock GN'!$F$11:$Q$232) -> 222 | P16: =+N16+O16 -> 222 | Q16: =SUMPRODUCT(('Stock FSA'!$A$8:$A$102='Recap 2'!$A16)*('Stock FSA'!$D$6:$AE$6='Recap 2'!Q$6)*('Stock FSA'!$D$7:$AE$7="Stock")*'Stock FSA'!$D$8:$AE$102) -> 0 | R16: =SUMPRODUCT(('Stock GN'!$C$11:$C$232='Recap 2'!$A16)*('Stock GN'!$F$8:$Q$8='Recap 2'!Q$6)*'Stock GN'!$F$11:$Q$232) -> 197 | S16: =+Q16+R16 -> 197 | T16: =SUMPRODUCT(('Stock FSA'!$A$8:$A$102='Recap 2'!$A16)*('Stock FSA'!$D$6:$AE$6='Recap 2'!T$6)*('Stock FSA'!$D$7:$AE$7="Stock")*'Stock FSA'!$D$8:$AE$102) -> 0 | U16: =SUMPRODUCT(('Stock GN'!$C$11:$C$232='Recap 2'!$A16)*('Stock GN'!$F$8:$Q$8='Recap 2'!T$6)*'Stock GN'!$F$11:$Q$232) -> 147 | V16: =+T16+U16 -> 147 | W16: =SUMPRODUCT(('Stock FSA'!$A$8:$A$102='Recap 2'!$A16)*('Stock FSA'!$D$6:$AE$6='Recap 2'!W$6)*('Stock FSA'!$D$7:$AE$7="Stock")*'Stock FSA'!$D$8:$AE$102) -> 0 | X16: =SUMPRODUCT(('Stock GN'!$C$11:$C$232='Recap 2'!$A16)*('Stock GN'!$F$8:$Q$8='Recap 2'!W$6)*'Stock GN'!$F$11:$Q$232) -> 0 | Y16: =+W16+X16 -> 0 | Z16: =SUMPRODUCT(('Stock FSA'!$A$8:$A$102='Recap 2'!$A16)*('Stock FSA'!$D$6:$AE$6='Recap 2'!Z$6)*('Stock FSA'!$D$7:$AE$7="Stock")*'Stock FSA'!$D$8:$AE$102) -> 0 | AA16: =SUMPRODUCT(('Stock GN'!$C$11:$C$232='Recap 2'!$A16)*('Stock GN'!$F$8:$Q$8='Recap 2'!Z$6)*'Stock GN'!$F$11:$Q$232) -> 98 | AB16: =+Z16+AA16 -> 98 | AC16: =SUMPRODUCT(('Stock FSA'!$A$8:$A$102='Recap 2'!$A16)*('Stock FSA'!$D$6:$AE$6='Recap 2'!AC$6)*('Stock FSA'!$D$7:$AE$7="Stock")*'Stock FSA'!$D$8:$AE$102) -> 0 | AD16: =SUMPRODUCT(('Stock GN'!$C$11:$C$232='Recap 2'!$A16)*('Stock GN'!$F$8:$Q$8='Recap 2'!AC$6)*'Stock GN'!$F$11:$Q$232) -> 76 | AE16: =+AC16+AD16 -> 76 | AF16: =SUMPRODUCT(('Stock FSA'!$A$8:$A$102='Recap 2'!$A16)*('Stock FSA'!$D$6:$AE$6='Recap 2'!AF$6)*('Stock FSA'!$D$7:$AE$7="Stock")*'Stock FSA'!$D$8:$AE$102) -> 0 | AG16: =SUMPRODUCT(('Stock GN'!$C$11:$C$232='Recap 2'!$A16)*('Stock GN'!$F$8:$Q$8='Recap 2'!AF$6)*'Stock GN'!$F$11:$Q$232) -> 0 | AH16: =+AF16+AG16 -> 0 | AI16: =SUMPRODUCT(('Stock FSA'!$A$8:$A$102='Recap 2'!$A16)*('Stock FSA'!$D$6:$AE$6='Recap 2'!AI$6)*('Stock FSA'!$D$7:$AE$7="Stock")*'Stock FSA'!$D$8:$AE$102) -> 0 | AJ16: =SUMPRODUCT(('Stock GN'!$C$11:$C$232='Recap 2'!$A16)*('Stock GN'!$F$8:$Q$8='Recap 2'!AI$6)*'Stock GN'!$F$11:$Q$232) -> 60 | AK16: =+AI16+AJ16 -> 60
A17: 32 | B17: =SUMPRODUCT(('Stock FSA'!$A$8:$A$102='Recap 2'!$A17)*('Stock FSA'!$D$6:$AE$6='Recap 2'!B$6)*('Stock FSA'!$D$7:$AE$7="Stock")*'Stock FSA'!$D$8:$AE$102) -> 0 | C17: =SUMPRODUCT(('Stock GN'!$C$11:$C$232='Recap 2'!$A17)*('Stock GN'!$F$8:$Q$8='Recap 2'!B$6)*'Stock GN'!$F$11:$Q$232) -> 0 | D17: =+B17+C17 -> 0 | E17: =SUMPRODUCT(('Stock FSA'!$A$8:$A$102='Recap 2'!$A17)*('Stock FSA'!$D$6:$AE$6='Recap 2'!E$6)*('Stock FSA'!$D$7:$AE$7="Stock")*'Stock FSA'!$D$8:$AE$102) -> 0 | F17: =SUMPRODUCT(('Stock GN'!$C$11:$C$232='Recap 2'!$A17)*('Stock GN'!$F$8:$Q$8='Recap 2'!E$6)*'Stock GN'!$F$11:$Q$232) -> 0 | G17: =+E17+F17 -> 0 | H17: =SUMPRODUCT(('Stock FSA'!$A$8:$A$102='Recap 2'!$A17)*('Stock FSA'!$D$6:$AE$6='Recap 2'!H$6)*('Stock FSA'!$D$7:$AE$7="Stock")*'Stock FSA'!$D$8:$AE$102) -> 0 | I17: =SUMPRODUCT(('Stock GN'!$C$11:$C$232='Recap 2'!$A17)*('Stock GN'!$F$8:$Q$8='Recap 2'!H$6)*'Stock GN'!$F$11:$Q$232) -> 0 | J17: =+H17+I17 -> 0 | K17: =SUMPRODUCT(('Stock FSA'!$A$8:$A$102='Recap 2'!$A17)*('Stock FSA'!$D$6:$AE$6='Recap 2'!K$6)*('Stock FSA'!$D$7:$AE$7="Stock")*'Stock FSA'!$D$8:$AE$102) -> 0 | L17: =SUMPRODUCT(('Stock GN'!$C$11:$C$232='Recap 2'!$A17)*('Stock GN'!$F$8:$Q$8='Recap 2'!K$6)*'Stock GN'!$F$11:$Q$232) -> 0 | M17: =+K17+L17 -> 0 | N17: =SUMPRODUCT(('Stock FSA'!$A$8:$A$102='Recap 2'!$A17)*('Stock FSA'!$D$6:$AE$6='Recap 2'!N$6)*('Stock FSA'!$D$7:$AE$7="Stock")*'Stock FSA'!$D$8:$AE$102) -> 0 | O17: =SUMPRODUCT(('Stock GN'!$C$11:$C$232='Recap 2'!$A17)*('Stock GN'!$F$8:$Q$8='Recap 2'!N$6)*'Stock GN'!$F$11:$Q$232) -> 138 | P17: =+N17+O17 -> 138 | Q17: =SUMPRODUCT(('Stock FSA'!$A$8:$A$102='Recap 2'!$A17)*('Stock FSA'!$D$6:$AE$6='Recap 2'!Q$6)*('Stock FSA'!$D$7:$AE$7="Stock")*'Stock FSA'!$D$8:$AE$102) -> 0 | R17: =SUMPRODUCT(('Stock GN'!$C$11:$C$232='Recap 2'!$A17)*('Stock GN'!$F$8:$Q$8='Recap 2'!Q$6)*'Stock GN'!$F$11:$Q$232) -> 364 | S17: =+Q17+R17 -> 364 | T17: =SUMPRODUCT(('Stock FSA'!$A$8:$A$102='Recap 2'!$A17)*('Stock FSA'!$D$6:$AE$6='Recap 2'!T$6)*('Stock FSA'!$D$7:$AE$7="Stock")*'Stock FSA'!$D$8:$AE$102) -> 0 | U17: =SUMPRODUCT(('Stock GN'!$C$11:$C$232='Recap 2'!$A17)*('Stock GN'!$F$8:$Q$8='Recap 2'!T$6)*'Stock GN'!$F$11:$Q$232) -> 369 | V17: =+T17+U17 -> 369 | W17: =SUMPRODUCT(('Stock FSA'!$A$8:$A$102='Recap 2'!$A17)*('Stock FSA'!$D$6:$AE$6='Recap 2'!W$6)*('Stock FSA'!$D$7:$AE$7="Stock")*'Stock FSA'!$D$8:$AE$102) -> 0 | X17: =SUMPRODUCT(('Stock GN'!$C$11:$C$232='Recap 2'!$A17)*('Stock GN'!$F$8:$Q$8='Recap 2'!W$6)*'Stock GN'!$F$11:$Q$232) -> 323 | Y17: =+W17+X17 -> 323 | Z17: =SUMPRODUCT(('Stock FSA'!$A$8:$A$102='Recap 2'!$A17)*('Stock FSA'!$D$6:$AE$6='Recap 2'!Z$6)*('Stock FSA'!$D$7:$AE$7="Stock")*'Stock FSA'!$D$8:$AE$102) -> 0 | AA17: =SUMPRODUCT(('Stock GN'!$C$11:$C$232='Recap 2'!$A17)*('Stock GN'!$F$8:$Q$8='Recap 2'!Z$6)*'Stock GN'!$F$11:$Q$232) -> 293 | AB17: =+Z17+AA17 -> 293 | AC17: =SUMPRODUCT(('Stock FSA'!$A$8:$A$102='Recap 2'!$A17)*('Stock FSA'!$D$6:$AE$6='Recap 2'!AC$6)*('Stock FSA'!$D$7:$AE$7="Stock")*'Stock FSA'!$D$8:$AE$102) -> 0 | AD17: =SUMPRODUCT(('Stock GN'!$C$11:$C$232='Recap 2'!$A17)*('Stock GN'!$F$8:$Q$8='Recap 2'!AC$6)*'Stock GN'!$F$11:$Q$232) -> 286 | AE17: =+AC17+AD17 -> 286 | AF17: =SUMPRODUCT(('Stock FSA'!$A$8:$A$102='Recap 2'!$A17)*('Stock FSA'!$D$6:$AE$6='Recap 2'!AF$6)*('Stock FSA'!$D$7:$AE$7="Stock")*'Stock FSA'!$D$8:$AE$102) -> 0 | AG17: =SUMPRODUCT(('Stock GN'!$C$11:$C$232='Recap 2'!$A17)*('Stock GN'!$F$8:$Q$8='Recap 2'!AF$6)*'Stock GN'!$F$11:$Q$232) -> 239 | AH17: =+AF17+AG17 -> 239 | AI17: =SUMPRODUCT(('Stock FSA'!$A$8:$A$102='Recap 2'!$A17)*('Stock FSA'!$D$6:$AE$6='Recap 2'!AI$6)*('Stock FSA'!$D$7:$AE$7="Stock")*'Stock FSA'!$D$8:$AE$102) -> 0 | AJ17: =SUMPRODUCT(('Stock GN'!$C$11:$C$232='Recap 2'!$A17)*('Stock GN'!$F$8:$Q$8='Recap 2'!AI$6)*'Stock GN'!$F$11:$Q$232) -> 272 | AK17: =+AI17+AJ17 -> 272
A18: 38 | B18: =SUMPRODUCT(('Stock FSA'!$A$8:$A$102='Recap 2'!$A18)*('Stock FSA'!$D$6:$AE$6='Recap 2'!B$6)*('Stock FSA'!$D$7:$AE$7="Stock")*'Stock FSA'!$D$8:$AE$102) -> 0 | C18: =SUMPRODUCT(('Stock GN'!$C$11:$C$232='Recap 2'!$A18)*('Stock GN'!$F$8:$Q$8='Recap 2'!B$6)*'Stock GN'!$F$11:$Q$232) -> 0 | D18: =+B18+C18 -> 0 | E18: =SUMPRODUCT(('Stock FSA'!$A$8:$A$102='Recap 2'!$A18)*('Stock FSA'!$D$6:$AE$6='Recap 2'!E$6)*('Stock FSA'!$D$7:$AE$7="Stock")*'Stock FSA'!$D$8:$AE$102) -> 0 | F18: =SUMPRODUCT(('Stock GN'!$C$11:$C$232='Recap 2'!$A18)*('Stock GN'!$F$8:$Q$8='Recap 2'!E$6)*'Stock GN'!$F$11:$Q$232) -> 0 | G18: =+E18+F18 -> 0 | H18: =SUMPRODUCT(('Stock FSA'!$A$8:$A$102='Recap 2'!$A18)*('Stock FSA'!$D$6:$AE$6='Recap 2'!H$6)*('Stock FSA'!$D$7:$AE$7="Stock")*'Stock FSA'!$D$8:$AE$102) -> 0 | I18: =SUMPRODUCT(('Stock GN'!$C$11:$C$232='Recap 2'!$A18)*('Stock GN'!$F$8:$Q$8='Recap 2'!H$6)*'Stock GN'!$F$11:$Q$232) -> 0 | J18: =+H18+I18 -> 0 | K18: =SUMPRODUCT(('Stock FSA'!$A$8:$A$102='Recap 2'!$A18)*('Stock FSA'!$D$6:$AE$6='Recap 2'!K$6)*('Stock FSA'!$D$7:$AE$7="Stock")*'Stock FSA'!$D$8:$AE$102) -> 0 | L18: =SUMPRODUCT(('Stock GN'!$C$11:$C$232='Recap 2'!$A18)*('Stock GN'!$F$8:$Q$8='Recap 2'!K$6)*'Stock GN'!$F$11:$Q$232) -> 0 | M18: =+K18+L18 -> 0 | N18: =SUMPRODUCT(('Stock FSA'!$A$8:$A$102='Recap 2'!$A18)*('Stock FSA'!$D$6:$AE$6='Recap 2'!N$6)*('Stock FSA'!$D$7:$AE$7="Stock")*'Stock FSA'!$D$8:$AE$102) -> 0 | O18: =SUMPRODUCT(('Stock GN'!$C$11:$C$232='Recap 2'!$A18)*('Stock GN'!$F$8:$Q$8='Recap 2'!N$6)*'Stock GN'!$F$11:$Q$232) -> 0 | P18: =+N18+O18 -> 0 | Q18: =SUMPRODUCT(('Stock FSA'!$A$8:$A$102='Recap 2'!$A18)*('Stock FSA'!$D$6:$AE$6='Recap 2'!Q$6)*('Stock FSA'!$D$7:$AE$7="Stock")*'Stock FSA'!$D$8:$AE$102) -> 0 | R18: =SUMPRODUCT(('Stock GN'!$C$11:$C$232='Recap 2'!$A18)*('Stock GN'!$F$8:$Q$8='Recap 2'!Q$6)*'Stock GN'!$F$11:$Q$232) -> 0 | S18: =+Q18+R18 -> 0 | T18: =SUMPRODUCT(('Stock FSA'!$A$8:$A$102='Recap 2'!$A18)*('Stock FSA'!$D$6:$AE$6='Recap 2'!T$6)*('Stock FSA'!$D$7:$AE$7="Stock")*'Stock FSA'!$D$8:$AE$102) -> 0 | U18: =SUMPRODUCT(('Stock GN'!$C$11:$C$232='Recap 2'!$A18)*('Stock GN'!$F$8:$Q$8='Recap 2'!T$6)*'Stock GN'!$F$11:$Q$232) -> 0 | V18: =+T18+U18 -> 0 | W18: =SUMPRODUCT(('Stock FSA'!$A$8:$A$102='Recap 2'!$A18)*('Stock FSA'!$D$6:$AE$6='Recap 2'!W$6)*('Stock FSA'!$D$7:$AE$7="Stock")*'Stock FSA'!$D$8:$AE$102) -> 0 | X18: =SUMPRODUCT(('Stock GN'!$C$11:$C$232='Recap 2'!$A18)*('Stock GN'!$F$8:$Q$8='Recap 2'!W$6)*'Stock GN'!$F$11:$Q$232) -> 0 | Y18: =+W18+X18 -> 0 | Z18: =SUMPRODUCT(('Stock FSA'!$A$8:$A$102='Recap 2'!$A18)*('Stock FSA'!$D$6:$AE$6='Recap 2'!Z$6)*('Stock FSA'!$D$7:$AE$7="Stock")*'Stock FSA'!$D$8:$AE$102) -> 0 | AA18: =SUMPRODUCT(('Stock GN'!$C$11:$C$232='Recap 2'!$A18)*('Stock GN'!$F$8:$Q$8='Recap 2'!Z$6)*'Stock GN'!$F$11:$Q$232) -> 0 | AB18: =+Z18+AA18 -> 0 | AC18: =SUMPRODUCT(('Stock FSA'!$A$8:$A$102='Recap 2'!$A18)*('Stock FSA'!$D$6:$AE$6='Recap 2'!AC$6)*('Stock FSA'!$D$7:$AE$7="Stock")*'Stock FSA'!$D$8:$AE$102) -> 0 | AD18: =SUMPRODUCT(('Stock GN'!$C$11:$C$232='Recap 2'!$A18)*('Stock GN'!$F$8:$Q$8='Recap 2'!AC$6)*'Stock GN'!$F$11:$Q$232) -> 0 | AE18: =+AC18+AD18 -> 0 | AF18: =SUMPRODUCT(('Stock FSA'!$A$8:$A$102='Recap 2'!$A18)*('Stock FSA'!$D$6:$AE$6='Recap 2'!AF$6)*('Stock FSA'!$D$7:$AE$7="Stock")*'Stock FSA'!$D$8:$AE$102) -> 0 | AG18: =SUMPRODUCT(('Stock GN'!$C$11:$C$232='Recap 2'!$A18)*('Stock GN'!$F$8:$Q$8='Recap 2'!AF$6)*'Stock GN'!$F$11:$Q$232) -> 0 | AH18: =+AF18+AG18 -> 0 | AI18: =SUMPRODUCT(('Stock FSA'!$A$8:$A$102='Recap 2'!$A18)*('Stock FSA'!$D$6:$AE$6='Recap 2'!AI$6)*('Stock FSA'!$D$7:$AE$7="Stock")*'Stock FSA'!$D$8:$AE$102) -> 0 | AJ18: =SUMPRODUCT(('Stock GN'!$C$11:$C$232='Recap 2'!$A18)*('Stock GN'!$F$8:$Q$8='Recap 2'!AI$6)*'Stock GN'!$F$11:$Q$232) -> 0 | AK18: =+AI18+AJ18 -> 0
A19: 42 | B19: =SUMPRODUCT(('Stock FSA'!$A$8:$A$102='Recap 2'!$A19)*('Stock FSA'!$D$6:$AE$6='Recap 2'!B$6)*('Stock FSA'!$D$7:$AE$7="Stock")*'Stock FSA'!$D$8:$AE$102) -> 0 | C19: =SUMPRODUCT(('Stock GN'!$C$11:$C$232='Recap 2'!$A19)*('Stock GN'!$F$8:$Q$8='Recap 2'!B$6)*'Stock GN'!$F$11:$Q$232) -> 0 | D19: =+B19+C19 -> 0 | E19: =SUMPRODUCT(('Stock FSA'!$A$8:$A$102='Recap 2'!$A19)*('Stock FSA'!$D$6:$AE$6='Recap 2'!E$6)*('Stock FSA'!$D$7:$AE$7="Stock")*'Stock FSA'!$D$8:$AE$102) -> 0 | F19: =SUMPRODUCT(('Stock GN'!$C$11:$C$232='Recap 2'!$A19)*('Stock GN'!$F$8:$Q$8='Recap 2'!E$6)*'Stock GN'!$F$11:$Q$232) -> 0 | G19: =+E19+F19 -> 0 | H19: =SUMPRODUCT(('Stock FSA'!$A$8:$A$102='Recap 2'!$A19)*('Stock FSA'!$D$6:$AE$6='Recap 2'!H$6)*('Stock FSA'!$D$7:$AE$7="Stock")*'Stock FSA'!$D$8:$AE$102) -> 0 | I19: =SUMPRODUCT(('Stock GN'!$C$11:$C$232='Recap 2'!$A19)*('Stock GN'!$F$8:$Q$8='Recap 2'!H$6)*'Stock GN'!$F$11:$Q$232) -> 400 | J19: =+H19+I19 -> 400 | K19: =SUMPRODUCT(('Stock FSA'!$A$8:$A$102='Recap 2'!$A19)*('Stock FSA'!$D$6:$AE$6='Recap 2'!K$6)*('Stock FSA'!$D$7:$AE$7="Stock")*'Stock FSA'!$D$8:$AE$102) -> 0 | L19: =SUMPRODUCT(('Stock GN'!$C$11:$C$232='Recap 2'!$A19)*('Stock GN'!$F$8:$Q$8='Recap 2'!K$6)*'Stock GN'!$F$11:$Q$232) -> 378 | M19: =+K19+L19 -> 378 | N19: =SUMPRODUCT(('Stock FSA'!$A$8:$A$102='Recap 2'!$A19)*('Stock FSA'!$D$6:$AE$6='Recap 2'!N$6)*('Stock FSA'!$D$7:$AE$7="Stock")*'Stock FSA'!$D$8:$AE$102) -> 0 | O19: =SUMPRODUCT(('Stock GN'!$C$11:$C$232='Recap 2'!$A19)*('Stock GN'!$F$8:$Q$8='Recap 2'!N$6)*'Stock GN'!$F$11:$Q$232) -> 448 | P19: =+N19+O19 -> 448 | Q19: =SUMPRODUCT(('Stock FSA'!$A$8:$A$102='Recap 2'!$A19)*('Stock FSA'!$D$6:$AE$6='Recap 2'!Q$6)*('Stock FSA'!$D$7:$AE$7="Stock")*'Stock FSA'!$D$8:$AE$102) -> 0 | R19: =SUMPRODUCT(('Stock GN'!$C$11:$C$232='Recap 2'!$A19)*('Stock GN'!$F$8:$Q$8='Recap 2'!Q$6)*'Stock GN'!$F$11:$Q$232) -> 440 | S19: =+Q19+R19 -> 440 | T19: =SUMPRODUCT(('Stock FSA'!$A$8:$A$102='Recap 2'!$A19)*('Stock FSA'!$D$6:$AE$6='Recap 2'!T$6)*('Stock FSA'!$D$7:$AE$7="Stock")*'Stock FSA'!$D$8:$AE$102) -> 0 | U19: =SUMPRODUCT(('Stock GN'!$C$11:$C$232='Recap 2'!$A19)*('Stock GN'!$F$8:$Q$8='Recap 2'!T$6)*'Stock GN'!$F$11:$Q$232) -> 357 | V19: =+T19+U19 -> 357 | W19: =SUMPRODUCT(('Stock FSA'!$A$8:$A$102='Recap 2'!$A19)*('Stock FSA'!$D$6:$AE$6='Recap 2'!W$6)*('Stock FSA'!$D$7:$AE$7="Stock")*'Stock FSA'!$D$8:$AE$102) -> 0 | X19: =SUMPRODUCT(('Stock GN'!$C$11:$C$232='Recap 2'!$A19)*('Stock GN'!$F$8:$Q$8='Recap 2'!W$6)*'Stock GN'!$F$11:$Q$232) -> 348 | Y19: =+W19+X19 -> 348 | Z19: =SUMPRODUCT(('Stock FSA'!$A$8:$A$102='Recap 2'!$A19)*('Stock FSA'!$D$6:$AE$6='Recap 2'!Z$6)*('Stock FSA'!$D$7:$AE$7="Stock")*'Stock FSA'!$D$8:$AE$102) -> 0 | AA19: =SUMPRODUCT(('Stock GN'!$C$11:$C$232='Recap 2'!$A19)*('Stock GN'!$F$8:$Q$8='Recap 2'!Z$6)*'Stock GN'!$F$11:$Q$232) -> 370 | AB19: =+Z19+AA19 -> 370 | AC19: =SUMPRODUCT(('Stock FSA'!$A$8:$A$102='Recap 2'!$A19)*('Stock FSA'!$D$6:$AE$6='Recap 2'!AC$6)*('Stock FSA'!$D$7:$AE$7="Stock")*'Stock FSA'!$D$8:$AE$102) -> 0 | AD19: =SUMPRODUCT(('Stock GN'!$C$11:$C$232='Recap 2'!$A19)*('Stock GN'!$F$8:$Q$8='Recap 2'!AC$6)*'Stock GN'!$F$11:$Q$232) -> 328 | AE19: =+AC19+AD19 -> 328 | AF19: =SUMPRODUCT(('Stock FSA'!$A$8:$A$102='Recap 2'!$A19)*('Stock FSA'!$D$6:$AE$6='Recap 2'!AF$6)*('Stock FSA'!$D$7:$AE$7="Stock")*'Stock FSA'!$D$8:$AE$102) -> 0 | AG19: =SUMPRODUCT(('Stock GN'!$C$11:$C$232='Recap 2'!$A19)*('Stock GN'!$F$8:$Q$8='Recap 2'!AF$6)*'Stock GN'!$F$11:$Q$232) -> 351 | AH19: =+AF19+AG19 -> 351 | AI19: =SUMPRODUCT(('Stock FSA'!$A$8:$A$102='Recap 2'!$A19)*('Stock FSA'!$D$6:$AE$6='Recap 2'!AI$6)*('Stock FSA'!$D$7:$AE$7="Stock")*'Stock FSA'!$D$8:$AE$102) -> 0 | AJ19: =SUMPRODUCT(('Stock GN'!$C$11:$C$232='Recap 2'!$A19)*('Stock GN'!$F$8:$Q$8='Recap 2'!AI$6)*'Stock GN'!$F$11:$Q$232) -> 431 | AK19: =+AI19+AJ19 -> 431
... A83: 1980 | B83: =SUMPRODUCT(('Stock FSA'!$A$8:$A$102='Recap 2'!$A83)*('Stock FSA'!$D$6:$AE$6='Recap 2'!B$6)*('Stock FSA'!$D$7:$AE$7="Stock")*'Stock FSA'!$D$8:$AE$102) -> 0 | C83: =SUMPRODUCT(('Stock GN'!$C$11:$C$232='Recap 2'!$A83)*('Stock GN'!$F$8:$Q$8='Recap 2'!B$6)*'Stock GN'!$F$11:$Q$232) -> 0 | D83: =+B83+C83 -> 0 | E83: =SUMPRODUCT(('Stock FSA'!$A$8:$A$102='Recap 2'!$A83)*('Stock FSA'!$D$6:$AE$6='Recap 2'!E$6)*('Stock FSA'!$D$7:$AE$7="Stock")*'Stock FSA'!$D$8:$AE$102) -> 0 | F83: =SUMPRODUCT(('Stock GN'!$C$11:$C$232='Recap 2'!$A83)*('Stock GN'!$F$8:$Q$8='Recap 2'!E$6)*'Stock GN'!$F$11:$Q$232) -> 0 | G83: =+E83+F83 -> 0 | H83: =SUMPRODUCT(('Stock FSA'!$A$8:$A$102='Recap 2'!$A83)*('Stock FSA'!$D$6:$AE$6='Recap 2'!H$6)*('Stock FSA'!$D$7:$AE$7="Stock")*'Stock FSA'!$D$8:$AE$102) -> 0 | I83: =SUMPRODUCT(('Stock GN'!$C$11:$C$232='Recap 2'!$A83)*('Stock GN'!$F$8:$Q$8='Recap 2'!H$6)*'Stock GN'!$F$11:$Q$232) -> 0 | J83: =+H83+I83 -> 0 | K83: =SUMPRODUCT(('Stock FSA'!$A$8:$A$102='Recap 2'!$A83)*('Stock FSA'!$D$6:$AE$6='Recap 2'!K$6)*('Stock FSA'!$D$7:$AE$7="Stock")*'Stock FSA'!$D$8:$AE$102) -> 0 | L83: =SUMPRODUCT(('Stock GN'!$C$11:$C$232='Recap 2'!$A83)*('Stock GN'!$F$8:$Q$8='Recap 2'!K$6)*'Stock GN'!$F$11:$Q$232) -> 0 | M83: =+K83+L83 -> 0 | N83: =SUMPRODUCT(('Stock FSA'!$A$8:$A$102='Recap 2'!$A83)*('Stock FSA'!$D$6:$AE$6='Recap 2'!N$6)*('Stock FSA'!$D$7:$AE$7="Stock")*'Stock FSA'!$D$8:$AE$102) -> 0 | O83: =SUMPRODUCT(('Stock GN'!$C$11:$C$232='Recap 2'!$A83)*('Stock GN'!$F$8:$Q$8='Recap 2'!N$6)*'Stock GN'!$F$11:$Q$232) -> 0 | P83: =+N83+O83 -> 0 | Q83: =SUMPRODUCT(('Stock FSA'!$A$8:$A$102='Recap 2'!$A83)*('Stock FSA'!$D$6:$AE$6='Recap 2'!Q$6)*('Stock FSA'!$D$7:$AE$7="Stock")*'Stock FSA'!$D$8:$AE$102) -> 0 | R83: =SUMPRODUCT(('Stock GN'!$C$11:$C$232='Recap 2'!$A83)*('Stock GN'!$F$8:$Q$8='Recap 2'!Q$6)*'Stock GN'!$F$11:$Q$232) -> 0 | S83: =+Q83+R83 -> 0 | T83: =SUMPRODUCT(('Stock FSA'!$A$8:$A$102='Recap 2'!$A83)*('Stock FSA'!$D$6:$AE$6='Recap 2'!T$6)*('Stock FSA'!$D$7:$AE$7="Stock")*'Stock FSA'!$D$8:$AE$102) -> 0 | U83: =SUMPRODUCT(('Stock GN'!$C$11:$C$232='Recap 2'!$A83)*('Stock GN'!$F$8:$Q$8='Recap 2'!T$6)*'Stock GN'!$F$11:$Q$232) -> 0 | V83: =+T83+U83 -> 0 | W83: =SUMPRODUCT(('Stock FSA'!$A$8:$A$102='Recap 2'!$A83)*('Stock FSA'!$D$6:$AE$6='Recap 2'!W$6)*('Stock FSA'!$D$7:$AE$7="Stock")*'Stock FSA'!$D$8:$AE$102) -> 0 | X83: =SUMPRODUCT(('Stock GN'!$C$11:$C$232='Recap 2'!$A83)*('Stock GN'!$F$8:$Q$8='Recap 2'!W$6)*'Stock GN'!$F$11:$Q$232) -> 0 | Y83: =+W83+X83 -> 0 | Z83: =SUMPRODUCT(('Stock FSA'!$A$8:$A$102='Recap 2'!$A83)*('Stock FSA'!$D$6:$AE$6='Recap 2'!Z$6)*('Stock FSA'!$D$7:$AE$7="Stock")*'Stock FSA'!$D$8:$AE$102) -> 0 | AA83: =SUMPRODUCT(('Stock GN'!$C$11:$C$232='Recap 2'!$A83)*('Stock GN'!$F$8:$Q$8='Recap 2'!Z$6)*'Stock GN'!$F$11:$Q$232) -> 0 | AB83: =+Z83+AA83 -> 0 | AC83: =SUMPRODUCT(('Stock FSA'!$A$8:$A$102='Recap 2'!$A83)*('Stock FSA'!$D$6:$AE$6='Recap 2'!AC$6)*('Stock FSA'!$D$7:$AE$7="Stock")*'Stock FSA'!$D$8:$AE$102) -> 0 | AD83: =SUMPRODUCT(('Stock GN'!$C$11:$C$232='Recap 2'!$A83)*('Stock GN'!$F$8:$Q$8='Recap 2'!AC$6)*'Stock GN'!$F$11:$Q$232) -> 0 | AE83: =+AC83+AD83 -> 0 | AF83: =SUMPRODUCT(('Stock FSA'!$A$8:$A$102='Recap 2'!$A83)*('Stock FSA'!$D$6:$AE$6='Recap 2'!AF$6)*('Stock FSA'!$D$7:$AE$7="Stock")*'Stock FSA'!$D$8:$AE$102) -> 0 | AG83: =SUMPRODUCT(('Stock GN'!$C$11:$C$232='Recap 2'!$A83)*('Stock GN'!$F$8:$Q$8='Recap 2'!AF$6)*'Stock GN'!$F$11:$Q$232) -> 0 | AH83: =+AF83+AG83 -> 0 | AI83: =SUMPRODUCT(('Stock FSA'!$A$8:$A$102='Recap 2'!$A83)*('Stock FSA'!$D$6:$AE$6='Recap 2'!AI$6)*('Stock FSA'!$D$7:$AE$7="Stock")*'Stock FSA'!$D$8:$AE$102) -> 0 | AJ83: =SUMPRODUCT(('Stock GN'!$C$11:$C$232='Recap 2'!$A83)*('Stock GN'!$F$8:$Q$8='Recap 2'!AI$6)*'Stock GN'!$F$11:$Q$232) -> 0 | AK83: =+AI83+AJ83 -> 0
