Workbook

Sheet base de données
A1: Rev | B1: Qté | C1: Désignation | D1: code | E1: Matière | F1: Cert. Matiere | G1: Pk applicable | H1: Fonderie | I1: Modèle | J1: N° plan | K1: article | L1: type | M1: Nom | N1: Initiator | O1: sale | P1: masse | Q1: Unité
A2: A | B2: 4 | C2: CORPS | D2: D2309 | E2: acier | F2: 1.1 | G2: PK6666 | H2: N/a | I2: N/a | J2: 7273 | K2: -npo-pk | L2: MFD | M2: mfd4 | N2: dala | O2: =C$12 -> 0 | P2: 658 Kg | Q2: P
A3: A | B3: 4 | C3: FOND | D3: D2309 | E3: inox | F3: 1.2 | G3: PK6667 | H3: N/a | I3: N/a | J3: 727237 | K3: -npo-pk | L3: =L$2 -> MFD | M3: mfd5 | N3: dede | O3: =C$12 -> 0 | P3: 400 Kg | Q3: P
A4: A | B4: 4 | C4: DIFFUSEUR | D4: D2309 | E4: acier | F4: 1.3 | G4: PK6668 | H4: N/a | I4: N/a | J4: 42868 | K4: -npo-pk | L4: =L$2 -> MFD | M4: mfd6 | N4: jojo | O4: =C$12 -> 0 | P4: 20 Kg | Q4: P
A5: A | B5: 4 | C5: ROUE | D5: C2025 | E5: inox | F5: 1.4 | G5: PK6669 | H5: 76767 | I5: 57575 | J5: 4758364 | K5: -npo-pk | L5: =L$2 -> MFD | M5: mfd7 | N5: bobo | O5: =C$12 -> 0 | P5: 12 Kg | Q5: P
A6: A | B6: 4 | C6: PALIER | D6: C2025 | E6: acier | F6: 1.5 | G6: PK6670 | H6: 7687678 | I6: 57866 | J6: 57587 | K6: -npo-pk | L6: =L$2 -> MFD | M6: mfd8 | N6: bibi | O6: =C$12 -> 0 | P6: 5 Kg | Q6: P
A7: A | B7: 4 | C7: BRIDE | D7: D2142 | E7: inox | F7: 1.6 | G7: PK6671 | H7: N/a | I7: N/a | J7: 5756786 | K7: -npo-pk | L7: =L$2 -> MFD | M7: mfd9 | N7: baba | O7: =C$12 -> 0 | P7: 80 Kg | Q7: P

Sheet trame
Q2: abcd
AQ3: Initiator : | BA3: Date :
AQ5: Sale :
AQ7: Quality Plan : | BA7: N°
D10: ITEM : | AB10: DESCRIPTION :
D12: PUMP TYPE :
C14: MASTER ITEM (PRI) | L14: Template :
D17: ENGLISH DESCRIPTION :
D25: Categories :
D27: Unit of measure
D29: Physical attributes : Unit weight
C33: CROSS REFERENCES
C35: MASTER
D37: 4-Material : | I37: Code : | U37: Description :
D39: 1-Drawing : | O39: Rev. | U39: 5-Pattern :
D41: 1-Drawing : | O41: Rev. | U41: 3-CCN :
D43: 1-Drawing : | O43: Rev. | U43: 6-Spare Level :
D45: 1-Drawing : | O45: Rev. | U45: 7-Specification
D47: 1-Drawing : | O47: Rev. | U47: 2-Internat. Std :

Sheet fiche1
Q2: abcd
AQ3: Initiator : | AU3: ='base de données'!N2 -> dala | BA3: Date :
AQ5: Sale : | AU5: ='base de données'!O2 -> 0
AQ7: Quality Plan : | BA7: N° | BC7: ='base de données'!G2 -> PK6666
D10: ITEM : | I10: ='base de données'!K2 -> -npo-pk | AB10: DESCRIPTION : | AH10: ='base de données'!C2 -> CORPS
D12: PUMP TYPE : | I12: ='base de données'!L2 -> MFD
C14: MASTER ITEM (PRI) | L14: Template :
D17: ENGLISH DESCRIPTION :
D25: Categories :
D27: Unit of measure | O27: ='base de données'!Q2 -> P
D29: Physical attributes : Unit weight | O29: ='base de données'!P2 -> 658 Kg
C33: CROSS REFERENCES
C35: MASTER
D37: 4-Material : | I37: Code : | L37: ='base de données'!D2 -> D2309 | U37: Description : | Y37: ='base de données'!E2 -> acier
D39: 1-Drawing : | H39: ='base de données'!J2 -> 7273 | O39: Rev. | Q39: ='base de données'!A2 -> A | U39: 5-Pattern :
D41: 1-Drawing : | O41: Rev. | U41: 3-CCN :
D43: 1-Drawing : | O43: Rev. | U43: 6-Spare Level :
D45: 1-Drawing : | O45: Rev. | U45: 7-Specification
D47: 1-Drawing : | O47: Rev. | U47: 2-Internat. Std :

Sheet fiche2
Q2: abcd
AQ3: Initiator : | AU3: ='base de données'!N3 -> dede | BA3: Date :
AQ5: Sale : | AU5: ='base de données'!O3 -> 0
AQ7: Quality Plan : | BA7: N° | BC7: ='base de données'!G3 -> PK6667
D10: ITEM : | I10: ='base de données'!K3 -> -npo-pk | AB10: DESCRIPTION : | AH10: ='base de données'!C3 -> FOND
D12: PUMP TYPE : | I12: ='base de données'!L3 -> MFD
C14: MASTER ITEM (PRI) | L14: Template :
D17: ENGLISH DESCRIPTION :
D25: Categories :
D27: Unit of measure | O27: ='base de données'!Q3 -> P
D29: Physical attributes : Unit weight | O29: ='base de données'!P3 -> 400 Kg
C33: CROSS REFERENCES
C35: MASTER
D37: 4-Material : | I37: Code : | L37: ='base de données'!D3 -> D2309 | U37: Description : | Y37: ='base de données'!E3 -> inox
D39: 1-Drawing : | H39: ='base de données'!J3 -> 727237 | O39: Rev. | Q39: ='base de données'!A3 -> A | U39: 5-Pattern :
D41: 1-Drawing : | O41: Rev. | U41: 3-CCN :
D43: 1-Drawing : | O43: Rev. | U43: 6-Spare Level :
D45: 1-Drawing : | O45: Rev. | U45: 7-Specification
D47: 1-Drawing : | O47: Rev. | U47: 2-Internat. Std :
