Workbook

Sheet Identity
C1: Entity | E1: Enter Yes/No or text in all colored cells: if not done, you will have an error message
S2: Prior
C4: HFM Code | D4: x | I4: Entity's Manager | J4: x | Q4: 2010 OG Sales - M€ | R4: x
C6: Name of the Entity | D6: x | I6: Entity's Finance Business Partner | J6: x | Q6: 2010 IG Sales - M€ | R6: x
C8: Country | D8: x | Q8: 2010 SFC - M€ | R8: x
Q11: Head Counts - Spot 2010 End | R11: x
C12: Activity | G12: Activity | Q12: Support Functions
C14: Commercial (OG Sales) | D14: x | E14: No | I14: OG Sales Products | R14: Out sourced/SSC | U14: Enter the name of Outsourcer if OG, the HFM code of SSC if IG
I16: OG Sales Solution level 1
I18: OG Sales Solution level 2 and/or 3 | Q18: HR | R18: x | S18: No
I20: OG Sales Services | Q20: IT | R20: x | S20: No
I22: Local workshop | Q22: Accounting | R22: x | S22: Yes | T22: x
C24: Regional Equipment Unit | D24: x | E24: No | I24: Local Adapted Products workshop | Q24: Controlling | R24: x | S24: Yes | T24: x
I26: Local logistics center | Q26: Tax & Legal | R26: x | S26: Yes | T26: x
C28: Distribution Center - CME | D28: x | E28: No | I28: Adapted Products workshop | Q28: Cash | R28: x | S28: Yes | T28: x
C30: Global Factory | D30: x | E30: No | I30: Local Factory | J30: x | K30: No | Q30: Credit | R30: x | S30: Yes | T30: x
C34: Shared Service Center | D34: x | E34: No | I34: SSC precise which function | Q34: Production Purchasing | R34: x | S34: No
C36: Research & Development | D36: x | E36: No | Q36: Projects Purchasing | R36: x | S36: No
C38: Other | D38: x | E38: No | I38: if other please precise | Q38: Non Production Purchasing | R38: x | S38: Yes | T38: x
C41: Managers assessing each cycle
C44: please enter name as per lotus notes address list | H44: Assess all cycles, even those outsourced
C46: Control Environment | D46: x | E46: 1 | Q46: Yellow Cells
C47: Sales & Marketing | D47: x | E47: 2
C48: Purchasing | D48: x | E48: 3 | Q48: will open or close cells for input, depending on answer Yes or No
C49: Manufacturing | D49: x | E49: 4
C50: Logistics | D50: x | E50: 5
C51: Customer Projects Execution | D51: x | E51: 6
C52: R&D | D52: x | E52: 7
C53: HR | D53: x | E53: 8
C54: IT | D54: x | E54: 9
C55: Accounting | D55: x | E55: 10
C56: Controlling | D56: x | E56: 11
C57: Tax & Legal | D57: x | E57: 12
C58: Cash | D58: x | E58: 13
C59: Credit | D59: x | E59: 14

Sheet KICs list
A1: Control Environment
A2: CE.01 | B2: Wording and Notation Guide lines have been revised, Risk assessment and Progress Plan templates provided. Please revise rating and description accordingly Our Principles of Responsibility are widely communicated to the employees in the local language(s). The General Manager of the entity is implementing a progress plan in order to ensure the PoR are respected.
B3: 1 - One or more of the points needed for rating 2 is missing 2 - The Group Principles of responsibility have been communicated to all employees in the entity. The Group Principles of Responsibility have been translated in local language(s) ), when relevant All new employees receive a copy of the PoR A PoR clause is included in all new employment contracts PoR have been included as part of the induction or training program 3 - in addition: A formal Risk Assessment has been completed at the country level A PoR Progress Plan has been prepared at the country level Both the Risk Assessment and the PoR Progress Plan are reviewed at least annually There is a link on the local Intranet to the PoR on the Corporate PoR Intranet 4 - in addition: The PoR Progress Plan is reviewed at least quarterly Your local Intranet Home Page includes a link to specific local ethical examples
A4: CE.02 | B4: Wording and Notation Guide lines have been revised, Template completed with Solutions rules. Please complete CoA, revise rating and description accordingly A Chart of Authority exists and is communicated, defining the level of approbation required for the main operations of the entity (at least 53 business decisions listed in attachment).
B5: 2 - a Chart of Authority (CoA) is defined, for the main operations of the entity (at least 53 business decisions listed in attachment) 3 - in addition: - The limits set in the CoA have been instructed or approved by the hierarchy or the Head of Management Entity. - The CoA defines approval flow for each business decision, mentioning approving positions. - The CoA communicated to all Managerial levels at each release. - The nominative list of people occupying the positions mentioned in the CoA updated with every personal move (in, out, internal move). 4 - in addition - The successive versions of the nominative list are filed for 5 years & can be retrieved upon a posteriori control. - In case of absence of an approver, a process is defined for day to day decisions, and a formal temporary delegation is formalized and filed for main approvers' long absence - Yearly, a random control is performed to check the CoA is strictly applied
A6: CE.03 | B6: Notation Guide lines have been revised, SoD matrix has been completed. Please revise Matrix, rating and description accordingly Duties are properly segregated between employees. A Segregation of Duties (SoD) analysis is performed and formalized in order to emphasize potential risk areas where mitigating controls (reviews, log analysis …) are then implemented.
B7: 1 - One or more of the points needed for rating 2 is missing 2 - The SoD Matrix is drawn for each person performing Purchasing/Procurement, Finance, Sales operations, using the Group SoD Matrix. The SoD Matrix shows no high SoD risks in Purchasing/Procurement, Finance, Sales operations, OR mitigating controls are defined and implemented for those high conflicts. 3 - in addition: The SoD Matrix is drawn for each person performing Payroll/HR, Inventory, IT operations using the Group SoD Matrix. The SoD Matrix shows no high SoD risks in Payroll/HR, Inventory, IT operations , OR mitigating controls are defined and implemented for those high conflicts. The SOD matrix has been reviewed less than 2 years ago. 4 - in addition: The SoD Matrix is drawn for each person performing any operation in the entity, using the Group SoD Matrix. The SoD Matrix shows no high SoD risks in any operation, OR mitigating controls are defined and implemented for those high conflicts. There is a process to review the SoD matrix once a year. Twice a year, a random control is perfomed to check the mitigating controls are properly implemented
A8: CE.041 | B8: Applicable to all sites, including Joint Ventures - A risk assessment is performed, updated yearly and reported: Risks which could impact your organization are identified Buildings, equipment, processes, functions which would be adversely impacted by those risks are identified The impact on Local and Group results and reputation is assessed - Solutions for reducing such impact are developed
B9: 1- Nothing is done 2-All potential man-made hazards (fire, theft, vehicle impact, fraud, vandalism,…) or natural disasters (flood, earthquake, lightning,…) are identified -All elements on site which could be adversely impacted are identified (buildings, equipment, process, functions, documents ,…) -The risk assessment is updated yearly 3- In addition, -All elements off-site which could be adversely impacted are identified -The consequences on the site activity are described and measured -All key functions (production, maintenance, finance, human resources, quality, crisis management,…) and the crisis management team are involved in the risk analysis -The risk assessment is updated at each significant change in the environment and/or organization of the site 4- In addition, Solutions are developed to prevent and/or reduce the risks having the most negative impact -All potential economical perils ( strikes, inflation, change in regulations, loss of key suppliers,…) are identified -The overall impact on the Group results or reputation is identified and reported to upper level -The risk assessment results are reported to management
A10: CE.042 | B10: Former KICs Business Continuity Plan has been split Applicable to all entities, including Joint Ventures Crisis Management preparedness plan does exist for the entity. It is regularly updated and all concerned managers are aware about it. A Business Continuity Plan (BCP) does exist for “Pandemic” conditions (high level of absenteeism). It is regularly updated, safely stored and all concerned managers know it.
B11: 1- Nothing is done 2- A Crisis Management preparedness plan can be provided for the entity. 3- In addition, -A BCP “Pandemic” can be provided for the entity. -The BCP « Pandemic » is stored in the Corporate Global BCM database 4 In addition, -The Crisis Management preparedness plan has been updated less than 2 years ago -The BCP “Pandemic” has been updated less than 2 years ago. - The last Crisis Management or BCP exercise was held under 3 years.
A12: CE.043 | B12: Former KIC BCP has been split For the sites identified in the scope, an Industrial BCP exists, is deployed, maintained and tested, The BCP is available in local language & English, easily accessible and saved in the dedicated central database
B13: 1- An action plan to mitigate against major risks is defined & followed 2- A business impact analysis determines continuity & recovery objectives for critical activities including local IT. (recovery time objective, maximum acceptable outage) - An Industrial Business Continuity Plan exists -The BCP is updated at least yearly . Update is traceable, available & adequately protected. 3- In addition - The BCP is available in local language & English -The BCP including local IT BIA is stored on the dedicated BCM server (https://sitebcm.org) & crisis management team is able to easily access & retrieve it (Internet access only required) -A communication plan to develop business continuity culture & awareness is performed 4- In addition, - Training, exercises & tests are conducted at planned intervals - BCP is monitored & evaluated (internal audits, management reviews ..), Lessons from exercises & actual incidents are reviewed
A14: CE.05 | B14: Retention of documents, records (including computer programs and data files): clear guidelines exist and are applied, in line with local regulations and business requirements for each process. Transfer Prices computation and relating documentation: retention period is 10years.
B15: 1 - There is no retention policy 2 - There are retention policies in the different departments, yet - they are not formalized - or if formalized, they are not gathered in one single policy for the entity - or some are not properly implemented 3 - A global retention policy is written for all domains concerned (legal, sales, accounting, taxes, quality etc…) and communicated. It is in line minimum with group requirements in terms of retention periods where there is a group requirement, and it is in line minimum with local regulatory requirements. Each concerned function implement it properly. 4 - A global retention policy is written for all domains concerned (legal, sales, accounting, taxes, quality etc…) and communicated. It is in line minimum with group requirements in terms of retention periods where there is a group requirement, and it is in line minimum with local regulatory requirements. Each concerned function implement it properly. There is a yearly process to review and adapt (if necessary) the policy (legal + Finance)
A16: Offer Creation Process
A17: OCP.01 | B17: Anticipation: A formalized process for ideas priorization is implemented, based upon shared business criteria and performed by a multi-fonctions team of managers. The Core business process Offer & Technology Management (OTM) fuels the project engine machine by: - studying market and customer - anticipating technologies - defining the strategy of offer development - planning solution & products roadmap and resulting projects opening through a priorization process.
B18: 1 - No formalized process for ideas prioritization; 2 - Collecting of ideas is organized, but ranking and selecting are not based upon shared business criteria and/or not performed by a multi-functions team of managers 3 - Formalized process for ideas prioritization is implemented, based upon shared business criteria and performed by a multi-functions team of managers 4 - Full usage of SPoT Strategic Portfolio Management system for Ideas prioritization
A19: OCP.02 | B19: Anticipation: Opening of major project is secured by a "30mn to convince step. 30mn to convince step includes: 1 - alignment: is the project an opportunity of obligation for = S =. 2 - Customer values: why the project is attractive to the maket, and how it addresses the customer' needs 3 - Risks: why the project is ready for opening according to the risks identified 4 - Resources & Skills: why the project is ready for opening according to ressources availability
B20: 1 - No 30' to convince usage 2 - 30' to convince used on some "New" type projects 3 - 30' to convince used systematically on all elected "New" type projects according to the Chart of Authority, in a dedicated pluri-disciplinary committee
A21: OCP.03 | B21: Execution: Projects risks and mitigation plans are systematically followed-up
B22: 1 - No formal Risk Assessment with a Risk Register 2 - Risk Assessment performed on major projects with a Risk Register 3 - Risk Assessment performed on major projects with a Risk Register updated at least before each Stage Gate and presented to the PSC 4 - Risk Assessment performed on all projects with a Risk Register updated at least before each Stage Gate and presented to the PSC
A23: OCP.04 | B23: Execution: A project contract book is shared and formally approved at <Do>. Contract book including all or part of the following items, according to project context: - Finalize project management plan with regard to project scope, organization, cost, schedule, risk and quality management - Dig into the risk status, to measure the feasibility and the viability on the market place and check there is no critical issue - Complete product & system requirements and finalize design, supply chain and quality specifications and list of Consistency Rules to be applied for the product - Prepare test strategy including validation plan (field tests, certification, ...) and verification plan - Finalize project financial assessment (BCFE) - Prepare industrial locations and supply chain organization - Prepare design resource center allocation - Get countries commitments to support launch and sales - Push Country Offer Introduction Process (COIN) initiation in countries
B24: 1 - No formal Contract book is done 2 - Informal Contract book is presented and/or not for all projects 3 - Standard and formal Contract book is presented, decision is made by managers within Steering Committee defined at <Open> 4 - Teams have a clear sense of commitment associated with the objectives defined in the contract book, and their performances are measured accordingly.
A25: OCP.05 | B25: Execution: Supplier selection process is shared and formally approved - supplier mapping which lists pre-selected suppliers is formalized, shared with the project team and with the commodity management for the Do decision - supplier allocation is formalized and OCP concentration report with K&C suppliers is performed for the Implement decision
B26: 1 : No formal supplier mapping & OCP concentration report 2 : Supplier mapping & OCP concentration report are performed on major projects only, 3 : Supplier mapping & OCP concentration report are performed on all projects 4 : Supplier mapping & OCP concentration report are performed on all projects and OCP concentration report is updated every quarter
A27: OCP.06 | B27: Execution: Product Evolution Process (PEP) consistency within OCP : Every product definition file must be transferred at the end of the Project Management Process (PMP) between the PRODUCE Stage Gate and the CLOSE. The Continuous Engineering team must be trained and the first request coming from the PMP team must be entered into the standard PEP project management tool (see intranet for details). For any subsitution project in PMP a Product Withdrawal Process (PWP) must be synchronized.
B28: 1 : No formal links between PMP, PEP and PWP 2 : No transfer of product file in PEP during SELL of PMP, no PWP initiated for substitution project in PMP 3 : Transfer from PMP to PEP is formal and the hand off is documented 4 : Transfer from PMP to PEP and links between PMP and PWP is planned and tracked. The TEMPO project management tool is used to enter the initial PMP request into PEP.
A29: OCP.07 | B29: Execution: Manufacturing Plants involvement : Manufacturing plants have an important role within the PEP. They are involved before DO in order to be sure that DO decision is done with all information, including the effective date. And they participate to every stage gates
B30: 1 : No visibility about readiness of Manufacturing plants on PCE portfolio. 2 : Manufacturing plants commit on effectivity date at DO or participate to the SELL Stage Gates 3 : Manufacturing plants commit on effectivity date at DO and participate to the SELL Stage Gates 4 : Manufacturing plants commit on effectivity date at DO and participate to the SELL and CLOSE Stage Gates
A31: OCP.08 | B31: Execution: Agreement on Launches between Businesses (BU) and Major countries: Businesses and Countries have to find an agreement when launching a new offer. CoLa is the standardized information system to systematize and structure this dialog between a Business and its major Countries.
B32: 1 - BU and Countries usually do not share written forecast about new launches 2 - BU and Countries usually share forecasts about new Launches; forecasts may not be validated by management; scope and format of forecasts are free. For organizations using CoLa, the Countries commitment rate (KPI #5) should be at least 50%. 3 - Forecasts from Countries are approved by Country management, and are consolidated at project level in BU. The organization uses CoLa, and the Countries reply rate (KPI #5) should be at least 75%. 4 - Agreements with countries are formalized and committed by Country managers. Commitments (or gaps) are used to drive project decisions (Go/NoGo, specific actions plans, etc.) and impact the project objectives at the DO decision. In CoLa, the rate of agreements confirmed for the entity (KPI#6) should be at least 75%.
A33: OCP.09 | B33: Monitoring: Project Portfolio reviews are regularly performed Resource allocation on projects, time deviation & projects synchronization are regularly reviewed by BU Management meeting in order to arbitrate between projects
B34: 1 - No formalized and single portfolio 2 - Single portfolio exists and is regularly updated, but no arbitration through dedicated committee 3 - Single portfolio exists, regularly updated, and arbitration through dedicated committee is systematically performed 4 - Full usage of SPoT system for Business Reviews and/or Projects/Portfolio Reviews
A35: OCP.10 | B35: Monitoring: Projects profitability is regularly followed-up Through Return On Investment (ROI)
B36: 1 - No ROI analysis on projects 2 - ROI on some projects 3 - ROI systematic on all projects, updated at DO and SELL 4 - ROI systematic on all projects, updated at each stage gate. ROI evolution is recorded and analysed 3 years after launch and used to fix new project ROI target
A37: OCP.11 | B37: Monitoring: there are formalised Projects stage gates crossing. A cross functional managerial team (Product/Project Steering Committee) is available and makes decisions on drifts from committments (What, When, How much ?) and risks
B38: 1 - No Steering Committee to make stage gate decision on each project 2 - One single dedicated Steering Committee to make stage gate decision on each project, but with limited traceability on stage gate crossing 3 - One single Steering Committee on each project, with systematic follow-up of each stage gate crossing 4 - Full usage of SCAN system
A39: OCP.12 | B39: Monitoring: Projects Manager & Projects Team responsibility: A transverse project leader has been appointed to drive (*) the projects. Cross functional project team is available. Project plan is tailored to actual stakes and risks (*) The "Project Manager" is accountable for ensuring that the project meets its goals for customer satisfaction & quality, time to market, development expenses and product costs.
B40: 1 - No project leader and / or limited project team representation 2 - Project leader available but attached to a function and not really accountable for all project objectives 3 - Transverse Project leader and fully representative cross functional project team are available 4 - In addition to S3 level, Project plan systematically reviewed and tailored to project context and risks
...

Sheet KICs Rating
A1: ALL | J1: ALL
H2: #NA | J2: =Identity!C46&" "&Identity!E46 -> Control Environment 1
A3: HFM Code | B3: =Identity!E4 -> 0 | H3: 1 | J3: =Identity!C47&" "&Identity!E47 -> Sales & Marketing 2
A4: Name of the Entity | B4: =Identity!E6 -> 0 | H4: 2 | J4: =Identity!C48&" "&Identity!E48 -> Purchasing 3
H5: 3 | J5: =Identity!C49&" "&Identity!E49 -> Manufacturing 4
A6: Control Environment | C6: Rating | D6: Efficiency | E6: Control description | F6: Attachment | H6: 4 | J6: =Identity!C50&" "&Identity!E50 -> Logistics 5
A7: CE.01 | B7: Wording and Notation Guide lines have been revised, Risk assessment and Progress Plan templates provided. Please revise rating and description accordingly Our Principles of Responsibility are widely communicated to the employees in the local language(s). The General Manager of the entity is implementing a progress plan in order to ensure the PoR are respected. | C7: #NA | J7: =Identity!C51&" "&Identity!E51 -> Customer Projects Execution 6
B8: 1 - One or more of the points needed for rating 2 is missing 2 - The Group Principles of responsibility have been communicated to all employees in the entity. The Group Principles of Responsibility have been translated in local language(s) ), when relevant All new employees receive a copy of the PoR A PoR clause is included in all new employment contracts PoR have been included as part of the induction or training program 3 - in addition: A formal Risk Assessment has been completed at the country level A PoR Progress Plan has been prepared at the country level Both the Risk Assessment and the PoR Progress Plan are reviewed at least annually There is a link on the local Intranet to the PoR on the Corporate PoR Intranet 4 - in addition: The PoR Progress Plan is reviewed at least quarterly Your local Intranet Home Page includes a link to specific local ethical examples | J8: =Identity!C52&" "&Identity!E52 -> R&D 7
A9: CE.02 | B9: Wording and Notation Guide lines have been revised, Template completed with Solutions rules. Please complete CoA, revise rating and description accordingly A Chart of Authority exists and is communicated, defining the level of approbation required for the main operations of the entity (at least 53 business decisions listed in attachment). | J9: =Identity!C53&" "&Identity!E53 -> HR 8
B10: 2 - a Chart of Authority (CoA) is defined, for the main operations of the entity (at least 53 business decisions listed in attachment) 3 - in addition: - The limits set in the CoA have been instructed or approved by the hierarchy or the Head of Management Entity. - The CoA defines approval flow for each business decision, mentioning approving positions. - The CoA communicated to all Managerial levels at each release. - The nominative list of people occupying the positions mentioned in the CoA updated with every personal move (in, out, internal move). 4 - in addition - The successive versions of the nominative list are filed for 5 years & can be retrieved upon a posteriori control. - In case of absence of an approver, a process is defined for day to day decisions, and a formal temporary delegation is formalized and filed for main approvers' long absence - Yearly, a random control is performed to check the CoA is strictly applied | J10: =Identity!C54&" "&Identity!E54 -> IT 9
A11: CE.03 | B11: Notation Guide lines have been revised, SoD matrix has been completed. Please revise Matrix, rating and description accordingly Duties are properly segregated between employees. A Segregation of Duties (SoD) analysis is performed and formalized in order to emphasize potential risk areas where mitigating controls (reviews, log analysis …) are then implemented. | J11: =Identity!C55&" "&Identity!E55 -> Accounting 10
B12: 1 - One or more of the points needed for rating 2 is missing 2 - The SoD Matrix is drawn for each person performing Purchasing/Procurement, Finance, Sales operations, using the Group SoD Matrix. The SoD Matrix shows no high SoD risks in Purchasing/Procurement, Finance, Sales operations, OR mitigating controls are defined and implemented for those high conflicts. 3 - in addition: The SoD Matrix is drawn for each person performing Payroll/HR, Inventory, IT operations using the Group SoD Matrix. The SoD Matrix shows no high SoD risks in Payroll/HR, Inventory, IT operations , OR mitigating controls are defined and implemented for those high conflicts. The SOD matrix has been reviewed less than 2 years ago. 4 - in addition: The SoD Matrix is drawn for each person performing any operation in the entity, using the Group SoD Matrix. The SoD Matrix shows no high SoD risks in any operation, OR mitigating controls are defined and implemented for those high conflicts. There is a process to review the SoD matrix once a year. Twice a year, a random control is perfomed to check the mitigating controls are properly implemented | J12: =Identity!C56&" "&Identity!E56 -> Controlling 11
A13: CE.041 | B13: Applicable to all sites, including Joint Ventures - A risk assessment is performed, updated yearly and reported: Risks which could impact your organization are identified Buildings, equipment, processes, functions which would be adversely impacted by those risks are identified The impact on Local and Group results and reputation is assessed - Solutions for reducing such impact are developed | J13: =Identity!C57&" "&Identity!E57 -> Tax & Legal 12
B14: 1- Nothing is done 2-All potential man-made hazards (fire, theft, vehicle impact, fraud, vandalism,…) or natural disasters (flood, earthquake, lightning,…) are identified -All elements on site which could be adversely impacted are identified (buildings, equipment, process, functions, documents ,…) -The risk assessment is updated yearly 3- In addition, -All elements off-site which could be adversely impacted are identified -The consequences on the site activity are described and measured -All key functions (production, maintenance, finance, human resources, quality, crisis management,…) and the crisis management team are involved in the risk analysis -The risk assessment is updated at each significant change in the environment and/or organization of the site 4- In addition, Solutions are developed to prevent and/or reduce the risks having the most negative impact -All potential economical perils ( strikes, inflation, change in regulations, loss of key suppliers,…) are identified -The overall impact on the Group results or reputation is identified and reported to upper level -The risk assessment results are reported to management | J14: =Identity!C58&" "&Identity!E58 -> Cash 13
A15: CE.042 | B15: Former KICs Business Continuity Plan has been split Applicable to all entities, including Joint Ventures Crisis Management preparedness plan does exist for the entity. It is regularly updated and all concerned managers are aware about it. A Business Continuity Plan (BCP) does exist for “Pandemic” conditions (high level of absenteeism). It is regularly updated, safely stored and all concerned managers know it. | J15: =Identity!C59&" "&Identity!E59 -> Credit 14
B16: 1- Nothing is done 2- A Crisis Management preparedness plan can be provided for the entity. 3- In addition, -A BCP “Pandemic” can be provided for the entity. -The BCP « Pandemic » is stored in the Corporate Global BCM database 4 In addition, -The Crisis Management preparedness plan has been updated less than 2 years ago -The BCP “Pandemic” has been updated less than 2 years ago. - The last Crisis Management or BCP exercise was held under 3 years. | J16: =Identity!C60&" "&Identity!E60
A17: CE.043 | B17: Former KIC BCP has been split For the sites identified in the scope, an Industrial BCP exists, is deployed, maintained and tested, The BCP is available in local language & English, easily accessible and saved in the dedicated central database
B18: 1- An action plan to mitigate against major risks is defined & followed 2- A business impact analysis determines continuity & recovery objectives for critical activities including local IT. (recovery time objective, maximum acceptable outage) - An Industrial Business Continuity Plan exists -The BCP is updated at least yearly . Update is traceable, available & adequately protected. 3- In addition - The BCP is available in local language & English -The BCP including local IT BIA is stored on the dedicated BCM server (https://sitebcm.org) & crisis management team is able to easily access & retrieve it (Internet access only required) -A communication plan to develop business continuity culture & awareness is performed 4- In addition, - Training, exercises & tests are conducted at planned intervals - BCP is monitored & evaluated (internal audits, management reviews ..), Lessons from exercises & actual incidents are reviewed
A19: CE.05 | B19: Retention of documents, records (including computer programs and data files): clear guidelines exist and are applied, in line with local regulations and business requirements for each process. Transfer Prices computation and relating documentation: retention period is 10years.
B20: 1 - There is no retention policy 2 - There are retention policies in the different departments, yet - they are not formalized - or if formalized, they are not gathered in one single policy for the entity - or some are not properly implemented 3 - A global retention policy is written for all domains concerned (legal, sales, accounting, taxes, quality etc…) and communicated. It is in line minimum with group requirements in terms of retention periods where there is a group requirement, and it is in line minimum with local regulatory requirements. Each concerned function implement it properly. 4 - A global retention policy is written for all domains concerned (legal, sales, accounting, taxes, quality etc…) and communicated. It is in line minimum with group requirements in terms of retention periods where there is a group requirement, and it is in line minimum with local regulatory requirements. Each concerned function implement it properly. There is a yearly process to review and adapt (if necessary) the policy (legal + Finance)
A21: Offer Creation Process
A22: OCP.01 | B22: Anticipation: A formalized process for ideas priorization is implemented, based upon shared business criteria and performed by a multi-fonctions team of managers. The Core business process Offer & Technology Management (OTM) fuels the project engine machine by: - studying market and customer - anticipating technologies - defining the strategy of offer development - planning solution & products roadmap and resulting projects opening through a priorization process.
B23: 1 - No formalized process for ideas prioritization; 2 - Collecting of ideas is organized, but ranking and selecting are not based upon shared business criteria and/or not performed by a multi-functions team of managers 3 - Formalized process for ideas prioritization is implemented, based upon shared business criteria and performed by a multi-functions team of managers 4 - Full usage of SPoT Strategic Portfolio Management system for Ideas prioritization
A24: OCP.02 | B24: Anticipation: Opening of major project is secured by a "30mn to convince step. 30mn to convince step includes: 1 - alignment: is the project an opportunity of obligation for = S =. 2 - Customer values: why the project is attractive to the maket, and how it addresses the customer' needs 3 - Risks: why the project is ready for opening according to the risks identified 4 - Resources & Skills: why the project is ready for opening according to ressources availability
B25: 1 - No 30' to convince usage 2 - 30' to convince used on some "New" type projects 3 - 30' to convince used systematically on all elected "New" type projects according to the Chart of Authority, in a dedicated pluri-disciplinary committee
A26: OCP.03 | B26: Execution: Projects risks and mitigation plans are systematically followed-up
B27: 1 - No formal Risk Assessment with a Risk Register 2 - Risk Assessment performed on major projects with a Risk Register 3 - Risk Assessment performed on major projects with a Risk Register updated at least before each Stage Gate and presented to the PSC 4 - Risk Assessment performed on all projects with a Risk Register updated at least before each Stage Gate and presented to the PSC
A28: OCP.04 | B28: Execution: A project contract book is shared and formally approved at <Do>. Contract book including all or part of the following items, according to project context: - Finalize project management plan with regard to project scope, organization, cost, schedule, risk and quality management - Dig into the risk status, to measure the feasibility and the viability on the market place and check there is no critical issue - Complete product & system requirements and finalize design, supply chain and quality specifications and list of Consistency Rules to be applied for the product - Prepare test strategy including validation plan (field tests, certification, ...) and verification plan - Finalize project financial assessment (BCFE) - Prepare industrial locations and supply chain organization - Prepare design resource center allocation - Get countries commitments to support launch and sales - Push Country Offer Introduction Process (COIN) initiation in countries
B29: 1 - No formal Contract book is done 2 - Informal Contract book is presented and/or not for all projects 3 - Standard and formal Contract book is presented, decision is made by managers within Steering Committee defined at <Open> 4 - Teams have a clear sense of commitment associated with the objectives defined in the contract book, and their performances are measured accordingly.
A30: OCP.05 | B30: Execution: Supplier selection process is shared and formally approved - supplier mapping which lists pre-selected suppliers is formalized, shared with the project team and with the commodity management for the Do decision - supplier allocation is formalized and OCP concentration report with K&C suppliers is performed for the Implement decision
B31: 1 : No formal supplier mapping & OCP concentration report 2 : Supplier mapping & OCP concentration report are performed on major projects only, 3 : Supplier mapping & OCP concentration report are performed on all projects 4 : Supplier mapping & OCP concentration report are performed on all projects and OCP concentration report is updated every quarter
A32: OCP.06 | B32: Execution: Product Evolution Process (PEP) consistency within OCP : Every product definition file must be transferred at the end of the Project Management Process (PMP) between the PRODUCE Stage Gate and the CLOSE. The Continuous Engineering team must be trained and the first request coming from the PMP team must be entered into the standard PEP project management tool (see intranet for details). For any subsitution project in PMP a Product Withdrawal Process (PWP) must be synchronized.
B33: 1 : No formal links between PMP, PEP and PWP 2 : No transfer of product file in PEP during SELL of PMP, no PWP initiated for substitution project in PMP 3 : Transfer from PMP to PEP is formal and the hand off is documented 4 : Transfer from PMP to PEP and links between PMP and PWP is planned and tracked. The TEMPO project management tool is used to enter the initial PMP request into PEP.
A34: OCP.07 | B34: Execution: Manufacturing Plants involvement : Manufacturing plants have an important role within the PEP. They are involved before DO in order to be sure that DO decision is done with all information, including the effective date. And they participate to every stage gates
B35: 1 : No visibility about readiness of Manufacturing plants on PCE portfolio. 2 : Manufacturing plants commit on effectivity date at DO or participate to the SELL Stage Gates 3 : Manufacturing plants commit on effectivity date at DO and participate to the SELL Stage Gates 4 : Manufacturing plants commit on effectivity date at DO and participate to the SELL and CLOSE Stage Gates
A36: OCP.08 | B36: Execution: Agreement on Launches between Businesses (BU) and Major countries: Businesses and Countries have to find an agreement when launching a new offer. CoLa is the standardized information system to systematize and structure this dialog between a Business and its major Countries.
B37: 1 - BU and Countries usually do not share written forecast about new launches 2 - BU and Countries usually share forecasts about new Launches; forecasts may not be validated by management; scope and format of forecasts are free. For organizations using CoLa, the Countries commitment rate (KPI #5) should be at least 50%. 3 - Forecasts from Countries are approved by Country management, and are consolidated at project level in BU. The organization uses CoLa, and the Countries reply rate (KPI #5) should be at least 75%. 4 - Agreements with countries are formalized and committed by Country managers. Commitments (or gaps) are used to drive project decisions (Go/NoGo, specific actions plans, etc.) and impact the project objectives at the DO decision. In CoLa, the rate of agreements confirmed for the entity (KPI#6) should be at least 75%.
A38: OCP.09 | B38: Monitoring: Project Portfolio reviews are regularly performed Resource allocation on projects, time deviation & projects synchronization are regularly reviewed by BU Management meeting in order to arbitrate between projects
B39: 1 - No formalized and single portfolio 2 - Single portfolio exists and is regularly updated, but no arbitration through dedicated committee 3 - Single portfolio exists, regularly updated, and arbitration through dedicated committee is systematically performed 4 - Full usage of SPoT system for Business Reviews and/or Projects/Portfolio Reviews
A40: OCP.10 | B40: Monitoring: Projects profitability is regularly followed-up Through Return On Investment (ROI)
...

Sheet KICs Rating (2)
B1: ALL | K1: ALL
I2: #NA
B3: HFM Code | C3: =Identity!E4 -> 0 | I3: 1 | K3: =Identity!C47&" "&Identity!E47 -> Sales & Marketing 2
B4: Name of the Entity | C4: =Identity!E6 -> 0 | I4: 2 | K4: =Identity!C48&" "&Identity!E48 -> Purchasing 3
I5: 3 | K5: =Identity!C49&" "&Identity!E49 -> Manufacturing 4
A6: people | B6: Control Environment | D6: Rating | E6: Efficiency | F6: Control description | G6: Attachment | I6: 4 | K6: =Identity!C50&" "&Identity!E50 -> Logistics 5
A7: =Identity!$C$46&" "&Identity!$E$46 -> Control Environment 1 | B7: CE.01 | C7: Wording and Notation Guide lines have been revised, Risk assessment and Progress Plan templates provided. Please revise rating and description accordingly Our Principles of Responsibility are widely communicated to the employees in the local language(s). The General Manager of the entity is implementing a progress plan in order to ensure the PoR are respected. | K7: =Identity!C51&" "&Identity!E51 -> Customer Projects Execution 6
A8: =Identity!$C$46&" "&Identity!$E$46 -> Control Environment 1 | C8: 1 - One or more of the points needed for rating 2 is missing 2 - The Group Principles of responsibility have been communicated to all employees in the entity. The Group Principles of Responsibility have been translated in local language(s) ), when relevant All new employees receive a copy of the PoR A PoR clause is included in all new employment contracts PoR have been included as part of the induction or training program 3 - in addition: A formal Risk Assessment has been completed at the country level A PoR Progress Plan has been prepared at the country level Both the Risk Assessment and the PoR Progress Plan are reviewed at least annually There is a link on the local Intranet to the PoR on the Corporate PoR Intranet 4 - in addition: The PoR Progress Plan is reviewed at least quarterly Your local Intranet Home Page includes a link to specific local ethical examples | K8: =Identity!C52&" "&Identity!E52 -> R&D 7
A9: =Identity!$C$46&" "&Identity!$E$46 -> Control Environment 1 | B9: CE.02 | C9: Wording and Notation Guide lines have been revised, Template completed with Solutions rules. Please complete CoA, revise rating and description accordingly A Chart of Authority exists and is communicated, defining the level of approbation required for the main operations of the entity (at least 53 business decisions listed in attachment). | K9: =Identity!C53&" "&Identity!E53 -> HR 8
A10: =Identity!$C$46&" "&Identity!$E$46 -> Control Environment 1 | C10: 2 - a Chart of Authority (CoA) is defined, for the main operations of the entity (at least 53 business decisions listed in attachment) 3 - in addition: - The limits set in the CoA have been instructed or approved by the hierarchy or the Head of Management Entity. - The CoA defines approval flow for each business decision, mentioning approving positions. - The CoA communicated to all Managerial levels at each release. - The nominative list of people occupying the positions mentioned in the CoA updated with every personal move (in, out, internal move). 4 - in addition - The successive versions of the nominative list are filed for 5 years & can be retrieved upon a posteriori control. - In case of absence of an approver, a process is defined for day to day decisions, and a formal temporary delegation is formalized and filed for main approvers' long absence - Yearly, a random control is performed to check the CoA is strictly applied | K10: =Identity!C54&" "&Identity!E54 -> IT 9
A11: =Identity!$C$46&" "&Identity!$E$46 -> Control Environment 1 | B11: CE.03 | C11: Notation Guide lines have been revised, SoD matrix has been completed. Please revise Matrix, rating and description accordingly Duties are properly segregated between employees. A Segregation of Duties (SoD) analysis is performed and formalized in order to emphasize potential risk areas where mitigating controls (reviews, log analysis …) are then implemented. | K11: =Identity!C55&" "&Identity!E55 -> Accounting 10
A12: =Identity!$C$46&" "&Identity!$E$46 -> Control Environment 1 | C12: 1 - One or more of the points needed for rating 2 is missing 2 - The SoD Matrix is drawn for each person performing Purchasing/Procurement, Finance, Sales operations, using the Group SoD Matrix. The SoD Matrix shows no high SoD risks in Purchasing/Procurement, Finance, Sales operations, OR mitigating controls are defined and implemented for those high conflicts. 3 - in addition: The SoD Matrix is drawn for each person performing Payroll/HR, Inventory, IT operations using the Group SoD Matrix. The SoD Matrix shows no high SoD risks in Payroll/HR, Inventory, IT operations , OR mitigating controls are defined and implemented for those high conflicts. The SOD matrix has been reviewed less than 2 years ago. 4 - in addition: The SoD Matrix is drawn for each person performing any operation in the entity, using the Group SoD Matrix. The SoD Matrix shows no high SoD risks in any operation, OR mitigating controls are defined and implemented for those high conflicts. There is a process to review the SoD matrix once a year. Twice a year, a random control is perfomed to check the mitigating controls are properly implemented | K12: =Identity!C56&" "&Identity!E56 -> Controlling 11
A13: =Identity!$C$46&" "&Identity!$E$46 -> Control Environment 1 | B13: CE.041 | C13: Applicable to all sites, including Joint Ventures - A risk assessment is performed, updated yearly and reported: Risks which could impact your organization are identified Buildings, equipment, processes, functions which would be adversely impacted by those risks are identified The impact on Local and Group results and reputation is assessed - Solutions for reducing such impact are developed | K13: =Identity!C57&" "&Identity!E57 -> Tax & Legal 12
A14: =Identity!$C$46&" "&Identity!$E$46 -> Control Environment 1 | C14: 1- Nothing is done 2-All potential man-made hazards (fire, theft, vehicle impact, fraud, vandalism,…) or natural disasters (flood, earthquake, lightning,…) are identified -All elements on site which could be adversely impacted are identified (buildings, equipment, process, functions, documents ,…) -The risk assessment is updated yearly 3- In addition, -All elements off-site which could be adversely impacted are identified -The consequences on the site activity are described and measured -All key functions (production, maintenance, finance, human resources, quality, crisis management,…) and the crisis management team are involved in the risk analysis -The risk assessment is updated at each significant change in the environment and/or organization of the site 4- In addition, Solutions are developed to prevent and/or reduce the risks having the most negative impact -All potential economical perils ( strikes, inflation, change in regulations, loss of key suppliers,…) are identified -The overall impact on the Group results or reputation is identified and reported to upper level -The risk assessment results are reported to management | K14: =Identity!C58&" "&Identity!E58 -> Cash 13
A15: =Identity!$C$46&" "&Identity!$E$46 -> Control Environment 1 | B15: CE.042 | C15: Former KICs Business Continuity Plan has been split Applicable to all entities, including Joint Ventures Crisis Management preparedness plan does exist for the entity. It is regularly updated and all concerned managers are aware about it. A Business Continuity Plan (BCP) does exist for “Pandemic” conditions (high level of absenteeism). It is regularly updated, safely stored and all concerned managers know it. | K15: =Identity!C59&" "&Identity!E59 -> Credit 14
A16: =Identity!$C$46&" "&Identity!$E$46 -> Control Environment 1 | C16: 1- Nothing is done 2- A Crisis Management preparedness plan can be provided for the entity. 3- In addition, -A BCP “Pandemic” can be provided for the entity. -The BCP « Pandemic » is stored in the Corporate Global BCM database 4 In addition, -The Crisis Management preparedness plan has been updated less than 2 years ago -The BCP “Pandemic” has been updated less than 2 years ago. - The last Crisis Management or BCP exercise was held under 3 years. | K16: =Identity!C60&" "&Identity!E60
A17: =Identity!$C$46&" "&Identity!$E$46 -> Control Environment 1 | B17: CE.043 | C17: Former KIC BCP has been split For the sites identified in the scope, an Industrial BCP exists, is deployed, maintained and tested, The BCP is available in local language & English, easily accessible and saved in the dedicated central database
A18: =Identity!$C$46&" "&Identity!$E$46 -> Control Environment 1 | C18: 1- An action plan to mitigate against major risks is defined & followed 2- A business impact analysis determines continuity & recovery objectives for critical activities including local IT. (recovery time objective, maximum acceptable outage) - An Industrial Business Continuity Plan exists -The BCP is updated at least yearly . Update is traceable, available & adequately protected. 3- In addition - The BCP is available in local language & English -The BCP including local IT BIA is stored on the dedicated BCM server (https://sitebcm.org) & crisis management team is able to easily access & retrieve it (Internet access only required) -A communication plan to develop business continuity culture & awareness is performed 4- In addition, - Training, exercises & tests are conducted at planned intervals - BCP is monitored & evaluated (internal audits, management reviews ..), Lessons from exercises & actual incidents are reviewed
A19: =Identity!$C$46&" "&Identity!$E$46 -> Control Environment 1 | B19: CE.05 | C19: Retention of documents, records (including computer programs and data files): clear guidelines exist and are applied, in line with local regulations and business requirements for each process. Transfer Prices computation and relating documentation: retention period is 10years.
C20: 1 - There is no retention policy 2 - There are retention policies in the different departments, yet - they are not formalized - or if formalized, they are not gathered in one single policy for the entity - or some are not properly implemented 3 - A global retention policy is written for all domains concerned (legal, sales, accounting, taxes, quality etc…) and communicated. It is in line minimum with group requirements in terms of retention periods where there is a group requirement, and it is in line minimum with local regulatory requirements. Each concerned function implement it properly. 4 - A global retention policy is written for all domains concerned (legal, sales, accounting, taxes, quality etc…) and communicated. It is in line minimum with group requirements in terms of retention periods where there is a group requirement, and it is in line minimum with local regulatory requirements. Each concerned function implement it properly. There is a yearly process to review and adapt (if necessary) the policy (legal + Finance)
B21: Offer Creation Process
B22: OCP.01 | C22: Anticipation: A formalized process for ideas priorization is implemented, based upon shared business criteria and performed by a multi-fonctions team of managers. The Core business process Offer & Technology Management (OTM) fuels the project engine machine by: - studying market and customer - anticipating technologies - defining the strategy of offer development - planning solution & products roadmap and resulting projects opening through a priorization process.
C23: 1 - No formalized process for ideas prioritization; 2 - Collecting of ideas is organized, but ranking and selecting are not based upon shared business criteria and/or not performed by a multi-functions team of managers 3 - Formalized process for ideas prioritization is implemented, based upon shared business criteria and performed by a multi-functions team of managers 4 - Full usage of SPoT Strategic Portfolio Management system for Ideas prioritization
B24: OCP.02 | C24: Anticipation: Opening of major project is secured by a "30mn to convince step. 30mn to convince step includes: 1 - alignment: is the project an opportunity of obligation for = S =. 2 - Customer values: why the project is attractive to the maket, and how it addresses the customer' needs 3 - Risks: why the project is ready for opening according to the risks identified 4 - Resources & Skills: why the project is ready for opening according to ressources availability
C25: 1 - No 30' to convince usage 2 - 30' to convince used on some "New" type projects 3 - 30' to convince used systematically on all elected "New" type projects according to the Chart of Authority, in a dedicated pluri-disciplinary committee
B26: OCP.03 | C26: Execution: Projects risks and mitigation plans are systematically followed-up
C27: 1 - No formal Risk Assessment with a Risk Register 2 - Risk Assessment performed on major projects with a Risk Register 3 - Risk Assessment performed on major projects with a Risk Register updated at least before each Stage Gate and presented to the PSC 4 - Risk Assessment performed on all projects with a Risk Register updated at least before each Stage Gate and presented to the PSC
B28: OCP.04 | C28: Execution: A project contract book is shared and formally approved at <Do>. Contract book including all or part of the following items, according to project context: - Finalize project management plan with regard to project scope, organization, cost, schedule, risk and quality management - Dig into the risk status, to measure the feasibility and the viability on the market place and check there is no critical issue - Complete product & system requirements and finalize design, supply chain and quality specifications and list of Consistency Rules to be applied for the product - Prepare test strategy including validation plan (field tests, certification, ...) and verification plan - Finalize project financial assessment (BCFE) - Prepare industrial locations and supply chain organization - Prepare design resource center allocation - Get countries commitments to support launch and sales - Push Country Offer Introduction Process (COIN) initiation in countries
C29: 1 - No formal Contract book is done 2 - Informal Contract book is presented and/or not for all projects 3 - Standard and formal Contract book is presented, decision is made by managers within Steering Committee defined at <Open> 4 - Teams have a clear sense of commitment associated with the objectives defined in the contract book, and their performances are measured accordingly.
B30: OCP.05 | C30: Execution: Supplier selection process is shared and formally approved - supplier mapping which lists pre-selected suppliers is formalized, shared with the project team and with the commodity management for the Do decision - supplier allocation is formalized and OCP concentration report with K&C suppliers is performed for the Implement decision
C31: 1 : No formal supplier mapping & OCP concentration report 2 : Supplier mapping & OCP concentration report are performed on major projects only, 3 : Supplier mapping & OCP concentration report are performed on all projects 4 : Supplier mapping & OCP concentration report are performed on all projects and OCP concentration report is updated every quarter
B32: OCP.06 | C32: Execution: Product Evolution Process (PEP) consistency within OCP : Every product definition file must be transferred at the end of the Project Management Process (PMP) between the PRODUCE Stage Gate and the CLOSE. The Continuous Engineering team must be trained and the first request coming from the PMP team must be entered into the standard PEP project management tool (see intranet for details). For any subsitution project in PMP a Product Withdrawal Process (PWP) must be synchronized.
C33: 1 : No formal links between PMP, PEP and PWP 2 : No transfer of product file in PEP during SELL of PMP, no PWP initiated for substitution project in PMP 3 : Transfer from PMP to PEP is formal and the hand off is documented 4 : Transfer from PMP to PEP and links between PMP and PWP is planned and tracked. The TEMPO project management tool is used to enter the initial PMP request into PEP.
B34: OCP.07 | C34: Execution: Manufacturing Plants involvement : Manufacturing plants have an important role within the PEP. They are involved before DO in order to be sure that DO decision is done with all information, including the effective date. And they participate to every stage gates
C35: 1 : No visibility about readiness of Manufacturing plants on PCE portfolio. 2 : Manufacturing plants commit on effectivity date at DO or participate to the SELL Stage Gates 3 : Manufacturing plants commit on effectivity date at DO and participate to the SELL Stage Gates 4 : Manufacturing plants commit on effectivity date at DO and participate to the SELL and CLOSE Stage Gates
B36: OCP.08 | C36: Execution: Agreement on Launches between Businesses (BU) and Major countries: Businesses and Countries have to find an agreement when launching a new offer. CoLa is the standardized information system to systematize and structure this dialog between a Business and its major Countries.
C37: 1 - BU and Countries usually do not share written forecast about new launches 2 - BU and Countries usually share forecasts about new Launches; forecasts may not be validated by management; scope and format of forecasts are free. For organizations using CoLa, the Countries commitment rate (KPI #5) should be at least 50%. 3 - Forecasts from Countries are approved by Country management, and are consolidated at project level in BU. The organization uses CoLa, and the Countries reply rate (KPI #5) should be at least 75%. 4 - Agreements with countries are formalized and committed by Country managers. Commitments (or gaps) are used to drive project decisions (Go/NoGo, specific actions plans, etc.) and impact the project objectives at the DO decision. In CoLa, the rate of agreements confirmed for the entity (KPI#6) should be at least 75%.
B38: OCP.09 | C38: Monitoring: Project Portfolio reviews are regularly performed Resource allocation on projects, time deviation & projects synchronization are regularly reviewed by BU Management meeting in order to arbitrate between projects
C39: 1 - No formalized and single portfolio 2 - Single portfolio exists and is regularly updated, but no arbitration through dedicated committee 3 - Single portfolio exists, regularly updated, and arbitration through dedicated committee is systematically performed 4 - Full usage of SPoT system for Business Reviews and/or Projects/Portfolio Reviews
B40: OCP.10 | C40: Monitoring: Projects profitability is regularly followed-up Through Return On Investment (ROI)
...

Sheet =
