Workbook

Sheet Feuil1
A1: Siret | B1: Ape | C1: Nom | D1: Adr1 | E1: Adr2 | F1: CP | G1: Ville | H1: Departement | I1: Base | J1: Observations | K1: Contact | L1: COURRIER | M1: Verseur TA | N1: EnchargedelaTA | O1: Civilité | P1: Nom2 | Q1: Prenom | R1: Poste | S1: TEL_NEW | T1: Téléphone | U1: Column1 | V1: Email Pro | W1: Envoi du Bordereau TA | X1: Gestionnaire | Y1: PHONING | Z1: ACTION TA menée par | AA1: Date action | AB1: Type action | AC1: Interlocuteur | AD1: Résultat action | AE1: Date Prochaine action | AF1: Montant TA | AG1: Commentaires
A2: 78161993700019 | B2: 43 | C2: CORNET ETS | D2: BP 447 | F2: 45300 | G2: PITHIVIERS | H2: 45 | I2: YPAREO IDF | L2: DCR | S2: =VLOOKUP(A:A,Feuil2!E:F,2) -> 02.38.80.00.22 | T2: 02.54.03.62.100 | Y2: CFA IDF
B3: 8 | C3: COTART location et déménagement | D3: 58 RUE BRANLY | F3: 93700 | G3: DRANCY | H3: 93 | I3: YPAREO IDF | L3: DCR | S3: =VLOOKUP(A:A,Feuil2!E:F,2) -> #N/A | T3: 02.54.03.62.101 | Y3: CFA IDF
A4: 30658980500036 | B4: 59 | C4: CPL | D4: 241 Chemin du Loup | F4: 93421 | G4: VILLEPINTE | H4: 93 | I4: YPAREO IDF | L4: DCR | S4: =VLOOKUP(A:A,Feuil2!E:F,2) -> 02.54.03.62.24 | T4: 02.54.03.62.102 | Y4: CFA IDF
A5: 52290767400017 | B5: 2 | C5: CR LOCATION | D5: 1 ROUTE DU BASSIN N°5 | F5: 92230 | G5: GENNEVILLIERS | H5: 92 | I5: YPAREO IDF | L5: DCR | S5: =VLOOKUP(A:A,Feuil2!E:F,2) -> 02.54.60.22.80 | T5: 02.54.03.62.103 | Y5: CFA IDF
A6: 72205695900033 | B6: 33 | C6: CST TRANSPORTS | D6: 29 RUE GAY LUSSAC | F6: 95500 | G6: GONESSE | H6: 95 | I6: YPAREO IDF | L6: DCR | S6: =VLOOKUP(A:A,Feuil2!E:F,2) -> 01.53.78.08.36 | T6: 02.54.03.62.104 | Y6: CFA IDF
A7: 37833146600060 | B7: 3 | C7: CYBERCOMMERCE.FR | D7: 66 rue de Cléry | F7: 75002 | G7: PARIS | H7: 75 | I7: YPAREO IDF | L7: DCR | S7: =VLOOKUP(A:A,Feuil2!E:F,2) -> 02.54.82.41.33 | T7: 02.54.03.62.105 | Y7: CFA IDF
A8: 54665033401279 | B8: 64 | C8: DACHSER FRANCE | D8: ROUTE DE COURTRY | F8: 77270 | G8: VILLEPARISIS | H8: 77 | I8: YPAREO IDF | L8: DCR | S8: =VLOOKUP(A:A,Feuil2!E:F,2) -> 02.54.60.22.80 | T8: 02.54.03.62.106 | Y8: CFA IDF
A9: 54665033401295 | B9: 3107 | C9: DACHSER FRANCE | D9: 3 AVENUE DES FRERES LUMIERE | F9: 95190 | G9: GOUSSAINVILLE | H9: 95 | I9: YPAREO IDF | L9: DCR | S9: =VLOOKUP(A:A,Feuil2!E:F,2) -> 02.54.60.22.80 | T9: 02.54.03.62.107 | Y9: CFA IDF
A10: 54665033401626 | B10: 2 | C10: DACHSER FRANCE LOGISTIQUE | D10: ZI PORTE OUEST - PARC CERGY 8 | F10: 95480 | G10: PIERRELAYE | H10: 95 | I10: YPAREO IDF | L10: DCR | S10: =VLOOKUP(A:A,Feuil2!E:F,2) -> 02.54.60.22.80 | T10: 02.54.03.62.108 | Y10: CFA IDF
A11: 6880305500497 | B11: 114 | C11: DAHER INTERNATIONAL | D11: ZI De Moimont II - BAT E | F11: 95670 | G11: MARLY LA VILLE | H11: 95 | I11: YPAREO IDF | L11: DCR | S11: =VLOOKUP(A:A,Feuil2!E:F,2) -> #N/A | T11: 02.54.03.62.109 | Y11: CFA IDF
A12: 44909757500012 | B12: 46 | C12: DAVIS 28 | D12: Parc Euroval | F12: 28630 | G12: FONTENAY SUR EURE | H12: 28 | I12: YPAREO IDF | L12: DCR | S12: =VLOOKUP(A:A,Feuil2!E:F,2) -> 02.54.60.22.80 | T12: 02.54.03.62.110 | Y12: CFA IDF
A13: 41302718600024 | B13: 100 | C13: DERICHEBOURG ENVIRONNEMENT | D13: ZI Val de Seine | F13: 92396 | G13: VILLENEUVE LA GARENNE CDX | H13: 92 | I13: YPAREO IDF | L13: DCR | S13: =VLOOKUP(A:A,Feuil2!E:F,2) -> 01.64.72.04.05 | T13: 02.54.03.62.111 | Y13: CFA IDF
A14: 41308715600274 | B14: 30 | C14: DERICHEBOURG ENVIRONNEMENT | D14: 138 chemin des Vignes | F14: 93000 | G14: BOBIGNY | H14: 93 | I14: YPAREO IDF | L14: DCR | S14: =VLOOKUP(A:A,Feuil2!E:F,2) -> 01.64.72.04.05 | T14: 02.54.03.62.112 | Y14: CFA IDF
A15: 75004394500021 | B15: 160 | C15: DERICHEBOURG POLYAMON | D15: CHEMIN DES GARDES DU CORPS | F15: 77500 | G15: CHELLES | H15: 77 | I15: YPAREO IDF | L15: DCR | S15: =VLOOKUP(A:A,Feuil2!E:F,2) -> 01.53.78.08.36 | T15: 02.54.03.62.113 | Y15: CFA IDF
... A27: 35600000044427 | B27: 3400 | C27: DOTC PARIS NORD - LA POSTE PDC 19 | D27: 18 BD DE LA CHAPELLE | F27: 75877 | G27: PARIS CEDEX 18 | H27: 75 | I27: YPAREO IDF | L27: DCR | S27: =VLOOKUP(A:A,Feuil2!E:F,2) -> 02.54.82.41.33 | T27: 02.54.03.62.125 | Y27: CFA IDF
A28: 53753319200010 | C28: DOUGY TRANS | D28: 28 BOULEVARD SAINT SAENS | F28: 77185 | G28: LOGNES | H28: 77 | I28: YPAREO IDF | L28: DCR | S28: =VLOOKUP(A:A,Feuil2!E:F,2) -> 02.54.60.22.80 | T28: 02.54.03.62.126 | Y28: CFA IDF
A29: 48353271900018 | B29: 2 | C29: DVI SARL | D29: ZI La Bezardière | F29: 41200 | G29: VILLEFRANCHE SUR CHER | H29: 41 | I29: YPAREO IDF | L29: DCR | S29: =VLOOKUP(A:A,Feuil2!E:F,2) -> 02.54.60.22.80 | T29: 02.54.03.62.127 | Y29: CFA IDF
A30: 44150730800035 | B30: 16 | C30: DYTRANS | D30: 44 RUE MAURICE DE BROGLIE | F30: 93600 | G30: AULNAY SOUS BOIS | H30: 93 | I30: YPAREO IDF | L30: DCR | S30: =VLOOKUP(A:A,Feuil2!E:F,2) -> 01.64.72.04.05 | T30: 02.54.03.62.128 | Y30: CFA IDF
A31: 33094312700051 | B31: 35 | C31: E.S.I | D31: 2 RUE DU MEUNIER | F31: 95700 | G31: ROISSY | H31: 95 | I31: YPAREO IDF | L31: DCR | S31: =VLOOKUP(A:A,Feuil2!E:F,2) -> 02.54.03.62.24 | T31: 02.54.03.62.129 | Y31: CFA IDF
A32: 33094312700044 | B32: 30 | C32: E.S.I | F32: 95700 | G32: ROISSY EN FRANCE | H32: 95 | I32: YPAREO IDF | L32: DCR | S32: =VLOOKUP(A:A,Feuil2!E:F,2) -> 02.54.03.62.24 | T32: 02.54.03.62.130 | Y32: CFA IDF
A33: 54204053000132 | B33: 210 | C33: EAU ET FORCE | D33: 1 RUE DES GRANDS PRES | F33: 92000 | G33: NANTERRE | H33: 92 | I33: YPAREO IDF | L33: DCR | S33: =VLOOKUP(A:A,Feuil2!E:F,2) -> 02.54.60.22.80 | T33: 02.54.03.62.131 | Y33: CFA IDF
A34: 67201002200032 | B34: 34 | C34: EAU ET VAPEUR SAS | D34: 2 RUE CHARLES CHRISTOFLE | F34: 93200 | G34: SAINT DENIS | H34: 93 | I34: YPAREO IDF | L34: DCR | S34: =VLOOKUP(A:A,Feuil2!E:F,2) -> 01.53.78.08.36 | T34: 02.54.03.62.132 | Y34: CFA IDF
A35: 44404716100039 | B35: 14 | C35: ECOLOTRANS | D35: 65 RUE BARON LE ROY | F35: 75019 | G35: PARIS | H35: 75 | I35: YPAREO IDF | L35: DCR | S35: =VLOOKUP(A:A,Feuil2!E:F,2) -> 01.64.72.04.05 | T35: 02.54.03.62.133 | Y35: CFA IDF
A36: 54208590700013 | B36: 177 | C36: ECONOMAT DES ARMEES | D36: 26 RUE DELIZY | F36: 93500 | G36: PANTIN | H36: 93 | I36: YPAREO IDF | L36: DCR | S36: =VLOOKUP(A:A,Feuil2!E:F,2) -> 02.54.60.22.80 | T36: 02.54.03.62.134 | Y36: CFA IDF
A37: 55208131740097 | B37: 927 | C37: EDF DPI | D37: 35 RUE DE GENEVE | F37: 93120 | G37: LA COURNEUVE | H37: 93 | I37: YPAREO IDF | L37: DCR | S37: =VLOOKUP(A:A,Feuil2!E:F,2) -> 02.54.60.22.80 | T37: 02.54.03.62.135 | Y37: CFA IDF
A38: 52918662900018 | B38: 1 | C38: EM classe services | D38: 113 RUE D ESTIENNE D ORVES | F38: 93110 | G38: ROSNY SOUS BOIS | H38: 93 | I38: YPAREO IDF | L38: DCR | S38: =VLOOKUP(A:A,Feuil2!E:F,2) -> 02.54.60.22.80 | T38: 02.54.03.62.136 | Y38: CFA IDF
A39: 44460844211015 | B39: 374 | C39: ERDF | D39: 9 RUE DES OZIERS BAT B | F39: 95583 | G39: SAINT OUEN L'AUMONE | H39: 95 | I39: YPAREO IDF | L39: DCR | S39: =VLOOKUP(A:A,Feuil2!E:F,2) -> 01.64.72.04.05 | T39: 02.54.03.62.137 | Y39: CFA IDF
A40: 30678243400154 | B40: 0 | C40: ESPACE VI 77 | D40: 6, rue de Villevaudé | F40: 77270 | G40: VILLEPARISIS | H40: 77 | I40: YPAREO IDF | L40: DCR | S40: =VLOOKUP(A:A,Feuil2!E:F,2) -> 02.54.03.62.24 | T40: 02.54.03.62.138 | Y40: CFA IDF
A41: 47835575300011 | B41: 126 | C41: ETAM LINGERIE | D41: 57-59 HENRI BARBUSSE | F41: 92614 | G41: CLICHY | H41: 92 | I41: YPAREO IDF | L41: DCR | S41: =VLOOKUP(A:A,Feuil2!E:F,2) -> 02.54.60.22.80 | T41: 02.54.03.62.139 | Y41: CFA IDF
A42: 32729920200025 | B42: 30 | C42: ETPS | D42: ZI Les Châtaigniers II | F42: 95150 | G42: TAVERNY | H42: 95 | I42: YPAREO IDF | L42: DCR | S42: =VLOOKUP(A:A,Feuil2!E:F,2) -> 02.54.03.62.24 | T42: 02.54.03.62.140 | Y42: CFA IDF
A43: 32072409900025 | B43: 9 | C43: ETS HUBERT YVES | D43: ZONE INDUSTRIELLE - BP N° 20 | F43: 28800 | G43: BONNEVAL | H43: 28 | I43: YPAREO IDF | L43: DCR | S43: =VLOOKUP(A:A,Feuil2!E:F,2) -> 02.54.03.62.24 | T43: 02.54.03.62.141 | Y43: CFA IDF
A44: 30409592000035 | B44: 27 | C44: ETS SERVAES | D44: 1 CHEMIN DE SAINT PRIX | F44: 95270 | G44: BELLOY EN FRANCE | H44: 95 | I44: YPAREO IDF | L44: DCR | S44: =VLOOKUP(A:A,Feuil2!E:F,2) -> 02.54.03.62.24 | T44: 02.54.03.62.142 | Y44: CFA IDF
A45: 48089065600162 | C45: EURO CARGO RAIL | D45: 25 PLACE DE LA MADELEINE | F45: 75008 | G45: PARIS | H45: 75 | I45: YPAREO IDF | L45: DCR | S45: =VLOOKUP(A:A,Feuil2!E:F,2) -> 02.54.60.22.80 | T45: 02.54.03.62.143 | Y45: CFA IDF
A46: 33822057700021 | B46: 13 | C46: EURO POIDS LOURDS OUEST | D46: RN 10 | F46: 28630 | G46: NOGENT LE PHAYE | H46: 28 | I46: YPAREO IDF | L46: DCR | S46: =VLOOKUP(A:A,Feuil2!E:F,2) -> 02.54.03.62.24 | T46: 02.54.03.62.144 | Y46: CFA IDF
A47: 35238371500039 | B47: 100 | C47: EUROCOPTER | D47: 2 À 20 AVENUE MARCEL CACHIN | F47: 93123 | G47: LA COURNEUVE | H47: 93 | I47: YPAREO IDF | L47: DCR | S47: =VLOOKUP(A:A,Feuil2!E:F,2) -> 02.54.82.41.33 | T47: 02.54.03.62.145 | Y47: CFA IDF
A48: 33006588900082 | B48: 49 | C48: EUROFLASH DEMENAGEMENTS | D48: 7 RUE MAURICE PAILLARD | F48: 93430 | G48: VILLETANEUSE | H48: 93 | I48: YPAREO IDF | L48: DCR | S48: =VLOOKUP(A:A,Feuil2!E:F,2) -> 02.54.03.62.24 | T48: 02.54.03.62.146 | Y48: CFA IDF
B49: 33 | C49: EVIDENCE MOBILIERS | D49: ZI DE LA PRAIRIE | F49: 91958 | G49: VILLEBON SUR YVETTE | H49: 91 | I49: YPAREO IDF | L49: DCR | S49: =VLOOKUP(A:A,Feuil2!E:F,2) -> #N/A | T49: 02.54.03.62.147 | Y49: CFA IDF
A50: 34250248100019 | B50: 49 | C50: FAL Industrie | D50: 9 RUE DE LA BRIQUETERIE | F50: 95380 | G50: LOUVRES | H50: 95 | I50: YPAREO IDF | L50: DCR | S50: =VLOOKUP(A:A,Feuil2!E:F,2) -> 02.54.82.41.33 | T50: 02.54.03.62.148 | Y50: CFA IDF
A51: 53887410800011 | B51: 2 | C51: FAST-COURSES | D51: 28 RUE HENRI FARMANN | F51: 93290 | G51: TREMBLAY EN FRANCE | H51: 93 | I51: YPAREO IDF | L51: DCR | S51: =VLOOKUP(A:A,Feuil2!E:F,2) -> 02.54.60.22.80 | T51: 02.54.03.62.149 | Y51: CFA IDF
...

Sheet Feuil2
A1: NOM_ENTREPRISE | B1: NOM_CONVENTION_COLLECTIVE | C1: CODE_NAF_2008_ENTREPRISE | D1: EFFECTIF_ENTREPRISE | E1: SIRET_ENTREPRISE | F1: TELEPHONE_ENTREPRISE | G1: ADR1_ENTREPRISE | H1: CP_ENTREPRISE | I1: VILLE_ENTREPRISE | J1: CIVILITE_RESPONSABLE_ENTREPRIS | K1: NOM_RESPONSABLE_ENTREPRISE | L1: PRENOM_RESPONSABLE_ENTREPRISE
A2: 12EME BASE DE SOUTIEN DU MATERIEL | C2: 0000Z | D2: 0 | E2: 18360065900019 | F2: 02.54.03.62.24 | G2: ROUTE DU CAMP | H2: 36100 | I2: NEUVY PAILLOUX
A3: AB AUTO | G3: 28 ZVENUE LENINE | H3: 93380 | I3: PIERREFITTE SUR SEINE
A4: ABCD INTERNATIONAL | B4: Convention collective des ouvriers, employés, techniciens et agents de maîtrise des industries métallurgiques, mécaniques et connexes de la région parisienne | C4: 2511Z | D4: 70 | E4: 39177888300069 | F4: 01.69.02.44.00 | G4: 4-6 RUE DES CARRIERS ITALIENS | H4: 91350 | I4: GRIGNY
A5: ACTI FRET | B5: Convention collective nationale des transports routiers et activités auxiliaires du transport | C5: 5229B | D5: 6 | E5: 38845168400061 | F5: 01.78.78.72.78 | G5: 14 PLACE GEORGES POMPIDOU | H5: 93160 | I5: NOISY LE GRAND
A6: AD PL PAC 95 | B6: Convention collective nationale des commerces de gros | C6: 4531Z | D6: 27 | E6: 31549327000187 | F6: 01.34.04.15.15 | G6: 2 RUE DE LA FOSSE GUERIN | H6: 95200 | I6: SARCELLES
A7: ADC | B7: Convention collective des ouvriers, employés, techniciens et agents de maîtrise des industries métallurgiques, mécaniques et connexes de la région parisienne | C7: 4673A | D7: 19 | E7: 50204810100013 | F7: 01.39.33.18.66 | G7: 14 rue Jacques Robert | H7: 95500 | I7: LE THILLAY
A8: ADEXCEL | D8: 3030 | E8: 50257814900051 | F8: 01.39.33.35.30 | G8: 32 RUE GUSTAVE EIFFEL | H8: 95190 | I8: GOUSSAINVILLE
A9: AFFRETEMENTS LOTS MARCHANDISES | B9: Convention collective nationale des transports routiers et activités auxiliaires du transport | C9: 5210B | D9: 3 | E9: 38782926000026 | F9: 03.20.32.70.00 | G9: 4 RUE DE LORIVAL | H9: 59472 | I9: SECLIN
A10: AFIBEL SA | B10: Convention collective nationale des entreprises de vente à distance | C10: 5229B | E10: 31436004100102 | F10: 03.20.41.56.40 | G10: RUE DU GRAND RUAGE | H10: 59493 | I10: VILLENEUVE D'ASCQ
A11: AGC AUTOMOTIVE EUROPE | C11: 4791B | D11: 266 | E11: 72204385800082 | F11: 03.27.93.62.23 | G11: Rue de la Verrerie d'En Bas | H11: 59580 | I11: ANICHE
A12: AGEFIPH | C12: 2311Z | E12: 34995887600188 | F12: 08.11.37.38.39 | G12: 192-198 AVENUE ARISTIDE BRIAND | H12: 92220 | I12: BAGNEUX | J12: Madame | K12: ALVAREZ | L12: Olga
A13: AIR LIQUIDE | E13: 55209628100415 | F13: 04.72.09.29.88 | G13: 2 RUE DU SAUZET | H13: 69320 | I13: FEYZIN | J13: Messieurs | K13: PICHOTIN | L13: Valérie
A14: AIRCELLE GROUPE SAFRAN | B14: Convention collective des ouvriers, employés, techniciens et agents de maîtrise des industries métallurgiques, mécaniques et connexes de la région parisienne | C14: 2011Z | D14: 2000 | E14: 35205051200057 | F14: 01.30.07.95.09 | G14: 50 RUE PIERRE CURIE | H14: 78370 | I14: PLAISIR | J14: Monsieur | K14: CROZIER | L14: Emmanuel
A15: AKORE SAS | C15: 3030Z | D15: 8 | E15: 34751028100020 | F15: 01.30.37.18.32 | G15: 9 CHAUSSEE JULES CESAR | H15: 95520 | I15: OSNY
A16: ALCATEL LUCENT FRANCE | B16: Convention collective des ouvriers, employés, techniciens et agents de maîtrise des industries métallurgiques, mécaniques et connexes de la région parisienne | C16: 7112B | D16: 2150 | E16: 33896638500449 | F16: 01.30.77.30.77 | G16: 7/9 AVENUE MORANE SAULNIER | H16: 78140 | I16: VELIZY
A17: ALCATEL LUCENT SUBMARINE NETWORKS | B17: Convention collective des ouvriers, employés, techniciens et agents de maîtrise des industries métallurgiques, mécaniques et connexes de la région parisienne | C17: 2630Z | D17: 287 | E17: 38953425600034 | F17: 01.30.77.30.77 | G17: ROUTE DE VILLEJUST | H17: 91620 | I17: NOZAY
A18: ALDI MARCHE BOIS GRENIER SARL | C18: 2630Z | D18: 458 | E18: 40309364400033 | F18: 03.20.17.59.00 | G18: Rue Louis Pasteur | H18: 59280 | I18: BOIS-GRENIER
A19: ALEX-D DEMENAGEMENT | C19: 4711D | E19: 52242570100011 | G19: 4 RUE DU BEL AIR | H19: 91480 | I19: VARENNES-JARCY
A20: ALS | C20: 4941A | D20: 15 | E20: 79151301300015 | F20: 09.67.15.12.80 | G20: 7 ROUTE DES PETROLES | H20: 94290 | I20: VILLENEUVE LE ROI
A21: ALSTOM GRID | B21: Convention collective des ouvriers, employés, techniciens et agents de maîtrise des industries métallurgiques, mécaniques et connexes de la région parisienne | C21: 7712Z | D21: 380 | E21: 38919180000728 | F21: 01.64.47.83.42 | G21: 102 AVENUE DE PARIS | H21: 91300 | I21: MASSY
A22: ALSTOM POWER SERVICE | B22: Convention collective des ouvriers, employés, techniciens et agents de maîtrise des industries métallurgiques, mécaniques et connexes de la région parisienne | C22: 2712Z | D22: 1800 | E22: 42421059900090 | F22: 01.49.92.45.14 | G22: 141 RUE RATEAU | H22: 93126 | I22: LA COURNEUVE CEDEX
A23: ALSTOM POWER SYSTEMS | B23: Convention collective nationale des ingénieurs et cadres de la métallurgie | C23: 7112A | D23: 297 | E23: 38919203000192 | F23: 01.60.13.21.34 | G23: 14, RUE JEAN BART | H23: 91300 | I23: MASSY
A24: AlterNative Logistique | C24: 7112B | D24: 2 | E24: 45345041300019 | F24: 01.30.18.04.64 | G24: 11 CHEMIN DES GLIRETTES | H24: 95500 | I24: LE THILLAY
A25: ANUBIS INTERNATIONAL | C25: 5210B | D25: 8 | E25: 40133867800063 | F25: 01.49.19.59.60 | G25: 2 RUE VOYELLES | H25: 95706 | I25: ROISSY CDG
A26: APPRO SERVICE | C26: 9603Z | D26: 10 | E26: 47884866600010 | F26: 02.54.81.47.60 | G26: ZA Euro Val de Loire | H26: 41330 | I26: FOSSE
A27: APTAR FRANCE SAS | B27: Convention collective nationale de la plasturgie | C27: 0240Z | D27: 1681 | E27: 55208173900047 | F27: 02.32.24.84.84 | G27: SITE DE NEUBOURG | H27: 27110 | I27: LE NEUBOURG
A28: APX | C28: 2222Z | D28: 1400 | F28: 01.58.91.62.32 | G28: 21 rue des Cévennes | H28: 94633 | I28: RUNGIS CÉDEX
A29: AREVA NP | B29: Convention collective des ouvriers, employés, techniciens et agents de maîtrise des industries métallurgiques, mécaniques et connexes de la région parisienne | C29: 9511Z | D29: 2118 | E29: 42876450000016 | F29: 01.34.96.91.80 | G29: 1 PLACE JEAN MILLER | H29: 92084 | I29: PARIS LA DEFENSE
A30: ARMARA | C30: 2446Z | D30: 49 | E30: 48989337000010 | F30: 01.41.80.88.84 | G30: 1 RUE DE ROUEN | H30: 94619 | I30: RUNGIS CEDEX
A31: ARMOR SA | C31: 4638A | D31: 480 | E31: 85780069200090 | F31: 02.51.79.48.94 | G31: 7 RUE PELISSIERE | H31: 44118 | I31: LA CHEVROLIERE
A32: ARTISANAT SEL | C32: 3299Z | D32: 12 | E32: 38253779300020 | F32: 02.38.89.21.00 | G32: BP 21002 | H32: 45701 | I32: VILLEMANDEUR CEDEX | J32: Monsieur | K32: TURQUAIS | L32: Yves
A33: AS TRANSPORTS | B33: Convention collective nationale des transports routiers et activités auxiliaires du transport | C33: 9499Z | D33: 10 | E33: 49456455200029 | F33: 03.20.29.29.34 | G33: 16 RUE DU ROUGE BOUTON | H33: 59113 | I33: SECLIN | J33: Monsieur | K33: LAURENT | L33: Sébastien
A34: ASIKA TRANSPORT | C34: 4941A | D34: 4 | E34: 52087451200012 | G34: 13 RUE BERANGLIERS | H34: 77500 | I34: CHELLES
A35: ASSOCIATED TRANSPORTS | B35: Convention collective nationale des transports routiers et activités auxiliaires du transport | C35: 4941B | D35: 17 | E35: 34031661100037 | F35: 01.48.16.79.78 | G35: 10 RUE DU PAVE | H35: 95721 | I35: ROISSY CDG CEDEX
A36: ASSOCIATION AGENCE DU DON EN NATURE | C36: 5229B | D36: 6 | E36: 50894504500021 | F36: 01.76.21.10.53 | G36: 35 AVENUE D'EYLAU | H36: 75116 | I36: PARIS
A37: ATC | C37: 9499Z | D37: 65 | E37: 39137361000032 | F37: 02.99.69.29.00 | G37: LA HERBETAIS | H37: 35520 | I37: LA MEZIERE
A38: AUGEREAU | C38: 4941A | D38: 1 | E38: 40533476400017 | F38: 05.49.42.61.17 | G38: 1 RUE DE LA TOMBE A LAURENT | H38: 86340 | I38: NIEUIL L ESPOIR | J38: Monsieur | K38: AUGEREAU | L38: Thierry
A39: AUTO 24 | C39: 4312A | D39: 18 | E39: 40078509300065 | F39: 02.99.27.27.27 | G39: 46 RUE DE LA RIOURDIERE | H39: 35513 | I39: CESSON SEVIGNE
A40: Autocars Paris Europe Travel | C40: 4520A | D40: 10 | E40: 50742350700023 | F40: 01.39.92.02.77 | G40: 5 RUE RENE VILLEMER | H40: 95500 | I40: LE THILLAY
...

Sheet Feuil3
