Workbook

Sheet Berlingo
A1: BERLINGO BZ-300-HE
A2: 2013
A3: Trimestre 1 | C3: Trimestre 2 | E3: Trimestre 3 | G3: Trimestre 4
A4: Date | B4: Montants | C4: Date | D4: Montants | E4: Date | F4: Montants | G4: Date | H4: Montants
C5: 41423 | D5: 4.42
A12: Total | B12: =SUM(B5:B11) -> 0 | C12: Total | D12: =SUM(D5:D11) -> 4.42 | E12: Total | F12: =SUM(F5:F11) -> 0 | G12: Total | H12: =SUM(H5:H11) -> 0
A13: Cumul des 4 trimestres | B13: =B12 -> 0 | D13: =B13+D12 -> 4.42 | F13: =D13+F12 -> 4.42 | H13: =F13+H12 -> 4.42
A14: Cumul 2012-2013 | B14: =H13+H47 -> 1191.42
A15: 2012 | B15: 2013
A37: Trimestre 1 | C37: Trimestre 2 | E37: Trimestre 3 | G37: Trimestre 4
A38: Date | B38: Montants | C38: Date | D38: Montants | E38: Date | F38: Montants | G38: Date | H38: Montants
G39: 41213 | H39: 819.01
G40: 41233 | H40: 367.99
A46: Total | B46: =SUM(B39:B45) -> 0 | C46: Total | D46: =SUM(D39:D45) -> 0 | E46: Total | F46: =SUM(F39:F45) -> 0 | G46: Total | H46: =SUM(H39:H45) -> 1187
A47: Cumul des 4 trimestres | B47: =B46 -> 0 | D47: =B47+D46 -> 0 | F47: =D47+F46 -> 0 | H47: =F47+H46 -> 1187

Sheet Peugeot Expert
A1: PEUGEOT EXPERT 2582-XB-25 (12)
A2: 2013
A3: Trimestre 1 | C3: Trimestre 2 | E3: Trimestre 3 | G3: Trimestre 4
A4: Date | B4: Montants | C4: Date | D4: Montants | E4: Date | F4: Montants | G4: Date | H4: Montants
A5: 41333 | B5: 324.09 | C5: 41423 | D5: 11.82 | G5: 41576 | H5: 40
A6: 41345 | B6: 225.05 | C6: 41423 | D6: 65
C7: 41425 | D7: 114.22
C8: 41430 | D8: 252.21
C9: 41431 | D9: 30.9
A12: Total | B12: =SUM(B5:B11) -> 549.14 | C12: Total | D12: =SUM(D5:D11) -> 474.15 | E12: Total | F12: =SUM(F5:F11) -> 0 | G12: Total | H12: =SUM(H5:H11) -> 40
A13: Cumul des 4 trimestres | B13: =B12 -> 549.14 | D13: =B13+D12 -> 1023.29 | F13: =D13+F12 -> 1023.29 | H13: =F13+H12 -> 1063.29
A14: Cumul 2009-2013 | B14: =H13+B48 -> 4458.41
A36: 2012
A37: Trimestre 1 | C37: Trimestre 2 | E37: Trimestre 3 | G37: Trimestre 4
A38: Date | B38: Montants | C38: Date | D38: Montants | E38: Date | F38: Montants | G38: Date | H38: Montants
C39: 41050 | D39: 27 | E39: 41121 | F39: 229.97 | G39: 41243 | H39: 93.29
C40: 41090 | D40: 56.68
A46: Total | B46: =SUM(B39:B45) -> 0 | C46: Total | D46: =SUM(D39:D45) -> 83.68 | E46: Total | F46: =SUM(F39:F45) -> 229.97 | G46: Total | H46: =SUM(H39:H45) -> 93.29
A47: Cumul des 4 trimestres | B47: =B46 -> 0 | D47: =B47+D46 -> 83.68 | F47: =D47+F46 -> 313.65 | H47: =F47+H46 -> 406.94
A48: Cumul 2009-2012 | B48: =H47+B62 -> 3395.12
A50: 2011
A51: Trimestre 1 | C51: Trimestre 2 | E51: Trimestre 3 | G51: Trimestre 4
A52: Date | B52: Montants | C52: Date | D52: Montants | E52: Date | F52: Montants | G52: Date | H52: Montants
C53: 40653 | D53: 87.49
C54: 40694 | D54: 94.95
C55: 40695 | D55: 64
A60: Total | B60: =SUM(B53:B59) -> 0 | C60: Total | D60: =SUM(D53:D59) -> 246.44 | E60: Total | F60: =SUM(F53:F59) -> 0 | G60: Total | H60: =SUM(H53:H59) -> 0
A61: Cumul des 4 trimestres | B61: =B60 -> 0 | D61: =B61+D60 -> 246.44 | F61: =D61+F60 -> 246.44 | H61: =F61+H60 -> 246.44
A62: Cumul 2009-2012 | B62: =H61+B80 -> 2988.18
A68: 2010
A69: Trimestre 1 | C69: Trimestre 2 | E69: Trimestre 3 | G69: Trimestre 4
A70: Date | B70: Montants | C70: Date | D70: Montants | E70: Date | F70: Montants | G70: Date | H70: Montants
C71: 40318 | D71: 26 | E71: 40390 | F71: 207.58
E72: 40409 | F72: 821.63
A78: Total | B78: =SUM(B71:B77) -> 0 | C78: Total | D78: =SUM(D71:D77) -> 26 | E78: Total | F78: =SUM(F71:F77) -> 1029.21 | G78: Total | H78: =SUM(H71:H77) -> 0
A79: Cumul des 4 trimestres | B79: =B78 -> 0 | D79: =B79+D78 -> 26 | F79: =D79+F78 -> 1055.21 | H79: =F79+H78 -> 1055.21
A80: Cumul 2009-2012 | B80: =H79+B94 -> 2741.74
A82: 2009
A83: Trimestre 1 | C83: Trimestre 2 | E83: Trimestre 3 | G83: Trimestre 4
A84: Date | B84: Montants | C84: Date | D84: Montants | E84: Date | F84: Montants | G84: Date | H84: Montants
C85: 39933 | D85: 190.5 | E85: 39995 | F85: 336.89 | G85: 40116 | H85: 241.93
C86: 39933 | D86: 854.21
C87: 39975 | D87: 63
A92: Total | B92: =SUM(B85:B91) -> 0 | C92: Total | D92: =SUM(D85:D91) -> 1107.71 | E92: Total | F92: =SUM(F85:F91) -> 336.89 | G92: Total | H92: =SUM(H85:H91) -> 241.93
A93: Cumul des 4 trimestres | B93: =B92 -> 0 | D93: =B93+D92 -> 1107.71 | F93: =D93+F92 -> 1444.6 | H93: =F93+H92 -> 1686.53
A94: Cumul 2009-2012 | B94: =H93 -> 1686.53

Sheet Peugeot Expert 1
A1: PEUGEOT EXPERT 7153-YP-25 (26)
A2: 2013
A3: Trimestre 1 | C3: Trimestre 2 | E3: Trimestre 3 | G3: Trimestre 4
A4: Date | B4: Montants | C4: Date | D4: Montants | E4: Date | F4: Montants | G4: Date | H4: Montants
A5: 41324 | B5: 109.86 | C5: 41422 | D5: 40 | E5: 41481 | F5: 14.4
C6: 41422 | D6: 65
C7: 41438 | D7: 19
A12: Total | B12: =SUM(B5:B11) -> 109.86 | C12: Total | D12: =SUM(D5:D11) -> 124 | E12: Total | F12: =SUM(F5:F11) -> 14.4 | G12: Total | H12: =SUM(H5:H11) -> 0
A13: Cumul des 4 trimestres | B13: =B12 -> 109.86 | D13: =B13+D12 -> 233.86 | F13: =D13+F12 -> 248.26 | H13: =F13+H12 -> 248.26
A14: Cumul 2009-2013 | B14: =H13+B48 -> 4893.16
A36: 2012
A37: Trimestre 1 | C37: Trimestre 2 | E37: Trimestre 3 | G37: Trimestre 4
A38: Date | B38: Montants | C38: Date | D38: Montants | E38: Date | F38: Montants | G38: Date | H38: Montants
A39: 40963 | B39: 376.02 | C39: 41052 | D39: 27 | E39: 41130 | F39: 200.95
C40: 41086 | D40: 15
A46: Total | B46: =SUM(B39:B45) -> 376.02 | C46: Total | D46: =SUM(D39:D45) -> 42 | E46: Total | F46: =SUM(F39:F45) -> 200.95 | G46: Total | H46: =SUM(H39:H45) -> 0
A47: Cumul des 4 trimestres | B47: =B46 -> 376.02 | D47: =B47+D46 -> 418.02 | F47: =D47+F46 -> 618.97 | H47: =F47+H46 -> 618.97
A48: Cumul 2009-2012 | B48: =H47+B62 -> 4644.9
A50: 2011
A51: Trimestre 1 | C51: Trimestre 2 | E51: Trimestre 3 | G51: Trimestre 4
A52: Date | B52: Montants | C52: Date | D52: Montants | E52: Date | F52: Montants | G52: Date | H52: Montants
A53: 40582 | B53: 976.83 | C53: 40695 | D53: 64 | E53: 40805 | F53: 183.42
C54: 40731 | D54: 84.19
A60: Total | B60: =SUM(B53:B59) -> 976.83 | C60: Total | D60: =SUM(D53:D59) -> 148.19 | E60: Total | F60: =SUM(F53:F59) -> 183.42 | G60: Total | H60: =SUM(H53:H59) -> 0
A61: Cumul des 4 trimestres | B61: =B60 -> 976.83 | D61: =B61+D60 -> 1125.02 | F61: =D61+F60 -> 1308.44 | H61: =F61+H60 -> 1308.44
A62: Cumul 2009-2011 | B62: =H61+B80 -> 4025.93
A68: 2010
A69: Trimestre 1 | C69: Trimestre 2 | E69: Trimestre 3 | G69: Trimestre 4
A70: Date | B70: Montants | C70: Date | D70: Montants | E70: Date | F70: Montants | G70: Date | H70: Montants
A71: 40186 | B71: 143.58 | C71: 40297 | D71: 34.66 | E71: 40410 | F71: 134.75
C72: 40295 | D72: 669.95
C73: 40324 | D73: 26
C74: 40345 | D74: 655.84
A78: Total | B78: =SUM(B71:B77) -> 143.58 | C78: Total | D78: =SUM(D71:D77) -> 1386.45 | E78: Total | F78: =SUM(F71:F77) -> 134.75 | G78: Total | H78: =SUM(H71:H77) -> 0
A79: Cumul des 4 trimestres | B79: =B78 -> 143.58 | D79: =B79+D78 -> 1530.03 | F79: =D79+F78 -> 1664.78 | H79: =F79+H78 -> 1664.78
A80: Cumul 2009-2010 | B80: =H79+B94 -> 2717.49
A82: 2009
A83: Trimestre 1 | C83: Trimestre 2 | E83: Trimestre 3 | G83: Trimestre 4
A84: Date | B84: Montants | C84: Date | D84: Montants | E84: Date | F84: Montants | G84: Date | H84: Montants
A85: 39843 | B85: 85.11 | C85: 39973 | D85: 63 | G85: 40130 | H85: 44.56
C86: 39997 | D86: 468.66 | G86: 40147 | H86: 391.38
A92: Total | B92: =SUM(B85:B91) -> 85.11 | C92: Total | D92: =SUM(D85:D91) -> 531.66 | E92: Total | F92: =SUM(F85:F91) -> 0 | G92: Total | H92: =SUM(H85:H91) -> 435.94
A93: Cumul des 4 trimestres | B93: =B92 -> 85.11 | D93: =B93+D92 -> 616.77 | F93: =D93+F92 -> 616.77 | H93: =F93+H92 -> 1052.71
A94: Cumul 2009-2012 | B94: =H93 -> 1052.71

Sheet Citroën Jumper,
A1: CITROEN JUMPER 1165-YQ-25 (28)
A2: 2013
A3: Trimestre 1 | C3: Trimestre 2 | E3: Trimestre 3 | G3: Trimestre 4
A4: Date | B4: Montants | C4: Date | D4: Montants | E4: Date | F4: Montants | G4: Date | H4: Montants
A5: 41319 | B5: 597.78 | C5: 41393 | D5: 65
A6: 41340 | B6: 63.56
A12: Total | B12: =SUM(B5:B11) -> 661.34 | C12: Total | D12: =SUM(D5:D11) -> 65 | E12: Total | F12: =SUM(F5:F11) -> 0 | G12: Total | H12: =SUM(H5:H11) -> 0
A13: Cumul des 4 trimestres | B13: =B12 -> 661.34 | D13: =B13+D12 -> 726.34 | F13: =D13+F12 -> 726.34 | H13: =F13+H12 -> 726.34
A14: Cumul 2009-2013 | B14: =B49+H13 -> 7249.07
A37: 2012
A38: Trimestre 1 | C38: Trimestre 2 | E38: Trimestre 3 | G38: Trimestre 4
A39: Date | B39: Montants | C39: Date | D39: Montants | E39: Date | F39: Montants | G39: Date | H39: Montants
C40: 41026 | D40: 27
A47: Total | B47: =SUM(B40:B46) -> 0 | C47: Total | D47: =SUM(D40:D46) -> 27 | E47: Total | F47: =SUM(F40:F46) -> 0 | G47: Total | H47: =SUM(H40:H46) -> 0
A48: Cumul des 4 trimestres | B48: =B47 -> 0 | D48: =B48+D47 -> 27 | F48: =D48+F47 -> 27 | H48: =F48+H47 -> 27
A49: Cumul 2009-2012 | B49: =B63+H48 -> 6522.73
A51: 2011
A52: Trimestre 1 | C52: Trimestre 2 | E52: Trimestre 3 | G52: Trimestre 4
A53: Date | B53: Montants | C53: Date | D53: Montants | E53: Date | F53: Montants | G53: Date | H53: Montants
A54: 40602 | B54: 224.97 | C54: 40663 | D54: 58.6 | E54: 40758 | F54: 66.63 | G54: 40840 | H54: 15
C55: 40664 | D55: 69 | E55: 40779 | F55: 66.63 | G55: 40847 | H55: 165.85
C56: 40715 | D56: 1076.35 | E56: 40805 | F56: 134.98
E57: 40809 | F57: 216
A61: Total | B61: =SUM(B54:B60) -> 224.97 | C61: Total | D61: =SUM(D54:D60) -> 1203.95 | E61: Total | F61: =SUM(F54:F60) -> 484.24 | G61: Total | H61: =SUM(H54:H60) -> 180.85
A62: Cumul des 4 trimestres | B62: =B61 -> 224.97 | D62: =B62+D61 -> 1428.92 | F62: =D62+F61 -> 1913.16 | H62: =F62+H61 -> 2094.01
A63: Cumul 2009-2011 | B63: =B80+H62 -> 6495.73
A68: 2010
A69: Trimestre 1 | C69: Trimestre 2 | E69: Trimestre 3 | G69: Trimestre 4
A70: Date | B70: Montants | C70: Date | D70: Montants | E70: Date | F70: Montants | G70: Date | H70: Montants
A71: 40207 | B71: 59.75 | C71: 40277 | D71: 145.25
A72: 40231 | B72: 106.18 | C72: 40290 | D72: 26
A73: 40242 | B73: 472.71 | C73: 40353 | D73: 61.34
A74: 40255 | B74: 1248.03
A78: Total | B78: =SUM(B71:B77) -> 1886.67 | C78: Total | D78: =SUM(D71:D77) -> 232.59 | E78: Total | F78: =SUM(F71:F77) -> 0 | G78: Total | H78: =SUM(H71:H77) -> 0
A79: Cumul des 4 trimestres | B79: =B78 -> 1886.67 | D79: =B79+D78 -> 2119.26 | F79: =D79+F78 -> 2119.26 | H79: =F79+H78 -> 2119.26
A80: Cumul 2009-2010 | B80: =H79+H93 -> 4401.72
A82: 2009
A83: Trimestre 1 | C83: Trimestre 2 | E83: Trimestre 3 | G83: Trimestre 4
A84: Date | B84: Montants | C84: Date | D84: Montants | E84: Date | F84: Montants | G84: Date | H84: Montants
A85: 39870 | B85: 1244.12 | C85: 39933 | D85: 63 | G85: 40101 | H85: 65.78
C86: 39979 | D86: 909.56
A92: Total | B92: =SUM(B85:B91) -> 1244.12 | C92: Total | D92: =SUM(D85:D91) -> 972.56 | E92: Total | F92: =SUM(F85:F91) -> 0 | G92: Total | H92: =SUM(H85:H91) -> 65.78
A93: Cumul des 4 trimestres | B93: =B92 -> 1244.12 | D93: =B93+D92 -> 2216.68 | F93: =D93+F92 -> 2216.68 | H93: =F93+H92 -> 2282.46
A118: 2009 | B118: 2010 | C118: 2011 | D118: 2012 | E118: 2013 | G118: 2009-2013

Sheet Citroën Jumper
A1: CITROEN JUMPER 5526-YD-25 (15)
A2: 2013
A3: Trimestre 1 | C3: Trimestre 2 | E3: Trimestre 3 | G3: Trimestre 4
A4: Date | B4: Montants | C4: Date | D4: Montants | E4: Date | F4: Montants | G4: Date | H4: Montants
C5: 41394 | D5: 34.75 | G5: 41570 | H5: 336.67
C6: 41430 | D6: 65
C7: 41432 | D7: 310.31
A12: Total | B12: =SUM(B5:B11) -> 0 | C12: Total | D12: =SUM(D5:D11) -> 410.06 | E12: Total | F12: =SUM(F5:F11) -> 0 | G12: Total | H12: =SUM(H5:H11) -> 336.67
A13: Cumul des 4 trimestres | B13: =B12 -> 0 | D13: =B13+D12 -> 410.06 | F13: =D13+F12 -> 410.06 | H13: =F13+H12 -> 746.73
A14: Cumul 2009-2013 | B14: =H13+B48 -> 9425.53
A36: 2012
A37: Trimestre 1 | C37: Trimestre 2 | E37: Trimestre 3 | G37: Trimestre 4
A38: Date | B38: Montants | C38: Date | D38: Montants | E38: Date | F38: Montants | G38: Date | H38: Montants
A39: 40956 | B39: 21 | C39: 41019 | D39: 60.9 | E39: 41094 | F39: 189.23 | G39: 41213 | H39: 378.87
A40: 40969 | B40: 83.18 | C40: 41032 | D40: 1252.52 | E40: 41179 | F40: 286.56
A41: 40970 | B41: 15 | C41: 41054 | D41: 377.58
A42: 40983 | B42: 600.4 | C42: 41060 | D42: 48.7
C43: 41067 | D43: 173.66
C44: 41074 | D44: 27
C45: 41086 | D45: 15
A46: Total | B46: =SUM(B39:B45) -> 719.58 | C46: Total | D46: =SUM(D39:D45) -> 1955.36 | E46: Total | F46: =SUM(F39:F45) -> 475.79 | G46: Total | H46: =SUM(H39:H45) -> 378.87
A47: Cumul des 4 trimestres | B47: =B46 -> 719.58 | D47: =B47+D46 -> 2674.94 | F47: =D47+F46 -> 3150.73 | H47: =F47+H46 -> 3529.6
A48: Cumul 2009-2012 | B48: =H47+B62 -> 8678.8
A50: 2011
A51: Trimestre 1 | C51: Trimestre 2 | E51: Trimestre 3 | G51: Trimestre 4
A52: Date | B52: Montants | C52: Date | D52: Montants | E52: Date | F52: Montants | G52: Date | H52: Montants
A53: 40592 | B53: 15 | C53: 40663 | D53: 11 | G53: 40823 | H53: 238.94
C54: 40724 | D54: 278.5 | G54: 40855 | H54: 57.41
C55: 40703 | D55: 64
A60: Total | B60: =SUM(B53:B59) -> 15 | C60: Total | D60: =SUM(D53:D59) -> 353.5 | E60: Total | F60: =SUM(F53:F59) -> 0 | G60: Total | H60: =SUM(H53:H59) -> 296.35
A61: Cumul des 4 trimestres | B61: =B60 -> 15 | D61: =B61+D60 -> 368.5 | F61: =D61+F60 -> 368.5 | H61: =F61+H60 -> 664.85
A62: Cumul 2009-2011 | B62: =H61+B80 -> 5149.2
A68: 2010
A69: Trimestre 1 | C69: Trimestre 2 | E69: Trimestre 3 | G69: Trimestre 4
A70: Date | B70: Montants | C70: Date | D70: Montants | E70: Date | F70: Montants | G70: Date | H70: Montants
A71: 40209 | B71: 33 | C71: 40326 | D71: 70.7 | E71: 40382 | F71: 763.49 | G71: 40443 | H71: 24.94
C72: 40338 | D72: 4.1 | E72: 40402 | F72: 5.85 | G72: 40463 | H72: 259.58
C73: 40354 | D73: 26 | E73: 40406 | F73: 26.8 | G73: 40486 | H73: 811.75
A78: Total | B78: =SUM(B71:B77) -> 33 | C78: Total | D78: =SUM(D71:D77) -> 100.8 | E78: Total | F78: =SUM(F71:F77) -> 796.14 | G78: Total | H78: =SUM(H71:H77) -> 1096.27
A79: Cumul des 4 trimestres | B79: =B78 -> 33 | D79: =B79+D78 -> 133.8 | F79: =D79+F78 -> 929.94 | H79: =F79+H78 -> 2026.21
A80: Cumul 2009-2010 | B80: =H79+B94 -> 4484.35
A82: 2009
A83: Trimestre 1 | C83: Trimestre 2 | E83: Trimestre 3 | G83: Trimestre 4
A84: Date | B84: Montants | C84: Date | D84: Montants | E84: Date | F84: Montants | G84: Date | H84: Montants
A85: 39842 | B85: 58.5 | C85: 39912 | D85: 140.43 | E85: 40003 | F85: 50.47 | G85: 40099 | H85: 595.94
C86: 39976 | D86: 63 | E86: 39997 | F86: 738.59 | G86: 40163 | H86: 210.5
E87: 40039 | F87: 262.79
E88: 40063 | F88: 337.92
A92: Total | B92: =SUM(B85:B91) -> 58.5 | C92: Total | D92: =SUM(D85:D91) -> 203.43 | E92: Total | F92: =SUM(F85:F91) -> 1389.77 | G92: Total | H92: =SUM(H85:H91) -> 806.44
A93: Cumul des 4 trimestres | B93: =B92 -> 58.5 | D93: =B93+D92 -> 261.93 | F93: =D93+F92 -> 1651.7 | H93: =F93+H92 -> 2458.14
A94: Cumul 2009-2012 | B94: =H93 -> 2458.14

Sheet Iveco 2
A1: IVECO AC-321-SD
A2: 2013
A3: Trimestre 1 | C3: Trimestre 2 | E3: Trimestre 3 | G3: Trimestre 4
A4: Date | B4: Montants | C4: Date | D4: Montants | E4: Date | F4: Montants | G4: Date | H4: Montants
E5: 41505 | F5: 65
E6: 41547 | F6: 330.17
A12: Total | B12: =SUM(B5:B11) -> 0 | C12: Total | D12: =SUM(D5:D11) -> 0 | E12: Total | F12: =SUM(F5:F11) -> 395.17 | G12: Total | H12: =SUM(H5:H11) -> 0
A13: Cumul des 4 trimestres | B13: =B12 -> 0 | D13: =B13+D12 -> 0 | F13: =D13+F12 -> 395.17 | H13: =F13+H12 -> 395.17

Sheet Iveco 1
A1: IVECO 7867-YV-25
A2: 2013
A3: Trimestre 1 | C3: Trimestre 2 | E3: Trimestre 3 | G3: Trimestre 4
A4: Date | B4: Montants | C4: Date | D4: Montants | E4: Date | F4: Montants | G4: Date | H4: Montants
C5: 41372 | D5: 232.79 | E5: 41502 | F5: 484.48 | G5: 41562 | H5: 854.09
C6: 41372 | D6: 296.32
C7: 41384 | D7: 437.87
C8: 41394 | D8: 711.8
C9: 41432 | D9: 65
A12: Total | B12: =SUM(B5:B11) -> 0 | C12: Total | D12: =SUM(D5:D11) -> 1743.78 | E12: Total | F12: =SUM(F5:F11) -> 484.48 | G12: Total | H12: =SUM(H5:H11) -> 854.09
A13: Cumul des 4 trimestres | B13: =B12 -> 0 | D13: =B13+D12 -> 1743.78 | F13: =D13+F12 -> 2228.26 | H13: =F13+H12 -> 3082.35
A14: Cumul 2009-2013 | B14: =H13+B48 -> 14516.7
A36: 2012
A37: Trimestre 1 | C37: Trimestre 2 | E37: Trimestre 3 | G37: Trimestre 4
A38: Date | B38: Montants | C38: Date | D38: Montants | E38: Date | F38: Montants | G38: Date | H38: Montants
C39: 41025 | D39: 694.12 | E39: 41149 | F39: 207.59 | G39: 41193 | H39: 696.68
C40: 41074 | D40: 1855.94 | G40: 41211 | H40: 908.52
G41: 41212 | H41: 111.77
A46: Total | B46: =SUM(B39:B45) -> 0 | C46: Total | D46: =SUM(D39:D45) -> 2550.06 | E46: Total | F46: =SUM(F39:F45) -> 207.59 | G46: Total | H46: =SUM(H39:H45) -> 1716.97
A47: Cumul des 4 trimestres | B47: =B46 -> 0 | D47: =B47+D46 -> 2550.06 | F47: =D47+F46 -> 2757.65 | H47: =F47+H46 -> 4474.62
A48: Cumul 2009-2012 | B48: =H47+B62 -> 11434.35
A50: 2011
A51: Trimestre 1 | C51: Trimestre 2 | E51: Trimestre 3 | G51: Trimestre 4
A52: Date | B52: Montants | C52: Date | D52: Montants | E52: Date | F52: Montants | G52: Date | H52: Montants
A53: 40589 | B53: 384.87 | C53: 40708 | D53: 64 | E53: 40786 | F53: 495.96 | G53: 40882 | H53: 223.89
A54: 40619 | B54: 14.09
A60: Total | B60: =SUM(B53:B59) -> 398.96 | C60: Total | D60: =SUM(D53:D59) -> 64 | E60: Total | F60: =SUM(F53:F59) -> 495.96 | G60: Total | H60: =SUM(H53:H59) -> 223.89
A61: Cumul des 4 trimestres | B61: =B60 -> 398.96 | D61: =B61+D60 -> 462.96 | F61: =D61+F60 -> 958.92 | H61: =F61+H60 -> 1182.81
A62: Cumul 2009-2011 | B62: =H61+B80 -> 6959.73
A68: 2010
A69: Trimestre 1 | C69: Trimestre 2 | E69: Trimestre 3 | G69: Trimestre 4
A70: Date | B70: Montants | C70: Date | D70: Montants | E70: Date | F70: Montants | G70: Date | H70: Montants
A71: 40237 | B71: 484.05 | E71: 40402 | F71: 628.37
E72: 40421 | F72: 134.14
E73: 40436 | F73: 22
A78: Total | B78: =SUM(B71:B77) -> 484.05 | C78: Total | D78: =SUM(D71:D77) -> 0 | E78: Total | F78: =SUM(F71:F77) -> 784.51 | G78: Total | H78: =SUM(H71:H77) -> 0
A79: Cumul des 4 trimestres | B79: =B78 -> 484.05 | D79: =B79+D78 -> 484.05 | F79: =D79+F78 -> 1268.56 | H79: =F79+H78 -> 1268.56
A80: Cumul 2009-2010 | B80: =H79+B94 -> 5776.92
A82: 2009
A83: Trimestre 1 | C83: Trimestre 2 | E83: Trimestre 3 | G83: Trimestre 4
A84: Date | B84: Montants | C84: Date | D84: Montants | E84: Date | F84: Montants | G84: Date | H84: Montants
A85: 39868 | B85: 73.75 | C85: 39973 | D85: 63 | E85: 40010 | F85: 37.11 | G85: 40144 | H85: 138.23
A86: 39870 | B86: 1850.79 | E86: 39997 | F86: 652.54
A87: 39889 | B87: 1692.94
A92: Total | B92: =SUM(B85:B91) -> 3617.48 | C92: Total | D92: =SUM(D85:D91) -> 63 | E92: Total | F92: =SUM(F85:F91) -> 689.65 | G92: Total | H92: =SUM(H85:H91) -> 138.23
A93: Cumul des 4 trimestres | B93: =B92 -> 3617.48 | D93: =B93+D92 -> 3680.48 | F93: =D93+F92 -> 4370.13 | H93: =F93+H92 -> 4508.36
A94: Cumul 2009-2012 | B94: =H93 -> 4508.36

Sheet Iveco
A1: IVECO AT-879-NH
A2: 2013
A3: Trimestre 1 | C3: Trimestre 2 | E3: Trimestre 3 | G3: Trimestre 4
A4: Date | B4: Montants | C4: Date | D4: Montants | E4: Date | F4: Montants | G4: Date | H4: Montants
C5: 41412 | D5: 231.8 | E5: 41465 | F5: 558.53 | G5: 41613 | H5: 508.3
E6: 41515 | F6: 440.71
A12: Total | B12: =SUM(B5:B11) -> 0 | C12: Total | D12: =SUM(D5:D11) -> 231.8 | E12: Total | F12: =SUM(F5:F11) -> 999.24 | G12: Total | H12: =SUM(H5:H11) -> 508.3
A13: Cumul des 4 trimestres | B13: =B12 -> 0 | D13: =B13+D12 -> 231.8 | F13: =D13+F12 -> 1231.04 | H13: =F13+H12 -> 1739.34
A14: Cumul 2009-2013 | B14: =H13+B48 -> 3796.22
A36: 2012
A37: Trimestre 1 | C37: Trimestre 2 | E37: Trimestre 3 | G37: Trimestre 4
A38: Date | B38: Montants | C38: Date | D38: Montants | E38: Date | F38: Montants | G38: Date | H38: Montants
A39: 40980 | B39: 1284.26 | C39: 41022 | D39: 65.46 | E39: 41145 | F39: 342.69 | G39: 41264 | H39: 364.47
A46: Total | B46: =SUM(B39:B45) -> 1284.26 | C46: Total | D46: =SUM(D39:D45) -> 65.46 | E46: Total | F46: =SUM(F39:F45) -> 342.69 | G46: Total | H46: =SUM(H39:H45) -> 364.47
A47: Cumul des 4 trimestres | B47: =B46 -> 1284.26 | D47: =B47+D46 -> 1349.72 | F47: =D47+F46 -> 1692.41 | H47: =F47+H46 -> 2056.88
A48: Cumul 2009-2012 | B48: =H47+B62 -> 2056.88

Sheet Iveco Benne
A1: IVECO BENNE 3548-YK-25 (24)
A2: 2013
A3: Trimestre 1 | C3: Trimestre 2 | E3: Trimestre 3 | G3: Trimestre 4
A4: Date | B4: Montants | C4: Date | D4: Montants | E4: Date | F4: Montants | G4: Date | H4: Montants
C5: 41418 | D5: 36.27 | E5: 41547 | F5: 556.24 | G5: 41562 | H5: 53.29
C6: 41436 | D6: 391.02
C7: 41437 | D7: 65
A12: Total | B12: =SUM(B5:B11) -> 0 | C12: Total | D12: =SUM(D5:D11) -> 492.29 | E12: Total | F12: =SUM(F5:F11) -> 556.24 | G12: Total | H12: =SUM(H5:H11) -> 53.29
A13: Cumul des 4 trimestres | B13: =B12 -> 0 | D13: =B13+D12 -> 492.29 | F13: =D13+F12 -> 1048.53 | H13: =F13+H12 -> 1101.82
A14: Cumul 2009-2013 | B14: =H13+B48 -> 16924.57
A36: 2012
A37: Trimestre 1 | C37: Trimestre 2 | E37: Trimestre 3 | G37: Trimestre 4
A38: Date | B38: Montants | C38: Date | D38: Montants | E38: Date | F38: Montants | G38: Date | H38: Montants
A39: 40942 | B39: 70.56 | C39: 41025 | D39: 106.48 | E39: 41130 | F39: 759.51
A40: 40929 | B40: 1332.7 | C40: 41038 | D40: 42.59 | E40: 41178 | F40: 47.53
A41: 40983 | B41: 28.57 | C41: 41074 | D41: 542.09
A46: Total | B46: =SUM(B39:B45) -> 1431.83 | C46: Total | D46: =SUM(D39:D45) -> 691.16 | E46: Total | F46: =SUM(F39:F45) -> 807.04 | G46: Total | H46: =SUM(H39:H45) -> 0
A47: Cumul des 4 trimestres | B47: =B46 -> 1431.83 | D47: =B47+D46 -> 2122.99 | F47: =D47+F46 -> 2930.03 | H47: =F47+H46 -> 2930.03
A48: Cumul 2009-2012 | B48: =H47+B62 -> 15822.75
A50: 2011
A51: Trimestre 1 | C51: Trimestre 2 | E51: Trimestre 3 | G51: Trimestre 4
A52: Date | B52: Montants | C52: Date | D52: Montants | E52: Date | F52: Montants | G52: Date | H52: Montants
A53: 40560 | B53: 52.79 | C53: 40694 | D53: 13.04 | E53: 40778 | F53: 158.54 | G53: 40855 | H53: 57.41
C54: 40709 | D54: 64 | E54: 40778 | F54: 762.47 | G54: 40900 | H54: 2384.73
A60: Total | B60: =SUM(B53:B59) -> 52.79 | C60: Total | D60: =SUM(D53:D59) -> 77.04 | E60: Total | F60: =SUM(F53:F59) -> 921.01 | G60: Total | H60: =SUM(H53:H59) -> 2442.14
A61: Cumul des 4 trimestres | B61: =B60 -> 52.79 | D61: =B61+D60 -> 129.83 | F61: =D61+F60 -> 1050.84 | H61: =F61+H60 -> 3492.98
A62: Cumul 2009-2011 | B62: =H61+B80 -> 12892.72
A68: 2010
A69: Trimestre 1 | C69: Trimestre 2 | E69: Trimestre 3 | G69: Trimestre 4
A70: Date | B70: Montants | C70: Date | D70: Montants | E70: Date | F70: Montants | G70: Date | H70: Montants
A71: 40193 | B71: 250.47 | C71: 40317 | D71: 223.45 | E71: 40382 | F71: 979.44 | G71: 40465 | H71: 767.47
A72: 40268 | B72: 165.74 | E72: 40390 | F72: 268.48 | G72: 40466 | H72: 39.23
G73: 40486 | H73: 78.63
G74: 40512 | H74: 600.25
G75: 40539 | H75: 1104.29
A78: Total | B78: =SUM(B71:B77) -> 416.21 | C78: Total | D78: =SUM(D71:D77) -> 223.45 | E78: Total | F78: =SUM(F71:F77) -> 1247.92 | G78: Total | H78: =SUM(H71:H77) -> 2589.87
A79: Cumul des 4 trimestres | B79: =B78 -> 416.21 | D79: =B79+D78 -> 639.66 | F79: =D79+F78 -> 1887.58 | H79: =F79+H78 -> 4477.45
A80: Cumul 2009-2010 | B80: =H79+B94 -> 9399.74
A82: 2009
A83: Trimestre 1 | C83: Trimestre 2 | E83: Trimestre 3 | G83: Trimestre 4
A84: Date | B84: Montants | C84: Date | D84: Montants | E84: Date | F84: Montants | G84: Date | H84: Montants
A85: 39843 | B85: 920.32 | C85: 39905 | D85: 747.54 | E85: 40056 | F85: 1622.31 | G85: 40109 | H85: 65.78
C86: 39927 | D86: 752.38 | E86: 40073 | F86: 44.56 | G86: 40126 | H86: 48.25
C87: 39976 | D87: 63 | G87: 40130 | H87: 140.15
G88: 40154 | H88: 518
A92: Total | B92: =SUM(B85:B91) -> 920.32 | C92: Total | D92: =SUM(D85:D91) -> 1562.92 | E92: Total | F92: =SUM(F85:F91) -> 1666.87 | G92: Total | H92: =SUM(H85:H91) -> 772.18
A93: Cumul des 4 trimestres | B93: =B92 -> 920.32 | D93: =B93+D92 -> 2483.24 | F93: =D93+F92 -> 4150.11 | H93: =F93+H92 -> 4922.29
A94: Cumul 2009-2012 | B94: =H93 -> 4922.29

Sheet Yveco
A1: IVECO 3549-YF-25
A2: 2013
A3: Trimestre 1 | C3: Trimestre 2 | E3: Trimestre 3 | G3: Trimestre 4
A4: Date | B4: Montants | C4: Date | D4: Montants | E4: Date | F4: Montants | G4: Date | H4: Montants
A5: 41347 | B5: 149.39 | C5: 41366 | D5: 265.8 | G5: 41562 | H5: 232.29
A6: 41352 | B6: 389.12 | C6: 41374 | D6: 289.5
C7: 41394 | D7: 20.63
A12: Total | B12: =SUM(B5:B11) -> 538.51 | C12: Total | D12: =SUM(D5:D11) -> 575.93 | E12: Total | F12: =SUM(F5:F11) -> 0 | G12: Total | H12: =SUM(H5:H11) -> 232.29
A13: Cumul des 4 trimestres | B13: =B12 -> 538.51 | D13: =B13+D12 -> 1114.44 | F13: =D13+F12 -> 1114.44 | H13: =F13+H12 -> 1346.73
A14: Cumul 2009-2013 | B14: =B48+H13 -> 12225.94
A36: 2012
A37: Trimestre 1 | C37: Trimestre 2 | E37: Trimestre 3 | G37: Trimestre 4
A38: Date | B38: Montants | C38: Date | D38: Montants | E38: Date | F38: Montants | G38: Date | H38: Montants
A39: 40914 | B39: 185.68 | E39: 41121 | F39: 131.88 | G39: 41213 | H39: 111.77
A40: 40933 | B40: 677.5 | E40: 41145 | F40: 1323.78 | G40: 41243 | H40: 260.75
A41: 40935 | B41: 43.71 | E41: 41181 | F41: 741.21
A42: 40938 | B42: 52
A43: 40939 | B43: 177.83
A44: 40939 | B44: 131.88
A45: 40947 | B45: 911.62
A46: Total | B46: =SUM(B39:B45) -> 2180.22 | C46: Total | D46: =SUM(D39:D45) -> 0 | E46: Total | F46: =SUM(F39:F45) -> 2196.87 | G46: Total | H46: =SUM(H39:H45) -> 372.52
A47: Cumul des 4 trimestres | B47: =B46 -> 2180.22 | D47: =B47+D46 -> 2180.22 | F47: =D47+F46 -> 4377.09 | H47: =F47+H46 -> 4749.61
A48: Cumul 2009-2012 | B48: =H47+B62 -> 10879.21
A50: 2011
A51: Trimestre 1 | C51: Trimestre 2 | E51: Trimestre 3 | G51: Trimestre 4
A52: Date | B52: Montants | C52: Date | D52: Montants | E52: Date | F52: Montants | G52: Date | H52: Montants
A53: 40574 | B53: 514.76 | E53: 40786 | F53: 393.42
E54: 40814 | F54: 178.19
A60: Total | B60: =SUM(B53:B59) -> 514.76 | C60: Total | D60: =SUM(D53:D59) -> 0 | E60: Total | F60: =SUM(F53:F59) -> 571.61 | G60: Total | H60: =SUM(H53:H59) -> 0
A61: Cumul des 4 trimestres | B61: =B60 -> 514.76 | D61: =B61+D60 -> 514.76 | F61: =D61+F60 -> 1086.37 | H61: =F61+H60 -> 1086.37
A62: Cumul 2009-2011 | B62: =H61+B80 -> 6129.6
A68: 2010
A69: Trimestre 1 | C69: Trimestre 2 | E69: Trimestre 3 | G69: Trimestre 4
A70: Date | B70: Montants | C70: Date | D70: Montants | E70: Date | F70: Montants | G70: Date | H70: Montants
A71: 40207 | B71: 153.38 | C71: 40281 | D71: 246.43 | G71: 40462 | H71: 475.61
A72: 40267 | B72: 1648.11 | C72: 40346 | D72: 69.37 | G72: 40499 | H72: 594.35
C73: 40333 | D73: 64
A78: Total | B78: =SUM(B71:B77) -> 1801.49 | C78: Total | D78: =SUM(D71:D77) -> 379.8 | E78: Total | F78: =SUM(F71:F77) -> 0 | G78: Total | H78: =SUM(H71:H77) -> 1069.96
A79: Cumul des 4 trimestres | B79: =B78 -> 1801.49 | D79: =B79+D78 -> 2181.29 | F79: =D79+F78 -> 2181.29 | H79: =F79+H78 -> 3251.25
A80: Cumul 2009-2010 | B80: =H79+B94 -> 5043.23
A82: 2009
A83: Trimestre 1 | C83: Trimestre 2 | E83: Trimestre 3 | G83: Trimestre 4
A84: Date | B84: Montants | C84: Date | D84: Montants | E84: Date | F84: Montants | G84: Date | H84: Montants
A85: 39843 | B85: 810.84 | C85: 39912 | D85: 341.27 | G85: 40115 | H85: 62.38
C86: 39931 | D86: 44.49 | G86: 40154 | H86: 533
A92: Total | B92: =SUM(B85:B91) -> 810.84 | C92: Total | D92: =SUM(D85:D91) -> 385.76 | E92: Total | F92: =SUM(F85:F91) -> 0 | G92: Total | H92: =SUM(H85:H91) -> 595.38
A93: Cumul des 4 trimestres | B93: =B92 -> 810.84 | D93: =B93+D92 -> 1196.6 | F93: =D93+F92 -> 1196.6 | H93: =F93+H92 -> 1791.98
A94: Cumul 2009-2012 | B94: =H93 -> 1791.98

Sheet Peugeot Boxer
A1: PEUGEOT BOXER 5561-XE-25
A2: 2013
A3: Trimestre 1 | C3: Trimestre 2 | E3: Trimestre 3 | G3: Trimestre 4
A4: Date | B4: Montants | C4: Date | D4: Montants | E4: Date | F4: Montants | G4: Date | H4: Montants
C5: 41374 | D5: 60.34 | E5: 41499 | F5: 91.49 | G5: 41554 | H5: 1857.68
E6: 41500 | F6: 43.27 | G6: 41556 | H6: 65
G7: 41563 | H7: 1402.43
G8: 41568 | H8: 185.41
A12: Total | B12: =SUM(B5:B11) -> 0 | C12: Total | D12: =SUM(D5:D11) -> 60.34 | E12: Total | F12: =SUM(F5:F11) -> 134.76 | G12: Total | H12: =SUM(H5:H11) -> 3510.52
A13: Cumul des 4 trimestres | B13: =B12 -> 0 | D13: =B13+D12 -> 60.34 | F13: =D13+F12 -> 195.1 | H13: =F13+H12 -> 3705.62
A14: Cumul 2009-2013 | B14: =H13+B48 -> 12240.65
A36: 2012
A37: Trimestre 1 | C37: Trimestre 2 | E37: Trimestre 3 | G37: Trimestre 4
A38: Date | B38: Montants | C38: Date | D38: Montants | E38: Date | F38: Montants | G38: Date | H38: Montants
A39: 40947 | B39: 872.85 | C39: 41096 | D39: 162.93 | E39: 41116 | F39: 198.76 | G39: 41192 | H39: 27
A40: 40954 | B40: 347.84
A41: 40988 | B41: 88.15
A46: Total | B46: =SUM(B39:B45) -> 1308.84 | C46: Total | D46: =SUM(D39:D45) -> 162.93 | E46: Total | F46: =SUM(F39:F45) -> 198.76 | G46: Total | H46: =SUM(H39:H45) -> 27
A47: Cumul des 4 trimestres | B47: =B46 -> 1308.84 | D47: =B47+D46 -> 1471.77 | F47: =D47+F46 -> 1670.53 | H47: =F47+H46 -> 1697.53
A48: Cumul 2009-2012 | B48: =H47+B62 -> 8535.03
A50: 2011
A51: Trimestre 1 | C51: Trimestre 2 | E51: Trimestre 3 | G51: Trimestre 4
A52: Date | B52: Montants | C52: Date | D52: Montants | E52: Date | F52: Montants | G52: Date | H52: Montants
A53: 40557 | B53: 68.17 | C53: 40663 | D53: 75.35 | E53: 40806 | F53: 835.43 | G53: 40835 | H53: 64
A54: 40599 | B54: 1426.13 | C54: 40715 | D54: 512.64 | E54: 40815 | F54: -377.52 | G54: 40886 | H54: 50.55
G55: 40877 | H55: 282.24
A60: Total | B60: =SUM(B53:B59) -> 1494.3 | C60: Total | D60: =SUM(D53:D59) -> 587.99 | E60: Total | F60: =SUM(F53:F59) -> 457.91 | G60: Total | H60: =SUM(H53:H59) -> 396.79
A61: Cumul des 4 trimestres | B61: =B60 -> 1494.3 | D61: =B61+D60 -> 2082.29 | F61: =D61+F60 -> 2540.2 | H61: =F61+H60 -> 2936.99
A62: Cumul 2009-2011 | B62: =H61+B80 -> 6837.5
A68: 2010
A69: Trimestre 1 | C69: Trimestre 2 | E69: Trimestre 3 | G69: Trimestre 4
A70: Date | B70: Montants | C70: Date | D70: Montants | E70: Date | F70: Montants | G70: Date | H70: Montants
A71: 40212 | B71: 279.11 | E71: 40390 | F71: 104.53 | G71: 40485 | H71: 26
E72: 40442 | F72: 433.23
A78: Total | B78: =SUM(B71:B77) -> 279.11 | C78: Total | D78: =SUM(D71:D77) -> 0 | E78: Total | F78: =SUM(F71:F77) -> 537.76 | G78: Total | H78: =SUM(H71:H77) -> 26
A79: Cumul des 4 trimestres | B79: =B78 -> 279.11 | D79: =B79+D78 -> 279.11 | F79: =D79+F78 -> 816.87 | H79: =F79+H78 -> 842.87
A80: Cumul 2009-2010 | B80: =H79+B94 -> 3900.51
A82: 2009
A83: Trimestre 1 | C83: Trimestre 2 | E83: Trimestre 3 | G83: Trimestre 4
A84: Date | B84: Montants | C84: Date | D84: Montants | E84: Date | F84: Montants | G84: Date | H84: Montants
A85: 39843 | B85: 97.37 | C85: 39931 | D85: 10.39 | E85: 40053 | F85: 523.49 | G85: 40117 | H85: 20.06
A86: 39872 | B86: 20 | C86: 39994 | D86: 310.6 | E86: 40035 | F86: 155.67 | G86: 40121 | H86: 63
E87: 40065 | F87: 85.32 | G87: 40147 | H87: 345.95
E88: 40086 | F88: 343.4 | G88: 40156 | H88: 1082.39
A92: Total | B92: =SUM(B85:B91) -> 117.37 | C92: Total | D92: =SUM(D85:D91) -> 320.99 | E92: Total | F92: =SUM(F85:F91) -> 1107.88 | G92: Total | H92: =SUM(H85:H91) -> 1511.4
A93: Cumul des 4 trimestres | B93: =B92 -> 117.37 | D93: =B93+D92 -> 438.36 | F93: =D93+F92 -> 1546.24 | H93: =F93+H92 -> 3057.64
A94: Cumul 2009-2012 | B94: =H93 -> 3057.64

Sheet Boxer Peugeot
A1: BOXER PEUGEOT 4247-WX-25 (27)
A2: Trimestre 1 | C2: Trimestre 2 | E2: Trimestre 3 | G2: Trimestre 4
A3: Date | B3: Montants | C3: Date | D3: Montants | E3: Date | F3: Montants | G3: Date | H3: Montants
A4: 41285 | B4: 70.38 | G4: 74427 | H4: 22
A5: 41340 | B5: 83.38 | G5: 41561 | H5: 209.06
A11: Total | B11: =SUM(B4:B10) -> 153.76 | C11: Total | D11: =SUM(D4:D10) -> 0 | E11: Total | F11: =SUM(F4:F10) -> 0 | G11: Total | H11: =SUM(H4:H10) -> 231.06
A12: Cumul des 4 trimestres | B12: =B11 -> 153.76 | D12: =B12+D11 -> 153.76 | F12: =D12+F11 -> 153.76 | H12: =F12+H11 -> 384.82
A13: Cumul 2009-2013 | B13: =H12+B48 -> 3660.11
A36: 2012
A37: Trimestre 1 | C37: Trimestre 2 | E37: Trimestre 3 | G37: Trimestre 4
A38: Date | B38: Montants | C38: Date | D38: Montants | E38: Date | F38: Montants | G38: Date | H38: Montants
A39: 40939 | B39: 59.87 | G39: 41200 | H39: 205.17
A40: 40939 | B40: 254.37 | G40: 41191 | H40: 76
A46: Total | B46: =SUM(B39:B45) -> 314.24 | C46: Total | D46: =SUM(D39:D45) -> 0 | E46: Total | F46: =SUM(F39:F45) -> 0 | G46: Total | H46: =SUM(H39:H45) -> 281.17
A47: Cumul des 4 trimestres | B47: =B46 -> 314.24 | D47: =B47+D46 -> 314.24 | F47: =D47+F46 -> 314.24 | H47: =F47+H46 -> 595.41
A48: Cumul 2009-2012 | B48: =H47+B62 -> 3275.29
A50: 2011
A51: Trimestre 1 | C51: Trimestre 2 | E51: Trimestre 3 | G51: Trimestre 4
A52: Date | B52: Montants | C52: Date | D52: Montants | E52: Date | F52: Montants | G52: Date | H52: Montants
G53: 40843 | H53: 26
A60: Total | B60: =SUM(B53:B59) -> 0 | C60: Total | D60: =SUM(D53:D59) -> 0 | E60: Total | F60: =SUM(F53:F59) -> 0 | G60: Total | H60: =SUM(H53:H59) -> 26
A61: Cumul des 4 trimestres | B61: =B60 -> 0 | D61: =B61+D60 -> 0 | F61: =D61+F60 -> 0 | H61: =F61+H60 -> 26
A62: Cumul 2009-2011 | B62: =H61+B80 -> 2679.88
A68: 2010
A69: Trimestre 1 | C69: Trimestre 2 | E69: Trimestre 3 | G69: Trimestre 4
A70: Date | B70: Montants | C70: Date | D70: Montants | E70: Date | F70: Montants | G70: Date | H70: Montants
C71: 40337 | D71: 177.65 | E71: 40421 | F71: 92.31 | G71: 40463 | H71: 87.8
C72: 40338 | D72: 112.69 | G72: 40471 | H72: 145.29
G73: 40477 | H73: 64
G74: 40482 | H74: 71.69
A78: Total | B78: =SUM(B71:B77) -> 0 | C78: Total | D78: =SUM(D71:D77) -> 290.34 | E78: Total | F78: =SUM(F71:F77) -> 92.31 | G78: Total | H78: =SUM(H71:H77) -> 368.78
A79: Cumul des 4 trimestres | B79: =B78 -> 0 | D79: =B79+D78 -> 290.34 | F79: =D79+F78 -> 382.65 | H79: =F79+H78 -> 751.43
A80: Cumul 2009-2010 | B80: =H79+B94 -> 2653.88
A82: 2009
A83: Trimestre 1 | C83: Trimestre 2 | E83: Trimestre 3 | G83: Trimestre 4
A84: Date | B84: Montants | C84: Date | D84: Montants | E84: Date | F84: Montants | G84: Date | H84: Montants
A85: 39843 | B85: 85.11 | G85: 40101 | H85: 769.98
A86: 39843 | B86: 194.71 | G86: 40095 | H86: 25
A87: 39863 | B87: 653.33 | G87: 40123 | H87: 174.32
A92: Total | B92: =SUM(B85:B91) -> 933.15 | C92: Total | D92: =SUM(D85:D91) -> 0 | E92: Total | F92: =SUM(F85:F91) -> 0 | G92: Total | H92: =SUM(H85:H91) -> 969.3
A93: Cumul des 4 trimestres | B93: =B92 -> 933.15 | D93: =B93+D92 -> 933.15 | F93: =D93+F92 -> 933.15 | H93: =F93+H92 -> 1902.45
A94: Cumul 2009-2012 | B94: =H93 -> 1902.45

Sheet Renault
A1: RENAULT CD-031-LK
A2: 2013
A3: Trimestre 1 | C3: Trimestre 2 | E3: Trimestre 3 | G3: Trimestre 4
A4: Date | B4: Montants | C4: Date | D4: Montants | E4: Date | F4: Montants | G4: Date | H4: Montants
A5: 41345 | B5: 27 | C5: 41455 | D5: 227.41 | E5: 41463 | F5: 44.34
A6: 41347 | B6: 11
A12: Total | B12: =SUM(B5:B11) -> 38 | C12: Total | D12: =SUM(D5:D11) -> 227.41 | E12: Total | F12: =SUM(F5:F11) -> 44.34 | G12: Total | H12: =SUM(H5:H11) -> 0
A13: Cumul des 4 trimestres | B13: =B12 -> 38 | D13: =B13+D12 -> 265.41 | F13: =D13+F12 -> 309.75 | H13: =F13+H12 -> 309.75
A14: Cumul 2009-2013 | B14: =H13+B48 -> 617.68
A36: 2012
A37: Trimestre 1 | C37: Trimestre 2 | E37: Trimestre 3 | G37: Trimestre 4
A38: Date | B38: Montants | C38: Date | D38: Montants | E38: Date | F38: Montants | G38: Date | H38: Montants
E39: 41131 | F39: 98.07
E40: 41165 | F40: 209.86
A46: Total | B46: =SUM(B39:B45) -> 0 | C46: Total | D46: =SUM(D39:D45) -> 0 | E46: Total | F46: =SUM(F39:F45) -> 307.93 | G46: Total | H46: =SUM(H39:H45) -> 0
A47: Cumul des 4 trimestres | B47: =B46 -> 0 | D47: =B47+D46 -> 0 | F47: =D47+F46 -> 307.93 | H47: =F47+H46 -> 307.93
A48: Cumul 2009-2012 | B48: =H47+B62 -> 307.93

Sheet Mercedez Benz
A1: MERCEDEZ BENZ 3699-WE-25 (30)
A2: 2013
A3: Trimestre 1 | C3: Trimestre 2 | E3: Trimestre 3 | G3: Trimestre 4
A4: Date | B4: Montants | C4: Date | D4: Montants | E4: Date | F4: Montants | G4: Date | H4: Montants
A5: 41327 | B5: 73.44 | C5: 41376 | D5: 376.84
A6: 41295 | B6: 65 | C6: 41390 | D6: 889.98
A7: 41312 | B7: 1298.02
A12: Total | B12: =SUM(B5:B11) -> 1436.46 | C12: Total | D12: =SUM(D5:D11) -> 1266.82 | E12: Total | F12: =SUM(F5:F11) -> 0 | G12: Total | H12: =SUM(H5:H11) -> 0
A13: Cumul des 4 trimestres | B13: =B12 -> 1436.46 | D13: =B13+D12 -> 2703.28 | F13: =D13+F12 -> 2703.28 | H13: =F13+H12 -> 2703.28
A14: Cumul 2009-2013 | B14: =H13+B47 -> 9411.96
A35: 2012
A36: Trimestre 1 | C36: Trimestre 2 | E36: Trimestre 3 | G36: Trimestre 4
A37: Date | B37: Montants | C37: Date | D37: Montants | E37: Date | F37: Montants | G37: Date | H37: Montants
A38: 40919 | B38: 26 | C38: 41066 | D38: 48.19 | E38: 41129 | F38: 11
A39: 40933 | B39: 166.51
A40: 40939 | B40: 257.03
A41: 40939 | B41: 21.61
A42: 40940 | B42: 118.91
A43: 40941 | B43: 77.74
A44: 40997 | B44: 44.74
A45: Total | B45: =SUM(B38:B44) -> 712.54 | C45: Total | D45: =SUM(D38:D44) -> 48.19 | E45: Total | F45: =SUM(F38:F44) -> 11 | G45: Total | H45: =SUM(H38:H44) -> 0
A46: Cumul des 4 trimestres | B46: =B45 -> 712.54 | D46: =B46+D45 -> 760.73 | F46: =D46+F45 -> 771.73 | H46: =F46+H45 -> 771.73
A47: Cumul 2009-2012 | B47: =H46+B61 -> 6708.68
A49: 2011
A50: Trimestre 1 | C50: Trimestre 2 | E50: Trimestre 3 | G50: Trimestre 4
A51: Date | B51: Montants | C51: Date | D51: Montants | E51: Date | F51: Montants | G51: Date | H51: Montants
A52: 40568 | B52: 64 | E52: 40778 | F52: 182.39 | G52: 40833 | H52: 121.01
A53: 40625 | B53: 134.38 | G53: 40882 | H53: 861.9
A59: Total | B59: =SUM(B52:B58) -> 198.38 | C59: Total | D59: =SUM(D52:D58) -> 0 | E59: Total | F59: =SUM(F52:F58) -> 182.39 | G59: Total | H59: =SUM(H52:H58) -> 982.91
A60: Cumul des 4 trimestres | B60: =B59 -> 198.38 | D60: =B60+D59 -> 198.38 | F60: =D60+F59 -> 380.77 | H60: =F60+H59 -> 1363.68
A61: Cumul 2009-2011 | B61: =H60+B80 -> 5936.95
A68: 2010
A69: Trimestre 1 | C69: Trimestre 2 | E69: Trimestre 3 | G69: Trimestre 4
A70: Date | B70: Montants | C70: Date | D70: Montants | E70: Date | F70: Montants | G70: Date | H70: Montants
A71: 40226 | B71: 134.45 | E71: 40364 | F71: 34.68 | G71: 40487 | H71: 330.49
A72: 40212 | B72: 26 | E72: 40409 | F72: 1218.03 | G72: 40522 | H72: 1828.3
A78: Total | B78: =SUM(B71:B77) -> 160.45 | C78: Total | D78: =SUM(D71:D77) -> 0 | E78: Total | F78: =SUM(F71:F77) -> 1252.71 | G78: Total | H78: =SUM(H71:H77) -> 2158.79
A79: Cumul des 4 trimestres | B79: =B78 -> 160.45 | D79: =B79+D78 -> 160.45 | F79: =D79+F78 -> 1413.16 | H79: =F79+H78 -> 3571.95
A80: Cumul 2009-2010 | B80: =H79+B94 -> 4573.27
A82: 2009
A83: Trimestre 1 | C83: Trimestre 2 | E83: Trimestre 3 | G83: Trimestre 4
A84: Date | B84: Montants | C84: Date | D84: Montants | E84: Date | F84: Montants | G84: Date | H84: Montants
A85: 39855 | B85: 63 | E85: 40037 | F85: 154.12 | G85: 40108 | H85: 201.44
E86: 40036 | F86: 414.58 | G86: 40117 | H86: 168.18
A92: Total | B92: =SUM(B85:B91) -> 63 | C92: Total | D92: =SUM(D85:D91) -> 0 | E92: Total | F92: =SUM(F85:F91) -> 568.7 | G92: Total | H92: =SUM(H85:H91) -> 369.62
A93: Cumul des 4 trimestres | B93: =B92 -> 63 | D93: =B93+D92 -> 63 | F93: =D93+F92 -> 631.7 | H93: =F93+H92 -> 1001.32
A94: Cumul 2009-2012 | B94: =H93 -> 1001.32

Sheet Tracteur
A1: TRACTEUR
A2: 2013
A3: Trimestre 1 | C3: Trimestre 2 | E3: Trimestre 3 | G3: Trimestre 4
A4: Date | B4: Montants | C4: Date | D4: Montants | E4: Date | F4: Montants | G4: Date | H4: Montants
A5: 41345 | B5: 80.08 | C5: 41366 | D5: 399.73 | E5: 41485 | F5: 112.3 | G5: 41586 | H5: 12.34
C6: 41421 | D6: 99.77 | E6: 41488 | F6: 100
C7: 41451 | D7: 199.65
A12: Total | B12: =SUM(B5:B11) -> 80.08 | C12: Total | D12: =SUM(D5:D11) -> 699.15 | E12: Total | F12: =SUM(F5:F11) -> 212.3 | G12: Total | H12: =SUM(H5:H11) -> 12.34
A13: Cumul des 4 trimestres | B13: =B12 -> 80.08 | D13: =B13+D12 -> 779.23 | F13: =D13+F12 -> 991.53 | H13: =F13+H12 -> 1003.87
A14: Cumul 2009-2013 | B14: =H13+B48 -> 14057.44
A36: 2012
A37: Trimestre 1 | C37: Trimestre 2 | E37: Trimestre 3 | G37: Trimestre 4
A38: Date | B38: Montants | C38: Date | D38: Montants | E38: Date | F38: Montants | G38: Date | H38: Montants
A39: 40954 | B39: 447.29 | C39: 41060 | D39: 267.87 | E39: 41171 | F39: 141.77 | G39: 41183 | H39: 82.01
A40: 40981 | B40: 535.19 | C40: 41033 | D40: 93.79 | E40: 41182 | F40: 85.36
A41: 40999 | B41: 542.63
A46: Total | B46: =SUM(B39:B45) -> 1525.11 | C46: Total | D46: =SUM(D39:D45) -> 361.66 | E46: Total | F46: =SUM(F39:F45) -> 227.13 | G46: Total | H46: =SUM(H39:H45) -> 82.01
A47: Cumul des 4 trimestres | B47: =B46 -> 1525.11 | D47: =B47+D46 -> 1886.77 | F47: =D47+F46 -> 2113.9 | H47: =F47+H46 -> 2195.91
A48: Cumul 2009-2012 | B48: =H47+B62 -> 13053.57
A50: 2011
A51: Trimestre 1 | C51: Trimestre 2 | E51: Trimestre 3 | G51: Trimestre 4
A52: Date | B52: Montants | C52: Date | D52: Montants | E52: Date | F52: Montants | G52: Date | H52: Montants
A53: 40574 | B53: 19.91 | C53: 40643 | D53: 53.26 | E53: 40795 | F53: 300.95 | G53: 40851 | H53: 161.17
A54: 40592 | B54: 30.43 | G54: 40908 | H54: 108.47
A60: Total | B60: =SUM(B53:B59) -> 50.34 | C60: Total | D60: =SUM(D53:D59) -> 53.26 | E60: Total | F60: =SUM(F53:F59) -> 300.95 | G60: Total | H60: =SUM(H53:H59) -> 269.64
A61: Cumul des 4 trimestres | B61: =B60 -> 50.34 | D61: =B61+D60 -> 103.6 | F61: =D61+F60 -> 404.55 | H61: =F61+H60 -> 674.19
A62: Cumul 2009-2011 | B62: =H61+B80 -> 10857.66
A68: 2010
A69: Trimestre 1 | C69: Trimestre 2 | E69: Trimestre 3 | G69: Trimestre 4
A70: Date | B70: Montants | C70: Date | D70: Montants | E70: Date | F70: Montants | G70: Date | H70: Montants
A71: 40225 | B71: 178.72 | C71: 40309 | D71: 55.97 | E71: 40435 | F71: 88.34 | G71: 40456 | H71: 350.38
A72: 40237 | B72: 1333.56 | C72: 40329 | D72: 272.9 | E72: 40451 | F72: 91
A73: 40257 | B73: 587.3
A78: Total | B78: =SUM(B71:B77) -> 2099.58 | C78: Total | D78: =SUM(D71:D77) -> 328.87 | E78: Total | F78: =SUM(F71:F77) -> 179.34 | G78: Total | H78: =SUM(H71:H77) -> 350.38
A79: Cumul des 4 trimestres | B79: =B78 -> 2099.58 | D79: =B79+D78 -> 2428.45 | F79: =D79+F78 -> 2607.79 | H79: =F79+H78 -> 2958.17
A80: Cumul 2009-2010 | B80: =H79+B94 -> 10183.47
A82: 2009
A83: Trimestre 1 | C83: Trimestre 2 | E83: Trimestre 3 | G83: Trimestre 4
A84: Date | B84: Montants | C84: Date | D84: Montants | E84: Date | F84: Montants | G84: Date | H84: Montants
C85: 39906 | D85: 44.71 | E85: 40025 | F85: 1556.41 | G85: 40127 | H85: 3892.76
C86: 39933 | D86: 251.68 | G86: 40157 | H86: 67.39
C87: 39990 | D87: 182.29 | G87: 40167 | H87: 276.76
C88: 39968 | D88: 16.02 | G88: 40167 | H88: 68.57
C89: 39994 | D89: 11
C90: 39964 | D90: 526.9
C91: 39994 | D91: 330.81
A92: Total | B92: =SUM(B85:B91) -> 0 | C92: Total | D92: =SUM(D85:D91) -> 1363.41 | E92: Total | F92: =SUM(F85:F91) -> 1556.41 | G92: Total | H92: =SUM(H85:H91) -> 4305.48
A93: Cumul des 4 trimestres | B93: =B92 -> 0 | D93: =B93+D92 -> 1363.41 | F93: =D93+F92 -> 2919.82 | H93: =F93+H92 -> 7225.3
A94: Cumul 2009-2012 | B94: =H93 -> 7225.3

Sheet Mini pelle
A1: MINI PELLE
A2: 2013
A3: Trimestre 1 | C3: Trimestre 2 | E3: Trimestre 3 | G3: Trimestre 4
A4: Date | B4: Montants | C4: Date | D4: Montants | E4: Date | F4: Montants | G4: Date | H4: Montants
E5: 41486 | F5: 404.42 | G5: 41578 | H5: 804.01
A12: Total | B12: =SUM(B5:B11) -> 0 | C12: Total | D12: =SUM(D5:D11) -> 0 | E12: Total | F12: =SUM(F5:F11) -> 404.42 | G12: Total | H12: =SUM(H5:H11) -> 804.01
A13: Cumul des 4 trimestres | B13: =B12 -> 0 | D13: =B13+D12 -> 0 | F13: =D13+F12 -> 404.42 | H13: =F13+H12 -> 1208.43
A14: Cumul 2009-2013 | B14: =H13+B48 -> 10682.13
A36: 2012
A37: Trimestre 1 | C37: Trimestre 2 | E37: Trimestre 3 | G37: Trimestre 4
A38: Date | B38: Montants | C38: Date | D38: Montants | E38: Date | F38: Montants | G38: Date | H38: Montants
A39: 40933 | B39: 27.77 | C39: 41089 | D39: 228.46 | G39: 41274 | H39: 954.35
C40: 41016 | D40: 36.86
A46: Total | B46: =SUM(B39:B45) -> 27.77 | C46: Total | D46: =SUM(D39:D45) -> 265.32 | E46: Total | F46: =SUM(F39:F45) -> 0 | G46: Total | H46: =SUM(H39:H45) -> 954.35
A47: Cumul des 4 trimestres | B47: =B46 -> 27.77 | D47: =B47+D46 -> 293.09 | F47: =D47+F46 -> 293.09 | H47: =F47+H46 -> 1247.44
A48: Cumul 2009-2012 | B48: =H47+B62 -> 9473.7
A50: 2011
A51: Trimestre 1 | C51: Trimestre 2 | E51: Trimestre 3 | G51: Trimestre 4
A52: Date | B52: Montants | C52: Date | D52: Montants | E52: Date | F52: Montants | G52: Date | H52: Montants
A53: 40633 | B53: 1129.04 | G53: 40847 | H53: 437.08
G54: 40877 | H54: 1227.1
A60: Total | B60: =SUM(B53:B59) -> 1129.04 | C60: Total | D60: =SUM(D53:D59) -> 0 | E60: Total | F60: =SUM(F53:F59) -> 0 | G60: Total | H60: =SUM(H53:H59) -> 1664.18
A61: Cumul des 4 trimestres | B61: =B60 -> 1129.04 | D61: =B61+D60 -> 1129.04 | F61: =D61+F60 -> 1129.04 | H61: =F61+H60 -> 2793.22
A62: Cumul 2009-2011 | B62: =H61+B80 -> 8226.26
A68: 2010
A69: Trimestre 1 | C69: Trimestre 2 | E69: Trimestre 3 | G69: Trimestre 4
A70: Date | B70: Montants | C70: Date | D70: Montants | E70: Date | F70: Montants | G70: Date | H70: Montants
A71: 40206 | B71: 39.19 | C71: 40348 | D71: 359.9 | E71: 40451 | F71: 147.12 | G71: 40484 | H71: 95.81
A72: 40207 | B72: 52.56
A78: Total | B78: =SUM(B71:B77) -> 91.75 | C78: Total | D78: =SUM(D71:D77) -> 359.9 | E78: Total | F78: =SUM(F71:F77) -> 147.12 | G78: Total | H78: =SUM(H71:H77) -> 95.81
A79: Cumul des 4 trimestres | B79: =B78 -> 91.75 | D79: =B79+D78 -> 451.65 | F79: =D79+F78 -> 598.77 | H79: =F79+H78 -> 694.58
A80: Cumul 2009-2010 | B80: =H79+B94 -> 5433.04
A82: 2009
A83: Trimestre 1 | C83: Trimestre 2 | E83: Trimestre 3 | G83: Trimestre 4
A84: Date | B84: Montants | C84: Date | D84: Montants | E84: Date | F84: Montants | G84: Date | H84: Montants
A85: 39854 | B85: 89.57 | C85: 39994 | D85: 105.25 | E85: 40025 | F85: 43.38 | G85: 40147 | H85: 3666.72
A86: 39872 | B86: 31.36 | E86: 40025 | F86: 34.92 | G86: 40157 | H86: 179.1
A87: 39861 | B87: 210.45
A88: 39875 | B88: 377.71
A92: Total | B92: =SUM(B85:B91) -> 709.09 | C92: Total | D92: =SUM(D85:D91) -> 105.25 | E92: Total | F92: =SUM(F85:F91) -> 78.3 | G92: Total | H92: =SUM(H85:H91) -> 3845.82
A93: Cumul des 4 trimestres | B93: =B92 -> 709.09 | D93: =B93+D92 -> 814.34 | F93: =D93+F92 -> 892.64 | H93: =F93+H92 -> 4738.46
A94: Cumul 2009-2012 | B94: =H93 -> 4738.46

Sheet Broyeur Saelen
A1: BROYEUR SAELEN 7552-YV-25 (118)
A2: 2013
A3: Trimestre 1 | C3: Trimestre 2 | E3: Trimestre 3 | G3: Trimestre 4
A4: Date | B4: Montants | C4: Date | D4: Montants | E4: Date | F4: Montants | G4: Date | H4: Montants
C5: 41455 | D5: 1397.08
A12: Total | B12: =SUM(B5:B11) -> 0 | C12: Total | D12: =SUM(D5:D11) -> 1397.08 | E12: Total | F12: =SUM(F5:F11) -> 0 | G12: Total | H12: =SUM(H5:H11) -> 0
A13: Cumul des 4 trimestres | B13: =B12 -> 0 | D13: =B13+D12 -> 1397.08 | F13: =D13+F12 -> 1397.08 | H13: =F13+H12 -> 1397.08
A14: Cumul 2009-2013 | B14: =H13+B48 -> 29448.61
A36: 2012
A37: Trimestre 1 | C37: Trimestre 2 | E37: Trimestre 3 | G37: Trimestre 4
A38: Date | B38: Montants | C38: Date | D38: Montants | E38: Date | F38: Montants | G38: Date | H38: Montants
A39: 40968 | B39: 29.4 | C39: 41060 | D39: 1651.13 | G39: 41243 | H39: 422.19
A40: 40999 | B40: 2348.8 | G40: 41269 | H40: 82.4
A46: Total | B46: =SUM(B39:B45) -> 2378.2 | C46: Total | D46: =SUM(D39:D45) -> 1651.13 | E46: Total | F46: =SUM(F39:F45) -> 0 | G46: Total | H46: =SUM(H39:H45) -> 504.59
A47: Cumul des 4 trimestres | B47: =B46 -> 2378.2 | D47: =B47+D46 -> 4029.33 | F47: =D47+F46 -> 4029.33 | H47: =F47+H46 -> 4533.92
A48: Cumul 2009-2012 | B48: =H47+B62 -> 28051.53
A50: 2011
A51: Trimestre 1 | C51: Trimestre 2 | E51: Trimestre 3 | G51: Trimestre 4
A52: Date | B52: Montants | C52: Date | D52: Montants | E52: Date | F52: Montants | G52: Date | H52: Montants
A53: 40574 | B53: 57.5 | E53: 40816 | F53: 586.64 | G53: 40847 | H53: 449.46
A54: 40633 | B54: 171.32 | G54: 40819 | H54: 178.3
G55: 40908 | H55: 1808.76
A60: Total | B60: =SUM(B53:B59) -> 228.82 | C60: Total | D60: =SUM(D53:D59) -> 0 | E60: Total | F60: =SUM(F53:F59) -> 586.64 | G60: Total | H60: =SUM(H53:H59) -> 2436.52
A61: Cumul des 4 trimestres | B61: =B60 -> 228.82 | D61: =B61+D60 -> 228.82 | F61: =D61+F60 -> 815.46 | H61: =F61+H60 -> 3251.98
A62: Cumul 2009-2011 | B62: =H61+B80 -> 23517.61
A68: 2010
A69: Trimestre 1 | C69: Trimestre 2 | E69: Trimestre 3 | G69: Trimestre 4
A70: Date | B70: Montants | C70: Date | D70: Montants | E70: Date | F70: Montants | G70: Date | H70: Montants
A71: 40209 | B71: 116.61 | C71: 40298 | D71: 1630.12 | G71: 40512 | H71: 106.49
A72: 40237 | B72: 312.8
A78: Total | B78: =SUM(B71:B77) -> 429.41 | C78: Total | D78: =SUM(D71:D77) -> 1630.12 | E78: Total | F78: =SUM(F71:F77) -> 0 | G78: Total | H78: =SUM(H71:H77) -> 106.49
A79: Cumul des 4 trimestres | B79: =B78 -> 429.41 | D79: =B79+D78 -> 2059.53 | F79: =D79+F78 -> 2059.53 | H79: =F79+H78 -> 2166.02
A80: Cumul 2009-2010 | B80: =H79+B94 -> 20265.63
A82: 2009
A83: Trimestre 1 | C83: Trimestre 2 | E83: Trimestre 3 | G83: Trimestre 4
A84: Date | B84: Montants | C84: Date | D84: Montants | E84: Date | F84: Montants | G84: Date | H84: Montants
C85: 39964 | D85: 14508.1 | E85: 40025 | F85: 2568.63 | G85: 40117 | H85: 154.33
C86: 39933 | D86: 238.14 | G86: 40147 | H86: 106.44
G87: 40147 | H87: 110.67
G88: 40147 | H88: 114.46
G89: 40157 | H89: 92.21
G90: 40178 | H90: 206.63
A92: Total | B92: =SUM(B85:B91) -> 0 | C92: Total | D92: =SUM(D85:D91) -> 14746.24 | E92: Total | F92: =SUM(F85:F91) -> 2568.63 | G92: Total | H92: =SUM(H85:H91) -> 784.74
A93: Cumul des 4 trimestres | B93: =B92 -> 0 | D93: =B93+D92 -> 14746.24 | F93: =D93+F92 -> 17314.87 | H93: =F93+H92 -> 18099.61
A94: Cumul 2009-2012 | B94: =H93 -> 18099.61

Sheet Remorque Saris
A1: REMORQUE SARIS 5760-ZQ-25(40)
A2: 2013
A3: Trimestre 1 | C3: Trimestre 2 | E3: Trimestre 3 | G3: Trimestre 4
A4: Date | B4: Montants | C4: Date | D4: Montants | E4: Date | F4: Montants | G4: Date | H4: Montants
A12: Total | B12: =SUM(B5:B11) -> 0 | C12: Total | D12: =SUM(D5:D11) -> 0 | E12: Total | F12: =SUM(F5:F11) -> 0 | G12: Total | H12: =SUM(H5:H11) -> 0
A13: Cumul des 4 trimestres | B13: =B12 -> 0 | D13: =B13+D12 -> 0 | F13: =D13+F12 -> 0 | H13: =F13+H12 -> 0
A14: Cumul 2009-2013 | B14: =H13+B48 -> 42.17
A36: 2012
A37: Trimestre 1 | C37: Trimestre 2 | E37: Trimestre 3 | G37: Trimestre 4
A38: Date | B38: Montants | C38: Date | D38: Montants | E38: Date | F38: Montants | G38: Date | H38: Montants
E39: 41165 | F39: 21.53
A46: Total | B46: =SUM(B39:B45) -> 0 | C46: Total | D46: =SUM(D39:D45) -> 0 | E46: Total | F46: =SUM(F39:F45) -> 21.53 | G46: Total | H46: =SUM(H39:H45) -> 0
A47: Cumul des 4 trimestres | B47: =B46 -> 0 | D47: =B47+D46 -> 0 | F47: =D47+F46 -> 21.53 | H47: =F47+H46 -> 21.53
A48: Cumul 2009-2012 | B48: =H47+B62 -> 42.17
A50: 2011
A51: Trimestre 1 | C51: Trimestre 2 | E51: Trimestre 3 | G51: Trimestre 4
A52: Date | B52: Montants | C52: Date | D52: Montants | E52: Date | F52: Montants | G52: Date | H52: Montants
A60: Total | B60: =SUM(B53:B59) -> 0 | C60: Total | D60: =SUM(D53:D59) -> 0 | E60: Total | F60: =SUM(F53:F59) -> 0 | G60: Total | H60: =SUM(H53:H59) -> 0
A61: Cumul des 4 trimestres | B61: =B60 -> 0 | D61: =B61+D60 -> 0 | F61: =D61+F60 -> 0 | H61: =F61+H60 -> 0
A62: Cumul 2009-2011 | B62: =H61+B80 -> 20.64
A68: 2010
A69: Trimestre 1 | C69: Trimestre 2 | E69: Trimestre 3 | G69: Trimestre 4
A70: Date | B70: Montants | C70: Date | D70: Montants | E70: Date | F70: Montants | G70: Date | H70: Montants
A78: Total | B78: =SUM(B71:B77) -> 0 | C78: Total | D78: =SUM(D71:D77) -> 0 | E78: Total | F78: =SUM(F71:F77) -> 0 | G78: Total | H78: =SUM(H71:H77) -> 0
A79: Cumul des 4 trimestres | B79: =B78 -> 0 | D79: =B79+D78 -> 0 | F79: =D79+F78 -> 0 | H79: =F79+H78 -> 0
A80: Cumul 2009-2010 | B80: =H79+B94 -> 20.64
A82: 2009
A83: Trimestre 1 | C83: Trimestre 2 | E83: Trimestre 3 | G83: Trimestre 4
A84: Date | B84: Montants | C84: Date | D84: Montants | E84: Date | F84: Montants | G84: Date | H84: Montants
A85: 39844 | B85: 20.64
A92: Total | B92: =SUM(B85:B91) -> 20.64 | C92: Total | D92: =SUM(D85:D91) -> 0 | E92: Total | F92: =SUM(F85:F91) -> 0 | G92: Total | H92: =SUM(H85:H91) -> 0
A93: Cumul des 4 trimestres | B93: =B92 -> 20.64 | D93: =B93+D92 -> 20.64 | F93: =D93+F92 -> 20.64 | H93: =F93+H92 -> 20.64
A94: Cumul 2009-2012 | B94: =H93 -> 20.64

Sheet Remorque Occasion
A1: REMORQUE OCCASION (35)
A2: 2013
A3: Trimestre 1 | C3: Trimestre 2 | E3: Trimestre 3 | G3: Trimestre 4
A4: Date | B4: Montants | C4: Date | D4: Montants | E4: Date | F4: Montants | G4: Date | H4: Montants
A12: Total | B12: =SUM(B5:B11) -> 0 | C12: Total | D12: =SUM(D5:D11) -> 0 | E12: Total | F12: =SUM(F5:F11) -> 0 | G12: Total | H12: =SUM(H5:H11) -> 0
A13: Cumul des 4 trimestres | B13: =B12 -> 0 | D13: =B13+D12 -> 0 | F13: =D13+F12 -> 0 | H13: =F13+H12 -> 0
A14: Cumul 2009-2013 | B14: =H13+B48 -> 54.45
A36: 2012
A37: Trimestre 1 | C37: Trimestre 2 | E37: Trimestre 3 | G37: Trimestre 4
A38: Date | B38: Montants | C38: Date | D38: Montants | E38: Date | F38: Montants | G38: Date | H38: Montants
A46: Total | B46: =SUM(B39:B45) -> 0 | C46: Total | D46: =SUM(D39:D45) -> 0 | E46: Total | F46: =SUM(F39:F45) -> 0 | G46: Total | H46: =SUM(H39:H45) -> 0
A47: Cumul des 4 trimestres | B47: =B46 -> 0 | D47: =B47+D46 -> 0 | F47: =D47+F46 -> 0 | H47: =F47+H46 -> 0
A48: Cumul 2009-2012 | B48: =H47+B62 -> 54.45
A50: 2011
A51: Trimestre 1 | C51: Trimestre 2 | E51: Trimestre 3 | G51: Trimestre 4
A52: Date | B52: Montants | C52: Date | D52: Montants | E52: Date | F52: Montants | G52: Date | H52: Montants
A60: Total | B60: =SUM(B53:B59) -> 0 | C60: Total | D60: =SUM(D53:D59) -> 0 | E60: Total | F60: =SUM(F53:F59) -> 0 | G60: Total | H60: =SUM(H53:H59) -> 0
A61: Cumul des 4 trimestres | B61: =B60 -> 0 | D61: =B61+D60 -> 0 | F61: =D61+F60 -> 0 | H61: =F61+H60 -> 0
A62: Cumul 2009-2011 | B62: =H61+B80 -> 54.45
A68: 2010
A69: Trimestre 1 | C69: Trimestre 2 | E69: Trimestre 3 | G69: Trimestre 4
A70: Date | B70: Montants | C70: Date | D70: Montants | E70: Date | F70: Montants | G70: Date | H70: Montants
A78: Total | B78: =SUM(B71:B77) -> 0 | C78: Total | D78: =SUM(D71:D77) -> 0 | E78: Total | F78: =SUM(F71:F77) -> 0 | G78: Total | H78: =SUM(H71:H77) -> 0
A79: Cumul des 4 trimestres | B79: =B78 -> 0 | D79: =B79+D78 -> 0 | F79: =D79+F78 -> 0 | H79: =F79+H78 -> 0
A80: Cumul 2009-2010 | B80: =H79+B94 -> 54.45
A82: 2009
A83: Trimestre 1 | C83: Trimestre 2 | E83: Trimestre 3 | G83: Trimestre 4
A84: Date | B84: Montants | C84: Date | D84: Montants | E84: Date | F84: Montants | G84: Date | H84: Montants
C85: 39904 | D85: 54.45
A92: Total | B92: =SUM(B85:B91) -> 0 | C92: Total | D92: =SUM(D85:D91) -> 54.45 | E92: Total | F92: =SUM(F85:F91) -> 0 | G92: Total | H92: =SUM(H85:H91) -> 0
A93: Cumul des 4 trimestres | B93: =B92 -> 0 | D93: =B93+D92 -> 54.45 | F93: =D93+F92 -> 54.45 | H93: =F93+H92 -> 54.45
A94: Cumul 2009-2012 | B94: =H93 -> 54.45

Sheet Remorque Saris Opaque
A1: REMORQUE SARIS OPAQUE (27)
A2: 2013
A3: Trimestre 1 | C3: Trimestre 2 | E3: Trimestre 3 | G3: Trimestre 4
A4: Date | B4: Montants | C4: Date | D4: Montants | E4: Date | F4: Montants | G4: Date | H4: Montants
A12: Total | B12: =SUM(B5:B11) -> 0 | C12: Total | D12: =SUM(D5:D11) -> 0 | E12: Total | F12: =SUM(F5:F11) -> 0 | G12: Total | H12: =SUM(H5:H11) -> 0
A13: Cumul des 4 trimestres | B13: =B12 -> 0 | D13: =B13+D12 -> 0 | F13: =D13+F12 -> 0 | H13: =F13+H12 -> 0
A14: Cumul 2009-2013 | B14: =H13+B48 -> 807.1
A36: 2012
A37: Trimestre 1 | C37: Trimestre 2 | E37: Trimestre 3 | G37: Trimestre 4
A38: Date | B38: Montants | C38: Date | D38: Montants | E38: Date | F38: Montants | G38: Date | H38: Montants
E39: 41165 | F39: 81.55
A46: Total | B46: =SUM(B39:B45) -> 0 | C46: Total | D46: =SUM(D39:D45) -> 0 | E46: Total | F46: =SUM(F39:F45) -> 81.55 | G46: Total | H46: =SUM(H39:H45) -> 0
A47: Cumul des 4 trimestres | B47: =B46 -> 0 | D47: =B47+D46 -> 0 | F47: =D47+F46 -> 81.55 | H47: =F47+H46 -> 81.55
A48: Cumul 2009-2012 | B48: =H47+B62 -> 807.1
A50: 2011
A51: Trimestre 1 | C51: Trimestre 2 | E51: Trimestre 3 | G51: Trimestre 4
A52: Date | B52: Montants | C52: Date | D52: Montants | E52: Date | F52: Montants | G52: Date | H52: Montants
A60: Total | B60: =SUM(B53:B59) -> 0 | C60: Total | D60: =SUM(D53:D59) -> 0 | E60: Total | F60: =SUM(F53:F59) -> 0 | G60: Total | H60: =SUM(H53:H59) -> 0
A61: Cumul des 4 trimestres | B61: =B60 -> 0 | D61: =B61+D60 -> 0 | F61: =D61+F60 -> 0 | H61: =F61+H60 -> 0
A62: Cumul 2009-2011 | B62: =H61+B80 -> 725.55
A68: 2010
A69: Trimestre 1 | C69: Trimestre 2 | E69: Trimestre 3 | G69: Trimestre 4
A70: Date | B70: Montants | C70: Date | D70: Montants | E70: Date | F70: Montants | G70: Date | H70: Montants
E71: 40376 | F71: 725.55
A78: Total | B78: =SUM(B71:B77) -> 0 | C78: Total | D78: =SUM(D71:D77) -> 0 | E78: Total | F78: =SUM(F71:F77) -> 725.55 | G78: Total | H78: =SUM(H71:H77) -> 0
A79: Cumul des 4 trimestres | B79: =B78 -> 0 | D79: =B79+D78 -> 0 | F79: =D79+F78 -> 725.55 | H79: =F79+H78 -> 725.55
A80: Cumul 2009-2010 | B80: =H79+B94 -> 725.55
A82: 2009
A83: Trimestre 1 | C83: Trimestre 2 | E83: Trimestre 3 | G83: Trimestre 4
A84: Date | B84: Montants | C84: Date | D84: Montants | E84: Date | F84: Montants | G84: Date | H84: Montants
A92: Total | B92: =SUM(B85:B91) -> 0 | C92: Total | D92: =SUM(D85:D91) -> 0 | E92: Total | F92: =SUM(F85:F91) -> 0 | G92: Total | H92: =SUM(H85:H91) -> 0
A93: Cumul des 4 trimestres | B93: =B92 -> 0 | D93: =B93+D92 -> 0 | F93: =D93+F92 -> 0 | H93: =F93+H92 -> 0
A94: Cumul 2009-2012 | B94: =H93 -> 0

Sheet Remorque porte engin
A1: REMORQUE PORTE ENGIN GOUDRON (31)
A2: 2013
A3: Trimestre 1 | C3: Trimestre 2 | E3: Trimestre 3 | G3: Trimestre 4
A4: Date | B4: Montants | C4: Date | D4: Montants | E4: Date | F4: Montants | G4: Date | H4: Montants
A5: 41333 | B5: 172.46 | G5: 41571 | H5: 111.75
A12: Total | B12: =SUM(B5:B11) -> 172.46 | C12: Total | D12: =SUM(D5:D11) -> 0 | E12: Total | F12: =SUM(F5:F11) -> 0 | G12: Total | H12: =SUM(H5:H11) -> 111.75
A13: Cumul des 4 trimestres | B13: =B12 -> 172.46 | D13: =B13+D12 -> 172.46 | F13: =D13+F12 -> 172.46 | H13: =F13+H12 -> 284.21
A14: Cumul 2009-2013 | B14: =H13+B48 -> 1313.22
A36: 2012
A37: Trimestre 1 | C37: Trimestre 2 | E37: Trimestre 3 | G37: Trimestre 4
A38: Date | B38: Montants | C38: Date | D38: Montants | E38: Date | F38: Montants | G38: Date | H38: Montants
C39: 41029 | D39: 106.86 | E39: 41182 | F39: 172.46 | G39: 41213 | H39: 156.08
A46: Total | B46: =SUM(B39:B45) -> 0 | C46: Total | D46: =SUM(D39:D45) -> 106.86 | E46: Total | F46: =SUM(F39:F45) -> 172.46 | G46: Total | H46: =SUM(H39:H45) -> 156.08
A47: Cumul des 4 trimestres | B47: =B46 -> 0 | D47: =B47+D46 -> 106.86 | F47: =D47+F46 -> 279.32 | H47: =F47+H46 -> 435.4
A48: Cumul 2009-2012 | B48: =H47+B62 -> 1029.01
A50: 2011
A51: Trimestre 1 | C51: Trimestre 2 | E51: Trimestre 3 | G51: Trimestre 4
A52: Date | B52: Montants | C52: Date | D52: Montants | E52: Date | F52: Montants | G52: Date | H52: Montants
A60: Total | B60: =SUM(B53:B59) -> 0 | C60: Total | D60: =SUM(D53:D59) -> 0 | E60: Total | F60: =SUM(F53:F59) -> 0 | G60: Total | H60: =SUM(H53:H59) -> 0
A61: Cumul des 4 trimestres | B61: =B60 -> 0 | D61: =B61+D60 -> 0 | F61: =D61+F60 -> 0 | H61: =F61+H60 -> 0
A62: Cumul 2009-2011 | B62: =H61+B80 -> 593.61
A68: 2010
A69: Trimestre 1 | C69: Trimestre 2 | E69: Trimestre 3 | G69: Trimestre 4
A70: Date | B70: Montants | C70: Date | D70: Montants | E70: Date | F70: Montants | G70: Date | H70: Montants
G71: 40512 | H71: 489.12
G72: 40482 | H72: 104.49
A78: Total | B78: =SUM(B71:B77) -> 0 | C78: Total | D78: =SUM(D71:D77) -> 0 | E78: Total | F78: =SUM(F71:F77) -> 0 | G78: Total | H78: =SUM(H71:H77) -> 593.61
A79: Cumul des 4 trimestres | B79: =B78 -> 0 | D79: =B79+D78 -> 0 | F79: =D79+F78 -> 0 | H79: =F79+H78 -> 593.61
A80: Cumul 2009-2010 | B80: =H79+B94 -> 593.61
A82: 2009
A83: Trimestre 1 | C83: Trimestre 2 | E83: Trimestre 3 | G83: Trimestre 4
A84: Date | B84: Montants | C84: Date | D84: Montants | E84: Date | F84: Montants | G84: Date | H84: Montants
A92: Total | B92: =SUM(B85:B91) -> 0 | C92: Total | D92: =SUM(D85:D91) -> 0 | E92: Total | F92: =SUM(F85:F91) -> 0 | G92: Total | H92: =SUM(H85:H91) -> 0
A93: Cumul des 4 trimestres | B93: =B92 -> 0 | D93: =B93+D92 -> 0 | F93: =D93+F92 -> 0 | H93: =F93+H92 -> 0
A94: Cumul 2009-2012 | B94: =H93 -> 0

Sheet tous les véhicules
E1: Réparations des véhicules 2012 - 2013
F2: Trimestre 1 | G2: Trimestre 2 | H2: Trimestre 3 | I2: Trimestre 4 | J2: Année 2013 | K2: Année 2012
E3: BERLINGO BZ-300-HE | F3: =Berlingo!$B$12 -> 0 | G3: =Berlingo!$D$12 -> 4.42 | H3: =Berlingo!$F$12 -> 0 | I3: =Berlingo!$H$12 -> 0 | J3: =Berlingo!$H$13 -> 4.42 | K3: =Berlingo!H47 -> 1187
E4: PEUGEOT EXPERT 2582-XB-25 (12) | F4: ='Peugeot Expert'!$B$12 -> 549.14 | G4: ='Peugeot Expert'!$D$12 -> 474.15 | H4: ='Peugeot Expert'!$F$12 -> 0 | I4: ='Peugeot Expert'!$H$12 -> 40 | J4: ='Peugeot Expert'!$H$13 -> 1063.29 | K4: ='Peugeot Expert'!$H$47 -> 406.94
E5: PEUGEOT EXPERT 7153-YP-25 (26) | F5: ='Peugeot Expert 1'!$B$12 -> 109.86 | G5: ='Peugeot Expert 1'!$D$12 -> 124 | H5: ='Peugeot Expert 1'!$F$12 -> 14.4 | I5: ='Peugeot Expert 1'!$H$12 -> 0 | J5: ='Peugeot Expert 1'!$H$13 -> 248.26 | K5: ='Peugeot Expert 1'!$H$47 -> 618.97
E6: CITROEN JUMPER 1165-YQ-25 (28) | F6: ='Citroën Jumper,'!$B$12 -> 661.34 | G6: ='Citroën Jumper,'!$D$12 -> 65 | H6: ='Citroën Jumper,'!$F$12 -> 0 | I6: ='Citroën Jumper,'!$H$12 -> 0 | J6: ='Citroën Jumper,'!$H$13 -> 726.34 | K6: ='Citroën Jumper,'!$H$48 -> 27
E7: CITROEN JUMPER 5526-YD-25 (15) | F7: ='Citroën Jumper'!$B$12 -> 0 | G7: ='Citroën Jumper'!$D$12 -> 410.06 | H7: ='Citroën Jumper'!$F$12 -> 0 | I7: ='Citroën Jumper'!$H$12 -> 336.67 | J7: ='Citroën Jumper'!$H$13 -> 746.73 | K7: ='Citroën Jumper'!$H$47 -> 3529.6
E8: IVECO AC-321-SD | F8: ='Iveco 2'!$B$12 -> 0 | G8: ='Iveco 2'!$D$12 -> 0 | H8: ='Iveco 2'!$F$12 -> 395.17 | I8: ='Iveco 2'!$H$12 -> 0 | J8: ='Iveco 2'!$H$13 -> 395.17 | K8: 0
E9: IVECO 7867-YV-25 | F9: ='Iveco 1'!$B$12 -> 0 | G9: ='Iveco 1'!$D$12 -> 1743.78 | H9: ='Iveco 1'!$F$12 -> 484.48 | I9: ='Iveco 1'!$H$12 -> 854.09 | J9: ='Iveco 1'!$H$13 -> 3082.35 | K9: ='Iveco 1'!$H$47 -> 4474.62
E10: IVECO AT-879-NH | F10: =Iveco!$B$12 -> 0 | G10: =Iveco!$D$12 -> 231.8 | H10: =Iveco!$F$12 -> 999.24 | I10: =Iveco!$H$12 -> 508.3 | J10: =Iveco!$H$13 -> 1739.34 | K10: =Iveco!$H$47 -> 2056.88
E11: IVECO BENNE 3548-YK-25 (24) | F11: ='Iveco Benne'!$B$12 -> 0 | G11: ='Iveco Benne'!$D$12 -> 492.29 | H11: ='Iveco Benne'!$F$12 -> 556.24 | I11: ='Iveco Benne'!$H$12 -> 53.29 | J11: ='Iveco Benne'!$H$13 -> 1101.82 | K11: ='Iveco Benne'!$H$47 -> 2930.03
E12: IVECO 3549-YF-25 | F12: =Yveco!$B$12 -> 538.51 | G12: =Yveco!$D$12 -> 575.93 | H12: =Yveco!$F$12 -> 0 | I12: =Yveco!$H$12 -> 232.29 | J12: =Yveco!$H$13 -> 1346.73 | K12: =Yveco!$H$47 -> 4749.61
E13: PEUGEOT BOXER 5561-XE-25 | F13: ='Peugeot Boxer'!$B$12 -> 0 | G13: ='Peugeot Boxer'!$D$12 -> 60.34 | H13: ='Peugeot Boxer'!$F$12 -> 134.76 | I13: ='Peugeot Boxer'!$H$12 -> 3510.52 | J13: ='Peugeot Boxer'!$H$13 -> 3705.62 | K13: ='Peugeot Boxer'!$H$47 -> 1697.53
E14: BOXER PEUGEOT 4247-WX-25 (27) | F14: ='Boxer Peugeot'!$B$11 -> 153.76 | G14: ='Boxer Peugeot'!$D$11 -> 0 | H14: ='Boxer Peugeot'!$F$11 -> 0 | I14: ='Boxer Peugeot'!$H$11 -> 231.06 | J14: ='Boxer Peugeot'!$H$12 -> 384.82 | K14: ='Boxer Peugeot'!$H$47 -> 595.41
E15: RENAULT CD-031-LK | F15: =Renault!$B$12 -> 38 | G15: =Renault!$D$12 -> 227.41 | H15: =Renault!$F$12 -> 44.34 | I15: =Renault!$H$12 -> 0 | J15: =Renault!$H$13 -> 309.75 | K15: =Renault!$H$47 -> 307.93
E16: MERCEDEZ BENZ 3699-WE-25 (30) | F16: ='Mercedez Benz'!$B$12 -> 1436.46 | G16: ='Mercedez Benz'!$D$12 -> 1266.82 | H16: ='Mercedez Benz'!$F$12 -> 0 | I16: ='Mercedez Benz'!$H$12 -> 0 | J16: ='Mercedez Benz'!$H$13 -> 2703.28 | K16: ='Mercedez Benz'!$H$46 -> 771.73
E17: TRACTEUR | F17: =Tracteur!$B$12 -> 80.08 | G17: =Tracteur!$D$12 -> 699.15 | H17: =Tracteur!$F$12 -> 212.3 | I17: =Tracteur!$H$12 -> 12.34 | J17: =Tracteur!$H$13 -> 1003.87 | K17: =Tracteur!$H$47 -> 2195.91
E18: MINI PELLE | F18: ='Mini pelle'!$B$12 -> 0 | G18: ='Mini pelle'!$D$12 -> 0 | H18: ='Mini pelle'!$F$12 -> 404.42 | I18: ='Mini pelle'!$H$12 -> 804.01 | J18: ='Mini pelle'!$H$13 -> 1208.43 | K18: ='Mini pelle'!$H$47 -> 1247.44
E19: BROYEUR SAELEN 7552-YV-25 (118) | F19: ='Broyeur Saelen'!$B$12 -> 0 | G19: ='Broyeur Saelen'!$D$12 -> 1397.08 | H19: ='Broyeur Saelen'!$F$12 -> 0 | I19: ='Broyeur Saelen'!$H$12 -> 0 | J19: ='Broyeur Saelen'!$H$13 -> 1397.08 | K19: ='Broyeur Saelen'!$H$47 -> 4533.92
E20: REMORQUE SARIS 5760-ZQ-25(40) | F20: ='Remorque Saris'!$B$12 -> 0 | G20: ='Remorque Saris'!$D$12 -> 0 | H20: ='Remorque Saris'!$F$12 -> 0 | I20: ='Remorque Saris'!$H$12 -> 0 | J20: ='Remorque Saris'!$H$13 -> 0 | K20: ='Remorque Saris'!$H$47 -> 21.53
E21: REMORQUE OCCASION (35) | F21: ='Remorque Occasion'!$B$12 -> 0 | G21: ='Remorque Occasion'!$D$12 -> 0 | H21: ='Remorque Occasion'!$F$12 -> 0 | I21: ='Remorque Occasion'!$H$12 -> 0 | J21: ='Remorque Occasion'!$H$13 -> 0 | K21: ='Remorque Occasion'!$H$47 -> 0
E22: REMORQUE SARIS OPAQUE (27) | F22: ='Remorque Saris Opaque'!$B$12 -> 0 | G22: ='Remorque Saris Opaque'!$D$12 -> 0 | H22: ='Remorque Saris Opaque'!$F$12 -> 0 | I22: ='Remorque Saris Opaque'!$H$12 -> 0 | J22: ='Remorque Saris Opaque'!$H$13 -> 0 | K22: ='Remorque Saris Opaque'!$H$47 -> 81.55
E23: REMORQUE PORTE ENGIN GOUDRON (31) | F23: ='Remorque porte engin'!$B$12 -> 172.46 | G23: ='Remorque porte engin'!$D$12 -> 0 | H23: ='Remorque porte engin'!$F$12 -> 0 | I23: ='Remorque porte engin'!$H$12 -> 111.75 | J23: ='Remorque porte engin'!$H$13 -> 284.21 | K23: ='Remorque porte engin'!$H$47 -> 435.4
E24: TOTAL | F24: =SUM(F3:F23) -> 3739.61 | G24: =SUM(G3:G23) -> 7772.23 | H24: =SUM(H3:H23) -> 3245.35 | I24: =SUM(I3:I23) -> 6694.32 | J24: =SUM(J3:J23) -> 21451.51 | K24: =SUM(K3:K23) -> 31869
