Workbook

Sheet Affichage
B1: =Calcul!B1 -> Planning PHB | E1: =Calcul!E1 -> 0 | F1: =Calcul!F1 -> 0 | G1: =Calcul!G1 -> 0 | H1: =Calcul!H1 -> 0
B2: =Calcul!B2 -> Cadence | C2: Gel coat coques | D2: Gel coat pont | E2: =Calcul!E2 -> Entrée en chaine | F2: =Calcul!F2 -> Pontage | G2: =Calcul!G2 -> Sortie de chaîne | H2: =Calcul!H2 -> Livraison
A3: =Calcul!A3 -> PHB37
A4: =Calcul!A4 -> PHB38
A5: =Calcul!A5 -> PHB39 | B5: =Calcul!B5 -> 14 | G5: =IF(Calcul!K5="",Calcul!G5,Calcul!K5) -> 43047 | H5: =WORKDAY.INTL(G5,10,1,'Jour férié'!$D$6:$D$66) -> 43061
A6: =Calcul!A6 -> PHB40 | B6: =Calcul!B6 -> 14 | C6: =Calcul!C6 -> 42947 | D6: =Calcul!D6 -> 42993 | E6: =Calcul!E6 -> 42986 | F6: =IF(Calcul!J6="",Calcul!F6,Calcul!J6) -> 43027 | G6: =IF(Calcul!K6="",Calcul!G6,Calcul!K6) -> 43069 | H6: =WORKDAY.INTL(G6,10,1,'Jour férié'!$D$6:$D$66) -> 43083
A7: =Calcul!A7 -> PHB41 | B7: =Calcul!B7 -> 14 | C7: =Calcul!C7 -> 42970 | D7: =Calcul!D7 -> 43017 | E7: =Calcul!E7 -> 43010 | F7: =IF(Calcul!J7="",Calcul!F7,Calcul!J7) -> 43048 | G7: =IF(Calcul!K7="",Calcul!G7,Calcul!K7) -> 43087 | H7: =WORKDAY.INTL(G7,10,1,'Jour férié'!$D$6:$D$66) -> 43110
A8: =Calcul!A8 -> PHB42 | B8: =Calcul!B8 -> 14 | C8: =Calcul!C8 -> 42990 | D8: =Calcul!D8 -> 43035 | E8: =Calcul!E8 -> 43028 | F8: =IF(Calcul!J8="",Calcul!F8,Calcul!J8) -> 43066 | G8: =IF(Calcul!K8="",Calcul!G8,Calcul!K8) -> 43110 | H8: =WORKDAY.INTL(G8,10,1,'Jour férié'!$D$6:$D$66) -> 43124
A9: =Calcul!A9 -> PHB43 | B9: =Calcul!B9 -> 15 | C9: =Calcul!C9 -> 43007 | D9: =Calcul!D9 -> 43061 | E9: =Calcul!E9 -> 43052 | F9: =IF(Calcul!J9="",Calcul!F9,Calcul!J9) -> 43082 | G9: =IF(Calcul!K9="",Calcul!G9,Calcul!K9) -> 43123 | H9: =WORKDAY.INTL(G9,10,1,'Jour férié'!$D$6:$D$66) -> 43137
A10: =Calcul!A10 -> PHB44 | B10: =Calcul!B10 -> 13 | C10: =Calcul!C10 -> 43032 | D10: =Calcul!D10 -> 43074 | E10: =Calcul!E10 -> 43069 | F10: =IF(Calcul!J10="",Calcul!F10,Calcul!J10) -> 43110 | G10: =IF(Calcul!K10="",Calcul!G10,Calcul!K10) -> 43140 | H10: =WORKDAY.INTL(G10,10,1,'Jour férié'!$D$6:$D$66) -> 43154
A11: =Calcul!A11 -> PHB45 | B11: =Calcul!B11 -> 12 | C11: =Calcul!C11 -> 43053 | D11: =Calcul!D11 -> 43088 | E11: =Calcul!E11 -> 43087 | F11: =IF(Calcul!J11="",Calcul!F11,Calcul!J11) -> 43125 | G11: =IF(Calcul!K11="",Calcul!G11,Calcul!K11) -> 43157 | H11: =WORKDAY.INTL(G11,10,1,'Jour férié'!$D$6:$D$66) -> 43171
A12: =Calcul!A12 -> PHB46 | B12: =Calcul!B12 -> 12 | C12: =Calcul!C12 -> 43069 | D12: =Calcul!D12 -> 43115 | E12: =Calcul!E12 -> 43112 | F12: =IF(Calcul!J12="",Calcul!F12,Calcul!J12) -> 43143 | G12: =IF(Calcul!K12="",Calcul!G12,Calcul!K12) -> 43172 | H12: =WORKDAY.INTL(G12,10,1,'Jour férié'!$D$6:$D$66) -> 43186
A13: =Calcul!A13 -> PHB47 | B13: =Calcul!B13 -> 11 | C13: =Calcul!C13 -> 43088 | D13: =Calcul!D13 -> 43126 | E13: =Calcul!E13 -> 43129 | F13: =IF(Calcul!J13="",Calcul!F13,Calcul!J13) -> 43159 | G13: =IF(Calcul!K13="",Calcul!G13,Calcul!K13) -> 43189 | H13: =WORKDAY.INTL(G13,10,1,'Jour férié'!$D$6:$D$66) -> 43203
A14: =Calcul!A14 -> PHB48 | B14: =Calcul!B14 -> 11 | C14: =Calcul!C14 -> 43112 | D14: =Calcul!D14 -> 43143 | E14: =Calcul!E14 -> 43144 | F14: =IF(Calcul!J14="",Calcul!F14,Calcul!J14) -> 43174 | G14: =IF(Calcul!K14="",Calcul!G14,Calcul!K14) -> 43206 | H14: =WORKDAY.INTL(G14,10,1,'Jour férié'!$D$6:$D$66) -> 43222
A15: =Calcul!A15 -> PHB49 | B15: =Calcul!B15 -> 11 | C15: =Calcul!C15 -> 43129 | D15: =Calcul!D15 -> 43158 | E15: =Calcul!E15 -> 43159 | F15: =IF(Calcul!J15="",Calcul!F15,Calcul!J15) -> 43189 | G15: =IF(Calcul!K15="",Calcul!G15,Calcul!K15) -> 43223 | H15: =WORKDAY.INTL(G15,10,1,'Jour férié'!$D$6:$D$66) -> 43244
A16: =Calcul!A16 -> PHB50 | B16: =Calcul!B16 -> 11 | C16: =Calcul!C16 -> 43144 | D16: =Calcul!D16 -> 43173 | E16: =Calcul!E16 -> 43174 | F16: =IF(Calcul!J16="",Calcul!F16,Calcul!J16) -> 43206 | G16: =IF(Calcul!K16="",Calcul!G16,Calcul!K16) -> 43245 | H16: =WORKDAY.INTL(G16,10,1,'Jour férié'!$D$6:$D$66) -> 43259
A17: =Calcul!A17 -> PHB51 | B17: =Calcul!B17 -> 11 | C17: =Calcul!C17 -> 43159 | D17: =Calcul!D17 -> 43188 | E17: =Calcul!E17 -> 43189 | F17: =IF(Calcul!J17="",Calcul!F17,Calcul!J17) -> 43223 | G17: =IF(Calcul!K17="",Calcul!G17,Calcul!K17) -> 43262 | H17: =WORKDAY.INTL(G17,10,1,'Jour férié'!$D$6:$D$66) -> 43276
... A28: =Calcul!A28 -> PHB62 | B28: =Calcul!B28 -> 10 | C28: =Calcul!C28 -> 43356 | D28: =Calcul!D28 -> 43381 | E28: =Calcul!E28 -> 43384 | F28: =IF(Calcul!J28="",Calcul!F28,Calcul!J28) -> 43413 | G28: =IF(Calcul!K28="",Calcul!G28,Calcul!K28) -> 43441 | H28: =WORKDAY.INTL(G28,10,1,'Jour férié'!$D$6:$D$66) -> 43455

Sheet Calcul
B1: Planning PHB | J1: Nouvelle dates
B2: Cadence | C2: Gel coat coques | D2: Gel coat pont | E2: Entrée en chaine | F2: Pontage | G2: Sortie de chaîne | H2: Livraison | I2: Delta | J2: Pontage | K2: Sortie de chaine
A3: PHB37
A4: PHB38
A5: PHB39 | B5: 14 | G5: 43047 | H5: =WORKDAY.INTL(G5,10,1,'Jour férié'!$D$6:$D$66) -> 43061
A6: PHB40 | B6: 14 | C6: =WORKDAY.INTL(E6,-(B6*2),1,'Jour férié'!$D$6:$D$66) -> 42947 | D6: =WORKDAY.INTL(F6,-23,1,'Jour férié'!$D$6:$D$66) -> 42993 | E6: 42986 | F6: =WORKDAY.INTL(E6,B6*2,1,'Jour férié'!$D$6:$D$66) -> 43026 | G6: =WORKDAY.INTL(E6,B6*4,1,'Jour férié'!$D$6:$D$66) -> 43067 | H6: =WORKDAY.INTL(G6,10,1,'Jour férié'!$D$6:$D$66) -> 43081 | I6: =IF(E10="","",IF(E10-G6=0,"",E10-G6)) -> 2 | J6: =IF(I6="","",WORKDAY.INTL(F6,(I6/2),1,'Jour férié'!$D$6:$D$66)) -> 43027 | K6: =IF(I6="","",WORKDAY.INTL(G6,I6,1,'Jour férié'!$D$6:$D$66)) -> 43069
A7: PHB41 | B7: 14 | C7: =WORKDAY.INTL(E7,-(B7*2),1,'Jour férié'!$D$6:$D$66) -> 42970 | D7: =WORKDAY.INTL(F7,-23,1,'Jour férié'!$D$6:$D$66) -> 43017 | E7: 43010 | F7: =WORKDAY.INTL(E7,B7*2,1,'Jour férié'!$D$6:$D$66) -> 43049 | G7: =WORKDAY.INTL(E7,B7*4,1,'Jour férié'!$D$6:$D$66) -> 43089 | H7: =WORKDAY.INTL(G7,10,1,'Jour férié'!$D$6:$D$66) -> 43112 | I7: =IF(E11="","",IF(E11-G7=0,"",E11-G7)) -> -2 | J7: =IF(I7="","",WORKDAY.INTL(F7,(I7/2),1,'Jour férié'!$D$6:$D$66)) -> 43048 | K7: =IF(I7="","",WORKDAY.INTL(G7,I7,1,'Jour férié'!$D$6:$D$66)) -> 43087
A8: PHB42 | B8: 14 | C8: =WORKDAY.INTL(E8,-(B8*2),1,'Jour férié'!$D$6:$D$66) -> 42990 | D8: =WORKDAY.INTL(F8,-23,1,'Jour férié'!$D$6:$D$66) -> 43035 | E8: =WORKDAY.INTL(E7,B8,1,'Jour férié'!$D$6:$D$66) -> 43028 | F8: =WORKDAY.INTL(E8,B8*2,1,'Jour férié'!$D$6:$D$66) -> 43069 | G8: =WORKDAY.INTL(E8,B8*4,1,'Jour férié'!$D$6:$D$66) -> 43118 | H8: =WORKDAY.INTL(G8,10,1,'Jour férié'!$D$6:$D$66) -> 43132 | I8: =IF(E12="","",IF(E12-G8=0,"",E12-G8)) -> -6 | J8: =IF(I8="","",WORKDAY.INTL(F8,(I8/2),1,'Jour férié'!$D$6:$D$66)) -> 43066 | K8: =IF(I8="","",WORKDAY.INTL(G8,I8,1,'Jour férié'!$D$6:$D$66)) -> 43110
A9: PHB43 | B9: 15 | C9: =WORKDAY.INTL(E9,-(B9*2),1,'Jour férié'!$D$6:$D$66) -> 43007 | D9: =WORKDAY.INTL(F9,-23,1,'Jour férié'!$D$6:$D$66) -> 43061 | E9: =WORKDAY.INTL(E8,B9,1,'Jour férié'!$D$6:$D$66) -> 43052 | F9: =WORKDAY.INTL(E9,B9*2,1,'Jour férié'!$D$6:$D$66) -> 43103 | G9: =WORKDAY.INTL(E9,B9*4,1,'Jour férié'!$D$6:$D$66) -> 43145 | H9: =WORKDAY.INTL(G9,10,1,'Jour férié'!$D$6:$D$66) -> 43159 | I9: =IF(E13="","",IF(E13-G9=0,"",E13-G9)) -> -16 | J9: =IF(I9="","",WORKDAY.INTL(F9,(I9/2),1,'Jour férié'!$D$6:$D$66)) -> 43082 | K9: =IF(I9="","",WORKDAY.INTL(G9,I9,1,'Jour férié'!$D$6:$D$66)) -> 43123
A10: PHB44 | B10: 13 | C10: =WORKDAY.INTL(E10,-(B10*2),1,'Jour férié'!$D$6:$D$66) -> 43032 | D10: =WORKDAY.INTL(F10,-23,1,'Jour férié'!$D$6:$D$66) -> 43074 | E10: =WORKDAY.INTL(E9,B10,1,'Jour férié'!$D$6:$D$66) -> 43069 | F10: =WORKDAY.INTL(E10,B10*2,1,'Jour férié'!$D$6:$D$66) -> 43116 | G10: =WORKDAY.INTL(E10,B10*4,1,'Jour férié'!$D$6:$D$66) -> 43152 | H10: =WORKDAY.INTL(G10,10,1,'Jour férié'!$D$6:$D$66) -> 43166 | I10: =IF(E14="","",IF(E14-G10=0,"",E14-G10)) -> -8 | J10: =IF(I10="","",WORKDAY.INTL(F10,(I10/2),1,'Jour férié'!$D$6:$D$66)) -> 43110 | K10: =IF(I10="","",WORKDAY.INTL(G10,I10,1,'Jour férié'!$D$6:$D$66)) -> 43140
A11: PHB45 | B11: 12 | C11: =WORKDAY.INTL(E11,-(B11*2),1,'Jour férié'!$D$6:$D$66) -> 43053 | D11: =WORKDAY.INTL(F11,-23,1,'Jour férié'!$D$6:$D$66) -> 43088 | E11: =WORKDAY.INTL(E10,B11,1,'Jour férié'!$D$6:$D$66) -> 43087 | F11: =WORKDAY.INTL(E11,B11*2,1,'Jour férié'!$D$6:$D$66) -> 43130 | G11: =WORKDAY.INTL(E11,B11*4,1,'Jour férié'!$D$6:$D$66) -> 43164 | H11: =WORKDAY.INTL(G11,10,1,'Jour férié'!$D$6:$D$66) -> 43178 | I11: =IF(E15="","",IF(E15-G11=0,"",E15-G11)) -> -5 | J11: =IF(I11="","",WORKDAY.INTL(F11,(I11/2),1,'Jour férié'!$D$6:$D$66)) -> 43125 | K11: =IF(I11="","",WORKDAY.INTL(G11,I11,1,'Jour férié'!$D$6:$D$66)) -> 43157
A12: PHB46 | B12: 12 | C12: =WORKDAY.INTL(E12,-(B12*2),1,'Jour férié'!$D$6:$D$66) -> 43069 | D12: =WORKDAY.INTL(F12,-23,1,'Jour férié'!$D$6:$D$66) -> 43115 | E12: =WORKDAY.INTL(E11,B12,1,'Jour férié'!$D$6:$D$66) -> 43112 | F12: =WORKDAY.INTL(E12,B12*2,1,'Jour férié'!$D$6:$D$66) -> 43146 | G12: =WORKDAY.INTL(E12,B12*4,1,'Jour férié'!$D$6:$D$66) -> 43180 | H12: =WORKDAY.INTL(G12,10,1,'Jour férié'!$D$6:$D$66) -> 43194 | I12: =IF(E16="","",IF(E16-G12=0,"",E16-G12)) -> -6 | J12: =IF(I12="","",WORKDAY.INTL(F12,(I12/2),1,'Jour férié'!$D$6:$D$66)) -> 43143 | K12: =IF(I12="","",WORKDAY.INTL(G12,I12,1,'Jour férié'!$D$6:$D$66)) -> 43172
A13: PHB47 | B13: 11 | C13: =WORKDAY.INTL(E13,-(B13*2),1,'Jour férié'!$D$6:$D$66) -> 43088 | D13: =WORKDAY.INTL(F13,-23,1,'Jour férié'!$D$6:$D$66) -> 43126 | E13: =WORKDAY.INTL(E12,B13,1,'Jour férié'!$D$6:$D$66) -> 43129 | F13: =WORKDAY.INTL(E13,B13*2,1,'Jour férié'!$D$6:$D$66) -> 43159 | G13: =WORKDAY.INTL(E13,B13*4,1,'Jour férié'!$D$6:$D$66) -> 43189 | H13: =WORKDAY.INTL(G13,10,1,'Jour férié'!$D$6:$D$66) -> 43203 | I13: =IF(E17="","",IF(E17-G13=0,"",E17-G13)) | J13: =IF(I13="","",WORKDAY.INTL(F13,(I13/2),1,'Jour férié'!$D$6:$D$66)) | K13: =IF(I13="","",WORKDAY.INTL(G13,I13,1,'Jour férié'!$D$6:$D$66))
A14: PHB48 | B14: 11 | C14: =WORKDAY.INTL(E14,-(B14*2),1,'Jour férié'!$D$6:$D$66) -> 43112 | D14: =WORKDAY.INTL(F14,-23,1,'Jour férié'!$D$6:$D$66) -> 43143 | E14: =WORKDAY.INTL(E13,B14,1,'Jour férié'!$D$6:$D$66) -> 43144 | F14: =WORKDAY.INTL(E14,B14*2,1,'Jour férié'!$D$6:$D$66) -> 43174 | G14: =WORKDAY.INTL(E14,B14*4,1,'Jour férié'!$D$6:$D$66) -> 43206 | H14: =WORKDAY.INTL(G14,10,1,'Jour férié'!$D$6:$D$66) -> 43222 | I14: =IF(E18="","",IF(E18-G14=0,"",E18-G14)) | J14: =IF(I14="","",WORKDAY.INTL(F14,(I14/2),1,'Jour férié'!$D$6:$D$66)) | K14: =IF(I14="","",WORKDAY.INTL(G14,I14,1,'Jour férié'!$D$6:$D$66))
A15: PHB49 | B15: 11 | C15: =WORKDAY.INTL(E15,-(B15*2),1,'Jour férié'!$D$6:$D$66) -> 43129 | D15: =WORKDAY.INTL(F15,-23,1,'Jour férié'!$D$6:$D$66) -> 43158 | E15: =WORKDAY.INTL(E14,B15,1,'Jour férié'!$D$6:$D$66) -> 43159 | F15: =WORKDAY.INTL(E15,B15*2,1,'Jour férié'!$D$6:$D$66) -> 43189 | G15: =WORKDAY.INTL(E15,B15*4,1,'Jour férié'!$D$6:$D$66) -> 43223 | H15: =WORKDAY.INTL(G15,10,1,'Jour férié'!$D$6:$D$66) -> 43244 | I15: =IF(E19="","",IF(E19-G15=0,"",E19-G15)) | J15: =IF(I15="","",WORKDAY.INTL(F15,(I15/2),1,'Jour férié'!$D$6:$D$66)) | K15: =IF(I15="","",WORKDAY.INTL(G15,I15,1,'Jour férié'!$D$6:$D$66))
A16: PHB50 | B16: 11 | C16: =WORKDAY.INTL(E16,-(B16*2),1,'Jour férié'!$D$6:$D$66) -> 43144 | D16: =WORKDAY.INTL(F16,-23,1,'Jour férié'!$D$6:$D$66) -> 43173 | E16: =WORKDAY.INTL(E15,B16,1,'Jour férié'!$D$6:$D$66) -> 43174 | F16: =WORKDAY.INTL(E16,B16*2,1,'Jour férié'!$D$6:$D$66) -> 43206 | G16: =WORKDAY.INTL(E16,B16*4,1,'Jour férié'!$D$6:$D$66) -> 43245 | H16: =WORKDAY.INTL(G16,10,1,'Jour férié'!$D$6:$D$66) -> 43259 | I16: =IF(E20="","",IF(E20-G16=0,"",E20-G16)) | J16: =IF(I16="","",WORKDAY.INTL(F16,(I16/2),1,'Jour férié'!$D$6:$D$66)) | K16: =IF(I16="","",WORKDAY.INTL(G16,I16,1,'Jour férié'!$D$6:$D$66))
A17: PHB51 | B17: 11 | C17: =WORKDAY.INTL(E17,-(B17*2),1,'Jour férié'!$D$6:$D$66) -> 43159 | D17: =WORKDAY.INTL(F17,-23,1,'Jour férié'!$D$6:$D$66) -> 43188 | E17: =WORKDAY.INTL(E16,B17,1,'Jour férié'!$D$6:$D$66) -> 43189 | F17: =WORKDAY.INTL(E17,B17*2,1,'Jour férié'!$D$6:$D$66) -> 43223 | G17: =WORKDAY.INTL(E17,B17*4,1,'Jour férié'!$D$6:$D$66) -> 43262 | H17: =WORKDAY.INTL(G17,10,1,'Jour férié'!$D$6:$D$66) -> 43276 | I17: =IF(E21="","",IF(E21-G17=0,"",E21-G17)) | J17: =IF(I17="","",WORKDAY.INTL(F17,(I17/2),1,'Jour férié'!$D$6:$D$66)) | K17: =IF(I17="","",WORKDAY.INTL(G17,I17,1,'Jour férié'!$D$6:$D$66))
A18: PHB52 | B18: 11 | C18: =WORKDAY.INTL(E18,-(B18*2),1,'Jour férié'!$D$6:$D$66) -> 43174 | D18: =WORKDAY.INTL(F18,-23,1,'Jour férié'!$D$6:$D$66) -> 43203 | E18: =WORKDAY.INTL(E17,B18,1,'Jour férié'!$D$6:$D$66) -> 43206 | F18: =WORKDAY.INTL(E18,B18*2,1,'Jour férié'!$D$6:$D$66) -> 43245 | G18: =WORKDAY.INTL(E18,B18*4,1,'Jour férié'!$D$6:$D$66) -> 43277 | H18: =WORKDAY.INTL(G18,10,1,'Jour férié'!$D$6:$D$66) -> 43291 | I18: =IF(E22="","",IF(E22-G18=0,"",E22-G18)) | J18: =IF(I18="","",WORKDAY.INTL(F18,(I18/2),1,'Jour férié'!$D$6:$D$66)) | K18: =IF(I18="","",WORKDAY.INTL(G18,I18,1,'Jour férié'!$D$6:$D$66))
A19: PHB53 | B19: 11 | C19: =WORKDAY.INTL(E19,-(B19*2),1,'Jour férié'!$D$6:$D$66) -> 43189 | D19: =WORKDAY.INTL(F19,-23,1,'Jour férié'!$D$6:$D$66) -> 43222 | E19: =WORKDAY.INTL(E18,B19,1,'Jour férié'!$D$6:$D$66) -> 43223 | F19: =WORKDAY.INTL(E19,B19*2,1,'Jour férié'!$D$6:$D$66) -> 43262 | G19: =WORKDAY.INTL(E19,B19*4,1,'Jour férié'!$D$6:$D$66) -> 43292 | H19: =WORKDAY.INTL(G19,10,1,'Jour férié'!$D$6:$D$66) -> 43306 | I19: =IF(E23="","",IF(E23-G19=0,"",E23-G19)) | J19: =IF(I19="","",WORKDAY.INTL(F19,(I19/2),1,'Jour férié'!$D$6:$D$66)) | K19: =IF(I19="","",WORKDAY.INTL(G19,I19,1,'Jour férié'!$D$6:$D$66))
... A28: PHB62 | B28: 10 | C28: =WORKDAY.INTL(E28,-(B28*2),1,'Jour férié'!$D$6:$D$66) -> 43356 | D28: =WORKDAY.INTL(F28,-23,1,'Jour férié'!$D$6:$D$66) -> 43381 | E28: =WORKDAY.INTL(E27,B28,1,'Jour férié'!$D$6:$D$66) -> 43384 | F28: =WORKDAY.INTL(E28,B28*2,1,'Jour férié'!$D$6:$D$66) -> 43413 | G28: =WORKDAY.INTL(E28,B28*4,1,'Jour férié'!$D$6:$D$66) -> 43441 | H28: =WORKDAY.INTL(G28,10,1,'Jour férié'!$D$6:$D$66) -> 43455 | I28: =IF(E32="","",IF(E32-G28=0,"",E32-G28)) | J28: =IF(I28="","",WORKDAY.INTL(F28,(I28/2),1,'Jour férié'!$D$6:$D$66)) | K28: =IF(I28="","",WORKDAY.INTL(G28,I28,1,'Jour férié'!$D$6:$D$66))

Sheet Actuel
B3: Entrée chaine | C3: Ecart | D3: Pontage | E3: Sortie de chaîne | F3: Livraison
A4: PHB37 | B4: 42901
A5: PHB38 | B5: 42925 | C5: =NETWORKDAYS.INTL(B4,B5,1,'Jour férié'!$D$6:$D$51) -> 17
A6: PHB39 | B6: 42937 | C6: =NETWORKDAYS.INTL(B5,B6,1,'Jour férié'!$D$6:$D$51) -> 9
A7: PHB40 | B7: 42990 | C7: =NETWORKDAYS.INTL(B6,B7,1,'Jour férié'!$D$6:$D$51) -> 37
A8: PHB41 | B8: 43010 | C8: =NETWORKDAYS.INTL(B7,B8,1,'Jour férié'!$D$6:$D$51) -> 15
A9: PHB42 | B9: 43034 | C9: =NETWORKDAYS.INTL(B8,B9,1,'Jour férié'!$D$6:$D$51) -> 19
A10: PHB43 | B10: 43053 | C10: =NETWORKDAYS.INTL(B9,B10,1,'Jour férié'!$D$6:$D$51) -> 13
A11: PHB44 | B11: 43069 | C11: =NETWORKDAYS.INTL(B10,B11,1,'Jour férié'!$D$6:$D$51) -> 13
A12: PHB45 | B12: 43081 | C12: =NETWORKDAYS.INTL(B11,B12,1,'Jour férié'!$D$6:$D$51) -> 9
A13: PHB46 | B13: 43114 | C13: =NETWORKDAYS.INTL(B12,B13,1,'Jour férié'!$D$6:$D$51) -> 17
A14: PHB47 | B14: 43131 | C14: =NETWORKDAYS.INTL(B13,B14,1,'Jour férié'!$D$6:$D$51) -> 13
A15: PHB48 | B15: 43147 | C15: =NETWORKDAYS.INTL(B14,B15,1,'Jour férié'!$D$6:$D$51) -> 13
A16: PHB49 | B16: 43160 | C16: =NETWORKDAYS.INTL(B15,B16,1,'Jour férié'!$D$6:$D$51) -> 10
... A29: PHB62 | B29: 43364 | C29: =NETWORKDAYS.INTL(B28,B29,1,'Jour férié'!$D$6:$D$51) -> 10

Sheet Jour férié
A3: Année | B3: 2017
A4: Année | B4: 2018
C6: Jour de l'an | D6: =DATE($B$3,1,1) -> 42736
C7: Pâques | D7: =FLOOR(DAY(MINUTE($B$3/38)/2+56)&"/5/"&$B$3,7)-34 -> 42841
C8: Fêtes du travail | D8: =(DATE($B$3,5,1)) -> 42856
C9: Armistice 39/45 | D9: =DATE($B$3,5,8) -> 42863
C10: Ascension | D10: =D7+39 -> 42880
C11: Pentecote | D11: =D7+49 -> 42890
C12: Fête nationale | D12: =DATE($B$3,7,14) -> 42930
C13: Assomption | D13: =DATE($B$3,8,15) -> 42962
C14: Toussaint | D14: =DATE($B$3,11,1) -> 43040
C15: Armistice 14/18 | D15: =DATE($B$3,11,11) -> 43050
C16: Noël | D16: =DATE($B$3,12,25) -> 43094
C17: Jour de l'an | D17: =DATE($B$4,1,1) -> 43101
D18: 43102
C19: Pâques | D19: =FLOOR(DAY(MINUTE($B$4/38)/2+56)&"/5/"&$B$4,7)-34 -> 43191
C20: Fêtes du travail | D20: =(DATE($B$4,5,1)) -> 43221
C21: Armistice 39/45 | D21: =DATE($B$4,5,8) -> 43228
C22: Ascension | D22: =D19+39 -> 43230
C23: Pentecote | D23: =D19+49 -> 43240
C24: Fête nationale | D24: =DATE($B$4,7,14) -> 43295
C25: Assomption | D25: =DATE($B$4,8,15) -> 43327
C26: Toussaint | D26: =DATE($B$4,11,1) -> 43405
C27: Armistice 14/18 | D27: =DATE($B$4,11,11) -> 43415
C28: Noël | D28: =DATE($B$4,12,25) -> 43459
C29: CP noel | D29: 43095
C30: CP noel | D30: 43096
C31: CP noel | D31: 43097
C32: CP noel | D32: 43098
C33: CP été | D33: 43318
C34: CP été | D34: 43319
C35: CP été | D35: 43320
C36: CP été | D36: 43321
C37: CP été | D37: 43322
C38: CP été | D38: 43325
C39: CP été | D39: 43326
C40: CP été | D40: 43327
... C48: Pont | D48: 43220
D49: 43227
D50: 43229
...
