Workbook

Sheet TEMPS
B1: Nom employé | G1: Télécom | J1: Électrique
C2: Dimanche
C3: au | I3: Courriel: feuillesdetemps@plan-group.com
C4: Samedi | E4: FEUILLE DE TEMPS | J4: DÉPENSES
A5: Date | E5: Heures travaillées
A6: Jour | B6: JJ | C6: Numéro W/O | D6: Adresse - lieu travail | E6: DE | F6: A | G6: Sous-total | H6: pause | I6: Total | J6: Amiante | K6: KM | L6: Repas | M6: Stationnement | N6: matériel | O6: Job | P6: R | Q6: O.T | R6: Prime
A7: DI | G7: =+F7-E7 -> 0 | I7: =+G7-H7 -> 0 | O7: {=IFERROR(OFFSET(C$6,MATCH(0,COUNTIF(O$6:O6,C$7:C$30),0),),"")} -> 0
G8: =+F8-E8 -> 0 | I8: =+G8-H8 -> 0 | O8: {=IFERROR(OFFSET(C$6,MATCH(0,COUNTIF(O$6:O7,C$7:C$30),0),),"")}
A9: Lu | G9: =+F9-E9 -> 0 | I9: =+G9-H9 -> 0 | O9: {=IFERROR(OFFSET(C$6,MATCH(0,COUNTIF(O$6:O8,C$7:C$30),0),),"")}
A10: Lu | G10: =+F10-E10 -> 0 | I10: =+G10-H10 -> 0 | O10: {=IFERROR(OFFSET(C$6,MATCH(0,COUNTIF(O$6:O9,C$7:C$30),0),),"")}
A11: Lu | G11: =+F11-E11 -> 0 | I11: =+G11-H11 -> 0 | O11: {=IFERROR(OFFSET(C$6,MATCH(0,COUNTIF(O$6:O10,C$7:C$30),0),),"")}
G12: =+F12-E12 -> 0 | I12: =+G12-H12 -> 0 | O12: {=IFERROR(OFFSET(C$6,MATCH(0,COUNTIF(O$6:O11,C$7:C$30),0),),"")}
A13: Ma | G13: =+F13-E13 -> 0 | I13: =+G13-H13 -> 0 | O13: {=IFERROR(OFFSET(C$6,MATCH(0,COUNTIF(O$6:O12,C$7:C$30),0),),"")}
A14: Ma | G14: =+F14-E14 -> 0 | I14: =+G14-H14 -> 0 | O14: {=IFERROR(OFFSET(C$6,MATCH(0,COUNTIF(O$6:O13,C$7:C$30),0),),"")}
A15: Ma | G15: =+F15-E15 -> 0 | I15: =+G15-H15 -> 0 | O15: {=IFERROR(OFFSET(C$6,MATCH(0,COUNTIF(O$6:O14,C$7:C$30),0),),"")}
G16: =+F16-E16 -> 0 | I16: =+G16-H16 -> 0 | O16: {=IFERROR(OFFSET(C$6,MATCH(0,COUNTIF(O$6:O15,C$7:C$30),0),),"")}
A17: Me | G17: =+F17-E17 -> 0 | I17: =+G17-H17 -> 0 | O17: {=IFERROR(OFFSET(C$6,MATCH(0,COUNTIF(O$6:O16,C$7:C$30),0),),"")}
A18: Me | G18: =+F18-E18 -> 0 | I18: =+G18-H18 -> 0 | O18: {=IFERROR(OFFSET(C$6,MATCH(0,COUNTIF(O$6:O17,C$7:C$30),0),),"")}
A19: Me | G19: =+F19-E19 -> 0 | I19: =+G19-H19 -> 0 | O19: {=IFERROR(OFFSET(C$6,MATCH(0,COUNTIF(O$6:O18,C$7:C$30),0),),"")}
G20: =+F20-E20 -> 0 | I20: =+G20-H20 -> 0 | O20: {=IFERROR(OFFSET(C$6,MATCH(0,COUNTIF(O$6:O19,C$7:C$30),0),),"")}
A21: Je | G21: =+F21-E21 -> 0 | I21: =+G21-H21 -> 0 | O21: {=IFERROR(OFFSET(C$6,MATCH(0,COUNTIF(O$6:O20,C$7:C$30),0),),"")}
A22: Je | G22: =+F22-E22 -> 0 | I22: =+G22-H22 -> 0 | O22: {=IFERROR(OFFSET(C$6,MATCH(0,COUNTIF(O$6:O21,C$7:C$30),0),),"")}
A23: Je | G23: =+F23-E23 -> 0 | I23: =+G23-H23 -> 0 | O23: {=IFERROR(OFFSET(C$6,MATCH(0,COUNTIF(O$6:O22,C$7:C$30),0),),"")}
G24: =+F24-E24 -> 0 | I24: =+G24-H24 -> 0 | O24: {=IFERROR(OFFSET(C$6,MATCH(0,COUNTIF(O$6:O23,C$7:C$30),0),),"")}
A25: Ve | G25: =+F25-E25 -> 0 | I25: =+G25-H25 -> 0 | O25: {=IFERROR(OFFSET(C$6,MATCH(0,COUNTIF(O$6:O24,C$7:C$30),0),),"")}
A26: Ve | G26: =+F26-E26 -> 0 | I26: =+G26-H26 -> 0 | O26: {=IFERROR(OFFSET(C$6,MATCH(0,COUNTIF(O$6:O25,C$7:C$30),0),),"")}
A27: Ve | G27: =+F27-E27 -> 0 | I27: =+G27-H27 -> 0 | O27: {=IFERROR(OFFSET(C$6,MATCH(0,COUNTIF(O$6:O26,C$7:C$30),0),),"")}
G28: =+F28-E28 -> 0 | I28: =+G28-H28 -> 0 | O28: {=IFERROR(OFFSET(C$6,MATCH(0,COUNTIF(O$6:O27,C$7:C$30),0),),"")}
A29: Sa | G29: =+F29-E29 -> 0 | I29: =+G29-H29 -> 0 | O29: {=IFERROR(OFFSET(C$6,MATCH(0,COUNTIF(O$6:O28,C$7:C$30),0),),"")}
A30: Sa | G30: =+F30-E30 -> 0 | I30: =+G30-H30 -> 0 | O30: {=IFERROR(OFFSET(C$6,MATCH(0,COUNTIF(O$6:O29,C$7:C$30),0),),"")}
E31: Total des heures travaillées | I31: =SUM(I7:I30) -> 0
L33: N05 | P33: R
L34: E8 Férié | P34: O
L35: E07 Vac | P35: N
L36: CSST/53000 | P36: P

Sheet RAPP DEP
B1: Nom employé | D1: =+TEMPS!D1 -> 0
C2: Dimanche | D2: =+TEMPS!D2 -> 0 | I2: Approuvé par coordonateur
A3: Semaine du | C3: au
C4: Samedi | D4: =+TEMPS!D4 -> 0 | E4: Rapport de dépenses | I4: Initiales :
A5: Date | I5: Odomètre perso.
A6: Jour | B6: JJ | C6: Numéro W/O | D6: Adresse - lieu travail | E6: Repas | F6: Stationnement | G6: matériel | H6: hotel | I6: départ | J6: arrivée | K6: Total | L6: GL | M6: dépenses véhicule et divers
A7: =+TEMPS!A7 -> DI | B7: =+TEMPS!B7 -> 0 | C7: =+TEMPS!C7 -> 0 | D7: =+TEMPS!D7 -> 0 | E7: =+TEMPS!L7 -> 0 | F7: =+TEMPS!M7 -> 0 | G7: =+TEMPS!N7 -> 0 | K7: =+J7-I7 -> 0
B8: =+TEMPS!B8 -> 0 | C8: =+TEMPS!C8 -> 0 | D8: =+TEMPS!D8 -> 0 | E8: =+TEMPS!L8 -> 0 | F8: =+TEMPS!M8 -> 0 | G8: =+TEMPS!N8 -> 0 | K8: =+J8-I8 -> 0
A9: Lu | B9: =+TEMPS!B9 -> 0 | C9: =+TEMPS!C9 -> 0 | D9: =+TEMPS!D9 -> 0 | E9: =+TEMPS!L9 -> 0 | F9: =+TEMPS!M9 -> 0 | G9: =+TEMPS!N9 -> 0 | K9: =+J9-I9 -> 0
A10: Lu | B10: =+TEMPS!B10 -> 0 | C10: =+TEMPS!C10 -> 0 | D10: =+TEMPS!D10 -> 0 | E10: =+TEMPS!L10 -> 0 | F10: =+TEMPS!M10 -> 0 | G10: =+TEMPS!N10 -> 0 | K10: =+J10-I10 -> 0
A11: Lu | B11: =+TEMPS!B11 -> 0 | C11: =+TEMPS!C11 -> 0 | D11: =+TEMPS!D11 -> 0 | E11: =+TEMPS!L11 -> 0 | F11: =+TEMPS!M11 -> 0 | G11: =+TEMPS!N11 -> 0 | K11: =+J11-I11 -> 0
B12: =+TEMPS!B12 -> 0 | C12: =+TEMPS!C12 -> 0 | D12: =+TEMPS!D12 -> 0 | E12: =+TEMPS!L12 -> 0 | F12: =+TEMPS!M12 -> 0 | G12: =+TEMPS!N12 -> 0 | K12: =+J12-I12 -> 0
A13: Ma | B13: =+TEMPS!B13 -> 0 | C13: =+TEMPS!C13 -> 0 | D13: =+TEMPS!D13 -> 0 | E13: =+TEMPS!L13 -> 0 | F13: =+TEMPS!M13 -> 0 | G13: =+TEMPS!N13 -> 0 | K13: =+J13-I13 -> 0
A14: Ma | B14: =+TEMPS!B14 -> 0 | C14: =+TEMPS!C14 -> 0 | D14: =+TEMPS!D14 -> 0 | E14: =+TEMPS!L14 -> 0 | F14: =+TEMPS!M14 -> 0 | G14: =+TEMPS!N14 -> 0 | K14: =+J14-I14 -> 0
A15: Ma | B15: =+TEMPS!B15 -> 0 | C15: =+TEMPS!C15 -> 0 | D15: =+TEMPS!D15 -> 0 | E15: =+TEMPS!L15 -> 0 | F15: =+TEMPS!M15 -> 0 | G15: =+TEMPS!N15 -> 0 | K15: =+J15-I15 -> 0
B16: =+TEMPS!B16 -> 0 | C16: =+TEMPS!C16 -> 0 | D16: =+TEMPS!D16 -> 0 | E16: =+TEMPS!L16 -> 0 | F16: =+TEMPS!M16 -> 0 | G16: =+TEMPS!N16 -> 0 | K16: =+J16-I16 -> 0
A17: Me | B17: =+TEMPS!B17 -> 0 | C17: =+TEMPS!C17 -> 0 | D17: =+TEMPS!D17 -> 0 | E17: =+TEMPS!L17 -> 0 | F17: =+TEMPS!M17 -> 0 | G17: =+TEMPS!N17 -> 0 | K17: =+J17-I17 -> 0
A18: Me | B18: =+TEMPS!B18 -> 0 | C18: =+TEMPS!C18 -> 0 | D18: =+TEMPS!D18 -> 0 | E18: =+TEMPS!L18 -> 0 | F18: =+TEMPS!M18 -> 0 | G18: =+TEMPS!N18 -> 0 | K18: =+J18-I18 -> 0
A19: Me | B19: =+TEMPS!B19 -> 0 | C19: =+TEMPS!C19 -> 0 | D19: =+TEMPS!D19 -> 0 | E19: =+TEMPS!L19 -> 0 | F19: =+TEMPS!M19 -> 0 | G19: =+TEMPS!N19 -> 0 | K19: =+J19-I19 -> 0
B20: =+TEMPS!B20 -> 0 | C20: =+TEMPS!C20 -> 0 | D20: =+TEMPS!D20 -> 0 | E20: =+TEMPS!L20 -> 0 | F20: =+TEMPS!M20 -> 0 | G20: =+TEMPS!N20 -> 0 | K20: =+J20-I20 -> 0
A21: Je | B21: =+TEMPS!B21 -> 0 | C21: =+TEMPS!C21 -> 0 | D21: =+TEMPS!D21 -> 0 | E21: =+TEMPS!L21 -> 0 | F21: =+TEMPS!M21 -> 0 | G21: =+TEMPS!N21 -> 0 | K21: =+J21-I21 -> 0
A22: Je | B22: =+TEMPS!B22 -> 0 | C22: =+TEMPS!C22 -> 0 | D22: =+TEMPS!D22 -> 0 | E22: =+TEMPS!L22 -> 0 | F22: =+TEMPS!M22 -> 0 | G22: =+TEMPS!N22 -> 0 | K22: =+J22-I22 -> 0
A23: Je | B23: =+TEMPS!B23 -> 0 | C23: =+TEMPS!C23 -> 0 | D23: =+TEMPS!D23 -> 0 | E23: =+TEMPS!L23 -> 0 | F23: =+TEMPS!M23 -> 0 | G23: =+TEMPS!N23 -> 0 | K23: =+J23-I23 -> 0
B24: =+TEMPS!B24 -> 0 | C24: =+TEMPS!C24 -> 0 | D24: =+TEMPS!D24 -> 0 | E24: =+TEMPS!L24 -> 0 | F24: =+TEMPS!M24 -> 0 | G24: =+TEMPS!N24 -> 0 | K24: =+J24-I24 -> 0
A25: Ve | B25: =+TEMPS!B25 -> 0 | C25: =+TEMPS!C25 -> 0 | D25: =+TEMPS!D25 -> 0 | E25: =+TEMPS!L25 -> 0 | F25: =+TEMPS!M25 -> 0 | G25: =+TEMPS!N25 -> 0 | K25: =+J25-I25 -> 0
A26: Ve | B26: =+TEMPS!B26 -> 0 | C26: =+TEMPS!C26 -> 0 | D26: =+TEMPS!D26 -> 0 | E26: =+TEMPS!L26 -> 0 | F26: =+TEMPS!M26 -> 0 | G26: =+TEMPS!N26 -> 0 | K26: =+J26-I26 -> 0
A27: Ve | B27: =+TEMPS!B27 -> 0 | C27: =+TEMPS!C27 -> 0 | D27: =+TEMPS!D27 -> 0 | E27: =+TEMPS!L27 -> 0 | F27: =+TEMPS!M27 -> 0 | G27: =+TEMPS!N27 -> 0 | K27: =+J27-I27 -> 0
B28: =+TEMPS!B28 -> 0 | C28: =+TEMPS!C28 -> 0 | D28: =+TEMPS!D28 -> 0 | E28: =+TEMPS!L28 -> 0 | F28: =+TEMPS!M28 -> 0 | G28: =+TEMPS!N28 -> 0 | K28: =+J28-I28 -> 0
A29: Sa | B29: =+TEMPS!B29 -> 0 | C29: =+TEMPS!C29 -> 0 | D29: =+TEMPS!D29 -> 0 | E29: =+TEMPS!L29 -> 0 | F29: =+TEMPS!M29 -> 0 | G29: =+TEMPS!N29 -> 0 | K29: =+J29-I29 -> 0
A30: Sa | B30: =+TEMPS!B30 -> 0 | C30: =+TEMPS!C30 -> 0 | D30: =+TEMPS!D30 -> 0 | E30: =+TEMPS!L30 -> 0 | F30: =+TEMPS!M30 -> 0 | G30: =+TEMPS!N30 -> 0 | K30: =+J30-I30 -> 0
E31: =SUM(E7:E30) -> 0 | F31: =SUM(F7:F30) -> 0 | G31: =SUM(G7:G30) -> 0 | H31: =SUM(H7:H30) -> 0 | K31: =SUM(K7:K30) -> 0 | M31: =SUM(M7:M30) -> 0
E32: A | J32: Taux | K32: 0.45 | M32: C
K33: =+K31*K32 -> 0
K34: B
A35: Signature de du salarié | J35: Total des dépenses | M35: =+E31+F31+G31+H31+K33+M31 -> 0
M36: A+B+C
