Workbook

Sheet 2010

Sheet 2009

Sheet 2008

Sheet 2007

Sheet 2006

Sheet 2005

Sheet 2004

Sheet 2003

Sheet 2002

Sheet 2001

Sheet 2000

Sheet 1999

Sheet 1998

Sheet 1997

Sheet 1996

Sheet 1995
B2: DATE | C2: AIRCRAFT | E2: FLIGHT | F2: SINGLE ENGINE | R2: MULTI ENGINE | AJ2: INSTRUMENTS FLIGHT(1) | AL2: SIMULATION | AM2: IFR ARRIVALS | AN2: REMARKS
F3: PISTON | J3: TURBOPROP | N3: JET | R3: PISTON | X3: TURBOPROP | AD3: JET
F4: DAY | H4: NIGHT | J4: DAY | L4: NIGHT | N4: DAY | P4: NIGHT | R4: DAY | U4: NIGHT | X4: DAY | AA4: NIGHT | AD4: DAY | AG4: NIGHT
C5: TYPE | D5: REGISTRATION | F5: DUAL | G5: PIC | H5: DUAL | I5: PIC | J5: DUAL | K5: PIC | L5: DUAL | M5: PIC | N5: DUAL | O5: PIC | P5: DUAL | Q5: PIC | R5: DUAL | S5: PIC | T5: CO-PILOTE | U5: DUAL | V5: PIC | W5: CO-PILOTE | X5: DUAL | Y5: PIC | Z5: CO-PILOTE | AA5: DUAL | AB5: PIC | AC5: CO-PILOTE | AD5: DUAL | AE5: PIC | AF5: CO-PILOTE | AG5: DUAL | AH5: PIC | AI5: CO-PILOTE | AJ5: DUAL | AK5: PIC
E6: Reports => | F6: ='1994'!F26 -> 0 | G6: ='1994'!G26 -> 0.059027778 | H6: ='1994'!H26 -> 0 | I6: ='1994'!I26 -> 0 | J6: ='1994'!J26 -> 0 | K6: ='1994'!K26 -> 0 | L6: ='1994'!L26 -> 0 | M6: ='1994'!M26 -> 0.065972222 | ... AM6: ='1994'!AM26 -> 0
B7: 34906 | C7: Avion 6 | Q7: 0.097222222 | AH7: 0.11458333 | AM7: 2
B8: 34928 | C8: Avion 7 | I8: 0.027777778
B9: 35018 | C9: Avion 4 | AE9: 0.22222222 | AH9: 0.15625
E26: To report => | F26: =SUM(F6:F25) -> 0 | G26: =SUM(G6:G25) -> 0.059027778 | H26: =SUM(H6:H25) -> 0 | I26: =SUM(I6:I25) -> 0.027777778 | J26: =SUM(J6:J25) -> 0 | K26: =SUM(K6:K25) -> 0 | L26: =SUM(L6:L25) -> 0 | M26: =SUM(M6:M25) -> 0.065972222 | ... AM26: =SUM(AM6:AM25) -> 2 | AN26: (1) Time included in flight hours
F29: Jet | H29: Piston & Turboprop | J29: Total | M29: PIC | N29: Co-pilot | Q29: PIC | R29: Co-pilot | U29: PIC | V29: Co-pilot | Y29: PIC | Z29: Co-pilot | AC29: PIC | AD29: Co-pilot | AG29: PIC | AH29: Co-pilot | AK29: PIC | AL29: Co-pilot
F30: SE | G30: ME | H30: SE | I30: ME | L30: Report => | M30: ='1994'!M34 -> 0 | N30: ='1994'!N34 -> 0.34375 | P30: Report => | T30: Report => | X30: Report => | AB30: Report => | AF30: Report => | AJ30: Report =>
E31: PIC | F31: =O26+Q26 -> 0.097222222 | G31: =AE26+AH26 -> 0.49305556 | H31: =G26+I26+K26+M26 -> 0.15277778 | I31: =S26+V26+Y26+AB26 -> 0.072916667 | J31: =F31+G31+H31+I31 -> 0.81597222 | L31: Avion 4 | M31: =AE9+AH9 -> 0.37847222 | N31: =AF9+AI9 -> 0 | P31: Avion 1 | T31: Avion 2 | X31: Avion 3 | AB31: Avion 4 | AF31: Avion 5 | AJ31: Avion 6
E32: Dual & Co-pilot | F32: =N26+P26 -> 0.045138889 | G32: =AD26+AF26+AG26+AI26 -> 0.34375 | H32: =F26+H26+J26+L26 -> 0 | I32: =R26+T26+U26+W26+X26+Z26+AA26+AC26 -> 0 | J32: =F32+G32+H32+I32 -> 0.38888889 | P32: To report => | Q32: =SUM(Q30:Q31) -> 0 | R32: =SUM(R30:R31) -> 0 | T32: To report => | U32: =SUM(U30:U31) -> 0 | V32: =SUM(V30:V31) -> 0 | X32: To report => | Y32: =SUM(Y30:Y31) -> 0 | Z32: =SUM(Z30:Z31) -> 0 | AB32: To report => | AC32: =SUM(AC30:AC31) -> 0 | AD32: =SUM(AD30:AD31) -> 0 | AF32: To report => | AG32: =SUM(AG30:AG31) -> 0 | AH32: =SUM(AH30:AH31) -> 0 | AJ32: To report => | AK32: =SUM(AK30:AK31) -> 0 | AL32: =SUM(AL30:AL31) -> 0
E33: Total | F33: =F31+F32 -> 0.14236111 | G33: =G31+G32 -> 0.83680556 | H33: =H31+H32 -> 0.15277778 | I33: =I31+I32 -> 0.072916667 | J33: =J31+J32 -> 1.2048611 | Q33: =Q32+R32 -> 0 | U33: =U32+V32 -> 0 | Y33: =Y32+Z32 -> 0 | AC33: =AC32+AD32 -> 0 | AG33: =AG32+AH32 -> 0 | AK33: =AK32+AL32 -> 0
F34: =F33+G33 -> 0.97916667 | H34: =H33+I33 -> 0.22569444 | J34: =F34+H34 -> 1.2048611 | L34: To report => | M34: =SUM(M30:M33) -> 0.37847222 | N34: =SUM(N30:N33) -> 0.34375
M35: =M34+N34 -> 0.72222222

Sheet 1994
B2: DATE | C2: AIRCRAFT | E2: FLIGHT | F2: SINGLE ENGINE | R2: MULTI ENGINE | AJ2: INSTRUMENTS FLIGHT(1) | AL2: SIMULATION | AM2: IFR ARRIVALS | AN2: REMARKS
F3: PISTON | J3: TURBOPROP | N3: JET | R3: PISTON | X3: TURBOPROP | AD3: JET
F4: DAY | H4: NIGHT | J4: DAY | L4: NIGHT | N4: DAY | P4: NIGHT | R4: DAY | U4: NIGHT | X4: DAY | AA4: NIGHT | AD4: DAY | AG4: NIGHT
C5: TYPE | D5: REGISTRATION | F5: DUAL | G5: PIC | H5: DUAL | I5: PIC | J5: DUAL | K5: PIC | L5: DUAL | M5: PIC | N5: DUAL | O5: PIC | P5: DUAL | Q5: PIC | R5: DUAL | S5: PIC | T5: CO-PILOTE | U5: DUAL | V5: PIC | W5: CO-PILOTE | X5: DUAL | Y5: PIC | Z5: CO-PILOTE | AA5: DUAL | AB5: PIC | AC5: CO-PILOTE | AD5: DUAL | AE5: PIC | AF5: CO-PILOTE | AG5: DUAL | AH5: PIC | AI5: CO-PILOTE | AJ5: DUAL | AK5: PIC
E6: Reports => | F6: ='1993'!F26 -> 0 | G6: ='1993'!G26 -> 0.059027778 | H6: ='1993'!H26 -> 0 | I6: ='1993'!I26 -> 0 | J6: ='1993'!J26 -> 0 | K6: ='1993'!K26 -> 0 | L6: ='1993'!L26 -> 0 | M6: ='1993'!M26 -> 0.065972222 | ... AM6: ='1993'!AM26 -> 0
B7: 34469 | C7: Avion 4 | AF7: 0.15972222 | AI7: 0.18402778
B8: 34680 | C8: Avion 5 | Y8: 0.072916667
E26: To report => | F26: =SUM(F6:F25) -> 0 | G26: =SUM(G6:G25) -> 0.059027778 | H26: =SUM(H6:H25) -> 0 | I26: =SUM(I6:I25) -> 0 | J26: =SUM(J6:J25) -> 0 | K26: =SUM(K6:K25) -> 0 | L26: =SUM(L6:L25) -> 0 | M26: =SUM(M6:M25) -> 0.065972222 | ... AM26: =SUM(AM6:AM25) -> 0 | AN26: (1) Time included in flight hours
F29: Jet | H29: Piston & Turboprop | J29: Total | M29: PIC | N29: Co-pilot | Q29: PIC | R29: Co-pilot | U29: PIC | V29: Co-pilot | Y29: PIC | Z29: Co-pilot | AC29: PIC | AD29: Co-pilot | AG29: PIC | AH29: Co-pilot | AK29: PIC | AL29: Co-pilot
F30: SE | G30: ME | H30: SE | I30: ME | L30: Report => | P30: Report => | T30: Report => | X30: Report => | AB30: Report => | AF30: Report => | AJ30: Report =>
E31: PIC | F31: =O26+Q26 -> 0 | G31: =AE26+AH26 -> 0 | H31: =G26+I26+K26+M26 -> 0.125 | I31: =S26+V26+Y26+AB26 -> 0.072916667 | J31: =F31+G31+H31+I31 -> 0.19791667 | L31: Avion 4 | M31: =AE7+AH7 -> 0 | N31: =AF7+AI7 -> 0.34375 | P31: Avion 1 | T31: Avion 2 | X31: Avion 3 | AB31: Avion 4 | AF31: Avion 5 | AJ31: Avion 6
E32: Dual & Co-pilot | F32: =N26+P26 -> 0.045138889 | G32: =AD26+AF26+AG26+AI26 -> 0.34375 | H32: =F26+H26+J26+L26 -> 0 | I32: =R26+T26+U26+W26+X26+Z26+AA26+AC26 -> 0 | J32: =F32+G32+H32+I32 -> 0.38888889 | P32: To report => | Q32: =SUM(Q30:Q31) -> 0 | R32: =SUM(R30:R31) -> 0 | T32: To report => | U32: =SUM(U30:U31) -> 0 | V32: =SUM(V30:V31) -> 0 | X32: To report => | Y32: =SUM(Y30:Y31) -> 0 | Z32: =SUM(Z30:Z31) -> 0 | AB32: To report => | AC32: =SUM(AC30:AC31) -> 0 | AD32: =SUM(AD30:AD31) -> 0 | AF32: To report => | AG32: =SUM(AG30:AG31) -> 0 | AH32: =SUM(AH30:AH31) -> 0 | AJ32: To report => | AK32: =SUM(AK30:AK31) -> 0 | AL32: =SUM(AL30:AL31) -> 0
E33: Total | F33: =F31+F32 -> 0.045138889 | G33: =G31+G32 -> 0.34375 | H33: =H31+H32 -> 0.125 | I33: =I31+I32 -> 0.072916667 | J33: =J31+J32 -> 0.58680556 | Q33: =Q32+R32 -> 0 | U33: =U32+V32 -> 0 | Y33: =Y32+Z32 -> 0 | AC33: =AC32+AD32 -> 0 | AG33: =AG32+AH32 -> 0 | AK33: =AK32+AL32 -> 0
F34: =F33+G33 -> 0.38888889 | H34: =H33+I33 -> 0.19791667 | J34: =F34+H34 -> 0.58680556 | L34: To report => | M34: =SUM(M30:M33) -> 0 | N34: =SUM(N30:N33) -> 0.34375
M35: =M34+N34 -> 0.34375

Sheet 1993
B2: DATE | C2: AIRCRAFT | E2: FLIGHT | F2: SINGLE ENGINE | R2: MULTI ENGINE | AJ2: INSTRUMENTS FLIGHT(1) | AL2: SIMULATION | AM2: IFR ARRIVALS | AN2: REMARKS
F3: PISTON | J3: TURBOPROP | N3: JET | R3: PISTON | X3: TURBOPROP | AD3: JET
F4: DAY | H4: NIGHT | J4: DAY | L4: NIGHT | N4: DAY | P4: NIGHT | R4: DAY | U4: NIGHT | X4: DAY | AA4: NIGHT | AD4: DAY | AG4: NIGHT
C5: TYPE | D5: REGISTRATION | F5: DUAL | G5: PIC | H5: DUAL | I5: PIC | J5: DUAL | K5: PIC | L5: DUAL | M5: PIC | N5: DUAL | O5: PIC | P5: DUAL | Q5: PIC | R5: DUAL | S5: PIC | T5: CO-PILOTE | U5: DUAL | V5: PIC | W5: CO-PILOTE | X5: DUAL | Y5: PIC | Z5: CO-PILOTE | AA5: DUAL | AB5: PIC | AC5: CO-PILOTE | AD5: DUAL | AE5: PIC | AF5: CO-PILOTE | AG5: DUAL | AH5: PIC | AI5: CO-PILOTE | AJ5: DUAL | AK5: PIC
E6: Reports =>
B7: 33970 | C7: Avion 1 | N7: 0.045138889
B8: 33971 | C8: Avion 2 | G8: 0.059027778
B9: 34215 | C9: Avion 3 | M9: 0.065972222
E26: To report => | F26: =SUM(F6:F25) -> 0 | G26: =SUM(G6:G25) -> 0.059027778 | H26: =SUM(H6:H25) -> 0 | I26: =SUM(I6:I25) -> 0 | J26: =SUM(J6:J25) -> 0 | K26: =SUM(K6:K25) -> 0 | L26: =SUM(L6:L25) -> 0 | M26: =SUM(M6:M25) -> 0.065972222 | ... AM26: =SUM(AM6:AM25) -> 0 | AN26: (1) Time included in flight hours
F29: Jet | H29: Piston & Turboprop | J29: Total | M29: PIC | N29: Co-pilot | Q29: PIC | R29: Co-pilot | U29: PIC | V29: Co-pilot | Y29: PIC | Z29: Co-pilot | AC29: PIC | AD29: Co-pilot | AG29: PIC | AH29: Co-pilot | AK29: PIC | AL29: Co-pilot
F30: SE | G30: ME | H30: SE | I30: ME | L30: Report => | P30: Report => | T30: Report => | X30: Report => | AB30: Report => | AF30: Report => | AJ30: Report =>
E31: Pilot In Command | F31: =O26+Q26 -> 0 | G31: =AE26+AH26 -> 0 | H31: =G26+I26+K26+M26 -> 0.125 | I31: =S26+V26+Y26+AB26 -> 0 | J31: =F31+G31+H31+I31 -> 0.125 | P31: Avion 1 | T31: Avion 2 | X31: Avion 3 | AB31: Avion 4 | AF31: Avion 5 | AJ31: Avion 6
E32: Dual & Co-pilot | F32: =N26+P26 -> 0.045138889 | G32: =AD26+AF26+AG26+AI26 -> 0 | H32: =F26+H26+J26+L26 -> 0 | I32: =R26+T26+U26+W26+X26+Z26+AA26+AC26 -> 0 | J32: =F32+G32+H32+I32 -> 0.045138889 | P32: To report => | Q32: =SUM(Q30:Q31) -> 0 | R32: =SUM(R30:R31) -> 0 | T32: To report => | U32: =SUM(U30:U31) -> 0 | V32: =SUM(V30:V31) -> 0 | X32: To report => | Y32: =SUM(Y30:Y31) -> 0 | Z32: =SUM(Z30:Z31) -> 0 | AB32: To report => | AC32: =SUM(AC30:AC31) -> 0 | AD32: =SUM(AD30:AD31) -> 0 | AF32: To report => | AG32: =SUM(AG30:AG31) -> 0 | AH32: =SUM(AH30:AH31) -> 0 | AJ32: To report => | AK32: =SUM(AK30:AK31) -> 0 | AL32: =SUM(AL30:AL31) -> 0
E33: Total | F33: =F31+F32 -> 0.045138889 | G33: =G31+G32 -> 0 | H33: =H31+H32 -> 0.125 | I33: =I31+I32 -> 0 | J33: =J31+J32 -> 0.17013889 | Q33: =Q32+R32 -> 0 | U33: =U32+V32 -> 0 | Y33: =Y32+Z32 -> 0 | AC33: =AC32+AD32 -> 0 | AG33: =AG32+AH32 -> 0 | AK33: =AK32+AL32 -> 0
F34: =F33+G33 -> 0.045138889 | H34: =H33+I33 -> 0.125 | J34: =F34+H34 -> 0.17013889 | L34: To report => | M34: =SUM(M30:M33) -> 0 | N34: =SUM(N30:N33) -> 0
M35: =M34+N34 -> 0

Sheet Template
B2: DATE | C2: AIRCRAFT | E2: FLIGHT | F2: SINGLE ENGINE | R2: MULTI ENGINE | AJ2: INSTRUMENTS FLIGHT(1) | AL2: SIMULATION | AM2: IFR ARRIVALS | AN2: REMARKS
F3: PISTON | J3: TURBOPROP | N3: JET | R3: PISTON | X3: TURBOPROP | AD3: JET
F4: DAY | H4: NIGHT | J4: DAY | L4: NIGHT | N4: DAY | P4: NIGHT | R4: DAY | U4: NIGHT | X4: DAY | AA4: NIGHT | AD4: DAY | AG4: NIGHT
C5: TYPE | D5: REGISTRATION | F5: DUAL | G5: PIC | H5: DUAL | I5: PIC | J5: DUAL | K5: PIC | L5: DUAL | M5: PIC | N5: DUAL | O5: PIC | P5: DUAL | Q5: PIC | R5: DUAL | S5: PIC | T5: CO-PILOTE | U5: DUAL | V5: PIC | W5: CO-PILOTE | X5: DUAL | Y5: PIC | Z5: CO-PILOTE | AA5: DUAL | AB5: PIC | AC5: CO-PILOTE | AD5: DUAL | AE5: PIC | AF5: CO-PILOTE | AG5: DUAL | AH5: PIC | AI5: CO-PILOTE | AJ5: DUAL | AK5: PIC
E6: Reports =>
E26: To report => | F26: =SUM(F6:F25) -> 0 | G26: =SUM(G6:G25) -> 0 | H26: =SUM(H6:H25) -> 0 | I26: =SUM(I6:I25) -> 0 | J26: =SUM(J6:J25) -> 0 | K26: =SUM(K6:K25) -> 0 | L26: =SUM(L6:L25) -> 0 | M26: =SUM(M6:M25) -> 0 | ... AM26: =SUM(AM6:AM25) -> 0 | AN26: (1) Time included in flight hours
F29: Jet | H29: Piston & Turboprop | J29: Total | M29: PIC | N29: Co-pilot | Q29: PIC | R29: Co-pilot | U29: PIC | V29: Co-pilot | Y29: PIC | Z29: Co-pilot | AC29: PIC | AD29: Co-pilot | AG29: PIC | AH29: Co-pilot | AK29: PIC | AL29: Co-pilot
F30: SE | G30: ME | H30: SE | I30: ME | L30: Report => | P30: Report => | T30: Report => | X30: Report => | AB30: Report => | AF30: Report => | AJ30: Report =>
E31: PIC | F31: =O26+Q26 -> 0 | G31: =AE26+AH26 -> 0 | H31: =G26+I26+K26+M26 -> 0 | I31: =S26+V26+Y26+AB26 -> 0 | J31: =F31+G31+H31+I31 -> 0 | P31: Avion 1 | T31: Avion 2 | X31: Avion 3 | AB31: Avion 4 | AF31: Avion 5 | AJ31: Avion 6
E32: Dual & Co-pilot | F32: =N26+P26 -> 0 | G32: =AD26+AF26+AG26+AI26 -> 0 | H32: =F26+H26+J26+L26 -> 0 | I32: =R26+T26+U26+W26+X26+Z26+AA26+AC26 -> 0 | J32: =F32+G32+H32+I32 -> 0 | P32: To report => | T32: To report => | X32: To report => | AB32: To report => | AF32: To report => | AJ32: To report =>
E33: Total | F33: =F31+F32 -> 0 | G33: =G31+G32 -> 0 | H33: =H31+H32 -> 0 | I33: =I31+I32 -> 0 | J33: =J31+J32 -> 0
F34: =F33+G33 -> 0 | H34: =H33+I33 -> 0 | J34: =F34+H34 -> 0 | L34: To report =>
