Workbook
Name a: Feuil1!$U$3
Name m: Feuil1!$V$3

Sheet Feuil1
A1: =A2 -> 42370 | B1: JOUR | D1: SEMAINE | F1: =F2 -> 42401 | G1: JOUR | I1: SEMAINE | K1: =K2 -> 42430 | L1: JOUR | N1: SEMAINE | P1: =P2 -> 42461 | Q1: JOUR | S1: SEMAINE | X1: =Feuil3!A2 -> 3eme trimestre
A2: =DATEVALUE(1&"/"&1&"/"&$V$6) -> 42370 | B2: =TEXT(A2,"jjjj") -> vendredi | C2: =WEEKDAY(A2,2) -> 5 | D2: =WEEKNUM(A2,2) -> 1 | F2: =A32+1 -> 42401 | G2: =TEXT(F2,"jjjj") -> lundi | H2: =WEEKDAY(F2,2) -> 1 | I2: =WEEKNUM(F2,2) -> 6 | K2: =IF(V4=364,F29+1,F30+1) -> 42430 | L2: =TEXT(K2,"jjjj") -> mardi | M2: =WEEKDAY(K2,2) -> 2 | N2: =WEEKNUM(K2,2) -> 10 | P2: =K32+1 -> 42461 | Q2: =TEXT(P2,"jjjj") -> vendredi | R2: =WEEKDAY(P2,2) -> 5 | S2: =WEEKNUM(P2,2) -> 14 | V2: =DATEVALUE(31&"/"&12&"/"&$V$6) -> 42735
A3: =A2+1 -> 42371 | B3: =TEXT(A3,"jjjj") -> samedi | C3: =WEEKDAY(A3,2) -> 6 | D3: =WEEKNUM(A3,2) -> 1 | F3: =F2+1 -> 42402 | G3: =TEXT(F3,"jjjj") -> mardi | H3: =WEEKDAY(F3,2) -> 2 | I3: =WEEKNUM(F3,2) -> 6 | K3: =K2+1 -> 42431 | L3: =TEXT(K3,"jjjj") -> mercredi | M3: =WEEKDAY(K3,2) -> 3 | N3: =WEEKNUM(K3,2) -> 10 | P3: =P2+1 -> 42462 | Q3: =TEXT(P3,"jjjj") -> samedi | R3: =WEEKDAY(P3,2) -> 6 | S3: =WEEKNUM(P3,2) -> 14 | V3: =DATEVALUE(1&"/"&1&"/"&$V$6) -> 42370
A4: =A3+1 -> 42372 | B4: =TEXT(A4,"jjjj") -> dimanche | C4: =WEEKDAY(A4,2) -> 7 | D4: =WEEKNUM(A4,2) -> 1 | F4: =F3+1 -> 42403 | G4: =TEXT(F4,"jjjj") -> mercredi | H4: =WEEKDAY(F4,2) -> 3 | I4: =WEEKNUM(F4,2) -> 6 | K4: =K3+1 -> 42432 | L4: =TEXT(K4,"jjjj") -> jeudi | M4: =WEEKDAY(K4,2) -> 4 | N4: =WEEKNUM(K4,2) -> 10 | P4: =P3+1 -> 42463 | Q4: =TEXT(P4,"jjjj") -> dimanche | R4: =WEEKDAY(P4,2) -> 7 | S4: =WEEKNUM(P4,2) -> 14 | V4: =SUM(V2-V3) -> 365
A5: =A4+1 -> 42373 | B5: =TEXT(A5,"jjjj") -> lundi | C5: =WEEKDAY(A5,2) -> 1 | D5: =WEEKNUM(A5,2) -> 2 | F5: =F4+1 -> 42404 | G5: =TEXT(F5,"jjjj") -> jeudi | H5: =WEEKDAY(F5,2) -> 4 | I5: =WEEKNUM(F5,2) -> 6 | K5: =K4+1 -> 42433 | L5: =TEXT(K5,"jjjj") -> vendredi | M5: =WEEKDAY(K5,2) -> 5 | N5: =WEEKNUM(K5,2) -> 10 | P5: =P4+1 -> 42464 | Q5: =TEXT(P5,"jjjj") -> lundi | R5: =WEEKDAY(P5,2) -> 1 | S5: =WEEKNUM(P5,2) -> 15
A6: =A5+1 -> 42374 | B6: =TEXT(A6,"jjjj") -> mardi | C6: =WEEKDAY(A6,2) -> 2 | D6: =WEEKNUM(A6,2) -> 2 | F6: =F5+1 -> 42405 | G6: =TEXT(F6,"jjjj") -> vendredi | H6: =WEEKDAY(F6,2) -> 5 | I6: =WEEKNUM(F6,2) -> 6 | K6: =K5+1 -> 42434 | L6: =TEXT(K6,"jjjj") -> samedi | M6: =WEEKDAY(K6,2) -> 6 | N6: =WEEKNUM(K6,2) -> 10 | P6: =P5+1 -> 42465 | Q6: =TEXT(P6,"jjjj") -> mardi | R6: =WEEKDAY(P6,2) -> 2 | S6: =WEEKNUM(P6,2) -> 15 | V6: =Feuil3!A1 -> 2016 | X6: =IF(COUNTIF(X1,"*2eme trimestre*"),P1,"")
A7: =A6+1 -> 42375 | B7: =TEXT(A7,"jjjj") -> mercredi | C7: =WEEKDAY(A7,2) -> 3 | D7: =WEEKNUM(A7,2) -> 2 | F7: =F6+1 -> 42406 | G7: =TEXT(F7,"jjjj") -> samedi | H7: =WEEKDAY(F7,2) -> 6 | I7: =WEEKNUM(F7,2) -> 6 | K7: =K6+1 -> 42435 | L7: =TEXT(K7,"jjjj") -> dimanche | M7: =WEEKDAY(K7,2) -> 7 | N7: =WEEKNUM(K7,2) -> 10 | P7: =P6+1 -> 42466 | Q7: =TEXT(P7,"jjjj") -> mercredi | R7: =WEEKDAY(P7,2) -> 3 | S7: =WEEKNUM(P7,2) -> 15
A8: =A7+1 -> 42376 | B8: =TEXT(A8,"jjjj") -> jeudi | C8: =WEEKDAY(A8,2) -> 4 | D8: =WEEKNUM(A8,2) -> 2 | F8: =F7+1 -> 42407 | G8: =TEXT(F8,"jjjj") -> dimanche | H8: =WEEKDAY(F8,2) -> 7 | I8: =WEEKNUM(F8,2) -> 6 | K8: =K7+1 -> 42436 | L8: =TEXT(K8,"jjjj") -> lundi | M8: =WEEKDAY(K8,2) -> 1 | N8: =WEEKNUM(K8,2) -> 11 | P8: =P7+1 -> 42467 | Q8: =TEXT(P8,"jjjj") -> jeudi | R8: =WEEKDAY(P8,2) -> 4 | S8: =WEEKNUM(P8,2) -> 15
A9: =A8+1 -> 42377 | B9: =TEXT(A9,"jjjj") -> vendredi | C9: =WEEKDAY(A9,2) -> 5 | D9: =WEEKNUM(A9,2) -> 2 | F9: =F8+1 -> 42408 | G9: =TEXT(F9,"jjjj") -> lundi | H9: =WEEKDAY(F9,2) -> 1 | I9: =WEEKNUM(F9,2) -> 7 | K9: =K8+1 -> 42437 | L9: =TEXT(K9,"jjjj") -> mardi | M9: =WEEKDAY(K9,2) -> 2 | N9: =WEEKNUM(K9,2) -> 11 | P9: =P8+1 -> 42468 | Q9: =TEXT(P9,"jjjj") -> vendredi | R9: =WEEKDAY(P9,2) -> 5 | S9: =WEEKNUM(P9,2) -> 15
A10: =A9+1 -> 42378 | B10: =TEXT(A10,"jjjj") -> samedi | C10: =WEEKDAY(A10,2) -> 6 | D10: =WEEKNUM(A10,2) -> 2 | F10: =F9+1 -> 42409 | G10: =TEXT(F10,"jjjj") -> mardi | H10: =WEEKDAY(F10,2) -> 2 | I10: =WEEKNUM(F10,2) -> 7 | K10: =K9+1 -> 42438 | L10: =TEXT(K10,"jjjj") -> mercredi | M10: =WEEKDAY(K10,2) -> 3 | N10: =WEEKNUM(K10,2) -> 11 | P10: =P9+1 -> 42469 | Q10: =TEXT(P10,"jjjj") -> samedi | R10: =WEEKDAY(P10,2) -> 6 | S10: =WEEKNUM(P10,2) -> 15 | V10: 1er de l'an | X10: =DATE(V6,1,1) -> 42370
A11: =A10+1 -> 42379 | B11: =TEXT(A11,"jjjj") -> dimanche | C11: =WEEKDAY(A11,2) -> 7 | D11: =WEEKNUM(A11,2) -> 2 | F11: =F10+1 -> 42410 | G11: =TEXT(F11,"jjjj") -> mercredi | H11: =WEEKDAY(F11,2) -> 3 | I11: =WEEKNUM(F11,2) -> 7 | K11: =K10+1 -> 42439 | L11: =TEXT(K11,"jjjj") -> jeudi | M11: =WEEKDAY(K11,2) -> 4 | N11: =WEEKNUM(K11,2) -> 11 | P11: =P10+1 -> 42470 | Q11: =TEXT(P11,"jjjj") -> dimanche | R11: =WEEKDAY(P11,2) -> 7 | S11: =WEEKNUM(P11,2) -> 15 | V11: pâques | X11: =ROUND(DATE(V6,4,MOD(234-11*MOD(V6,19),30))/7,0)*7-6 -> 42456
A12: =A11+1 -> 42380 | B12: =TEXT(A12,"jjjj") -> lundi | C12: =WEEKDAY(A12,2) -> 1 | D12: =WEEKNUM(A12,2) -> 3 | F12: =F11+1 -> 42411 | G12: =TEXT(F12,"jjjj") -> jeudi | H12: =WEEKDAY(F12,2) -> 4 | I12: =WEEKNUM(F12,2) -> 7 | K12: =K11+1 -> 42440 | L12: =TEXT(K12,"jjjj") -> vendredi | M12: =WEEKDAY(K12,2) -> 5 | N12: =WEEKNUM(K12,2) -> 11 | P12: =P11+1 -> 42471 | Q12: =TEXT(P12,"jjjj") -> lundi | R12: =WEEKDAY(P12,2) -> 1 | S12: =WEEKNUM(P12,2) -> 16 | V12: lundi de pâques | X12: =X11+1 -> 42457
A13: =A12+1 -> 42381 | B13: =TEXT(A13,"jjjj") -> mardi | C13: =WEEKDAY(A13,2) -> 2 | D13: =WEEKNUM(A13,2) -> 3 | F13: =F12+1 -> 42412 | G13: =TEXT(F13,"jjjj") -> vendredi | H13: =WEEKDAY(F13,2) -> 5 | I13: =WEEKNUM(F13,2) -> 7 | K13: =K12+1 -> 42441 | L13: =TEXT(K13,"jjjj") -> samedi | M13: =WEEKDAY(K13,2) -> 6 | N13: =WEEKNUM(K13,2) -> 11 | P13: =P12+1 -> 42472 | Q13: =TEXT(P13,"jjjj") -> mardi | R13: =WEEKDAY(P13,2) -> 2 | S13: =WEEKNUM(P13,2) -> 16 | V13: fête du trvail | X13: =DATE(V6,5,1) -> 42491
A14: =A13+1 -> 42382 | B14: =TEXT(A14,"jjjj") -> mercredi | C14: =WEEKDAY(A14,2) -> 3 | D14: =WEEKNUM(A14,2) -> 3 | F14: =F13+1 -> 42413 | G14: =TEXT(F14,"jjjj") -> samedi | H14: =WEEKDAY(F14,2) -> 6 | I14: =WEEKNUM(F14,2) -> 7 | K14: =K13+1 -> 42442 | L14: =TEXT(K14,"jjjj") -> dimanche | M14: =WEEKDAY(K14,2) -> 7 | N14: =WEEKNUM(K14,2) -> 11 | P14: =P13+1 -> 42473 | Q14: =TEXT(P14,"jjjj") -> mercredi | R14: =WEEKDAY(P14,2) -> 3 | S14: =WEEKNUM(P14,2) -> 16 | V14: vicoitre 1945 | X14: =DATE(V6,5,8) -> 42498
A15: =A14+1 -> 42383 | B15: =TEXT(A15,"jjjj") -> jeudi | C15: =WEEKDAY(A15,2) -> 4 | D15: =WEEKNUM(A15,2) -> 3 | F15: =F14+1 -> 42414 | G15: =TEXT(F15,"jjjj") -> dimanche | H15: =WEEKDAY(F15,2) -> 7 | I15: =WEEKNUM(F15,2) -> 7 | K15: =K14+1 -> 42443 | L15: =TEXT(K15,"jjjj") -> lundi | M15: =WEEKDAY(K15,2) -> 1 | N15: =WEEKNUM(K15,2) -> 12 | P15: =P14+1 -> 42474 | Q15: =TEXT(P15,"jjjj") -> jeudi | R15: =WEEKDAY(P15,2) -> 4 | S15: =WEEKNUM(P15,2) -> 16 | V15: ascension | X15: =X11+39 -> 42495
A16: =A15+1 -> 42384 | B16: =TEXT(A16,"jjjj") -> vendredi | C16: =WEEKDAY(A16,2) -> 5 | D16: =WEEKNUM(A16,2) -> 3 | F16: =F15+1 -> 42415 | G16: =TEXT(F16,"jjjj") -> lundi | H16: =WEEKDAY(F16,2) -> 1 | I16: =WEEKNUM(F16,2) -> 8 | K16: =K15+1 -> 42444 | L16: =TEXT(K16,"jjjj") -> mardi | M16: =WEEKDAY(K16,2) -> 2 | N16: =WEEKNUM(K16,2) -> 12 | P16: =P15+1 -> 42475 | Q16: =TEXT(P16,"jjjj") -> vendredi | R16: =WEEKDAY(P16,2) -> 5 | S16: =WEEKNUM(P16,2) -> 16 | V16: pentecôte | X16: =X11+49 -> 42505
A17: =A16+1 -> 42385 | B17: =TEXT(A17,"jjjj") -> samedi | C17: =WEEKDAY(A17,2) -> 6 | D17: =WEEKNUM(A17,2) -> 3 | F17: =F16+1 -> 42416 | G17: =TEXT(F17,"jjjj") -> mardi | H17: =WEEKDAY(F17,2) -> 2 | I17: =WEEKNUM(F17,2) -> 8 | K17: =K16+1 -> 42445 | L17: =TEXT(K17,"jjjj") -> mercredi | M17: =WEEKDAY(K17,2) -> 3 | N17: =WEEKNUM(K17,2) -> 12 | P17: =P16+1 -> 42476 | Q17: =TEXT(P17,"jjjj") -> samedi | R17: =WEEKDAY(P17,2) -> 6 | S17: =WEEKNUM(P17,2) -> 16 | V17: lundi de pentecôte | X17: =X11+50 -> 42506
A18: =A17+1 -> 42386 | B18: =TEXT(A18,"jjjj") -> dimanche | C18: =WEEKDAY(A18,2) -> 7 | D18: =WEEKNUM(A18,2) -> 3 | F18: =F17+1 -> 42417 | G18: =TEXT(F18,"jjjj") -> mercredi | H18: =WEEKDAY(F18,2) -> 3 | I18: =WEEKNUM(F18,2) -> 8 | K18: =K17+1 -> 42446 | L18: =TEXT(K18,"jjjj") -> jeudi | M18: =WEEKDAY(K18,2) -> 4 | N18: =WEEKNUM(K18,2) -> 12 | P18: =P17+1 -> 42477 | Q18: =TEXT(P18,"jjjj") -> dimanche | R18: =WEEKDAY(P18,2) -> 7 | S18: =WEEKNUM(P18,2) -> 16 | V18: fête nationale | X18: =DATE(V6,7,14) -> 42565
A19: =A18+1 -> 42387 | B19: =TEXT(A19,"jjjj") -> lundi | C19: =WEEKDAY(A19,2) -> 1 | D19: =WEEKNUM(A19,2) -> 4 | F19: =F18+1 -> 42418 | G19: =TEXT(F19,"jjjj") -> jeudi | H19: =WEEKDAY(F19,2) -> 4 | I19: =WEEKNUM(F19,2) -> 8 | K19: =K18+1 -> 42447 | L19: =TEXT(K19,"jjjj") -> vendredi | M19: =WEEKDAY(K19,2) -> 5 | N19: =WEEKNUM(K19,2) -> 12 | P19: =P18+1 -> 42478 | Q19: =TEXT(P19,"jjjj") -> lundi | R19: =WEEKDAY(P19,2) -> 1 | S19: =WEEKNUM(P19,2) -> 17 | V19: assomption | X19: =DATE(V6,8,15) -> 42597
A20: =A19+1 -> 42388 | B20: =TEXT(A20,"jjjj") -> mardi | C20: =WEEKDAY(A20,2) -> 2 | D20: =WEEKNUM(A20,2) -> 4 | F20: =F19+1 -> 42419 | G20: =TEXT(F20,"jjjj") -> vendredi | H20: =WEEKDAY(F20,2) -> 5 | I20: =WEEKNUM(F20,2) -> 8 | K20: =K19+1 -> 42448 | L20: =TEXT(K20,"jjjj") -> samedi | M20: =WEEKDAY(K20,2) -> 6 | N20: =WEEKNUM(K20,2) -> 12 | P20: =P19+1 -> 42479 | Q20: =TEXT(P20,"jjjj") -> mardi | R20: =WEEKDAY(P20,2) -> 2 | S20: =WEEKNUM(P20,2) -> 17 | V20: toussaint | X20: =DATE(V6,11,1) -> 42675
A21: =A20+1 -> 42389 | B21: =TEXT(A21,"jjjj") -> mercredi | C21: =WEEKDAY(A21,2) -> 3 | D21: =WEEKNUM(A21,2) -> 4 | F21: =F20+1 -> 42420 | G21: =TEXT(F21,"jjjj") -> samedi | H21: =WEEKDAY(F21,2) -> 6 | I21: =WEEKNUM(F21,2) -> 8 | K21: =K20+1 -> 42449 | L21: =TEXT(K21,"jjjj") -> dimanche | M21: =WEEKDAY(K21,2) -> 7 | N21: =WEEKNUM(K21,2) -> 12 | P21: =P20+1 -> 42480 | Q21: =TEXT(P21,"jjjj") -> mercredi | R21: =WEEKDAY(P21,2) -> 3 | S21: =WEEKNUM(P21,2) -> 17 | V21: armistice | X21: =DATE(V6,11,11) -> 42685
A22: =A21+1 -> 42390 | B22: =TEXT(A22,"jjjj") -> jeudi | C22: =WEEKDAY(A22,2) -> 4 | D22: =WEEKNUM(A22,2) -> 4 | F22: =F21+1 -> 42421 | G22: =TEXT(F22,"jjjj") -> dimanche | H22: =WEEKDAY(F22,2) -> 7 | I22: =WEEKNUM(F22,2) -> 8 | K22: =K21+1 -> 42450 | L22: =TEXT(K22,"jjjj") -> lundi | M22: =WEEKDAY(K22,2) -> 1 | N22: =WEEKNUM(K22,2) -> 13 | P22: =P21+1 -> 42481 | Q22: =TEXT(P22,"jjjj") -> jeudi | R22: =WEEKDAY(P22,2) -> 4 | S22: =WEEKNUM(P22,2) -> 17 | V22: noël | X22: =DATE(V6,12,25) -> 42729
A23: =A22+1 -> 42391 | B23: =TEXT(A23,"jjjj") -> vendredi | C23: =WEEKDAY(A23,2) -> 5 | D23: =WEEKNUM(A23,2) -> 4 | F23: =F22+1 -> 42422 | G23: =TEXT(F23,"jjjj") -> lundi | H23: =WEEKDAY(F23,2) -> 1 | I23: =WEEKNUM(F23,2) -> 9 | K23: =K22+1 -> 42451 | L23: =TEXT(K23,"jjjj") -> mardi | M23: =WEEKDAY(K23,2) -> 2 | N23: =WEEKNUM(K23,2) -> 13 | P23: =P22+1 -> 42482 | Q23: =TEXT(P23,"jjjj") -> vendredi | R23: =WEEKDAY(P23,2) -> 5 | S23: =WEEKNUM(P23,2) -> 17
A24: =A23+1 -> 42392 | B24: =TEXT(A24,"jjjj") -> samedi | C24: =WEEKDAY(A24,2) -> 6 | D24: =WEEKNUM(A24,2) -> 4 | F24: =F23+1 -> 42423 | G24: =TEXT(F24,"jjjj") -> mardi | H24: =WEEKDAY(F24,2) -> 2 | I24: =WEEKNUM(F24,2) -> 9 | K24: =K23+1 -> 42452 | L24: =TEXT(K24,"jjjj") -> mercredi | M24: =WEEKDAY(K24,2) -> 3 | N24: =WEEKNUM(K24,2) -> 13 | P24: =P23+1 -> 42483 | Q24: =TEXT(P24,"jjjj") -> samedi | R24: =WEEKDAY(P24,2) -> 6 | S24: =WEEKNUM(P24,2) -> 17
A25: =A24+1 -> 42393 | B25: =TEXT(A25,"jjjj") -> dimanche | C25: =WEEKDAY(A25,2) -> 7 | D25: =WEEKNUM(A25,2) -> 4 | F25: =F24+1 -> 42424 | G25: =TEXT(F25,"jjjj") -> mercredi | H25: =WEEKDAY(F25,2) -> 3 | I25: =WEEKNUM(F25,2) -> 9 | K25: =K24+1 -> 42453 | L25: =TEXT(K25,"jjjj") -> jeudi | M25: =WEEKDAY(K25,2) -> 4 | N25: =WEEKNUM(K25,2) -> 13 | P25: =P24+1 -> 42484 | Q25: =TEXT(P25,"jjjj") -> dimanche | R25: =WEEKDAY(P25,2) -> 7 | S25: =WEEKNUM(P25,2) -> 17
A26: =A25+1 -> 42394 | B26: =TEXT(A26,"jjjj") -> lundi | C26: =WEEKDAY(A26,2) -> 1 | D26: =WEEKNUM(A26,2) -> 5 | F26: =F25+1 -> 42425 | G26: =TEXT(F26,"jjjj") -> jeudi | H26: =WEEKDAY(F26,2) -> 4 | I26: =WEEKNUM(F26,2) -> 9 | K26: =K25+1 -> 42454 | L26: =TEXT(K26,"jjjj") -> vendredi | M26: =WEEKDAY(K26,2) -> 5 | N26: =WEEKNUM(K26,2) -> 13 | P26: =P25+1 -> 42485 | Q26: =TEXT(P26,"jjjj") -> lundi | R26: =WEEKDAY(P26,2) -> 1 | S26: =WEEKNUM(P26,2) -> 18
A27: =A26+1 -> 42395 | B27: =TEXT(A27,"jjjj") -> mardi | C27: =WEEKDAY(A27,2) -> 2 | D27: =WEEKNUM(A27,2) -> 5 | F27: =F26+1 -> 42426 | G27: =TEXT(F27,"jjjj") -> vendredi | H27: =WEEKDAY(F27,2) -> 5 | I27: =WEEKNUM(F27,2) -> 9 | K27: =K26+1 -> 42455 | L27: =TEXT(K27,"jjjj") -> samedi | M27: =WEEKDAY(K27,2) -> 6 | N27: =WEEKNUM(K27,2) -> 13 | P27: =P26+1 -> 42486 | Q27: =TEXT(P27,"jjjj") -> mardi | R27: =WEEKDAY(P27,2) -> 2 | S27: =WEEKNUM(P27,2) -> 18
A28: =A27+1 -> 42396 | B28: =TEXT(A28,"jjjj") -> mercredi | C28: =WEEKDAY(A28,2) -> 3 | D28: =WEEKNUM(A28,2) -> 5 | F28: =F27+1 -> 42427 | G28: =TEXT(F28,"jjjj") -> samedi | H28: =WEEKDAY(F28,2) -> 6 | I28: =WEEKNUM(F28,2) -> 9 | K28: =K27+1 -> 42456 | L28: =TEXT(K28,"jjjj") -> dimanche | M28: =WEEKDAY(K28,2) -> 7 | N28: =WEEKNUM(K28,2) -> 13 | P28: =P27+1 -> 42487 | Q28: =TEXT(P28,"jjjj") -> mercredi | R28: =WEEKDAY(P28,2) -> 3 | S28: =WEEKNUM(P28,2) -> 18
A29: =A28+1 -> 42397 | B29: =TEXT(A29,"jjjj") -> jeudi | C29: =WEEKDAY(A29,2) -> 4 | D29: =WEEKNUM(A29,2) -> 5 | F29: =F28+1 -> 42428 | G29: =TEXT(F29,"jjjj") -> dimanche | H29: =WEEKDAY(F29,2) -> 7 | I29: =WEEKNUM(F29,2) -> 9 | K29: =K28+1 -> 42457 | L29: =TEXT(K29,"jjjj") -> lundi | M29: =WEEKDAY(K29,2) -> 1 | N29: =WEEKNUM(K29,2) -> 14 | P29: =P28+1 -> 42488 | Q29: =TEXT(P29,"jjjj") -> jeudi | R29: =WEEKDAY(P29,2) -> 4 | S29: =WEEKNUM(P29,2) -> 18
A30: =A29+1 -> 42398 | B30: =TEXT(A30,"jjjj") -> vendredi | C30: =WEEKDAY(A30,2) -> 5 | D30: =WEEKNUM(A30,2) -> 5 | F30: =IF(V4=365,F29+1,"") -> 42429 | G30: =TEXT(F30,"jjjj") -> lundi | H30: =WEEKDAY(F30,2) -> 1 | I30: =WEEKNUM(F30,2) -> 10 | K30: =K29+1 -> 42458 | L30: =TEXT(K30,"jjjj") -> mardi | M30: =WEEKDAY(K30,2) -> 2 | N30: =WEEKNUM(K30,2) -> 14 | P30: =P29+1 -> 42489 | Q30: =TEXT(P30,"jjjj") -> vendredi | R30: =WEEKDAY(P30,2) -> 5 | S30: =WEEKNUM(P30,2) -> 18
A31: =A30+1 -> 42399 | B31: =TEXT(A31,"jjjj") -> samedi | C31: =WEEKDAY(A31,2) -> 6 | D31: =WEEKNUM(A31,2) -> 5 | K31: =K30+1 -> 42459 | L31: =TEXT(K31,"jjjj") -> mercredi | M31: =WEEKDAY(K31,2) -> 3 | N31: =WEEKNUM(K31,2) -> 14 | P31: =P30+1 -> 42490 | Q31: =TEXT(P31,"jjjj") -> samedi | R31: =WEEKDAY(P31,2) -> 6 | S31: =WEEKNUM(P31,2) -> 18
A32: =A31+1 -> 42400 | B32: =TEXT(A32,"jjjj") -> dimanche | C32: =WEEKDAY(A32,2) -> 7 | D32: =WEEKNUM(A32,2) -> 5 | K32: =K31+1 -> 42460 | L32: =TEXT(K32,"jjjj") -> jeudi | M32: =WEEKDAY(K32,2) -> 4 | N32: =WEEKNUM(K32,2) -> 14
A34: =A35 -> 42491 | B34: JOUR | D34: SEMAINE | F34: =F35 -> 42522 | G34: JOUR | I34: SEMAINE | K34: =K35 -> 42552 | L34: JOUR | N34: SEMAINE | P34: =P35 -> 42583 | Q34: JOUR | S34: SEMAINE
A35: =P31+1 -> 42491 | B35: =TEXT(A35,"jjjj") -> dimanche | C35: =WEEKDAY(A35,2) -> 7 | D35: =WEEKNUM(A35,2) -> 18 | F35: =A65+1 -> 42522 | G35: =TEXT(F35,"jjjj") -> mercredi | H35: =WEEKDAY(F35,2) -> 3 | I35: =WEEKNUM(F35,2) -> 23 | K35: =F64+1 -> 42552 | L35: =TEXT(K35,"jjjj") -> vendredi | M35: =WEEKDAY(K35,2) -> 5 | N35: =WEEKNUM(K35,2) -> 27 | P35: =K65+1 -> 42583 | Q35: =TEXT(P35,"jjjj") -> lundi | R35: =WEEKDAY(P35,2) -> 1 | S35: =WEEKNUM(P35,2) -> 32
A36: =A35+1 -> 42492 | B36: =TEXT(A36,"jjjj") -> lundi | C36: =WEEKDAY(A36,2) -> 1 | D36: =WEEKNUM(A36,2) -> 19 | F36: =F35+1 -> 42523 | G36: =TEXT(F36,"jjjj") -> jeudi | H36: =WEEKDAY(F36,2) -> 4 | I36: =WEEKNUM(F36,2) -> 23 | K36: =K35+1 -> 42553 | L36: =TEXT(K36,"jjjj") -> samedi | M36: =WEEKDAY(K36,2) -> 6 | N36: =WEEKNUM(K36,2) -> 27 | P36: =P35+1 -> 42584 | Q36: =TEXT(P36,"jjjj") -> mardi | R36: =WEEKDAY(P36,2) -> 2 | S36: =WEEKNUM(P36,2) -> 32
A37: =A36+1 -> 42493 | B37: =TEXT(A37,"jjjj") -> mardi | C37: =WEEKDAY(A37,2) -> 2 | D37: =WEEKNUM(A37,2) -> 19 | F37: =F36+1 -> 42524 | G37: =TEXT(F37,"jjjj") -> vendredi | H37: =WEEKDAY(F37,2) -> 5 | I37: =WEEKNUM(F37,2) -> 23 | K37: =K36+1 -> 42554 | L37: =TEXT(K37,"jjjj") -> dimanche | M37: =WEEKDAY(K37,2) -> 7 | N37: =WEEKNUM(K37,2) -> 27 | P37: =P36+1 -> 42585 | Q37: =TEXT(P37,"jjjj") -> mercredi | R37: =WEEKDAY(P37,2) -> 3 | S37: =WEEKNUM(P37,2) -> 32
A38: =A37+1 -> 42494 | B38: =TEXT(A38,"jjjj") -> mercredi | C38: =WEEKDAY(A38,2) -> 3 | D38: =WEEKNUM(A38,2) -> 19 | F38: =F37+1 -> 42525 | G38: =TEXT(F38,"jjjj") -> samedi | H38: =WEEKDAY(F38,2) -> 6 | I38: =WEEKNUM(F38,2) -> 23 | K38: =K37+1 -> 42555 | L38: =TEXT(K38,"jjjj") -> lundi | M38: =WEEKDAY(K38,2) -> 1 | N38: =WEEKNUM(K38,2) -> 28 | P38: =P37+1 -> 42586 | Q38: =TEXT(P38,"jjjj") -> jeudi | R38: =WEEKDAY(P38,2) -> 4 | S38: =WEEKNUM(P38,2) -> 32
A39: =A38+1 -> 42495 | B39: =TEXT(A39,"jjjj") -> jeudi | C39: =WEEKDAY(A39,2) -> 4 | D39: =WEEKNUM(A39,2) -> 19 | F39: =F38+1 -> 42526 | G39: =TEXT(F39,"jjjj") -> dimanche | H39: =WEEKDAY(F39,2) -> 7 | I39: =WEEKNUM(F39,2) -> 23 | K39: =K38+1 -> 42556 | L39: =TEXT(K39,"jjjj") -> mardi | M39: =WEEKDAY(K39,2) -> 2 | N39: =WEEKNUM(K39,2) -> 28 | P39: =P38+1 -> 42587 | Q39: =TEXT(P39,"jjjj") -> vendredi | R39: =WEEKDAY(P39,2) -> 5 | S39: =WEEKNUM(P39,2) -> 32
A40: =A39+1 -> 42496 | B40: =TEXT(A40,"jjjj") -> vendredi | C40: =WEEKDAY(A40,2) -> 5 | D40: =WEEKNUM(A40,2) -> 19 | F40: =F39+1 -> 42527 | G40: =TEXT(F40,"jjjj") -> lundi | H40: =WEEKDAY(F40,2) -> 1 | I40: =WEEKNUM(F40,2) -> 24 | K40: =K39+1 -> 42557 | L40: =TEXT(K40,"jjjj") -> mercredi | M40: =WEEKDAY(K40,2) -> 3 | N40: =WEEKNUM(K40,2) -> 28 | P40: =P39+1 -> 42588 | Q40: =TEXT(P40,"jjjj") -> samedi | R40: =WEEKDAY(P40,2) -> 6 | S40: =WEEKNUM(P40,2) -> 32
A41: =A40+1 -> 42497 | B41: =TEXT(A41,"jjjj") -> samedi | C41: =WEEKDAY(A41,2) -> 6 | D41: =WEEKNUM(A41,2) -> 19 | F41: =F40+1 -> 42528 | G41: =TEXT(F41,"jjjj") -> mardi | H41: =WEEKDAY(F41,2) -> 2 | I41: =WEEKNUM(F41,2) -> 24 | K41: =K40+1 -> 42558 | L41: =TEXT(K41,"jjjj") -> jeudi | M41: =WEEKDAY(K41,2) -> 4 | N41: =WEEKNUM(K41,2) -> 28 | P41: =P40+1 -> 42589 | Q41: =TEXT(P41,"jjjj") -> dimanche | R41: =WEEKDAY(P41,2) -> 7 | S41: =WEEKNUM(P41,2) -> 32
A42: =A41+1 -> 42498 | B42: =TEXT(A42,"jjjj") -> dimanche | C42: =WEEKDAY(A42,2) -> 7 | D42: =WEEKNUM(A42,2) -> 19 | F42: =F41+1 -> 42529 | G42: =TEXT(F42,"jjjj") -> mercredi | H42: =WEEKDAY(F42,2) -> 3 | I42: =WEEKNUM(F42,2) -> 24 | K42: =K41+1 -> 42559 | L42: =TEXT(K42,"jjjj") -> vendredi | M42: =WEEKDAY(K42,2) -> 5 | N42: =WEEKNUM(K42,2) -> 28 | P42: =P41+1 -> 42590 | Q42: =TEXT(P42,"jjjj") -> lundi | R42: =WEEKDAY(P42,2) -> 1 | S42: =WEEKNUM(P42,2) -> 33
A43: =A42+1 -> 42499 | B43: =TEXT(A43,"jjjj") -> lundi | C43: =WEEKDAY(A43,2) -> 1 | D43: =WEEKNUM(A43,2) -> 20 | F43: =F42+1 -> 42530 | G43: =TEXT(F43,"jjjj") -> jeudi | H43: =WEEKDAY(F43,2) -> 4 | I43: =WEEKNUM(F43,2) -> 24 | K43: =K42+1 -> 42560 | L43: =TEXT(K43,"jjjj") -> samedi | M43: =WEEKDAY(K43,2) -> 6 | N43: =WEEKNUM(K43,2) -> 28 | P43: =P42+1 -> 42591 | Q43: =TEXT(P43,"jjjj") -> mardi | R43: =WEEKDAY(P43,2) -> 2 | S43: =WEEKNUM(P43,2) -> 33
A44: =A43+1 -> 42500 | B44: =TEXT(A44,"jjjj") -> mardi | C44: =WEEKDAY(A44,2) -> 2 | D44: =WEEKNUM(A44,2) -> 20 | F44: =F43+1 -> 42531 | G44: =TEXT(F44,"jjjj") -> vendredi | H44: =WEEKDAY(F44,2) -> 5 | I44: =WEEKNUM(F44,2) -> 24 | K44: =K43+1 -> 42561 | L44: =TEXT(K44,"jjjj") -> dimanche | M44: =WEEKDAY(K44,2) -> 7 | N44: =WEEKNUM(K44,2) -> 28 | P44: =P43+1 -> 42592 | Q44: =TEXT(P44,"jjjj") -> mercredi | R44: =WEEKDAY(P44,2) -> 3 | S44: =WEEKNUM(P44,2) -> 33
A45: =A44+1 -> 42501 | B45: =TEXT(A45,"jjjj") -> mercredi | C45: =WEEKDAY(A45,2) -> 3 | D45: =WEEKNUM(A45,2) -> 20 | F45: =F44+1 -> 42532 | G45: =TEXT(F45,"jjjj") -> samedi | H45: =WEEKDAY(F45,2) -> 6 | I45: =WEEKNUM(F45,2) -> 24 | K45: =K44+1 -> 42562 | L45: =TEXT(K45,"jjjj") -> lundi | M45: =WEEKDAY(K45,2) -> 1 | N45: =WEEKNUM(K45,2) -> 29 | P45: =P44+1 -> 42593 | Q45: =TEXT(P45,"jjjj") -> jeudi | R45: =WEEKDAY(P45,2) -> 4 | S45: =WEEKNUM(P45,2) -> 33
A46: =A45+1 -> 42502 | B46: =TEXT(A46,"jjjj") -> jeudi | C46: =WEEKDAY(A46,2) -> 4 | D46: =WEEKNUM(A46,2) -> 20 | F46: =F45+1 -> 42533 | G46: =TEXT(F46,"jjjj") -> dimanche | H46: =WEEKDAY(F46,2) -> 7 | I46: =WEEKNUM(F46,2) -> 24 | K46: =K45+1 -> 42563 | L46: =TEXT(K46,"jjjj") -> mardi | M46: =WEEKDAY(K46,2) -> 2 | N46: =WEEKNUM(K46,2) -> 29 | P46: =P45+1 -> 42594 | Q46: =TEXT(P46,"jjjj") -> vendredi | R46: =WEEKDAY(P46,2) -> 5 | S46: =WEEKNUM(P46,2) -> 33
A47: =A46+1 -> 42503 | B47: =TEXT(A47,"jjjj") -> vendredi | C47: =WEEKDAY(A47,2) -> 5 | D47: =WEEKNUM(A47,2) -> 20 | F47: =F46+1 -> 42534 | G47: =TEXT(F47,"jjjj") -> lundi | H47: =WEEKDAY(F47,2) -> 1 | I47: =WEEKNUM(F47,2) -> 25 | K47: =K46+1 -> 42564 | L47: =TEXT(K47,"jjjj") -> mercredi | M47: =WEEKDAY(K47,2) -> 3 | N47: =WEEKNUM(K47,2) -> 29 | P47: =P46+1 -> 42595 | Q47: =TEXT(P47,"jjjj") -> samedi | R47: =WEEKDAY(P47,2) -> 6 | S47: =WEEKNUM(P47,2) -> 33
... A64: =A63+1 -> 42520 | B64: =TEXT(A64,"jjjj") -> lundi | C64: =WEEKDAY(A64,2) -> 1 | D64: =WEEKNUM(A64,2) -> 23 | F64: =F63+1 -> 42551 | G64: =TEXT(F64,"jjjj") -> jeudi | H64: =WEEKDAY(F64,2) -> 4 | I64: =WEEKNUM(F64,2) -> 27 | K64: =K63+1 -> 42581 | L64: =TEXT(K64,"jjjj") -> samedi | M64: =WEEKDAY(K64,2) -> 6 | N64: =WEEKNUM(K64,2) -> 31 | P64: =P63+1 -> 42612 | Q64: =TEXT(P64,"jjjj") -> mardi | R64: =WEEKDAY(P64,2) -> 2 | S64: =WEEKNUM(P64,2) -> 36
A65: =A64+1 -> 42521 | B65: =TEXT(A65,"jjjj") -> mardi | C65: =WEEKDAY(A65,2) -> 2 | D65: =WEEKNUM(A65,2) -> 23 | K65: =K64+1 -> 42582 | L65: =TEXT(K65,"jjjj") -> dimanche | M65: =WEEKDAY(K65,2) -> 7 | N65: =WEEKNUM(K65,2) -> 31 | P65: =P64+1 -> 42613 | Q65: =TEXT(P65,"jjjj") -> mercredi | R65: =WEEKDAY(P65,2) -> 3 | S65: =WEEKNUM(P65,2) -> 36
A67: =A68 -> 42614 | B67: JOUR | D67: SEMAINE | F67: =F68 -> 42644 | G67: JOUR | I67: SEMAINE | K67: =K68 -> 42675 | L67: JOUR | N67: SEMAINE | P67: =P68 -> 42705 | Q67: JOUR | S67: SEMAINE
A68: =P65+1 -> 42614 | B68: =TEXT(A68,"jjjj") -> jeudi | C68: =WEEKDAY(A68,2) -> 4 | D68: =WEEKNUM(A68,2) -> 36 | F68: =A97+1 -> 42644 | G68: =TEXT(F68,"jjjj") -> samedi | H68: =WEEKDAY(F68,2) -> 6 | I68: =WEEKNUM(F68,2) -> 40 | K68: =F98+1 -> 42675 | L68: =TEXT(K68,"jjjj") -> mardi | M68: =WEEKDAY(K68,2) -> 2 | N68: =WEEKNUM(K68,2) -> 45 | P68: =K97+1 -> 42705 | Q68: =TEXT(P68,"jjjj") -> jeudi | R68: =WEEKDAY(P68,2) -> 4 | S68: =WEEKNUM(P68,2) -> 49
A69: =A68+1 -> 42615 | B69: =TEXT(A69,"jjjj") -> vendredi | C69: =WEEKDAY(A69,2) -> 5 | D69: =WEEKNUM(A69,2) -> 36 | F69: =F68+1 -> 42645 | G69: =TEXT(F69,"jjjj") -> dimanche | H69: =WEEKDAY(F69,2) -> 7 | I69: =WEEKNUM(F69,2) -> 40 | K69: =K68+1 -> 42676 | L69: =TEXT(K69,"jjjj") -> mercredi | M69: =WEEKDAY(K69,2) -> 3 | N69: =WEEKNUM(K69,2) -> 45 | P69: =P68+1 -> 42706 | Q69: =TEXT(P69,"jjjj") -> vendredi | R69: =WEEKDAY(P69,2) -> 5 | S69: =WEEKNUM(P69,2) -> 49
A70: =A69+1 -> 42616 | B70: =TEXT(A70,"jjjj") -> samedi | C70: =WEEKDAY(A70,2) -> 6 | D70: =WEEKNUM(A70,2) -> 36 | F70: =F69+1 -> 42646 | G70: =TEXT(F70,"jjjj") -> lundi | H70: =WEEKDAY(F70,2) -> 1 | I70: =WEEKNUM(F70,2) -> 41 | K70: =K69+1 -> 42677 | L70: =TEXT(K70,"jjjj") -> jeudi | M70: =WEEKDAY(K70,2) -> 4 | N70: =WEEKNUM(K70,2) -> 45 | P70: =P69+1 -> 42707 | Q70: =TEXT(P70,"jjjj") -> samedi | R70: =WEEKDAY(P70,2) -> 6 | S70: =WEEKNUM(P70,2) -> 49
A71: =A70+1 -> 42617 | B71: =TEXT(A71,"jjjj") -> dimanche | C71: =WEEKDAY(A71,2) -> 7 | D71: =WEEKNUM(A71,2) -> 36 | F71: =F70+1 -> 42647 | G71: =TEXT(F71,"jjjj") -> mardi | H71: =WEEKDAY(F71,2) -> 2 | I71: =WEEKNUM(F71,2) -> 41 | K71: =K70+1 -> 42678 | L71: =TEXT(K71,"jjjj") -> vendredi | M71: =WEEKDAY(K71,2) -> 5 | N71: =WEEKNUM(K71,2) -> 45 | P71: =P70+1 -> 42708 | Q71: =TEXT(P71,"jjjj") -> dimanche | R71: =WEEKDAY(P71,2) -> 7 | S71: =WEEKNUM(P71,2) -> 49
A72: =A71+1 -> 42618 | B72: =TEXT(A72,"jjjj") -> lundi | C72: =WEEKDAY(A72,2) -> 1 | D72: =WEEKNUM(A72,2) -> 37 | F72: =F71+1 -> 42648 | G72: =TEXT(F72,"jjjj") -> mercredi | H72: =WEEKDAY(F72,2) -> 3 | I72: =WEEKNUM(F72,2) -> 41 | K72: =K71+1 -> 42679 | L72: =TEXT(K72,"jjjj") -> samedi | M72: =WEEKDAY(K72,2) -> 6 | N72: =WEEKNUM(K72,2) -> 45 | P72: =P71+1 -> 42709 | Q72: =TEXT(P72,"jjjj") -> lundi | R72: =WEEKDAY(P72,2) -> 1 | S72: =WEEKNUM(P72,2) -> 50
A73: =A72+1 -> 42619 | B73: =TEXT(A73,"jjjj") -> mardi | C73: =WEEKDAY(A73,2) -> 2 | D73: =WEEKNUM(A73,2) -> 37 | F73: =F72+1 -> 42649 | G73: =TEXT(F73,"jjjj") -> jeudi | H73: =WEEKDAY(F73,2) -> 4 | I73: =WEEKNUM(F73,2) -> 41 | K73: =K72+1 -> 42680 | L73: =TEXT(K73,"jjjj") -> dimanche | M73: =WEEKDAY(K73,2) -> 7 | N73: =WEEKNUM(K73,2) -> 45 | P73: =P72+1 -> 42710 | Q73: =TEXT(P73,"jjjj") -> mardi | R73: =WEEKDAY(P73,2) -> 2 | S73: =WEEKNUM(P73,2) -> 50
A74: =A73+1 -> 42620 | B74: =TEXT(A74,"jjjj") -> mercredi | C74: =WEEKDAY(A74,2) -> 3 | D74: =WEEKNUM(A74,2) -> 37 | F74: =F73+1 -> 42650 | G74: =TEXT(F74,"jjjj") -> vendredi | H74: =WEEKDAY(F74,2) -> 5 | I74: =WEEKNUM(F74,2) -> 41 | K74: =K73+1 -> 42681 | L74: =TEXT(K74,"jjjj") -> lundi | M74: =WEEKDAY(K74,2) -> 1 | N74: =WEEKNUM(K74,2) -> 46 | P74: =P73+1 -> 42711 | Q74: =TEXT(P74,"jjjj") -> mercredi | R74: =WEEKDAY(P74,2) -> 3 | S74: =WEEKNUM(P74,2) -> 50
A75: =A74+1 -> 42621 | B75: =TEXT(A75,"jjjj") -> jeudi | C75: =WEEKDAY(A75,2) -> 4 | D75: =WEEKNUM(A75,2) -> 37 | F75: =F74+1 -> 42651 | G75: =TEXT(F75,"jjjj") -> samedi | H75: =WEEKDAY(F75,2) -> 6 | I75: =WEEKNUM(F75,2) -> 41 | K75: =K74+1 -> 42682 | L75: =TEXT(K75,"jjjj") -> mardi | M75: =WEEKDAY(K75,2) -> 2 | N75: =WEEKNUM(K75,2) -> 46 | P75: =P74+1 -> 42712 | Q75: =TEXT(P75,"jjjj") -> jeudi | R75: =WEEKDAY(P75,2) -> 4 | S75: =WEEKNUM(P75,2) -> 50
A76: =A75+1 -> 42622 | B76: =TEXT(A76,"jjjj") -> vendredi | C76: =WEEKDAY(A76,2) -> 5 | D76: =WEEKNUM(A76,2) -> 37 | F76: =F75+1 -> 42652 | G76: =TEXT(F76,"jjjj") -> dimanche | H76: =WEEKDAY(F76,2) -> 7 | I76: =WEEKNUM(F76,2) -> 41 | K76: =K75+1 -> 42683 | L76: =TEXT(K76,"jjjj") -> mercredi | M76: =WEEKDAY(K76,2) -> 3 | N76: =WEEKNUM(K76,2) -> 46 | P76: =P75+1 -> 42713 | Q76: =TEXT(P76,"jjjj") -> vendredi | R76: =WEEKDAY(P76,2) -> 5 | S76: =WEEKNUM(P76,2) -> 50
A77: =A76+1 -> 42623 | B77: =TEXT(A77,"jjjj") -> samedi | C77: =WEEKDAY(A77,2) -> 6 | D77: =WEEKNUM(A77,2) -> 37 | F77: =F76+1 -> 42653 | G77: =TEXT(F77,"jjjj") -> lundi | H77: =WEEKDAY(F77,2) -> 1 | I77: =WEEKNUM(F77,2) -> 42 | K77: =K76+1 -> 42684 | L77: =TEXT(K77,"jjjj") -> jeudi | M77: =WEEKDAY(K77,2) -> 4 | N77: =WEEKNUM(K77,2) -> 46 | P77: =P76+1 -> 42714 | Q77: =TEXT(P77,"jjjj") -> samedi | R77: =WEEKDAY(P77,2) -> 6 | S77: =WEEKNUM(P77,2) -> 50
A78: =A77+1 -> 42624 | B78: =TEXT(A78,"jjjj") -> dimanche | C78: =WEEKDAY(A78,2) -> 7 | D78: =WEEKNUM(A78,2) -> 37 | F78: =F77+1 -> 42654 | G78: =TEXT(F78,"jjjj") -> mardi | H78: =WEEKDAY(F78,2) -> 2 | I78: =WEEKNUM(F78,2) -> 42 | K78: =K77+1 -> 42685 | L78: =TEXT(K78,"jjjj") -> vendredi | M78: =WEEKDAY(K78,2) -> 5 | N78: =WEEKNUM(K78,2) -> 46 | P78: =P77+1 -> 42715 | Q78: =TEXT(P78,"jjjj") -> dimanche | R78: =WEEKDAY(P78,2) -> 7 | S78: =WEEKNUM(P78,2) -> 50
A79: =A78+1 -> 42625 | B79: =TEXT(A79,"jjjj") -> lundi | C79: =WEEKDAY(A79,2) -> 1 | D79: =WEEKNUM(A79,2) -> 38 | F79: =F78+1 -> 42655 | G79: =TEXT(F79,"jjjj") -> mercredi | H79: =WEEKDAY(F79,2) -> 3 | I79: =WEEKNUM(F79,2) -> 42 | K79: =K78+1 -> 42686 | L79: =TEXT(K79,"jjjj") -> samedi | M79: =WEEKDAY(K79,2) -> 6 | N79: =WEEKNUM(K79,2) -> 46 | P79: =P78+1 -> 42716 | Q79: =TEXT(P79,"jjjj") -> lundi | R79: =WEEKDAY(P79,2) -> 1 | S79: =WEEKNUM(P79,2) -> 51
A80: =A79+1 -> 42626 | B80: =TEXT(A80,"jjjj") -> mardi | C80: =WEEKDAY(A80,2) -> 2 | D80: =WEEKNUM(A80,2) -> 38 | F80: =F79+1 -> 42656 | G80: =TEXT(F80,"jjjj") -> jeudi | H80: =WEEKDAY(F80,2) -> 4 | I80: =WEEKNUM(F80,2) -> 42 | K80: =K79+1 -> 42687 | L80: =TEXT(K80,"jjjj") -> dimanche | M80: =WEEKDAY(K80,2) -> 7 | N80: =WEEKNUM(K80,2) -> 46 | P80: =P79+1 -> 42717 | Q80: =TEXT(P80,"jjjj") -> mardi | R80: =WEEKDAY(P80,2) -> 2 | S80: =WEEKNUM(P80,2) -> 51
... A97: =A96+1 -> 42643 | B97: =TEXT(A97,"jjjj") -> vendredi | C97: =WEEKDAY(A97,2) -> 5 | D97: =WEEKNUM(A97,2) -> 40 | F97: =F96+1 -> 42673 | G97: =TEXT(F97,"jjjj") -> dimanche | H97: =WEEKDAY(F97,2) -> 7 | I97: =WEEKNUM(F97,2) -> 44 | K97: =K96+1 -> 42704 | L97: =TEXT(K97,"jjjj") -> mercredi | M97: =WEEKDAY(K97,2) -> 3 | N97: =WEEKNUM(K97,2) -> 49 | P97: =P96+1 -> 42734 | Q97: =TEXT(P97,"jjjj") -> vendredi | R97: =WEEKDAY(P97,2) -> 5 | S97: =WEEKNUM(P97,2) -> 53
F98: =F97+1 -> 42674 | G98: =TEXT(F98,"jjjj") -> lundi | H98: =WEEKDAY(F98,2) -> 1 | I98: =WEEKNUM(F98,2) -> 45 | P98: =P97+1 -> 42735 | Q98: =TEXT(P98,"jjjj") -> samedi | R98: =WEEKDAY(P98,2) -> 6 | S98: =WEEKNUM(P98,2) -> 53

Sheet Feuil3
A1: 2016
A2: 3eme trimestre
BH3: =IF(Feuil1!X1="1er trimestre",Feuil1!A1,IF(Feuil1!X1="2eme trimestre",Feuil1!P1,IF(Feuil1!X1="3eme trimestre",Feuil1!K34,IF(Feuil1!X1="4eme trimestre",Feuil1!F67)))) -> 42552 | CM3: =IF(Feuil1!X1="1er trimestre",Feuil1!F1,IF(Feuil1!X1="2eme trimestre",Feuil1!A34,IF(Feuil1!X1="3eme trimestre",Feuil1!P34,IF(Feuil1!X1="4eme trimestre",Feuil1!K67)))) -> 42583 | DR3: =IF(Feuil1!X1="1er trimestre",Feuil1!K1,IF(Feuil1!X1="2eme trimestre",Feuil1!F34,IF(Feuil1!X1="3eme trimestre",Feuil1!A67,IF(Feuil1!X1="4eme trimestre",Feuil1!P67)))) -> 42614
BH4: =IF(Feuil1!X1="1er trimestre",Feuil1!D4,IF(Feuil1!X1="2eme trimestre",Feuil1!S4,IF(Feuil1!X1="3eme trimestre",Feuil1!N37,IF(Feuil1!X1="4eme trimestre",Feuil1!I70)))) -> 27 | BN4: =IF(Feuil1!X1="1er trimestre",Feuil1!D11,IF(Feuil1!X1="2eme trimestre",Feuil1!S11,IF(Feuil1!X1="3eme trimestre",Feuil1!N44,IF(Feuil1!X1="4eme trimestre",Feuil1!I77)))) -> 28 | BU4: =IF(Feuil1!X1="1er trimestre",Feuil1!D18,IF(Feuil1!X1="2eme trimestre",Feuil1!S18,IF(Feuil1!X1="3eme trimestre",Feuil1!N51,IF(Feuil1!X1="4eme trimestre",Feuil1!I84)))) -> 29 | CB4: =IF(Feuil1!X1="1er trimestre",Feuil1!D25,IF(Feuil1!X1="2eme trimestre",Feuil1!S25,IF(Feuil1!X1="3eme trimestre",Feuil1!N58,IF(Feuil1!X1="4eme trimestre",Feuil1!I91)))) -> 30 | CI4: =IF(Feuil1!X1="1er trimestre",Feuil1!D32,IF(Feuil1!X1="2eme trimestre",Feuil1!D35,IF(Feuil1!X1="3eme trimestre",Feuil1!N65,IF(Feuil1!X1="4eme trimestre",Feuil1!I98)))) -> 31 | CR4: =IF(Feuil1!X1="1er trimestre",Feuil1!I13,IF(Feuil1!X1="2eme trimestre",Feuil1!D42,IF(Feuil1!X1="3eme trimestre",Feuil1!S48,IF(Feuil1!X1="4eme trimestre",Feuil1!N74)))) -> 33 | CY4: =IF(Feuil1!X1="1er trimestre",Feuil1!I20,IF(Feuil1!X1="2eme trimestre",Feuil1!D49,IF(Feuil1!X1="3eme trimestre",Feuil1!S55,IF(Feuil1!X1="4eme trimestre",Feuil1!N81)))) -> 34 | DF4: =IF(Feuil1!X1="1er trimestre",Feuil1!I27,IF(Feuil1!X1="2eme trimestre",Feuil1!D56,IF(Feuil1!X1="3eme trimestre",Feuil1!S62,IF(Feuil1!X1="4eme trimestre",Feuil1!N88)))) -> 35 | DO4: =IF(Feuil1!X1="1er trimestre",Feuil1!N4,IF(Feuil1!X1="2eme trimestre",Feuil1!I37,IF(Feuil1!X1="3eme trimestre",Feuil1!D70,IF(Feuil1!X1="4eme trimestre",Feuil1!S70)))) -> 36 | DW4: =IF(Feuil1!X1="1er trimestre",Feuil1!N11,IF(Feuil1!X1="2eme trimestre",Feuil1!I44,IF(Feuil1!X1="3eme trimestre",Feuil1!D77,IF(Feuil1!X1="4eme trimestre",Feuil1!S77)))) -> 37 | ED4: =IF(Feuil1!X1="1er trimestre",Feuil1!N18,IF(Feuil1!X1="2eme trimestre",Feuil1!I51,IF(Feuil1!X1="3eme trimestre",Feuil1!D84,IF(Feuil1!X1="4eme trimestre",Feuil1!S84)))) -> 38 | EK4: =IF(Feuil1!X1="1er trimestre",Feuil1!N25,IF(Feuil1!X1="2eme trimestre",Feuil1!I58,IF(Feuil1!X1="3eme trimestre",Feuil1!D91,IF(Feuil1!X1="4eme trimestre",Feuil1!S91)))) -> 39 | ER4: =IF(Feuil1!X1="1er trimestre",Feuil1!N32,IF(Feuil1!X1="2eme trimestre",Feuil1!I64,IF(Feuil1!X1="3eme trimestre",Feuil1!D97,IF(Feuil1!X1="4eme trimestre",Feuil1!S98)))) -> 40
BH5: =IF(Feuil1!X1="1er trimestre",7,IF(Feuil1!X1="2eme trimestre",Feuil1!R2,IF(Feuil1!X1="3eme trimestre",Feuil1!M35,IF(Feuil1!X1="4eme trimestre",Feuil1!H68)))) -> 5 | BI5: =IF(Feuil1!X1="1er trimestre",Feuil1!C3,IF(Feuil1!X1="2eme trimestre",Feuil1!R3,IF(Feuil1!X1="3eme trimestre",Feuil1!M36,IF(Feuil1!X1="4eme trimestre",Feuil1!H69)))) -> 6 | BJ5: =IF(Feuil1!X1="1er trimestre",Feuil1!C4,IF(Feuil1!X1="2eme trimestre",Feuil1!R4,IF(Feuil1!X1="3eme trimestre",Feuil1!M37,IF(Feuil1!X1="4eme trimestre",Feuil1!H70)))) -> 7 | BK5: =IF(Feuil1!X1="1er trimestre",Feuil1!C5,IF(Feuil1!X1="2eme trimestre",Feuil1!R5,IF(Feuil1!X1="3eme trimestre",Feuil1!M38,IF(Feuil1!X1="4eme trimestre",Feuil1!H71)))) -> 1 | BL5: =IF(Feuil1!X1="1er trimestre",Feuil1!C6,IF(Feuil1!X1="2eme trimestre",Feuil1!R6,IF(Feuil1!X1="3eme trimestre",Feuil1!M39,IF(Feuil1!X1="4eme trimestre",Feuil1!H72)))) -> 2 | BM5: =IF(Feuil1!X1="1er trimestre",Feuil1!C7,IF(Feuil1!X1="2eme trimestre",Feuil1!R7,IF(Feuil1!X1="3eme trimestre",Feuil1!M40,IF(Feuil1!X1="4eme trimestre",Feuil1!H73)))) -> 3 | BN5: =IF(Feuil1!X1="1er trimestre",Feuil1!C8,IF(Feuil1!X1="2eme trimestre",Feuil1!R8,IF(Feuil1!X1="3eme trimestre",Feuil1!M41,IF(Feuil1!X1="4eme trimestre",Feuil1!H74)))) -> 4 | BO5: =IF(Feuil1!X1="1er trimestre",Feuil1!C9,IF(Feuil1!X1="2eme trimestre",Feuil1!R9,IF(Feuil1!X1="3eme trimestre",Feuil1!M42,IF(Feuil1!X1="4eme trimestre",Feuil1!H75)))) -> 5 | BP5: =IF(Feuil1!X1="1er trimestre",Feuil1!C10,IF(Feuil1!X1="2eme trimestre",Feuil1!R10,IF(Feuil1!X1="3eme trimestre",Feuil1!M43,IF(Feuil1!X1="4eme trimestre",Feuil1!H76)))) -> 6 | BQ5: =IF(Feuil1!X1="1er trimestre",Feuil1!C11,IF(Feuil1!X1="2eme trimestre",Feuil1!R11,IF(Feuil1!X1="3eme trimestre",Feuil1!M44,IF(Feuil1!X1="4eme trimestre",Feuil1!H77)))) -> 7 | BR5: =IF(Feuil1!X1="1er trimestre",Feuil1!C12,IF(Feuil1!X1="2eme trimestre",Feuil1!R12,IF(Feuil1!X1="3eme trimestre",Feuil1!M45,IF(Feuil1!X1="4eme trimestre",Feuil1!H78)))) -> 1 | BS5: =IF(Feuil1!X1="1er trimestre",Feuil1!C13,IF(Feuil1!X1="2eme trimestre",Feuil1!R13,IF(Feuil1!X1="3eme trimestre",Feuil1!M46,IF(Feuil1!X1="4eme trimestre",Feuil1!H79)))) -> 2 | BT5: =IF(Feuil1!X1="1er trimestre",Feuil1!C14,IF(Feuil1!X1="2eme trimestre",Feuil1!R14,IF(Feuil1!X1="3eme trimestre",Feuil1!M47,IF(Feuil1!X1="4eme trimestre",Feuil1!H80)))) -> 3 | BU5: =IF(Feuil1!X1="1er trimestre",Feuil1!C15,IF(Feuil1!X1="2eme trimestre",Feuil1!R15,IF(Feuil1!X1="3eme trimestre",7,IF(Feuil1!X1="4eme trimestre",Feuil1!H81)))) -> 7 | BV5: =IF(Feuil1!X1="1er trimestre",Feuil1!C16,IF(Feuil1!X1="2eme trimestre",Feuil1!R16,IF(Feuil1!X1="3eme trimestre",Feuil1!M49,IF(Feuil1!X1="4eme trimestre",Feuil1!H82)))) -> 5 | BW5: =IF(Feuil1!X1="1er trimestre",Feuil1!C17,IF(Feuil1!X1="2eme trimestre",Feuil1!R17,IF(Feuil1!X1="3eme trimestre",Feuil1!M50,IF(Feuil1!X1="4eme trimestre",Feuil1!H83)))) -> 6 | BX5: =IF(Feuil1!X1="1er trimestre",Feuil1!C18,IF(Feuil1!X1="2eme trimestre",Feuil1!R18,IF(Feuil1!X1="3eme trimestre",Feuil1!M51,IF(Feuil1!X1="4eme trimestre",Feuil1!H84)))) -> 7 | BY5: =IF(Feuil1!X1="1er trimestre",Feuil1!C19,IF(Feuil1!X1="2eme trimestre",Feuil1!R19,IF(Feuil1!X1="3eme trimestre",Feuil1!M52,IF(Feuil1!X1="4eme trimestre",Feuil1!H85)))) -> 1 | BZ5: =IF(Feuil1!X1="1er trimestre",Feuil1!C20,IF(Feuil1!X1="2eme trimestre",Feuil1!R20,IF(Feuil1!X1="3eme trimestre",Feuil1!M53,IF(Feuil1!X1="4eme trimestre",Feuil1!H86)))) -> 2 | CA5: =IF(Feuil1!X1="1er trimestre",Feuil1!C21,IF(Feuil1!X1="2eme trimestre",Feuil1!R21,IF(Feuil1!X1="3eme trimestre",Feuil1!M54,IF(Feuil1!X1="4eme trimestre",Feuil1!H87)))) -> 3 | CB5: =IF(Feuil1!X1="1er trimestre",Feuil1!C22,IF(Feuil1!X1="2eme trimestre",Feuil1!R22,IF(Feuil1!X1="3eme trimestre",Feuil1!M55,IF(Feuil1!X1="4eme trimestre",Feuil1!H88)))) -> 4 | CC5: =IF(Feuil1!X1="1er trimestre",Feuil1!C23,IF(Feuil1!X1="2eme trimestre",Feuil1!R23,IF(Feuil1!X1="3eme trimestre",Feuil1!M56,IF(Feuil1!X1="4eme trimestre",Feuil1!H89)))) -> 5 | CD5: =IF(Feuil1!X1="1er trimestre",Feuil1!C24,IF(Feuil1!X1="2eme trimestre",Feuil1!R24,IF(Feuil1!X1="3eme trimestre",Feuil1!M57,IF(Feuil1!X1="4eme trimestre",Feuil1!H90)))) -> 6 | CE5: =IF(Feuil1!X1="1er trimestre",Feuil1!C25,IF(Feuil1!X1="2eme trimestre",Feuil1!R25,IF(Feuil1!X1="3eme trimestre",Feuil1!M58,IF(Feuil1!X1="4eme trimestre",Feuil1!H91)))) -> 7 | CF5: =IF(Feuil1!X1="1er trimestre",Feuil1!C26,IF(Feuil1!X1="2eme trimestre",Feuil1!R26,IF(Feuil1!X1="3eme trimestre",Feuil1!M59,IF(Feuil1!X1="4eme trimestre",Feuil1!H92)))) -> 1 | CG5: =IF(Feuil1!X1="1er trimestre",Feuil1!C27,IF(Feuil1!X1="2eme trimestre",Feuil1!R27,IF(Feuil1!X1="3eme trimestre",Feuil1!M60,IF(Feuil1!X1="4eme trimestre",Feuil1!H93)))) -> 2 | CH5: =IF(Feuil1!X1="1er trimestre",Feuil1!C28,IF(Feuil1!X1="2eme trimestre",Feuil1!R28,IF(Feuil1!X1="3eme trimestre",Feuil1!M61,IF(Feuil1!X1="4eme trimestre",Feuil1!H94)))) -> 3 | CI5: =IF(Feuil1!X1="1er trimestre",Feuil1!C29,IF(Feuil1!X1="2eme trimestre",Feuil1!R29,IF(Feuil1!X1="3eme trimestre",Feuil1!M62,IF(Feuil1!X1="4eme trimestre",Feuil1!H95)))) -> 4 | CJ5: =IF(Feuil1!X1="1er trimestre",Feuil1!C30,IF(Feuil1!X1="2eme trimestre",Feuil1!R30,IF(Feuil1!X1="3eme trimestre",Feuil1!M63,IF(Feuil1!X1="4eme trimestre",Feuil1!H96)))) -> 5 | CK5: =IF(Feuil1!X1="1er trimestre",Feuil1!C31,IF(Feuil1!X1="2eme trimestre",Feuil1!R31,IF(Feuil1!X1="3eme trimestre",Feuil1!M64,IF(Feuil1!X1="4eme trimestre",Feuil1!H97)))) -> 6 | CL5: =IF(Feuil1!X1="1er trimestre",Feuil1!C32,IF(Feuil1!X1="2eme trimestre",Feuil1!R32,IF(Feuil1!X1="3eme trimestre",Feuil1!M65,IF(Feuil1!X1="4eme trimestre",Feuil1!H98)))) -> 7 | CM5: =IF(Feuil1!X1="1er trimestre",Feuil1!H2,IF(Feuil1!X1="2eme trimestre",Feuil1!C35,IF(Feuil1!X1="3eme trimestre",Feuil1!R35,IF(Feuil1!X1="4eme trimestre",7)))) -> 1 | CN5: =IF(Feuil1!X1="1er trimestre",Feuil1!H3,IF(Feuil1!X1="2eme trimestre",7,IF(Feuil1!X1="3eme trimestre",Feuil1!R36,IF(Feuil1!X1="4eme trimestre",Feuil1!M69)))) -> 2 | CO5: =IF(Feuil1!X1="1er trimestre",Feuil1!H4,IF(Feuil1!X1="2eme trimestre",Feuil1!C37,IF(Feuil1!X1="3eme trimestre",Feuil1!R37,IF(Feuil1!X1="4eme trimestre",Feuil1!M70)))) -> 3 | CP5: =IF(Feuil1!X1="1er trimestre",Feuil1!H5,IF(Feuil1!X1="2eme trimestre",Feuil1!C38,IF(Feuil1!X1="3eme trimestre",Feuil1!R38,IF(Feuil1!X1="4eme trimestre",Feuil1!M71)))) -> 4 | CQ5: =IF(Feuil1!X1="1er trimestre",Feuil1!H6,IF(Feuil1!X1="2eme trimestre",Feuil1!C39,IF(Feuil1!X1="3eme trimestre",Feuil1!R39,IF(Feuil1!X1="4eme trimestre",Feuil1!M72)))) -> 5 | CR5: =IF(Feuil1!X1="1er trimestre",Feuil1!H7,IF(Feuil1!X1="2eme trimestre",Feuil1!C40,IF(Feuil1!X1="3eme trimestre",Feuil1!R40,IF(Feuil1!X1="4eme trimestre",Feuil1!M73)))) -> 6 | CS5: =IF(Feuil1!X1="1er trimestre",Feuil1!H8,IF(Feuil1!X1="2eme trimestre",Feuil1!C41,IF(Feuil1!X1="3eme trimestre",Feuil1!R41,IF(Feuil1!X1="4eme trimestre",Feuil1!M74)))) -> 7 | CT5: =IF(Feuil1!X1="1er trimestre",Feuil1!H9,IF(Feuil1!X1="2eme trimestre",Feuil1!C42,IF(Feuil1!X1="3eme trimestre",Feuil1!R42,IF(Feuil1!X1="4eme trimestre",Feuil1!M75)))) -> 1 | CU5: =IF(Feuil1!X1="1er trimestre",Feuil1!H10,IF(Feuil1!X1="2eme trimestre",7,IF(Feuil1!X1="3eme trimestre",Feuil1!R43,IF(Feuil1!X1="4eme trimestre",Feuil1!M76)))) -> 2 | CV5: =IF(Feuil1!X1="1er trimestre",Feuil1!H11,IF(Feuil1!X1="2eme trimestre",Feuil1!C44,IF(Feuil1!X1="3eme trimestre",Feuil1!R44,IF(Feuil1!X1="4eme trimestre",Feuil1!M77)))) -> 3 | CW5: =IF(Feuil1!X1="1er trimestre",Feuil1!H12,IF(Feuil1!X1="2eme trimestre",Feuil1!C45,IF(Feuil1!X1="3eme trimestre",Feuil1!R45,IF(Feuil1!X1="4eme trimestre",7)))) -> 4 | CX5: =IF(Feuil1!X1="1er trimestre",Feuil1!H13,IF(Feuil1!X1="2eme trimestre",Feuil1!C46,IF(Feuil1!X1="3eme trimestre",Feuil1!R46,IF(Feuil1!X1="4eme trimestre",Feuil1!M79)))) -> 5 | CY5: =IF(Feuil1!X1="1er trimestre",Feuil1!H14,IF(Feuil1!X1="2eme trimestre",Feuil1!C47,IF(Feuil1!X1="3eme trimestre",Feuil1!R47,IF(Feuil1!X1="4eme trimestre",Feuil1!M80)))) -> 6 | CZ5: =IF(Feuil1!X1="1er trimestre",Feuil1!H15,IF(Feuil1!X1="2eme trimestre",Feuil1!C48,IF(Feuil1!X1="3eme trimestre",Feuil1!R48,IF(Feuil1!X1="4eme trimestre",Feuil1!M81)))) -> 7 | DA5: =IF(Feuil1!X1="1er trimestre",Feuil1!H16,IF(Feuil1!X1="2eme trimestre",Feuil1!C49,IF(Feuil1!X1="3eme trimestre",7,IF(Feuil1!X1="4eme trimestre",Feuil1!M82)))) -> 7 | DB5: =IF(Feuil1!X1="1er trimestre",Feuil1!H17,IF(Feuil1!X1="2eme trimestre",Feuil1!C50,IF(Feuil1!X1="3eme trimestre",Feuil1!R50,IF(Feuil1!X1="4eme trimestre",Feuil1!M83)))) -> 2 | DC5: =IF(Feuil1!X1="1er trimestre",Feuil1!H18,IF(Feuil1!X1="2eme trimestre",Feuil1!C51,IF(Feuil1!X1="3eme trimestre",Feuil1!R51,IF(Feuil1!X1="4eme trimestre",Feuil1!M84)))) -> 3 | DD5: =IF(Feuil1!X1="1er trimestre",Feuil1!H19,IF(Feuil1!X1="2eme trimestre",Feuil1!C52,IF(Feuil1!X1="3eme trimestre",Feuil1!R52,IF(Feuil1!X1="4eme trimestre",Feuil1!M85)))) -> 4 | DE5: =IF(Feuil1!X1="1er trimestre",Feuil1!H20,IF(Feuil1!X1="2eme trimestre",Feuil1!C53,IF(Feuil1!X1="3eme trimestre",Feuil1!R53,IF(Feuil1!X1="4eme trimestre",Feuil1!M86)))) -> 5 | DF5: =IF(Feuil1!X1="1er trimestre",Feuil1!H21,IF(Feuil1!X1="2eme trimestre",Feuil1!C54,IF(Feuil1!X1="3eme trimestre",Feuil1!R54,IF(Feuil1!X1="4eme trimestre",Feuil1!M87)))) -> 6 | DG5: =IF(Feuil1!X1="1er trimestre",Feuil1!H22,IF(Feuil1!X1="2eme trimestre",Feuil1!C55,IF(Feuil1!X1="3eme trimestre",Feuil1!R55,IF(Feuil1!X1="4eme trimestre",Feuil1!M88)))) -> 7 | DH5: =IF(Feuil1!X1="1er trimestre",Feuil1!H23,IF(Feuil1!X1="2eme trimestre",Feuil1!C56,IF(Feuil1!X1="3eme trimestre",Feuil1!R56,IF(Feuil1!X1="4eme trimestre",Feuil1!M89)))) -> 1 | DI5: =IF(Feuil1!X1="1er trimestre",Feuil1!H24,IF(Feuil1!X1="2eme trimestre",Feuil1!C57,IF(Feuil1!X1="3eme trimestre",Feuil1!R57,IF(Feuil1!X1="4eme trimestre",Feuil1!M90)))) -> 2 | DJ5: =IF(Feuil1!X1="1er trimestre",Feuil1!H25,IF(Feuil1!X1="2eme trimestre",Feuil1!C58,IF(Feuil1!X1="3eme trimestre",Feuil1!R58,IF(Feuil1!X1="4eme trimestre",Feuil1!M91)))) -> 3 | DK5: =IF(Feuil1!X1="1er trimestre",Feuil1!H26,IF(Feuil1!X1="2eme trimestre",Feuil1!C59,IF(Feuil1!X1="3eme trimestre",Feuil1!R59,IF(Feuil1!X1="4eme trimestre",Feuil1!M92)))) -> 4 | DL5: =IF(Feuil1!X1="1er trimestre",Feuil1!H27,IF(Feuil1!X1="2eme trimestre",Feuil1!C60,IF(Feuil1!X1="3eme trimestre",Feuil1!R60,IF(Feuil1!X1="4eme trimestre",Feuil1!M93)))) -> 5 | DM5: =IF(Feuil1!X1="1er trimestre",Feuil1!H28,IF(Feuil1!X1="2eme trimestre",Feuil1!C61,IF(Feuil1!X1="3eme trimestre",Feuil1!R61,IF(Feuil1!X1="4eme trimestre",Feuil1!M94)))) -> 6 | DN5: =IF(Feuil1!X1="1er trimestre",Feuil1!H29,IF(Feuil1!X1="2eme trimestre",Feuil1!C62,IF(Feuil1!X1="3eme trimestre",Feuil1!R62,IF(Feuil1!X1="4eme trimestre",Feuil1!M95)))) -> 7 | DO5: =IF(Feuil1!X1="1er trimestre",Feuil1!H30,IF(Feuil1!X1="2eme trimestre",Feuil1!C63,IF(Feuil1!X1="3eme trimestre",Feuil1!R63,IF(Feuil1!X1="4eme trimestre",Feuil1!M96)))) -> 1 | DP5: =IF(Feuil1!X1="1er trimestre",Feuil1!H31,IF(Feuil1!X1="2eme trimestre",Feuil1!C64,IF(Feuil1!X1="3eme trimestre",Feuil1!R64,IF(Feuil1!X1="4eme trimestre",Feuil1!M97)))) -> 2 | DQ5: =IF(Feuil1!X1="1er trimestre",Feuil1!H32,IF(Feuil1!X1="2eme trimestre",Feuil1!C65,IF(Feuil1!X1="3eme trimestre",Feuil1!R65,IF(Feuil1!X1="4eme trimestre",Feuil1!M98)))) -> 3 | DR5: =IF(Feuil1!X1="1er trimestre",Feuil1!M2,IF(Feuil1!X1="2eme trimestre",Feuil1!H35,IF(Feuil1!X1="3eme trimestre",Feuil1!C68,IF(Feuil1!X1="4eme trimestre",Feuil1!R68)))) -> 4 | DS5: =IF(Feuil1!X1="1er trimestre",Feuil1!M3,IF(Feuil1!X1="2eme trimestre",Feuil1!H36,IF(Feuil1!X1="3eme trimestre",Feuil1!C69,IF(Feuil1!X1="4eme trimestre",Feuil1!R69)))) -> 5 | DT5: =IF(Feuil1!X1="1er trimestre",Feuil1!M4,IF(Feuil1!X1="2eme trimestre",Feuil1!H37,IF(Feuil1!X1="3eme trimestre",Feuil1!C70,IF(Feuil1!X1="4eme trimestre",Feuil1!R70)))) -> 6 | DU5: =IF(Feuil1!X1="1er trimestre",Feuil1!M5,IF(Feuil1!X1="2eme trimestre",Feuil1!H38,IF(Feuil1!X1="3eme trimestre",Feuil1!C71,IF(Feuil1!X1="4eme trimestre",Feuil1!R71)))) -> 7 | DV5: =IF(Feuil1!X1="1er trimestre",Feuil1!M6,IF(Feuil1!X1="2eme trimestre",Feuil1!H39,IF(Feuil1!X1="3eme trimestre",Feuil1!C72,IF(Feuil1!X1="4eme trimestre",Feuil1!R72)))) -> 1 | DW5: =IF(Feuil1!X1="1er trimestre",Feuil1!M7,IF(Feuil1!X1="2eme trimestre",Feuil1!H40,IF(Feuil1!X1="3eme trimestre",Feuil1!C73,IF(Feuil1!X1="4eme trimestre",Feuil1!R73)))) -> 2 | DX5: =IF(Feuil1!X1="1er trimestre",Feuil1!M8,IF(Feuil1!X1="2eme trimestre",Feuil1!H41,IF(Feuil1!X1="3eme trimestre",Feuil1!C74,IF(Feuil1!X1="4eme trimestre",Feuil1!R74)))) -> 3 | DY5: =IF(Feuil1!X1="1er trimestre",Feuil1!M9,IF(Feuil1!X1="2eme trimestre",Feuil1!H42,IF(Feuil1!X1="3eme trimestre",Feuil1!C75,IF(Feuil1!X1="4eme trimestre",Feuil1!R75)))) -> 4 | DZ5: =IF(Feuil1!X1="1er trimestre",Feuil1!M10,IF(Feuil1!X1="2eme trimestre",Feuil1!H43,IF(Feuil1!X1="3eme trimestre",Feuil1!C76,IF(Feuil1!X1="4eme trimestre",Feuil1!R76)))) -> 5 | EA5: =IF(Feuil1!X1="1er trimestre",Feuil1!M11,IF(Feuil1!X1="2eme trimestre",Feuil1!H44,IF(Feuil1!X1="3eme trimestre",Feuil1!C77,IF(Feuil1!X1="4eme trimestre",Feuil1!R77)))) -> 6 | EB5: =IF(Feuil1!X1="1er trimestre",Feuil1!M12,IF(Feuil1!X1="2eme trimestre",Feuil1!H45,IF(Feuil1!X1="3eme trimestre",Feuil1!C78,IF(Feuil1!X1="4eme trimestre",Feuil1!R78)))) -> 7 | EC5: =IF(Feuil1!X1="1er trimestre",Feuil1!M13,IF(Feuil1!X1="2eme trimestre",Feuil1!H46,IF(Feuil1!X1="3eme trimestre",Feuil1!C79,IF(Feuil1!X1="4eme trimestre",Feuil1!R79)))) -> 1 | ED5: =IF(Feuil1!X1="1er trimestre",Feuil1!M14,IF(Feuil1!X1="2eme trimestre",Feuil1!H47,IF(Feuil1!X1="3eme trimestre",Feuil1!C80,IF(Feuil1!X1="4eme trimestre",Feuil1!R80)))) -> 2 | EE5: =IF(Feuil1!X1="1er trimestre",Feuil1!M15,IF(Feuil1!X1="2eme trimestre",Feuil1!H48,IF(Feuil1!X1="3eme trimestre",Feuil1!C81,IF(Feuil1!X1="4eme trimestre",Feuil1!R81)))) -> 3 | EF5: =IF(Feuil1!X1="1er trimestre",Feuil1!M16,IF(Feuil1!X1="2eme trimestre",Feuil1!H49,IF(Feuil1!X1="3eme trimestre",Feuil1!C82,IF(Feuil1!X1="4eme trimestre",Feuil1!R82)))) -> 4 | EG5: =IF(Feuil1!X1="1er trimestre",Feuil1!M17,IF(Feuil1!X1="2eme trimestre",Feuil1!H50,IF(Feuil1!X1="3eme trimestre",Feuil1!C83,IF(Feuil1!X1="4eme trimestre",Feuil1!R83)))) -> 5 | EH5: =IF(Feuil1!X1="1er trimestre",Feuil1!M18,IF(Feuil1!X1="2eme trimestre",Feuil1!H51,IF(Feuil1!X1="3eme trimestre",Feuil1!C84,IF(Feuil1!X1="4eme trimestre",Feuil1!R84)))) -> 6 | EI5: =IF(Feuil1!X1="1er trimestre",Feuil1!M19,IF(Feuil1!X1="2eme trimestre",Feuil1!H52,IF(Feuil1!X1="3eme trimestre",Feuil1!C85,IF(Feuil1!X1="4eme trimestre",Feuil1!R85)))) -> 7 | EJ5: =IF(Feuil1!X1="1er trimestre",Feuil1!M20,IF(Feuil1!X1="2eme trimestre",Feuil1!H53,IF(Feuil1!X1="3eme trimestre",Feuil1!C86,IF(Feuil1!X1="4eme trimestre",Feuil1!R86)))) -> 1 | EK5: =IF(Feuil1!X1="1er trimestre",Feuil1!M21,IF(Feuil1!X1="2eme trimestre",Feuil1!H54,IF(Feuil1!X1="3eme trimestre",Feuil1!C87,IF(Feuil1!X1="4eme trimestre",Feuil1!R87)))) -> 2 | EL5: =IF(Feuil1!X1="1er trimestre",Feuil1!M22,IF(Feuil1!X1="2eme trimestre",Feuil1!H55,IF(Feuil1!X1="3eme trimestre",Feuil1!C88,IF(Feuil1!X1="4eme trimestre",Feuil1!R88)))) -> 3 | EM5: =IF(Feuil1!X1="1er trimestre",Feuil1!M23,IF(Feuil1!X1="2eme trimestre",Feuil1!H56,IF(Feuil1!X1="3eme trimestre",Feuil1!C89,IF(Feuil1!X1="4eme trimestre",Feuil1!R89)))) -> 4 | EN5: =IF(Feuil1!X1="1er trimestre",Feuil1!M24,IF(Feuil1!X1="2eme trimestre",Feuil1!H57,IF(Feuil1!X1="3eme trimestre",Feuil1!C90,IF(Feuil1!X1="4eme trimestre",Feuil1!R90)))) -> 5 | EO5: =IF(Feuil1!X1="1er trimestre",Feuil1!M25,IF(Feuil1!X1="2eme trimestre",Feuil1!H58,IF(Feuil1!X1="3eme trimestre",Feuil1!C91,IF(Feuil1!X1="4eme trimestre",Feuil1!R91)))) -> 6 | EP5: =IF(Feuil1!X1="1er trimestre",Feuil1!M26,IF(Feuil1!X1="2eme trimestre",Feuil1!H59,IF(Feuil1!X1="3eme trimestre",Feuil1!C92,IF(Feuil1!X1="4eme trimestre",7)))) -> 7 | EQ5: =IF(Feuil1!X1="1er trimestre",Feuil1!M27,IF(Feuil1!X1="2eme trimestre",Feuil1!H60,IF(Feuil1!X1="3eme trimestre",Feuil1!C93,IF(Feuil1!X1="4eme trimestre",Feuil1!R93)))) -> 1 | ER5: =IF(Feuil1!X1="1er trimestre",Feuil1!M28,IF(Feuil1!X1="2eme trimestre",Feuil1!H61,IF(Feuil1!X1="3eme trimestre",Feuil1!C94,IF(Feuil1!X1="4eme trimestre",Feuil1!R94)))) -> 2 | ES5: =IF(Feuil1!X1="1er trimestre",Feuil1!M29,IF(Feuil1!X1="2eme trimestre",Feuil1!H62,IF(Feuil1!X1="3eme trimestre",Feuil1!C95,IF(Feuil1!X1="4eme trimestre",Feuil1!R95)))) -> 3 | ET5: =IF(Feuil1!X1="1er trimestre",Feuil1!M30,IF(Feuil1!X1="2eme trimestre",Feuil1!H63,IF(Feuil1!X1="3eme trimestre",Feuil1!C96,IF(Feuil1!X1="4eme trimestre",Feuil1!R96)))) -> 4 | EU5: =IF(Feuil1!X1="1er trimestre",Feuil1!M31,IF(Feuil1!X1="2eme trimestre",Feuil1!H64,IF(Feuil1!X1="3eme trimestre",Feuil1!C97,IF(Feuil1!X1="4eme trimestre",Feuil1!R97)))) -> 5 | EV5: =IF(Feuil1!X1="1er trimestre",Feuil1!M32,IF(Feuil1!X1="2eme trimestre",Feuil1!H65,IF(Feuil1!X1="3eme trimestre",Feuil1!C98,IF(Feuil1!X1="4eme trimestre",Feuil1!R98)))) -> 0
BH6: =IF(Feuil1!X1="1er trimestre",Feuil1!A2,IF(Feuil1!X1="2eme trimestre",Feuil1!P2,IF(Feuil1!X1="3eme trimestre",Feuil1!K35,IF(Feuil1!X1="4eme trimestre",Feuil1!F68)))) -> 42552 | BI6: =IF(Feuil1!X1="1er trimestre",Feuil1!A3,IF(Feuil1!X1="2eme trimestre",Feuil1!P3,IF(Feuil1!X1="3eme trimestre",Feuil1!K36,IF(Feuil1!X1="4eme trimestre",Feuil1!F69)))) -> 42553 | BJ6: =IF(Feuil1!X1="1er trimestre",Feuil1!A4,IF(Feuil1!X1="2eme trimestre",Feuil1!P4,IF(Feuil1!X1="3eme trimestre",Feuil1!K37,IF(Feuil1!X1="4eme trimestre",Feuil1!F70)))) -> 42554 | BK6: =IF(Feuil1!X1="1er trimestre",Feuil1!A5,IF(Feuil1!X1="2eme trimestre",Feuil1!P5,IF(Feuil1!X1="3eme trimestre",Feuil1!K38,IF(Feuil1!X1="4eme trimestre",Feuil1!F71)))) -> 42555 | BL6: =IF(Feuil1!X1="1er trimestre",Feuil1!A6,IF(Feuil1!X1="2eme trimestre",Feuil1!P6,IF(Feuil1!X1="3eme trimestre",Feuil1!K39,IF(Feuil1!X1="4eme trimestre",Feuil1!F72)))) -> 42556 | BM6: =IF(Feuil1!X1="1er trimestre",Feuil1!A7,IF(Feuil1!X1="2eme trimestre",Feuil1!P7,IF(Feuil1!X1="3eme trimestre",Feuil1!K40,IF(Feuil1!X1="4eme trimestre",Feuil1!F73)))) -> 42557 | BN6: =IF(Feuil1!X1="1er trimestre",Feuil1!A8,IF(Feuil1!X1="2eme trimestre",Feuil1!P8,IF(Feuil1!X1="3eme trimestre",Feuil1!K41,IF(Feuil1!X1="4eme trimestre",Feuil1!F74)))) -> 42558 | BO6: =IF(Feuil1!X1="1er trimestre",Feuil1!A9,IF(Feuil1!X1="2eme trimestre",Feuil1!P9,IF(Feuil1!X1="3eme trimestre",Feuil1!K42,IF(Feuil1!X1="4eme trimestre",Feuil1!F75)))) -> 42559 | BP6: =IF(Feuil1!X1="1er trimestre",Feuil1!A10,IF(Feuil1!X1="2eme trimestre",Feuil1!P10,IF(Feuil1!X1="3eme trimestre",Feuil1!K43,IF(Feuil1!X1="4eme trimestre",Feuil1!F76)))) -> 42560 | BQ6: =IF(Feuil1!X1="1er trimestre",Feuil1!A11,IF(Feuil1!X1="2eme trimestre",Feuil1!P11,IF(Feuil1!X1="3eme trimestre",Feuil1!K44,IF(Feuil1!X1="4eme trimestre",Feuil1!F77)))) -> 42561 | BR6: =IF(Feuil1!X1="1er trimestre",Feuil1!A12,IF(Feuil1!X1="2eme trimestre",Feuil1!P12,IF(Feuil1!X1="3eme trimestre",Feuil1!K45,IF(Feuil1!X1="4eme trimestre",Feuil1!F77)))) -> 42562 | BS6: =IF(Feuil1!X1="1er trimestre",Feuil1!A13,IF(Feuil1!X1="2eme trimestre",Feuil1!P13,IF(Feuil1!X1="3eme trimestre",Feuil1!K46,IF(Feuil1!X1="4eme trimestre",Feuil1!F79)))) -> 42563 | BT6: =IF(Feuil1!X1="1er trimestre",Feuil1!A14,IF(Feuil1!X1="2eme trimestre",Feuil1!P14,IF(Feuil1!X1="3eme trimestre",Feuil1!K47,IF(Feuil1!X1="4eme trimestre",Feuil1!F80)))) -> 42564 | BU6: =IF(Feuil1!X1="1er trimestre",Feuil1!A15,IF(Feuil1!X1="2eme trimestre",Feuil1!P15,IF(Feuil1!X1="3eme trimestre",Feuil1!K48,IF(Feuil1!X1="4eme trimestre",Feuil1!F81)))) -> 42565 | BV6: =IF(Feuil1!X1="1er trimestre",Feuil1!A16,IF(Feuil1!X1="2eme trimestre",Feuil1!P16,IF(Feuil1!X1="3eme trimestre",Feuil1!K49,IF(Feuil1!X1="4eme trimestre",Feuil1!F82)))) -> 42566 | BW6: =IF(Feuil1!X1="1er trimestre",Feuil1!A17,IF(Feuil1!X1="2eme trimestre",Feuil1!P17,IF(Feuil1!X1="3eme trimestre",Feuil1!K50,IF(Feuil1!X1="4eme trimestre",Feuil1!F83)))) -> 42567 | BX6: =IF(Feuil1!X1="1er trimestre",Feuil1!A18,IF(Feuil1!X1="2eme trimestre",Feuil1!P18,IF(Feuil1!X1="3eme trimestre",Feuil1!K51,IF(Feuil1!X1="4eme trimestre",Feuil1!F84)))) -> 42568 | BY6: =IF(Feuil1!X1="1er trimestre",Feuil1!A19,IF(Feuil1!X1="2eme trimestre",Feuil1!P19,IF(Feuil1!X1="3eme trimestre",Feuil1!K52,IF(Feuil1!X1="4eme trimestre",Feuil1!F85)))) -> 42569 | BZ6: =IF(Feuil1!X1="1er trimestre",Feuil1!A20,IF(Feuil1!X1="2eme trimestre",Feuil1!P20,IF(Feuil1!X1="3eme trimestre",Feuil1!K53,IF(Feuil1!X1="4eme trimestre",Feuil1!F86)))) -> 42570 | CA6: =IF(Feuil1!X1="1er trimestre",Feuil1!A21,IF(Feuil1!X1="2eme trimestre",Feuil1!P21,IF(Feuil1!X1="3eme trimestre",Feuil1!K54,IF(Feuil1!X1="4eme trimestre",Feuil1!F87)))) -> 42571 | CB6: =IF(Feuil1!X1="1er trimestre",Feuil1!A22,IF(Feuil1!X1="2eme trimestre",Feuil1!P22,IF(Feuil1!X1="3eme trimestre",Feuil1!K55,IF(Feuil1!X1="4eme trimestre",Feuil1!F88)))) -> 42572 | CC6: =IF(Feuil1!X1="1er trimestre",Feuil1!A23,IF(Feuil1!X1="2eme trimestre",Feuil1!P23,IF(Feuil1!X1="3eme trimestre",Feuil1!K56,IF(Feuil1!X1="4eme trimestre",Feuil1!F89)))) -> 42573 | CD6: =IF(Feuil1!X1="1er trimestre",Feuil1!A24,IF(Feuil1!X1="2eme trimestre",Feuil1!P24,IF(Feuil1!X1="3eme trimestre",Feuil1!K57,IF(Feuil1!X1="4eme trimestre",Feuil1!F90)))) -> 42574 | CE6: =IF(Feuil1!X1="1er trimestre",Feuil1!A25,IF(Feuil1!X1="2eme trimestre",Feuil1!P25,IF(Feuil1!X1="3eme trimestre",Feuil1!K58,IF(Feuil1!X1="4eme trimestre",Feuil1!F91)))) -> 42575 | CF6: =IF(Feuil1!X1="1er trimestre",Feuil1!A26,IF(Feuil1!X1="2eme trimestre",Feuil1!P26,IF(Feuil1!X1="3eme trimestre",Feuil1!K59,IF(Feuil1!X1="4eme trimestre",Feuil1!F92)))) -> 42576 | CG6: =IF(Feuil1!X1="1er trimestre",Feuil1!A27,IF(Feuil1!X1="2eme trimestre",Feuil1!P27,IF(Feuil1!X1="3eme trimestre",Feuil1!K60,IF(Feuil1!X1="4eme trimestre",Feuil1!F93)))) -> 42577 | CH6: =IF(Feuil1!X1="1er trimestre",Feuil1!A28,IF(Feuil1!X1="2eme trimestre",Feuil1!P28,IF(Feuil1!X1="3eme trimestre",Feuil1!K61,IF(Feuil1!X1="4eme trimestre",Feuil1!F94)))) -> 42578 | CI6: =IF(Feuil1!X1="1er trimestre",Feuil1!A29,IF(Feuil1!X1="2eme trimestre",Feuil1!P29,IF(Feuil1!X1="3eme trimestre",Feuil1!K62,IF(Feuil1!X1="4eme trimestre",Feuil1!F95)))) -> 42579 | CJ6: =IF(Feuil1!X1="1er trimestre",Feuil1!A30,IF(Feuil1!X1="2eme trimestre",Feuil1!P30,IF(Feuil1!X1="3eme trimestre",Feuil1!K63,IF(Feuil1!X1="4eme trimestre",Feuil1!F96)))) -> 42580 | CK6: =IF(Feuil1!X1="1er trimestre",Feuil1!A31,IF(Feuil1!X1="2eme trimestre",Feuil1!P31,IF(Feuil1!X1="3eme trimestre",Feuil1!K64,IF(Feuil1!X1="4eme trimestre",Feuil1!F97)))) -> 42581 | CL6: =IF(Feuil1!X1="1er trimestre",Feuil1!A32,IF(Feuil1!X1="2eme trimestre",Feuil1!P32,IF(Feuil1!X1="3eme trimestre",Feuil1!K65,IF(Feuil1!X1="4eme trimestre",Feuil1!F98)))) -> 42582 | CM6: =IF(Feuil1!X1="1er trimestre",Feuil1!F2,IF(Feuil1!X1="2eme trimestre",Feuil1!A35,IF(Feuil1!X1="3eme trimestre",Feuil1!P35,IF(Feuil1!X1="4eme trimestre",Feuil1!K68)))) -> 42583 | CN6: =IF(Feuil1!X1="1er trimestre",Feuil1!F3,IF(Feuil1!X1="2eme trimestre",Feuil1!A36,IF(Feuil1!X1="3eme trimestre",Feuil1!P36,IF(Feuil1!X1="4eme trimestre",Feuil1!K69)))) -> 42584 | CO6: =IF(Feuil1!X1="1er trimestre",Feuil1!F4,IF(Feuil1!X1="2eme trimestre",Feuil1!A37,IF(Feuil1!X1="3eme trimestre",Feuil1!P37,IF(Feuil1!X1="4eme trimestre",Feuil1!K70)))) -> 42585 | CP6: =IF(Feuil1!X1="1er trimestre",Feuil1!F5,IF(Feuil1!X1="2eme trimestre",Feuil1!A38,IF(Feuil1!X1="3eme trimestre",Feuil1!P38,IF(Feuil1!X1="4eme trimestre",Feuil1!K71)))) -> 42586 | CQ6: =IF(Feuil1!X1="1er trimestre",Feuil1!F6,IF(Feuil1!X1="2eme trimestre",Feuil1!A39,IF(Feuil1!X1="3eme trimestre",Feuil1!P39,IF(Feuil1!X1="4eme trimestre",Feuil1!K72)))) -> 42587 | CR6: =IF(Feuil1!X1="1er trimestre",Feuil1!F7,IF(Feuil1!X1="2eme trimestre",Feuil1!A40,IF(Feuil1!X1="3eme trimestre",Feuil1!P40,IF(Feuil1!X1="4eme trimestre",Feuil1!K73)))) -> 42588 | CS6: =IF(Feuil1!X1="1er trimestre",Feuil1!F8,IF(Feuil1!X1="2eme trimestre",Feuil1!A41,IF(Feuil1!X1="3eme trimestre",Feuil1!P41,IF(Feuil1!X1="4eme trimestre",Feuil1!K74)))) -> 42589 | CT6: =IF(Feuil1!X1="1er trimestre",Feuil1!F9,IF(Feuil1!X1="2eme trimestre",Feuil1!A42,IF(Feuil1!X1="3eme trimestre",Feuil1!P42,IF(Feuil1!X1="4eme trimestre",Feuil1!K75)))) -> 42590 | CU6: =IF(Feuil1!X1="1er trimestre",Feuil1!F10,IF(Feuil1!X1="2eme trimestre",Feuil1!A43,IF(Feuil1!X1="3eme trimestre",Feuil1!P43,IF(Feuil1!X1="4eme trimestre",Feuil1!K76)))) -> 42591 | CV6: =IF(Feuil1!X1="1er trimestre",Feuil1!F11,IF(Feuil1!X1="2eme trimestre",Feuil1!A44,IF(Feuil1!X1="3eme trimestre",Feuil1!P44,IF(Feuil1!X1="4eme trimestre",Feuil1!K77)))) -> 42592 | CW6: =IF(Feuil1!X1="1er trimestre",Feuil1!F12,IF(Feuil1!X1="2eme trimestre",Feuil1!A45,IF(Feuil1!X1="3eme trimestre",Feuil1!P45,IF(Feuil1!X1="4eme trimestre",Feuil1!K78)))) -> 42593 | CX6: =IF(Feuil1!X1="1er trimestre",Feuil1!F13,IF(Feuil1!X1="2eme trimestre",Feuil1!A46,IF(Feuil1!X1="3eme trimestre",Feuil1!P46,IF(Feuil1!X1="4eme trimestre",Feuil1!K79)))) -> 42594 | CY6: =IF(Feuil1!X1="1er trimestre",Feuil1!F14,IF(Feuil1!X1="2eme trimestre",Feuil1!A47,IF(Feuil1!X1="3eme trimestre",Feuil1!P47,IF(Feuil1!X1="4eme trimestre",Feuil1!K80)))) -> 42595 | CZ6: =IF(Feuil1!X1="1er trimestre",Feuil1!F15,IF(Feuil1!X1="2eme trimestre",Feuil1!A48,IF(Feuil1!X1="3eme trimestre",Feuil1!P48,IF(Feuil1!X1="4eme trimestre",Feuil1!K81)))) -> 42596 | DA6: =IF(Feuil1!X1="1er trimestre",Feuil1!F16,IF(Feuil1!X1="2eme trimestre",Feuil1!A49,IF(Feuil1!X1="3eme trimestre",Feuil1!P49,IF(Feuil1!X1="4eme trimestre",Feuil1!K82)))) -> 42597 | DB6: =IF(Feuil1!X1="1er trimestre",Feuil1!F17,IF(Feuil1!X1="2eme trimestre",Feuil1!A50,IF(Feuil1!X1="3eme trimestre",Feuil1!P50,IF(Feuil1!X1="4eme trimestre",Feuil1!K83)))) -> 42598 | DC6: =IF(Feuil1!X1="1er trimestre",Feuil1!F18,IF(Feuil1!X1="2eme trimestre",Feuil1!A51,IF(Feuil1!X1="3eme trimestre",Feuil1!P51,IF(Feuil1!X1="4eme trimestre",Feuil1!K84)))) -> 42599 | DD6: =IF(Feuil1!X1="1er trimestre",Feuil1!F19,IF(Feuil1!X1="2eme trimestre",Feuil1!A52,IF(Feuil1!X1="3eme trimestre",Feuil1!P52,IF(Feuil1!X1="4eme trimestre",Feuil1!K85)))) -> 42600 | DE6: =IF(Feuil1!X1="1er trimestre",Feuil1!F20,IF(Feuil1!X1="2eme trimestre",Feuil1!A53,IF(Feuil1!X1="3eme trimestre",Feuil1!P53,IF(Feuil1!X1="4eme trimestre",Feuil1!K86)))) -> 42601 | DF6: =IF(Feuil1!X1="1er trimestre",Feuil1!F21,IF(Feuil1!X1="2eme trimestre",Feuil1!A54,IF(Feuil1!X1="3eme trimestre",Feuil1!P54,IF(Feuil1!X1="4eme trimestre",Feuil1!K87)))) -> 42602 | DG6: =IF(Feuil1!X1="1er trimestre",Feuil1!F22,IF(Feuil1!X1="2eme trimestre",Feuil1!A55,IF(Feuil1!X1="3eme trimestre",Feuil1!P55,IF(Feuil1!X1="4eme trimestre",Feuil1!K88)))) -> 42603 | DH6: =IF(Feuil1!X1="1er trimestre",Feuil1!F23,IF(Feuil1!X1="2eme trimestre",Feuil1!A56,IF(Feuil1!X1="3eme trimestre",Feuil1!P56,IF(Feuil1!X1="4eme trimestre",Feuil1!K89)))) -> 42604 | DI6: =IF(Feuil1!X1="1er trimestre",Feuil1!F24,IF(Feuil1!X1="2eme trimestre",Feuil1!A57,IF(Feuil1!X1="3eme trimestre",Feuil1!P57,IF(Feuil1!X1="4eme trimestre",Feuil1!K90)))) -> 42605 | DJ6: =IF(Feuil1!X1="1er trimestre",Feuil1!F25,IF(Feuil1!X1="2eme trimestre",Feuil1!A58,IF(Feuil1!X1="3eme trimestre",Feuil1!P58,IF(Feuil1!X1="4eme trimestre",Feuil1!K91)))) -> 42606 | DK6: =IF(Feuil1!X1="1er trimestre",Feuil1!F26,IF(Feuil1!X1="2eme trimestre",Feuil1!A59,IF(Feuil1!X1="3eme trimestre",Feuil1!P59,IF(Feuil1!X1="4eme trimestre",Feuil1!K92)))) -> 42607 | DL6: =IF(Feuil1!X1="1er trimestre",Feuil1!F27,IF(Feuil1!X1="2eme trimestre",Feuil1!A60,IF(Feuil1!X1="3eme trimestre",Feuil1!P60,IF(Feuil1!X1="4eme trimestre",Feuil1!K93)))) -> 42608 | DM6: =IF(Feuil1!X1="1er trimestre",Feuil1!F28,IF(Feuil1!X1="2eme trimestre",Feuil1!A61,IF(Feuil1!X1="3eme trimestre",Feuil1!P61,IF(Feuil1!X1="4eme trimestre",Feuil1!K94)))) -> 42609 | DN6: =IF(Feuil1!X1="1er trimestre",Feuil1!F29,IF(Feuil1!X1="2eme trimestre",Feuil1!A62,IF(Feuil1!X1="3eme trimestre",Feuil1!P62,IF(Feuil1!X1="4eme trimestre",Feuil1!K95)))) -> 42610 | DO6: =IF(Feuil1!X1="1er trimestre",Feuil1!F30,IF(Feuil1!X1="2eme trimestre",Feuil1!A63,IF(Feuil1!X1="3eme trimestre",Feuil1!P63,IF(Feuil1!X1="4eme trimestre",Feuil1!K96)))) -> 42611 | DP6: =IF(Feuil1!X1="1er trimestre",Feuil1!F31,IF(Feuil1!X1="2eme trimestre",Feuil1!A64,IF(Feuil1!X1="3eme trimestre",Feuil1!P64,IF(Feuil1!X1="4eme trimestre",Feuil1!K97)))) -> 42612 | DQ6: =IF(Feuil1!X1="1er trimestre",Feuil1!F32,IF(Feuil1!X1="2eme trimestre",Feuil1!A65,IF(Feuil1!X1="3eme trimestre",Feuil1!P65,IF(Feuil1!X1="4eme trimestre",Feuil1!K98)))) -> 42613 | DR6: =IF(Feuil1!X1="1er trimestre",Feuil1!K2,IF(Feuil1!X1="2eme trimestre",Feuil1!F35,IF(Feuil1!X1="3eme trimestre",Feuil1!A68,IF(Feuil1!X1="4eme trimestre",Feuil1!P68)))) -> 42614 | DS6: =IF(Feuil1!X1="1er trimestre",Feuil1!K3,IF(Feuil1!X1="2eme trimestre",Feuil1!F36,IF(Feuil1!X1="3eme trimestre",Feuil1!A69,IF(Feuil1!X1="4eme trimestre",Feuil1!P69)))) -> 42615 | DT6: =IF(Feuil1!X1="1er trimestre",Feuil1!K4,IF(Feuil1!X1="2eme trimestre",Feuil1!F37,IF(Feuil1!X1="3eme trimestre",Feuil1!A70,IF(Feuil1!X1="4eme trimestre",Feuil1!P70)))) -> 42616 | DU6: =IF(Feuil1!X1="1er trimestre",Feuil1!K5,IF(Feuil1!X1="2eme trimestre",Feuil1!F38,IF(Feuil1!X1="3eme trimestre",Feuil1!A71,IF(Feuil1!X1="4eme trimestre",Feuil1!P71)))) -> 42617 | DV6: =IF(Feuil1!X1="1er trimestre",Feuil1!K6,IF(Feuil1!X1="2eme trimestre",Feuil1!F39,IF(Feuil1!X1="3eme trimestre",Feuil1!A72,IF(Feuil1!X1="4eme trimestre",Feuil1!P72)))) -> 42618 | DW6: =IF(Feuil1!X1="1er trimestre",Feuil1!K7,IF(Feuil1!X1="2eme trimestre",Feuil1!F40,IF(Feuil1!X1="3eme trimestre",Feuil1!A73,IF(Feuil1!X1="4eme trimestre",Feuil1!P73)))) -> 42619 | DX6: =IF(Feuil1!X1="1er trimestre",Feuil1!K8,IF(Feuil1!X1="2eme trimestre",Feuil1!F41,IF(Feuil1!X1="3eme trimestre",Feuil1!A74,IF(Feuil1!X1="4eme trimestre",Feuil1!P74)))) -> 42620 | DY6: =IF(Feuil1!X1="1er trimestre",Feuil1!K9,IF(Feuil1!X1="2eme trimestre",Feuil1!F42,IF(Feuil1!X1="3eme trimestre",Feuil1!A75,IF(Feuil1!X1="4eme trimestre",Feuil1!P75)))) -> 42621 | DZ6: =IF(Feuil1!X1="1er trimestre",Feuil1!K10,IF(Feuil1!X1="2eme trimestre",Feuil1!F43,IF(Feuil1!X1="3eme trimestre",Feuil1!A76,IF(Feuil1!X1="4eme trimestre",Feuil1!P76)))) -> 42622 | EA6: =IF(Feuil1!X1="1er trimestre",Feuil1!K11,IF(Feuil1!X1="2eme trimestre",Feuil1!F44,IF(Feuil1!X1="3eme trimestre",Feuil1!A77,IF(Feuil1!X1="4eme trimestre",Feuil1!P77)))) -> 42623 | EB6: =IF(Feuil1!X1="1er trimestre",Feuil1!K12,IF(Feuil1!X1="2eme trimestre",Feuil1!F45,IF(Feuil1!X1="3eme trimestre",Feuil1!A78,IF(Feuil1!X1="4eme trimestre",Feuil1!P78)))) -> 42624 | EC6: =IF(Feuil1!X1="1er trimestre",Feuil1!K13,IF(Feuil1!X1="2eme trimestre",Feuil1!F46,IF(Feuil1!X1="3eme trimestre",Feuil1!A79,IF(Feuil1!X1="4eme trimestre",Feuil1!P79)))) -> 42625 | ED6: =IF(Feuil1!X1="1er trimestre",Feuil1!K14,IF(Feuil1!X1="2eme trimestre",Feuil1!F47,IF(Feuil1!X1="3eme trimestre",Feuil1!A80,IF(Feuil1!X1="4eme trimestre",Feuil1!P80)))) -> 42626 | EE6: =IF(Feuil1!X1="1er trimestre",Feuil1!K15,IF(Feuil1!X1="2eme trimestre",Feuil1!F48,IF(Feuil1!X1="3eme trimestre",Feuil1!A81,IF(Feuil1!X1="4eme trimestre",Feuil1!P81)))) -> 42627 | EF6: =IF(Feuil1!X1="1er trimestre",Feuil1!K16,IF(Feuil1!X1="2eme trimestre",Feuil1!F49,IF(Feuil1!X1="3eme trimestre",Feuil1!A82,IF(Feuil1!X1="4eme trimestre",Feuil1!P82)))) -> 42628 | EG6: =IF(Feuil1!X1="1er trimestre",Feuil1!K17,IF(Feuil1!X1="2eme trimestre",Feuil1!F50,IF(Feuil1!X1="3eme trimestre",Feuil1!A83,IF(Feuil1!X1="4eme trimestre",Feuil1!P83)))) -> 42629 | EH6: =IF(Feuil1!X1="1er trimestre",Feuil1!K18,IF(Feuil1!X1="2eme trimestre",Feuil1!F51,IF(Feuil1!X1="3eme trimestre",Feuil1!A84,IF(Feuil1!X1="4eme trimestre",Feuil1!P84)))) -> 42630 | EI6: =IF(Feuil1!X1="1er trimestre",Feuil1!K19,IF(Feuil1!X1="2eme trimestre",Feuil1!F52,IF(Feuil1!X1="3eme trimestre",Feuil1!A85,IF(Feuil1!X1="4eme trimestre",Feuil1!P85)))) -> 42631 | EJ6: =IF(Feuil1!X1="1er trimestre",Feuil1!K20,IF(Feuil1!X1="2eme trimestre",Feuil1!F53,IF(Feuil1!X1="3eme trimestre",Feuil1!A86,IF(Feuil1!X1="4eme trimestre",Feuil1!P86)))) -> 42632 | EK6: =IF(Feuil1!X1="1er trimestre",Feuil1!K21,IF(Feuil1!X1="2eme trimestre",Feuil1!F54,IF(Feuil1!X1="3eme trimestre",Feuil1!A87,IF(Feuil1!X1="4eme trimestre",Feuil1!P87)))) -> 42633 | EL6: =IF(Feuil1!X1="1er trimestre",Feuil1!K22,IF(Feuil1!X1="2eme trimestre",Feuil1!F55,IF(Feuil1!X1="3eme trimestre",Feuil1!A88,IF(Feuil1!X1="4eme trimestre",Feuil1!P88)))) -> 42634 | EM6: =IF(Feuil1!X1="1er trimestre",Feuil1!K23,IF(Feuil1!X1="2eme trimestre",Feuil1!F56,IF(Feuil1!X1="3eme trimestre",Feuil1!A89,IF(Feuil1!X1="4eme trimestre",Feuil1!P89)))) -> 42635 | EN6: =IF(Feuil1!X1="1er trimestre",Feuil1!K24,IF(Feuil1!X1="2eme trimestre",Feuil1!F57,IF(Feuil1!X1="3eme trimestre",Feuil1!A90,IF(Feuil1!X1="4eme trimestre",Feuil1!P90)))) -> 42636 | EO6: =IF(Feuil1!X1="1er trimestre",Feuil1!K25,IF(Feuil1!X1="2eme trimestre",Feuil1!F58,IF(Feuil1!X1="3eme trimestre",Feuil1!A91,IF(Feuil1!X1="4eme trimestre",Feuil1!P91)))) -> 42637 | EP6: =IF(Feuil1!X1="1er trimestre",Feuil1!K26,IF(Feuil1!X1="2eme trimestre",Feuil1!F59,IF(Feuil1!X1="3eme trimestre",Feuil1!A92,IF(Feuil1!X1="4eme trimestre",Feuil1!P92)))) -> 42638 | EQ6: =IF(Feuil1!X1="1er trimestre",Feuil1!K27,IF(Feuil1!X1="2eme trimestre",Feuil1!F60,IF(Feuil1!X1="3eme trimestre",Feuil1!A93,IF(Feuil1!X1="4eme trimestre",Feuil1!P93)))) -> 42639 | ER6: =IF(Feuil1!X1="1er trimestre",Feuil1!K28,IF(Feuil1!X1="2eme trimestre",Feuil1!F61,IF(Feuil1!X1="3eme trimestre",Feuil1!A94,IF(Feuil1!X1="4eme trimestre",Feuil1!P94)))) -> 42640 | ES6: =IF(Feuil1!X1="1er trimestre",Feuil1!K29,IF(Feuil1!X1="2eme trimestre",Feuil1!F62,IF(Feuil1!X1="3eme trimestre",Feuil1!A95,IF(Feuil1!X1="4eme trimestre",Feuil1!P95)))) -> 42641 | ET6: =IF(Feuil1!X1="1er trimestre",Feuil1!K30,IF(Feuil1!X1="2eme trimestre",Feuil1!F63,IF(Feuil1!X1="3eme trimestre",Feuil1!A96,IF(Feuil1!X1="4eme trimestre",Feuil1!P96)))) -> 42642 | EU6: =IF(Feuil1!X1="1er trimestre",Feuil1!K31,IF(Feuil1!X1="2eme trimestre",Feuil1!F64,IF(Feuil1!X1="3eme trimestre",Feuil1!A97,IF(Feuil1!X1="4eme trimestre",Feuil1!P97)))) -> 42643 | EV6: =IF(Feuil1!X1="1er trimestre",Feuil1!K32,IF(Feuil1!X1="2eme trimestre",Feuil1!F65,IF(Feuil1!X1="3eme trimestre",Feuil1!A98,IF(Feuil1!X1="4eme trimestre",Feuil1!P98)))) -> 0
