Workbook

Sheet Feuil2
A1: Nom | B1: SE code | C1: ARE | D1: Numero
A2: robert | B2: SE1552 | C2: ARE55896 | D2: 2180820000
A3: didier | B3: SE1553 | C3: ARE55897 | D3: 1514720100
A4: robert | B4: SE1554 | C4: ARE55898 | D4: 2364720201
A5: robert | B5: SE1555 | C5: ARE55899 | D5: 2361920000
A6: roger | B6: SE1556 | C6: ARE55900 | D6: 1664720025
A7: roger | B7: SE1557 | C7: ARE55901 | D7: 2140520001
A8: didier | B8: SE1558 | C8: ARE55902 | D8: 1354720301
A9: robert | B9: SE1559 | C9: ARE55903 | D9: 1578920000

Sheet Feuil5
A1: Nom | B1: robert
A3: Étiquettes de lignes
A4: SE1552
A5: SE1554
A6: SE1555
A7: SE1559
A8: Total général

Sheet robert
A1: =VLOOKUP("robert",Feuil2!A2:D9,2,FALSE) -> SE1552 | B1: =VLOOKUP("robert",Feuil2!A2:D9,3,FALSE) -> ARE55896 | C1: =VLOOKUP("robert",Feuil2!A2:D9,4,FALSE) -> 2180820000 | D1: lavé | E1: livré
A2: =VLOOKUP("robert",Feuil2!A3:D10,2,FALSE) -> SE1554 | B2: =VLOOKUP("robert",Feuil2!A3:D10,3,FALSE) -> ARE55898 | C2: =VLOOKUP("robert",Feuil2!A3:D10,4,FALSE) -> 2364720201 | D2: lavé | E2: stand by
A3: =VLOOKUP("robert",Feuil2!A4:D11,2,FALSE) -> SE1554 | B3: =VLOOKUP("robert",Feuil2!A4:D11,3,FALSE) -> ARE55898 | C3: =VLOOKUP("robert",Feuil2!A4:D11,4,FALSE) -> 2364720201
A4: =VLOOKUP("robert",Feuil2!A5:D12,2,FALSE) -> SE1555 | B4: =VLOOKUP("robert",Feuil2!A5:D12,3,FALSE) -> ARE55899 | C4: =VLOOKUP("robert",Feuil2!A5:D12,4,FALSE) -> 2361920000 | D4: lustré
A5: =VLOOKUP("robert",Feuil2!A6:D13,2,FALSE) -> SE1559 | B5: =VLOOKUP("robert",Feuil2!A6:D13,3,FALSE) -> ARE55903 | C5: =VLOOKUP("robert",Feuil2!A6:D13,4,FALSE) -> 1578920000 | D5: lavé | E5: retouche
A6: =VLOOKUP("robert",Feuil2!A7:D14,2,FALSE) -> SE1559 | B6: =VLOOKUP("robert",Feuil2!A7:D14,3,FALSE) -> ARE55903 | C6: =VLOOKUP("robert",Feuil2!A7:D14,4,FALSE) -> 1578920000
A7: =VLOOKUP("robert",Feuil2!A8:D15,2,FALSE) -> SE1559 | B7: =VLOOKUP("robert",Feuil2!A8:D15,3,FALSE) -> ARE55903 | C7: =VLOOKUP("robert",Feuil2!A8:D15,4,FALSE) -> 1578920000
A8: =VLOOKUP("robert",Feuil2!A9:D16,2,FALSE) -> SE1559 | B8: =VLOOKUP("robert",Feuil2!A9:D16,3,FALSE) -> ARE55903 | C8: =VLOOKUP("robert",Feuil2!A9:D16,4,FALSE) -> 1578920000
A11: =IF(Feuil2!A2="robert",VLOOKUP("robert",Feuil2!A2:D9,2,FALSE),"") -> SE1552 | B11: =IF(Feuil2!A2="robert",VLOOKUP("robert",Feuil2!A2:E9,3,FALSE),"") -> ARE55896 | C11: =IF(Feuil2!A2="robert",VLOOKUP("robert",Feuil2!A2:F9,4,FALSE),"") -> 2180820000
A12: =IF(Feuil2!A3="robert",VLOOKUP("robert",Feuil2!A3:D10,2,FALSE),"") | B12: =IF(Feuil2!A3="robert",VLOOKUP("robert",Feuil2!A3:E10,3,FALSE),"") | C12: =IF(Feuil2!A3="robert",VLOOKUP("robert",Feuil2!A3:F10,4,FALSE),"")
A13: =IF(Feuil2!A4="robert",VLOOKUP("robert",Feuil2!A4:D11,2,FALSE),"") -> SE1554 | B13: =IF(Feuil2!A4="robert",VLOOKUP("robert",Feuil2!A4:E11,3,FALSE),"") -> ARE55898 | C13: =IF(Feuil2!A4="robert",VLOOKUP("robert",Feuil2!A4:F11,4,FALSE),"") -> 2364720201
A14: =IF(Feuil2!A5="robert",VLOOKUP("robert",Feuil2!A5:D12,2,FALSE),"") -> SE1555 | B14: =IF(Feuil2!A5="robert",VLOOKUP("robert",Feuil2!A5:E12,3,FALSE),"") -> ARE55899 | C14: =IF(Feuil2!A5="robert",VLOOKUP("robert",Feuil2!A5:F12,4,FALSE),"") -> 2361920000
A15: =IF(Feuil2!A6="robert",VLOOKUP("robert",Feuil2!A6:D13,2,FALSE),"") | B15: =IF(Feuil2!A6="robert",VLOOKUP("robert",Feuil2!A6:E13,3,FALSE),"") | C15: =IF(Feuil2!A6="robert",VLOOKUP("robert",Feuil2!A6:F13,4,FALSE),"")
A16: =IF(Feuil2!A7="robert",VLOOKUP("robert",Feuil2!A7:D14,2,FALSE),"") | B16: =IF(Feuil2!A7="robert",VLOOKUP("robert",Feuil2!A7:E14,3,FALSE),"") | C16: =IF(Feuil2!A7="robert",VLOOKUP("robert",Feuil2!A7:F14,4,FALSE),"")
A17: =IF(Feuil2!A8="robert",VLOOKUP("robert",Feuil2!A8:D15,2,FALSE),"") | B17: =IF(Feuil2!A8="robert",VLOOKUP("robert",Feuil2!A8:E15,3,FALSE),"") | C17: =IF(Feuil2!A8="robert",VLOOKUP("robert",Feuil2!A8:F15,4,FALSE),"")
A18: =IF(Feuil2!A9="robert",VLOOKUP("robert",Feuil2!A9:D16,2,FALSE),"") -> SE1559 | B18: =IF(Feuil2!A9="robert",VLOOKUP("robert",Feuil2!A9:E16,3,FALSE),"") -> ARE55903 | C18: =IF(Feuil2!A9="robert",VLOOKUP("robert",Feuil2!A9:F16,4,FALSE),"") -> 1578920000

Sheet didier
A1: =VLOOKUP("didier",Feuil2!A2:D9,2,FALSE) -> SE1553 | B1: =VLOOKUP("didier",Feuil2!A2:D9,3,FALSE) -> ARE55897 | C1: =VLOOKUP("didier",Feuil2!A2:D9,4,FALSE) -> 1514720100 | D1: lavé | E1: livré
A2: =VLOOKUP("didier",Feuil2!A3:D10,2,FALSE) -> SE1553 | B2: =VLOOKUP("didier",Feuil2!A3:D10,3,FALSE) -> ARE55897 | C2: =VLOOKUP("didier",Feuil2!A3:D10,4,FALSE) -> 1514720100 | D2: lavé | E2: stand by
A3: =VLOOKUP("didier",Feuil2!A4:D11,2,FALSE) -> SE1558 | B3: =VLOOKUP("didier",Feuil2!A4:D11,3,FALSE) -> ARE55902 | C3: =VLOOKUP("didier",Feuil2!A4:D11,4,FALSE) -> 1354720301 | D3: brossé
A4: =VLOOKUP("didier",Feuil2!A5:D12,2,FALSE) -> SE1558 | B4: =VLOOKUP("didier",Feuil2!A5:D12,3,FALSE) -> ARE55902 | C4: =VLOOKUP("didier",Feuil2!A5:D12,4,FALSE) -> 1354720301
A5: =VLOOKUP("didier",Feuil2!A6:D13,2,FALSE) -> SE1558 | B5: =VLOOKUP("didier",Feuil2!A6:D13,3,FALSE) -> ARE55902 | C5: =VLOOKUP("didier",Feuil2!A6:D13,4,FALSE) -> 1354720301
A6: =VLOOKUP("didier",Feuil2!A7:D14,2,FALSE) -> SE1558 | B6: =VLOOKUP("didier",Feuil2!A7:D14,3,FALSE) -> ARE55902 | C6: =VLOOKUP("didier",Feuil2!A7:D14,4,FALSE) -> 1354720301
A7: =VLOOKUP("didier",Feuil2!A8:D15,2,FALSE) -> SE1558 | B7: =VLOOKUP("didier",Feuil2!A8:D15,3,FALSE) -> ARE55902 | C7: =VLOOKUP("didier",Feuil2!A8:D15,4,FALSE) -> 1354720301
A8: =VLOOKUP("didier",Feuil2!A9:D16,2,FALSE) -> #N/A | B8: =VLOOKUP("didier",Feuil2!A9:D16,3,FALSE) -> #N/A | C8: =VLOOKUP("didier",Feuil2!A9:D16,4,FALSE) -> #N/A
A13: =IF(Feuil2!A2="didier",VLOOKUP("didier",Feuil2!A2:D9,2,FALSE),"") | B13: =IF(Feuil2!A2="didier",VLOOKUP("didier",Feuil2!A2:D9,2,FALSE),"") | C13: =IF(Feuil2!A2="didier",VLOOKUP("didier",Feuil2!A2:D9,2,FALSE),"")
A14: =IF(Feuil2!A3="didier",VLOOKUP("didier",Feuil2!A3:D10,2,FALSE),"") -> SE1553 | B14: =IF(Feuil2!A3="didier",VLOOKUP("didier",Feuil2!A3:D10,2,FALSE),"") -> SE1553 | C14: =IF(Feuil2!A3="didier",VLOOKUP("didier",Feuil2!A3:D10,2,FALSE),"") -> SE1553
A15: =IF(Feuil2!A4="didier",VLOOKUP("didier",Feuil2!A4:D11,2,FALSE),"") | B15: =IF(Feuil2!A4="didier",VLOOKUP("didier",Feuil2!A4:D11,2,FALSE),"") | C15: =IF(Feuil2!A4="didier",VLOOKUP("didier",Feuil2!A4:D11,2,FALSE),"")
A16: =IF(Feuil2!A5="didier",VLOOKUP("didier",Feuil2!A5:D12,2,FALSE),"") | B16: =IF(Feuil2!A5="didier",VLOOKUP("didier",Feuil2!A5:D12,2,FALSE),"") | C16: =IF(Feuil2!A5="didier",VLOOKUP("didier",Feuil2!A5:D12,2,FALSE),"")
A17: =IF(Feuil2!A6="didier",VLOOKUP("didier",Feuil2!A6:D13,2,FALSE),"") | B17: =IF(Feuil2!A6="didier",VLOOKUP("didier",Feuil2!A6:D13,2,FALSE),"") | C17: =IF(Feuil2!A6="didier",VLOOKUP("didier",Feuil2!A6:D13,2,FALSE),"")
A18: =IF(Feuil2!A7="didier",VLOOKUP("didier",Feuil2!A7:D14,2,FALSE),"") | B18: =IF(Feuil2!A7="didier",VLOOKUP("didier",Feuil2!A7:D14,2,FALSE),"") | C18: =IF(Feuil2!A7="didier",VLOOKUP("didier",Feuil2!A7:D14,2,FALSE),"")
A19: =IF(Feuil2!A8="didier",VLOOKUP("didier",Feuil2!A8:D15,2,FALSE),"") -> SE1558 | B19: =IF(Feuil2!A8="didier",VLOOKUP("didier",Feuil2!A8:D15,2,FALSE),"") -> SE1558 | C19: =IF(Feuil2!A8="didier",VLOOKUP("didier",Feuil2!A8:D15,2,FALSE),"") -> SE1558
A20: =IF(Feuil2!A9="didier",VLOOKUP("didier",Feuil2!A9:D16,2,FALSE),"") | B20: =IF(Feuil2!A9="didier",VLOOKUP("didier",Feuil2!A9:D16,2,FALSE),"") | C20: =IF(Feuil2!A9="didier",VLOOKUP("didier",Feuil2!A9:D16,2,FALSE),"")
A21: =IF(Feuil2!A10="didier",VLOOKUP("didier",Feuil2!A10:D17,2,FALSE),"")

Sheet roger
A1: =VLOOKUP("roger",Feuil2!A2:D9,2,FALSE) -> SE1556 | B1: =VLOOKUP("roger",Feuil2!A2:D9,3,FALSE) -> ARE55900 | C1: =VLOOKUP("roger",Feuil2!A2:D9,4,FALSE) -> 1664720025 | D1: lavé | E1: livré
A2: =VLOOKUP("roger",Feuil2!A3:D10,2,FALSE) -> SE1556 | B2: =VLOOKUP("roger",Feuil2!A3:D10,3,FALSE) -> ARE55900 | C2: =VLOOKUP("roger",Feuil2!A3:D10,4,FALSE) -> 1664720025
A3: =VLOOKUP("roger",Feuil2!A4:D11,2,FALSE) -> SE1556 | B3: =VLOOKUP("roger",Feuil2!A4:D11,3,FALSE) -> ARE55900 | C3: =VLOOKUP("roger",Feuil2!A4:D11,4,FALSE) -> 1664720025
A4: =VLOOKUP("roger",Feuil2!A5:D12,2,FALSE) -> SE1556 | B4: =VLOOKUP("roger",Feuil2!A5:D12,3,FALSE) -> ARE55900 | C4: =VLOOKUP("roger",Feuil2!A5:D12,4,FALSE) -> 1664720025
A5: =VLOOKUP("roger",Feuil2!A6:D13,2,FALSE) -> SE1556 | B5: =VLOOKUP("roger",Feuil2!A6:D13,3,FALSE) -> ARE55900 | C5: =VLOOKUP("roger",Feuil2!A6:D13,4,FALSE) -> 1664720025
A6: =VLOOKUP("roger",Feuil2!A7:D14,2,FALSE) -> SE1557 | B6: =VLOOKUP("roger",Feuil2!A7:D14,3,FALSE) -> ARE55901 | C6: =VLOOKUP("roger",Feuil2!A7:D14,4,FALSE) -> 2140520001 | D6: lustré | E6: stand by
A7: =VLOOKUP("roger",Feuil2!A8:D15,2,FALSE) -> #N/A | B7: =VLOOKUP("roger",Feuil2!A8:D15,3,FALSE) -> #N/A | C7: =VLOOKUP("roger",Feuil2!A8:D15,4,FALSE) -> #N/A
A8: =VLOOKUP("roger",Feuil2!A9:D16,2,FALSE) -> #N/A | B8: =VLOOKUP("roger",Feuil2!A9:D16,3,FALSE) -> #N/A | C8: =VLOOKUP("roger",Feuil2!A9:D16,4,FALSE) -> #N/A
