Workbook

Sheet CompilSO TOTALE
J1: PERIMETRE TOTAL | P1: PERIMETRE COMPARABLE M et M-1
A2: Nb de mag total | B2: autorisation 1/0 en N | C2: autorisation 1/0 en N-1 | D2: Nb de mag comparable N N-1 | E2: Année | F2: Mois | G2: ENSEIGNE | H2: COMMERCIAL | I2: Nom Point de vente | J2: CA M | K2: CA M-1 | L2: Evolution M vs M-1 | M2: CA Cumul N | N2: CA Cumul N-1 | O2: Evolution N-1 | P2: CA M | Q2: CA M-1 | R2: Evolution M vs M-1 | S2: CA Cumul N | T2: CA Cumul N-1 | U2: evolution Nvs N-1 | V2: RANKING ENSEIGNE N | W2: RANKING ENSEIGNE N-1 | X2: RANKING AC N | Y2: RANKING AC N-1
A3: 1 | B3: 1 | C3: 1 | D3: =IF(AND($B3=1,$C3=1),1,0) -> 1 | E3: 2013 | F3: Janvier | G3: ENSEIGNE 1 | H3: BG | I3: MAG 1 | J3: 50 | K3: 40 | L3: =J3/K3-1 -> 0.25 | M3: 50 | N3: 40 | O3: =(M3-N3)/N3 -> 0.25 | P3: =IF(AND($B3=1,$C3=1),J3,0) -> 50 | Q3: =IF(AND($B3=1,$C3=1),K3,0) -> 40 | R3: =P3/Q3-1 -> 0.25 | S3: =IF(AND($B3=1,$C3=1),M3,0) -> 50 | T3: =IF(AND($B3=1,$C3=1),N3,0) -> 40 | U3: =S3/T3-1 -> 0.25
A4: 1 | B4: 1 | C4: 0 | D4: =IF(AND($B4=1,$C4=1),1,0) -> 0 | E4: 2013 | F4: Janvier | G4: ENSEIGNE 2 | H4: BG | I4: MAG 2 | J4: 51 | K4: 40 | L4: =J4/K4-1 -> 0.275 | M4: 51 | N4: 40 | O4: =(M4-N4)/N4 -> 0.275 | P4: =IF(AND($B4=1,$C4=1),J4,0) -> 0 | Q4: =IF(AND($B4=1,$C4=1),K4,0) -> 0 | R4: =P4/Q4-1 -> #DIV/0! | S4: =IF(AND($B4=1,$C4=1),M4,0) -> 0 | T4: =IF(AND($B4=1,$C4=1),N4,0) -> 0 | U4: =S4/T4-1 -> #DIV/0!
A5: 1 | B5: 1 | C5: 1 | D5: =IF(AND($B5=1,$C5=1),1,0) -> 1 | E5: 2013 | F5: Janvier | G5: ENSEIGNE 3 | H5: SA | I5: MAG 1 | J5: 52 | K5: 40 | L5: =J5/K5-1 -> 0.3 | M5: 52 | N5: 40 | O5: =(M5-N5)/N5 -> 0.3 | P5: =IF(AND($B5=1,$C5=1),J5,0) -> 52 | Q5: =IF(AND($B5=1,$C5=1),K5,0) -> 40 | R5: =P5/Q5-1 -> 0.3 | S5: =IF(AND($B5=1,$C5=1),M5,0) -> 52 | T5: =IF(AND($B5=1,$C5=1),N5,0) -> 40 | U5: =S5/T5-1 -> 0.3
A6: 1 | B6: 1 | C6: 1 | D6: =IF(AND($B6=1,$C6=1),1,0) -> 1 | E6: 2013 | F6: Janvier | G6: ENSEIGNE 4 | H6: BG | I6: MAG 2 | J6: 53 | K6: 40 | L6: =J6/K6-1 -> 0.325 | M6: 53 | N6: 40 | O6: =(M6-N6)/N6 -> 0.325 | P6: =IF(AND($B6=1,$C6=1),J6,0) -> 53 | Q6: =IF(AND($B6=1,$C6=1),K6,0) -> 40 | R6: =P6/Q6-1 -> 0.325 | S6: =IF(AND($B6=1,$C6=1),M6,0) -> 53 | T6: =IF(AND($B6=1,$C6=1),N6,0) -> 40 | U6: =S6/T6-1 -> 0.325
A7: 1 | B7: 1 | C7: 1 | D7: =IF(AND($B7=1,$C7=1),1,0) -> 1 | E7: 2013 | F7: Janvier | G7: ENSEIGNE 5 | H7: BG | I7: MAG 1 | J7: 54 | K7: 40 | L7: =J7/K7-1 -> 0.35 | M7: 54 | N7: 40 | O7: =(M7-N7)/N7 -> 0.35 | P7: =IF(AND($B7=1,$C7=1),J7,0) -> 54 | Q7: =IF(AND($B7=1,$C7=1),K7,0) -> 40 | R7: =P7/Q7-1 -> 0.35 | S7: =IF(AND($B7=1,$C7=1),M7,0) -> 54 | T7: =IF(AND($B7=1,$C7=1),N7,0) -> 40 | U7: =S7/T7-1 -> 0.35
A8: 1 | B8: 1 | C8: 1 | D8: =IF(AND($B8=1,$C8=1),1,0) -> 1 | E8: 2013 | F8: Janvier | G8: ENSEIGNE 6 | H8: SA | I8: MAG 6 | J8: 55 | K8: 40 | L8: =J8/K8-1 -> 0.375 | M8: 55 | N8: 40 | O8: =(M8-N8)/N8 -> 0.375 | P8: =IF(AND($B8=1,$C8=1),J8,0) -> 55 | Q8: =IF(AND($B8=1,$C8=1),K8,0) -> 40 | R8: =P8/Q8-1 -> 0.375 | S8: =IF(AND($B8=1,$C8=1),M8,0) -> 55 | T8: =IF(AND($B8=1,$C8=1),N8,0) -> 40 | U8: =S8/T8-1 -> 0.375
A9: 1 | B9: 1 | C9: 1 | D9: =IF(AND($B9=1,$C9=1),1,0) -> 1 | E9: 2013 | F9: Janvier | G9: ENSEIGNE 1 | H9: BG | I9: MAG 7 | J9: 56 | K9: 40 | L9: =J9/K9-1 -> 0.4 | M9: 56 | N9: 40 | O9: =(M9-N9)/N9 -> 0.4 | P9: =IF(AND($B9=1,$C9=1),J9,0) -> 56 | Q9: =IF(AND($B9=1,$C9=1),K9,0) -> 40 | R9: =P9/Q9-1 -> 0.4 | S9: =IF(AND($B9=1,$C9=1),M9,0) -> 56 | T9: =IF(AND($B9=1,$C9=1),N9,0) -> 40 | U9: =S9/T9-1 -> 0.4
A10: 1 | B10: 1 | C10: 1 | D10: =IF(AND($B10=1,$C10=1),1,0) -> 1 | E10: 2013 | F10: Janvier | G10: ENSEIGNE 2 | H10: BG | I10: MAG 8 | J10: 57 | K10: 40 | L10: =J10/K10-1 -> 0.425 | M10: 57 | N10: 40 | O10: =(M10-N10)/N10 -> 0.425 | P10: =IF(AND($B10=1,$C10=1),J10,0) -> 57 | Q10: =IF(AND($B10=1,$C10=1),K10,0) -> 40 | R10: =P10/Q10-1 -> 0.425 | S10: =IF(AND($B10=1,$C10=1),M10,0) -> 57 | T10: =IF(AND($B10=1,$C10=1),N10,0) -> 40 | U10: =S10/T10-1 -> 0.425
A11: 1 | B11: 1 | C11: 1 | D11: =IF(AND($B11=1,$C11=1),1,0) -> 1 | E11: 2013 | F11: Janvier | G11: ENSEIGNE 9 | H11: SA | I11: MAG 9 | L11: =J11/K11-1 -> #DIV/0! | O11: =(M11-N11)/N11 -> #DIV/0! | P11: =IF(AND($B11=1,$C11=1),J11,0) -> 0 | Q11: =IF(AND($B11=1,$C11=1),K11,0) -> 0 | R11: =P11/Q11-1 -> #DIV/0! | S11: =IF(AND($B11=1,$C11=1),M11,0) -> 0 | T11: =IF(AND($B11=1,$C11=1),N11,0) -> 0 | U11: =S11/T11-1 -> #DIV/0!
A12: 1 | B12: 1 | C12: 1 | D12: =IF(AND($B12=1,$C12=1),1,0) -> 1 | E12: 2013 | F12: Janvier | G12: ENSEIGNE 10 | H12: SA | I12: MAG 10 | L12: =J12/K12-1 -> #DIV/0! | O12: =(M12-N12)/N12 -> #DIV/0! | P12: =IF(AND($B12=1,$C12=1),J12,0) -> 0 | Q12: =IF(AND($B12=1,$C12=1),K12,0) -> 0 | R12: =P12/Q12-1 -> #DIV/0! | S12: =IF(AND($B12=1,$C12=1),M12,0) -> 0 | T12: =IF(AND($B12=1,$C12=1),N12,0) -> 0 | U12: =S12/T12-1 -> #DIV/0!
A13: 1 | B13: 1 | C13: 1 | D13: =IF(AND($B13=1,$C13=1),1,0) -> 1 | E13: 2013 | F13: Janvier | G13: ENSEIGNE 11 | H13: SA | I13: MAG 11 | L13: =J13/K13-1 -> #DIV/0! | O13: =(M13-N13)/N13 -> #DIV/0! | P13: =IF(AND($B13=1,$C13=1),J13,0) -> 0 | Q13: =IF(AND($B13=1,$C13=1),K13,0) -> 0 | R13: =P13/Q13-1 -> #DIV/0! | S13: =IF(AND($B13=1,$C13=1),M13,0) -> 0 | T13: =IF(AND($B13=1,$C13=1),N13,0) -> 0 | U13: =S13/T13-1 -> #DIV/0!
A14: 1 | B14: 1 | C14: 1 | D14: =IF(AND($B14=1,$C14=1),1,0) -> 1 | E14: 2013 | F14: Janvier | G14: ENSEIGNE 1 | H14: SA | I14: MAG 12 | L14: =J14/K14-1 -> #DIV/0! | O14: =(M14-N14)/N14 -> #DIV/0! | P14: =IF(AND($B14=1,$C14=1),J14,0) -> 0 | Q14: =IF(AND($B14=1,$C14=1),K14,0) -> 0 | R14: =P14/Q14-1 -> #DIV/0! | S14: =IF(AND($B14=1,$C14=1),M14,0) -> 0 | T14: =IF(AND($B14=1,$C14=1),N14,0) -> 0 | U14: =S14/T14-1 -> #DIV/0!
A15: 1 | B15: 1 | C15: 1 | D15: =IF(AND($B15=1,$C15=1),1,0) -> 1 | E15: 2013 | F15: Janvier | G15: ENSEIGNE 2 | H15: SA | I15: MAG 13 | L15: =J15/K15-1 -> #DIV/0! | O15: =(M15-N15)/N15 -> #DIV/0! | P15: =IF(AND($B15=1,$C15=1),J15,0) -> 0 | Q15: =IF(AND($B15=1,$C15=1),K15,0) -> 0 | R15: =P15/Q15-1 -> #DIV/0! | S15: =IF(AND($B15=1,$C15=1),M15,0) -> 0 | T15: =IF(AND($B15=1,$C15=1),N15,0) -> 0 | U15: =S15/T15-1 -> #DIV/0!
A16: 1 | B16: 1 | C16: 1 | D16: =IF(AND($B16=1,$C16=1),1,0) -> 1 | E16: 2013 | F16: Janvier | G16: ENSEIGNE 14 | H16: SA | I16: MAG 14 | L16: =J16/K16-1 -> #DIV/0! | O16: =(M16-N16)/N16 -> #DIV/0! | P16: =IF(AND($B16=1,$C16=1),J16,0) -> 0 | Q16: =IF(AND($B16=1,$C16=1),K16,0) -> 0 | R16: =P16/Q16-1 -> #DIV/0! | S16: =IF(AND($B16=1,$C16=1),M16,0) -> 0 | T16: =IF(AND($B16=1,$C16=1),N16,0) -> 0 | U16: =S16/T16-1 -> #DIV/0!
A17: 1 | B17: 1 | C17: 1 | D17: =IF(AND($B17=1,$C17=1),1,0) -> 1 | E17: 2013 | F17: Janvier | G17: ENSEIGNE 15 | H17: SA | I17: MAG 15 | L17: =J17/K17-1 -> #DIV/0! | O17: =(M17-N17)/N17 -> #DIV/0! | P17: =IF(AND($B17=1,$C17=1),J17,0) -> 0 | Q17: =IF(AND($B17=1,$C17=1),K17,0) -> 0 | R17: =P17/Q17-1 -> #DIV/0! | S17: =IF(AND($B17=1,$C17=1),M17,0) -> 0 | T17: =IF(AND($B17=1,$C17=1),N17,0) -> 0 | U17: =S17/T17-1 -> #DIV/0!
A18: 1 | B18: 1 | C18: 1 | D18: =IF(AND($B18=1,$C18=1),1,0) -> 1 | E18: 2013 | F18: Janvier | G18: ENSEIGNE 16 | H18: BG | I18: MAG 16 | L18: =J18/K18-1 -> #DIV/0! | O18: =(M18-N18)/N18 -> #DIV/0! | P18: =IF(AND($B18=1,$C18=1),J18,0) -> 0 | Q18: =IF(AND($B18=1,$C18=1),K18,0) -> 0 | R18: =P18/Q18-1 -> #DIV/0! | S18: =IF(AND($B18=1,$C18=1),M18,0) -> 0 | T18: =IF(AND($B18=1,$C18=1),N18,0) -> 0 | U18: =S18/T18-1 -> #DIV/0!
A19: 1 | B19: 1 | C19: 1 | D19: =IF(AND($B19=1,$C19=1),1,0) -> 1 | E19: 2013 | F19: Février | G19: ENSEIGNE 1 | H19: BG | I19: MAG 1 | L19: =J19/K19-1 -> #DIV/0! | O19: =(M19-N19)/N19 -> #DIV/0! | P19: =IF(AND($B19=1,$C19=1),J19,0) -> 0 | Q19: =IF(AND($B19=1,$C19=1),K19,0) -> 0 | R19: =P19/Q19-1 -> #DIV/0! | S19: =IF(AND($B19=1,$C19=1),M19,0) -> 0 | T19: =IF(AND($B19=1,$C19=1),N19,0) -> 0 | U19: =S19/T19-1 -> #DIV/0!
A20: 1 | B20: 1 | C20: 1 | D20: =IF(AND($B20=1,$C20=1),1,0) -> 1 | E20: 2013 | F20: Février | G20: ENSEIGNE 2 | H20: BG | I20: MAG 2 | L20: =J20/K20-1 -> #DIV/0! | O20: =(M20-N20)/N20 -> #DIV/0! | P20: =IF(AND($B20=1,$C20=1),J20,0) -> 0 | Q20: =IF(AND($B20=1,$C20=1),K20,0) -> 0 | R20: =P20/Q20-1 -> #DIV/0! | S20: =IF(AND($B20=1,$C20=1),M20,0) -> 0 | T20: =IF(AND($B20=1,$C20=1),N20,0) -> 0 | U20: =S20/T20-1 -> #DIV/0!
A21: 1 | D21: =IF(AND($B21=1,$C21=1),1,0) -> 0 | E21: 2013 | F21: Février | G21: ENSEIGNE 3 | H21: SA | I21: MAG 1 | L21: =J21/K21-1 -> #DIV/0! | O21: =(M21-N21)/N21 -> #DIV/0! | P21: =IF(AND($B21=1,$C21=1),J21,0) -> 0 | Q21: =IF(AND($B21=1,$C21=1),K21,0) -> 0 | R21: =P21/Q21-1 -> #DIV/0! | S21: =IF(AND($B21=1,$C21=1),M21,0) -> 0 | T21: =IF(AND($B21=1,$C21=1),N21,0) -> 0 | U21: =S21/T21-1 -> #DIV/0!
A22: 1 | D22: =IF(AND($B22=1,$C22=1),1,0) -> 0 | E22: 2013 | F22: Février | G22: ENSEIGNE 4 | H22: BG | I22: MAG 2 | L22: =J22/K22-1 -> #DIV/0! | O22: =(M22-N22)/N22 -> #DIV/0! | P22: =IF(AND($B22=1,$C22=1),J22,0) -> 0 | Q22: =IF(AND($B22=1,$C22=1),K22,0) -> 0 | R22: =P22/Q22-1 -> #DIV/0! | S22: =IF(AND($B22=1,$C22=1),M22,0) -> 0 | T22: =IF(AND($B22=1,$C22=1),N22,0) -> 0 | U22: =S22/T22-1 -> #DIV/0!
A23: 1 | D23: =IF(AND($B23=1,$C23=1),1,0) -> 0 | E23: 2013 | F23: Février | G23: ENSEIGNE 5 | H23: BG | I23: MAG 1 | L23: =J23/K23-1 -> #DIV/0! | O23: =(M23-N23)/N23 -> #DIV/0! | P23: =IF(AND($B23=1,$C23=1),J23,0) -> 0 | Q23: =IF(AND($B23=1,$C23=1),K23,0) -> 0 | R23: =P23/Q23-1 -> #DIV/0! | S23: =IF(AND($B23=1,$C23=1),M23,0) -> 0 | T23: =IF(AND($B23=1,$C23=1),N23,0) -> 0 | U23: =S23/T23-1 -> #DIV/0!
A24: 1 | D24: =IF(AND($B24=1,$C24=1),1,0) -> 0 | E24: 2013 | F24: Février | G24: ENSEIGNE 6 | H24: SA | I24: MAG 6 | L24: =J24/K24-1 -> #DIV/0! | O24: =(M24-N24)/N24 -> #DIV/0! | P24: =IF(AND($B24=1,$C24=1),J24,0) -> 0 | Q24: =IF(AND($B24=1,$C24=1),K24,0) -> 0 | R24: =P24/Q24-1 -> #DIV/0! | S24: =IF(AND($B24=1,$C24=1),M24,0) -> 0 | T24: =IF(AND($B24=1,$C24=1),N24,0) -> 0 | U24: =S24/T24-1 -> #DIV/0!
A25: 1 | D25: =IF(AND($B25=1,$C25=1),1,0) -> 0 | E25: 2013 | F25: Février | G25: ENSEIGNE 1 | H25: BG | I25: MAG 7 | L25: =J25/K25-1 -> #DIV/0! | O25: =(M25-N25)/N25 -> #DIV/0! | P25: =IF(AND($B25=1,$C25=1),J25,0) -> 0 | Q25: =IF(AND($B25=1,$C25=1),K25,0) -> 0 | R25: =P25/Q25-1 -> #DIV/0! | S25: =IF(AND($B25=1,$C25=1),M25,0) -> 0 | T25: =IF(AND($B25=1,$C25=1),N25,0) -> 0 | U25: =S25/T25-1 -> #DIV/0!
A26: 1 | D26: =IF(AND($B26=1,$C26=1),1,0) -> 0 | E26: 2013 | F26: Février | G26: ENSEIGNE 2 | H26: BG | I26: MAG 8 | L26: =J26/K26-1 -> #DIV/0! | O26: =(M26-N26)/N26 -> #DIV/0! | P26: =IF(AND($B26=1,$C26=1),J26,0) -> 0 | Q26: =IF(AND($B26=1,$C26=1),K26,0) -> 0 | R26: =P26/Q26-1 -> #DIV/0! | S26: =IF(AND($B26=1,$C26=1),M26,0) -> 0 | T26: =IF(AND($B26=1,$C26=1),N26,0) -> 0 | U26: =S26/T26-1 -> #DIV/0!
A27: 1 | D27: =IF(AND($B27=1,$C27=1),1,0) -> 0 | E27: 2013 | F27: Février | G27: ENSEIGNE 9 | H27: SA | I27: MAG 9 | L27: =J27/K27-1 -> #DIV/0! | O27: =(M27-N27)/N27 -> #DIV/0! | P27: =IF(AND($B27=1,$C27=1),J27,0) -> 0 | Q27: =IF(AND($B27=1,$C27=1),K27,0) -> 0 | R27: =P27/Q27-1 -> #DIV/0! | S27: =IF(AND($B27=1,$C27=1),M27,0) -> 0 | T27: =IF(AND($B27=1,$C27=1),N27,0) -> 0 | U27: =S27/T27-1 -> #DIV/0!
A28: 1 | D28: =IF(AND($B28=1,$C28=1),1,0) -> 0 | E28: 2013 | F28: Février | G28: ENSEIGNE 10 | H28: SA | I28: MAG 10 | L28: =J28/K28-1 -> #DIV/0! | O28: =(M28-N28)/N28 -> #DIV/0! | P28: =IF(AND($B28=1,$C28=1),J28,0) -> 0 | Q28: =IF(AND($B28=1,$C28=1),K28,0) -> 0 | R28: =P28/Q28-1 -> #DIV/0! | S28: =IF(AND($B28=1,$C28=1),M28,0) -> 0 | T28: =IF(AND($B28=1,$C28=1),N28,0) -> 0 | U28: =S28/T28-1 -> #DIV/0!
A29: 1 | D29: =IF(AND($B29=1,$C29=1),1,0) -> 0 | E29: 2013 | F29: Février | G29: ENSEIGNE 11 | H29: SA | I29: MAG 11 | L29: =J29/K29-1 -> #DIV/0! | O29: =(M29-N29)/N29 -> #DIV/0! | P29: =IF(AND($B29=1,$C29=1),J29,0) -> 0 | Q29: =IF(AND($B29=1,$C29=1),K29,0) -> 0 | R29: =P29/Q29-1 -> #DIV/0! | S29: =IF(AND($B29=1,$C29=1),M29,0) -> 0 | T29: =IF(AND($B29=1,$C29=1),N29,0) -> 0 | U29: =S29/T29-1 -> #DIV/0!
A30: 1 | D30: =IF(AND($B30=1,$C30=1),1,0) -> 0 | E30: 2013 | F30: Février | G30: ENSEIGNE 1 | H30: SA | I30: MAG 12 | L30: =J30/K30-1 -> #DIV/0! | O30: =(M30-N30)/N30 -> #DIV/0! | P30: =IF(AND($B30=1,$C30=1),J30,0) -> 0 | Q30: =IF(AND($B30=1,$C30=1),K30,0) -> 0 | R30: =P30/Q30-1 -> #DIV/0! | S30: =IF(AND($B30=1,$C30=1),M30,0) -> 0 | T30: =IF(AND($B30=1,$C30=1),N30,0) -> 0 | U30: =S30/T30-1 -> #DIV/0!
A31: 1 | D31: =IF(AND($B31=1,$C31=1),1,0) -> 0 | E31: 2013 | F31: Février | G31: ENSEIGNE 2 | H31: SA | I31: MAG 13 | L31: =J31/K31-1 -> #DIV/0! | O31: =(M31-N31)/N31 -> #DIV/0! | P31: =IF(AND($B31=1,$C31=1),J31,0) -> 0 | Q31: =IF(AND($B31=1,$C31=1),K31,0) -> 0 | R31: =P31/Q31-1 -> #DIV/0! | S31: =IF(AND($B31=1,$C31=1),M31,0) -> 0 | T31: =IF(AND($B31=1,$C31=1),N31,0) -> 0 | U31: =S31/T31-1 -> #DIV/0!
A32: 1 | D32: =IF(AND($B32=1,$C32=1),1,0) -> 0 | E32: 2013 | F32: Février | G32: ENSEIGNE 14 | H32: SA | I32: MAG 14 | L32: =J32/K32-1 -> #DIV/0! | O32: =(M32-N32)/N32 -> #DIV/0! | P32: =IF(AND($B32=1,$C32=1),J32,0) -> 0 | Q32: =IF(AND($B32=1,$C32=1),K32,0) -> 0 | R32: =P32/Q32-1 -> #DIV/0! | S32: =IF(AND($B32=1,$C32=1),M32,0) -> 0 | T32: =IF(AND($B32=1,$C32=1),N32,0) -> 0 | U32: =S32/T32-1 -> #DIV/0!
... A48: 1 | D48: =IF(AND($B48=1,$C48=1),1,0) -> 0 | E48: 2012 | F48: Février | G48: ENSEIGNE 14 | H48: SA | I48: MAG 14 | L48: =J48/K48-1 -> #DIV/0! | O48: =(M48-N48)/N48 -> #DIV/0! | P48: =IF(AND($B48=1,$C48=1),J48,0) -> 0 | Q48: =IF(AND($B48=1,$C48=1),K48,0) -> 0 | R48: =P48/Q48-1 -> #DIV/0! | S48: =IF(AND($B48=1,$C48=1),M48,0) -> 0 | T48: =IF(AND($B48=1,$C48=1),N48,0) -> 0 | U48: =S48/T48-1 -> #DIV/0!

Sheet Récap mensuel
A1: -> A envoyer à la Direction France + Mkg tous les mois
A2: Récap Sell Out Enseigne
A3: Mois | C3: janvier
A4: Année | C4: 2013
A5: année -1 | C5: =C4-1 -> 2012
C7: TOTAL | E7: COMPARABLE | G7: MOIS M | M7: MOIS M COMPARABLE | S7: YTD N | Y7: YTD N comparable
A8: ENSEIGNE | C8: # POS N | D8: # POS N-1 | E8: # POS N | G8: CA M | H8: CA M-1 | I8: % M/M-1 | J8: Trend enseigne M | K8: CA M-2 | L8: % M-1/M-2 | M8: CA M | N8: CA M-1 | O8: % M/M-1 | P8: CA M-2 | Q8: %M-1/M-2 | S8: CA cumulé TOTAL | T8: CA cumulé N-1 TOTAL | U8: % N/N-1 | V8: Trend enseigne YTD | W8: CA cumulé N-2 TOTAL | X8: % N-1/N-2 | Y8: CA cumulé TOTAL | Z8: CA cumulé N-1 TOTAL | AA8: % N/N-1 | AB8: CA cumulé N-2 TOTAL | AC8: % N-1/N-2
A9: ENSEIGNE 1 | C9: =SUMIFS('CompilSO TOTALE'!$A:$A,'CompilSO TOTALE'!$G:$G,$A9,'CompilSO TOTALE'!$E:$E,$C$4,'CompilSO TOTALE'!$F:$F,'Récap mensuel'!$C$3) -> 3 | D9: =SUMIFS('CompilSO TOTALE'!$A:$A,'CompilSO TOTALE'!$G:$G,$A9,'CompilSO TOTALE'!$E:$E,$C$5,'CompilSO TOTALE'!$F:$F,'Récap mensuel'!$C$3) -> 0 | E9: =SUMIFS('CompilSO TOTALE'!$D:$D,'CompilSO TOTALE'!$G:$G,$A9,'CompilSO TOTALE'!$E:$E,$C$4,'CompilSO TOTALE'!$F:$F,'Récap mensuel'!$C$3) -> 3 | G9: =SUMIFS('CompilSO TOTALE'!$J:$J,'CompilSO TOTALE'!$G:$G,'Récap mensuel'!$A9,'CompilSO TOTALE'!$E:$E,$C$4,'CompilSO TOTALE'!$F:$F,'Récap mensuel'!$C$3) -> 106 | H9: =SUMIFS('CompilSO TOTALE'!$K:$K,'CompilSO TOTALE'!$G:$G,'Récap mensuel'!$A9,'CompilSO TOTALE'!$E:$E,$C$4,'CompilSO TOTALE'!$F:$F,'Récap mensuel'!$C$3) -> 80 | I9: =G9/H9-1 -> 0.325 | K9: =SUMIFS('CompilSO TOTALE'!$K:$K,'CompilSO TOTALE'!$G:$G,'Récap mensuel'!$A9,'CompilSO TOTALE'!$E:$E,$C$5,'CompilSO TOTALE'!$F:$F,'Récap mensuel'!$C$3) -> 0 | L9: =H9/K9-1 -> #DIV/0! | M9: =SUMIFS('CompilSO TOTALE'!$P:$P,'CompilSO TOTALE'!$G:$G,'Récap mensuel'!$A9,'CompilSO TOTALE'!$E:$E,$C$4,'CompilSO TOTALE'!$F:$F,'Récap mensuel'!$C$3) -> 106 | N9: =SUMIFS('CompilSO TOTALE'!$Q:$Q,'CompilSO TOTALE'!$G:$G,'Récap mensuel'!$A9,'CompilSO TOTALE'!$E:$E,$C$4,'CompilSO TOTALE'!$F:$F,'Récap mensuel'!$C$3) -> 80 | O9: =M9/N9-1 -> 0.325 | P9: =SUMIFS('CompilSO TOTALE'!$P:$P,'CompilSO TOTALE'!$G:$G,'Récap mensuel'!$A9,'CompilSO TOTALE'!$E:$E,$C$5,'CompilSO TOTALE'!$F:$F,'Récap mensuel'!$C$3) -> 0 | Q9: =N9/P9-1 -> #DIV/0! | S9: =SUMIFS('CompilSO TOTALE'!$M:$M,'CompilSO TOTALE'!$G:$G,'Récap mensuel'!$A9,'CompilSO TOTALE'!$E:$E,$C$4,'CompilSO TOTALE'!$F:$F,'Récap mensuel'!$C$3) -> 106 | T9: =SUMIFS('CompilSO TOTALE'!$N:$N,'CompilSO TOTALE'!$G:$G,'Récap mensuel'!$A9,'CompilSO TOTALE'!$E:$E,$C$4,'CompilSO TOTALE'!$F:$F,'Récap mensuel'!$C$3) -> 80 | U9: =S9/T9-1 -> 0.325 | W9: =SUMIFS('CompilSO TOTALE'!$M:$M,'CompilSO TOTALE'!$G:$G,'Récap mensuel'!$A9,'CompilSO TOTALE'!$E:$E,$C$5,'CompilSO TOTALE'!$F:$F,'Récap mensuel'!$C$3) -> 0 | X9: =T9/W9-1 -> #DIV/0! | Y9: =SUMIFS('CompilSO TOTALE'!$S:$S,'CompilSO TOTALE'!$G:$G,'Récap mensuel'!$A9,'CompilSO TOTALE'!$E:$E,$C$4,'CompilSO TOTALE'!$F:$F,'Récap mensuel'!$C$3) -> 106 | Z9: =SUMIFS('CompilSO TOTALE'!$T:$T,'CompilSO TOTALE'!$G:$G,'Récap mensuel'!$A9,'CompilSO TOTALE'!$E:$E,$C$4,'CompilSO TOTALE'!$F:$F,'Récap mensuel'!$C$3) -> 80 | AA9: =Y9/Z9-1 -> 0.325 | AB9: =SUMIFS('CompilSO TOTALE'!$S:$S,'CompilSO TOTALE'!$G:$G,'Récap mensuel'!$A9,'CompilSO TOTALE'!$E:$E,$C$5,'CompilSO TOTALE'!$F:$F,'Récap mensuel'!$C$3) -> 0 | AC9: =Z9/AB9-1 -> #DIV/0!
A10: ENSEIGNE 2 | C10: =SUMIFS('CompilSO TOTALE'!$A:$A,'CompilSO TOTALE'!$G:$G,$A10,'CompilSO TOTALE'!$E:$E,$C$4,'CompilSO TOTALE'!$F:$F,'Récap mensuel'!$C$3) -> 3 | D10: =SUMIFS('CompilSO TOTALE'!$A:$A,'CompilSO TOTALE'!$G:$G,$A10,'CompilSO TOTALE'!$E:$E,$C$5,'CompilSO TOTALE'!$F:$F,'Récap mensuel'!$C$3) -> 0 | E10: =SUMIFS('CompilSO TOTALE'!$D:$D,'CompilSO TOTALE'!$G:$G,$A10,'CompilSO TOTALE'!$E:$E,$C$4,'CompilSO TOTALE'!$F:$F,'Récap mensuel'!$C$3) -> 2 | G10: =SUMIFS('CompilSO TOTALE'!$J:$J,'CompilSO TOTALE'!$G:$G,'Récap mensuel'!$A10,'CompilSO TOTALE'!$E:$E,$C$4,'CompilSO TOTALE'!$F:$F,'Récap mensuel'!$C$3) -> 108 | H10: =SUMIFS('CompilSO TOTALE'!$K:$K,'CompilSO TOTALE'!$G:$G,'Récap mensuel'!$A10,'CompilSO TOTALE'!$E:$E,$C$4,'CompilSO TOTALE'!$F:$F,'Récap mensuel'!$C$3) -> 80 | I10: =G10/H10-1 -> 0.35 | K10: =SUMIFS('CompilSO TOTALE'!$K:$K,'CompilSO TOTALE'!$G:$G,'Récap mensuel'!$A10,'CompilSO TOTALE'!$E:$E,$C$5,'CompilSO TOTALE'!$F:$F,'Récap mensuel'!$C$3) -> 0 | L10: =H10/K10-1 -> #DIV/0! | M10: =SUMIFS('CompilSO TOTALE'!$P:$P,'CompilSO TOTALE'!$G:$G,'Récap mensuel'!$A10,'CompilSO TOTALE'!$E:$E,$C$4,'CompilSO TOTALE'!$F:$F,'Récap mensuel'!$C$3) -> 57 | N10: =SUMIFS('CompilSO TOTALE'!$Q:$Q,'CompilSO TOTALE'!$G:$G,'Récap mensuel'!$A10,'CompilSO TOTALE'!$E:$E,$C$4,'CompilSO TOTALE'!$F:$F,'Récap mensuel'!$C$3) -> 40 | O10: =M10/N10-1 -> 0.425 | P10: =SUMIFS('CompilSO TOTALE'!$P:$P,'CompilSO TOTALE'!$G:$G,'Récap mensuel'!$A10,'CompilSO TOTALE'!$E:$E,$C$5,'CompilSO TOTALE'!$F:$F,'Récap mensuel'!$C$3) -> 0 | Q10: =N10/P10-1 -> #DIV/0! | S10: =SUMIFS('CompilSO TOTALE'!$M:$M,'CompilSO TOTALE'!$G:$G,'Récap mensuel'!$A10,'CompilSO TOTALE'!$E:$E,$C$4,'CompilSO TOTALE'!$F:$F,'Récap mensuel'!$C$3) -> 108 | T10: =SUMIFS('CompilSO TOTALE'!$N:$N,'CompilSO TOTALE'!$G:$G,'Récap mensuel'!$A10,'CompilSO TOTALE'!$E:$E,$C$4,'CompilSO TOTALE'!$F:$F,'Récap mensuel'!$C$3) -> 80 | U10: =S10/T10-1 -> 0.35 | W10: =SUMIFS('CompilSO TOTALE'!$M:$M,'CompilSO TOTALE'!$G:$G,'Récap mensuel'!$A10,'CompilSO TOTALE'!$E:$E,$C$5,'CompilSO TOTALE'!$F:$F,'Récap mensuel'!$C$3) -> 0 | X10: =T10/W10-1 -> #DIV/0! | Y10: =SUMIFS('CompilSO TOTALE'!$S:$S,'CompilSO TOTALE'!$G:$G,'Récap mensuel'!$A10,'CompilSO TOTALE'!$E:$E,$C$4,'CompilSO TOTALE'!$F:$F,'Récap mensuel'!$C$3) -> 57 | Z10: =SUMIFS('CompilSO TOTALE'!$T:$T,'CompilSO TOTALE'!$G:$G,'Récap mensuel'!$A10,'CompilSO TOTALE'!$E:$E,$C$4,'CompilSO TOTALE'!$F:$F,'Récap mensuel'!$C$3) -> 40 | AA10: =Y10/Z10-1 -> 0.425 | AB10: =SUMIFS('CompilSO TOTALE'!$S:$S,'CompilSO TOTALE'!$G:$G,'Récap mensuel'!$A10,'CompilSO TOTALE'!$E:$E,$C$5,'CompilSO TOTALE'!$F:$F,'Récap mensuel'!$C$3) -> 0 | AC10: =Z10/AB10-1 -> #DIV/0!
A11: ENSEIGNE 3
A12: ENSEIGNE 4
A13: ENSEIGNE 5
A14: ENSEIGNE 6
A15: ENSEIGNE 7
A16: ENSEIGNE 8
A17: ENSEIGNE 9
A18: ENSEIGNE 10
A21: TOTAL | C21: =SUM(C9:C20) -> 6 | D21: =SUM(D9:D20) -> 0 | E21: =SUM(E9:E20) -> 5 | G21: =SUM(G9:G20) -> 214 | H21: =SUM(H9:H20) -> 160 | I21: =G21/H21-1 -> 0.3375 | K21: =SUM(K9:K20) -> 0 | L21: =H21/K21-1 -> #DIV/0! | M21: =SUM(M9:M20) -> 163 | N21: =SUM(N9:N20) -> 120 | O21: =M21/N21-1 -> 0.35833333 | Q21: =O21/P21-1 -> #DIV/0! | S21: =SUM(S9:S20) -> 214 | T21: =SUM(T9:T20) -> 160 | U21: =S21/T21-1 -> 0.3375 | W21: =SUM(W9:W20) -> 0 | X21: =T21/W21-1 -> #DIV/0! | Y21: =SUM(Y9:Y20) -> 163 | Z21: =SUM(Z9:Z20) -> 120 | AA21: =Y21/Z21-1 -> 0.35833333 | AB21: =SUM(AB9:AB20) -> 0 | AC21: =Z21/AB21-1 -> #DIV/0!

Sheet Détail par mag
A3: Récap Sell Out par secteur
A5: Mois | B5: ='Récap mensuel'!C3 -> janvier
A6: Année | B6: 2013
A7: Année N-1 | B7: =B6-1 -> 2012
A10: COMMERCIAL | B10: ENSEIGNE | C10: Nom Point de vente | D10: Rkg / enseigne | E10: Rkg / COMMERCIAL | F10: % Poids enseigne national | G10: % Poids enseigne secteur | H10: CA Mois M | I10: CA Mois M-1 | J10: % M/M-1 | K10: CA Mois M-2 | L10: % M-1/M-2 | M10: CA YTD N | N10: CA YTD N-1 | O10: % N/N-1 | P10: CA YTD N-2 | Q10: % N-1/N-2
A11: BG | B11: ENSEIGNE 1 | C11: MAG 1
A12: BG | B12: ENSEIGNE 2 | C12: MAG 2
A13: BG | B13: ENSEIGNE 4 | C13: MAG 2
A14: BG | B14: ENSEIGNE 5 | C14: MAG 1
A15: BG | B15: ENSEIGNE 1 | C15: MAG 7
A16: BG | B16: ENSEIGNE 2 | C16: MAG 8
A17: BG | B17: ENSEIGNE 16 | C17: MAG 16
A18: SA | B18: ENSEIGNE 3 | C18: MAG 1
A19: SA | B19: ENSEIGNE 6 | C19: MAG 6
A20: SA | B20: ENSEIGNE 9 | C20: MAG 9
A21: SA | B21: ENSEIGNE 10 | C21: MAG 10
A22: SA | B22: ENSEIGNE 11 | C22: MAG 11
... A26: SA | B26: ENSEIGNE 15 | C26: MAG 15
