Workbook

Sheet code
A1: uf | B1: service | C1: POLE
A2: 1011 | B2: NUIT COMMUN 1 | C2: Pôle médico-technique
A3: 1012 | B3: NUIT COMMUN 2 | C3: Pôle médico-technique
A4: 1013 | B4: HOPITAL COMMUN | C4: Pôle direction administration
A5: 1015 | B5: PROMOTION PROFESSIONNELLE | C5: Autres
A6: 1016 | B6: E.C.S SECRETARIAT | C6: Pôle direction administration
A7: 1020 | B7: E.C.S. D.S.S.I. | C7: Autres
A8: 1021 | B8: E.C.S. MEDECINE | C8: Pôle médecine
A9: 1022 | B9: E.C.S. CHIRURGIE | C9: Pôle chirurgie
A10: 1023 | B10: E.C.S. ENFANT | C10: Pôle Enfant
A11: 1024 | B11: E.C.S. MERE | C11: Pôle Mère
A12: 1025 | B12: E.C.S. PSYCHIATRIE | C12: Pôle psychiatrie
... A21: 1210 | B21: GERIATRIE ET MEDECINE POLYVALENTE | C21: Pôle médecine
A22: 1220 | B22: MEDECINE INTERNE
A23: 1310 | B23: EMSA | C23: Pôle médecine
A24: 1350 | B24: Réanimation | C24: Pôle urgences
A25: 1360 | B25: USC | C25: Pôle urgences
A26: 1410 | B26: U.G. CARDIOLOGIE | C26: Pôle médecine
A27: 1414 | B27: CARDIO HPDD | C27: Pôle médecine
A28: 1420 | B28: PNEUMOLOGIE | C28: Pôle médecine
A29: 1430 | B29: CENTRE CARDIAQUE ET RESPIRATOIRE | C29: Pôle médecine
A30: 1510 | B30: U.G.MEDECINE GASTRO- | C30: Pôle médecine
A31: 1521 | B31: ALCOOLOGIE
A32: 1522 | B32: DIABETOLOGIE H.C
A33: 1537 | B33: ONCOLOGIE HOPITAL DE
A34: 1542 | B34: DIABETOLOGIE | C34: Pôle médecine
A35: 1600 | B35: NEUROLOGIE | C35: Pôle médecine
A36: 1700 | B36: U.G PEDIATRIE | C36: Pôle enfant
A37: 1800 | B37: NEONATOLOGIE | C37: Pôle enfant
A38: 2005 | B38: SOINS EXTERNES INDIF | C38: Pôle médico-technique
A39: 2100 | B39: U.G - CHIRURGIE VISC | C39: Pôle chirurgie
A40: 2111 | B40: CHIRURGIE UROLOGIE | C40: Pôle chirurgie
A41: 2120 | B41: CHIRURGIE THORACIQUE | C41: Pôle chirurgie
A42: 2200 | B42: U.G - CHIR TRAUMATOL | C42: Pôle chirurgie
A43: 2300 | B43: U.G - ORL OPHTALMO I
A44: 2404 | B44: H.P.D.D. MEDECINE | C44: Pôle médecine
A45: 2407 | B45: HOPITAL DE JOUR | C45: Pôle médecine
A46: 2450 | B46: U.G CHIR. AMBULAT. | C46: Pôle chirurgie
A47: 3000 | B47: U.G-GYNECO-OBSTETRIQ | C47: Pôle mère
A48: 3010 | B48: GYNECOLOGIE | C48: Pôle mère
...

Sheet base
A1: Anneemois | B1: AGT - Matricule | C1: AGT - Nom | D1: AGT - Prénom | E1: POSSTA - Code position sta. | F1: QUO - Quotité Travail | G1: GRA - Code grade | H1: GRA - Lib. grade | I1: GRA - Lib. emploi | J1: AFF - Code UF | K1: RES - Lib. UFO | L1: RES - Lettre budgétaire | M1: AFF - Lib fonction | N1: ACTJOU - Nb jours présence | O1: ACTJOU - Nb jours absence | P1: ACTJOU - ETP activité absence | Q1: ACTJOU - ETP activité théorique | R1: ACTJOU - ETP activité réelle | S1: indice | T1: ACTJOU - ETP activité réelle | U1: ACTJOU - Nb jours absence | V1: ACTJOU - ETP rémun. réelle UF | W1: ACTJOU - Nb jours présence | X1: AFF - Date début affectation UF | Y1: AFF - Date fin affectation UF | Z1: EFFREM - Montant brut | AA1: AFF - Pct affectation comptable | AB1: STATUT | AC1: Mensualités consommées
A14: 201312 | B14: 154882 | C14: A | D14: C | E14: ACT | F14: 1 | G14: 3256 | H14: ASH QUALIFIE | I14: AGENT DES SERVICES HOSPITALIERS | J14: 4300 | K14: USLD | L14: B | S14: 309 | T14: 22 | U14: 0 | V14: 22 | W14: 22 | X14: 41618 | Y14: 41639 | Z14: 1159.6 | AA14: 1 | AB14: 25 | AC14: =IF(T14="","",IF(V14/30>1,1,V14/VLOOKUP(A14,code!$A$159:$C$170,3,FALSE))) -> 0.70967742 | AD14: =+(IF(Y14>VLOOKUP(A14,code!$A$159:$E$170,5,FALSE),VLOOKUP(A14,code!$A$159:$E$170,5,FALSE),Y14)-IF(X14<VLOOKUP(A14,code!$A$159:$E$170,4,FALSE),VLOOKUP(A14,code!$A$159:$E$170,4,FALSE),base!X14)+1) -> 22 | AE14: =IF($Z2="","",SUM($AD$14:$AD14)-SUM($AE$1:$AE1)) | AF14: {=IF(AD14>0,INDEX($AE$14:$AE$1844,MIN(IF($AE14:$AE65<>"",ROW($AE14:$AE$65)-1,""))),"")} -> 522 | AG14: {=IF(AE14>0,INDEX($I$14:$I$1844,MIN(IF($AE14:$AE1844<>"",ROW($AE14:$AE$1844)-1,""))),"")} -> #REF!
A15: 201312 | B15: 154651 | C15: A | D15: M | E15: ACT | F15: 1 | G15: 3256 | H15: ASH QUALIFIE | I15: AGENT DES SERVICES HOSPITALIERS | J15: 4090 | K15: EHPAD | L15: J | S15: 309 | T15: 10 | U15: 0 | V15: 10 | W15: 10 | X15: 41608 | Y15: 41618 | Z15: 583.89 | AA15: 1 | AB15: 25 | AC15: =IF(T15="","",IF(V15/30>1,1,V15/VLOOKUP(A15,code!$A$159:$C$170,3,FALSE))) -> 0.32258065 | AD15: =+(IF(Y15>VLOOKUP(A15,code!$A$159:$E$170,5,FALSE),VLOOKUP(A15,code!$A$159:$E$170,5,FALSE),Y15)-IF(X15<VLOOKUP(A15,code!$A$159:$E$170,4,FALSE),VLOOKUP(A15,code!$A$159:$E$170,4,FALSE),base!X15)+1) -> 10 | AE15: =IF($Z3="","",SUM($AD$14:$AD15)-SUM($AE$1:$AE2)) | AF15: {=IF(AD15>0,INDEX($AE$14:$AE$1844,MIN(IF($AE15:$AE65<>"",ROW($AE15:$AE$65)-1,""))),"")} -> 522 | AG15: {=IF(AE15>0,INDEX($I$14:$I$1844,MIN(IF($AE15:$AE1845<>"",ROW($AE15:$AE$1844)-1,""))),"")} -> #REF!
A16: 201312 | B16: 154765 | C16: A | D16: E | E16: ACT | F16: 1 | G16: 2154 | H16: INFIRMIER D.E. 1ER GRADE CATEG.A | I16: IDE | J16: 4300 | K16: USLD | L16: B | S16: 342 | T16: 31 | U16: 0 | V16: 31 | W16: 31 | X16: 41579 | Y16: 41943 | Z16: 1970.09 | AA16: 1 | AB16: 25 | AC16: =IF(T16="","",IF(V16/30>1,1,V16/VLOOKUP(A16,code!$A$159:$C$170,3,FALSE))) -> 1 | AD16: =+(IF(Y16>VLOOKUP(A16,code!$A$159:$E$170,5,FALSE),VLOOKUP(A16,code!$A$159:$E$170,5,FALSE),Y16)-IF(X16<VLOOKUP(A16,code!$A$159:$E$170,4,FALSE),VLOOKUP(A16,code!$A$159:$E$170,4,FALSE),base!X16)+1) -> 31 | AE16: =IF($Z4="","",SUM($AD$14:$AD16)-SUM($AE$1:$AE3)) | AF16: {=IF(AD16>0,INDEX($AE$14:$AE$1844,MIN(IF($AE16:$AE65<>"",ROW($AE16:$AE$65)-1,""))),"")} -> 522 | AG16: {=IF(AE16>0,INDEX($I$14:$I$1844,MIN(IF($AE16:$AE1846<>"",ROW($AE16:$AE$1844)-1,""))),"")} -> #REF!
A17: 201312 | B17: 154897 | C17: A | D17: C | E17: ACT | F17: 1 | G17: 2154 | H17: INFIRMIER D.E. 1ER GRADE CATEG.A | I17: IDE | J17: 4090 | K17: EHPAD | L17: J | S17: 342 | T17: 15 | U17: 0 | V17: 15 | W17: 15 | X17: 41625 | Y17: 41641 | AA17: 1 | AB17: 25 | AC17: =IF(T17="","",IF(V17/30>1,1,V17/VLOOKUP(A17,code!$A$159:$C$170,3,FALSE))) -> 0.48387097 | AD17: =+(IF(Y17>VLOOKUP(A17,code!$A$159:$E$170,5,FALSE),VLOOKUP(A17,code!$A$159:$E$170,5,FALSE),Y17)-IF(X17<VLOOKUP(A17,code!$A$159:$E$170,4,FALSE),VLOOKUP(A17,code!$A$159:$E$170,4,FALSE),base!X17)+1) -> 15 | AE17: =IF($Z5="","",SUM($AD$14:$AD17)-SUM($AE$1:$AE4)) | AF17: {=IF(AD17>0,INDEX($AE$14:$AE$1844,MIN(IF($AE17:$AE65<>"",ROW($AE17:$AE$65)-1,""))),"")} -> 522 | AG17: {=IF(AE17>0,INDEX($I$14:$I$1844,MIN(IF($AE17:$AE1847<>"",ROW($AE17:$AE$1844)-1,""))),"")} -> #REF!
A18: 201312 | B18: 154851 | C18: B | D18: A | E18: ACT | F18: 1 | G18: 3256 | H18: ASH QUALIFIE | I18: AGENT DES SERVICES HOSPITALIERS | J18: 4300 | K18: USLD | L18: B | S18: 309 | T18: 20 | U18: 11 | V18: 21 | W18: 20 | X18: 41584 | Y18: 41639 | Z18: 1653.32 | AA18: 1 | AB18: 25 | AC18: =IF(T18="","",IF(V18/30>1,1,V18/VLOOKUP(A18,code!$A$159:$C$170,3,FALSE))) -> 0.67741935 | AD18: =+(IF(Y18>VLOOKUP(A18,code!$A$159:$E$170,5,FALSE),VLOOKUP(A18,code!$A$159:$E$170,5,FALSE),Y18)-IF(X18<VLOOKUP(A18,code!$A$159:$E$170,4,FALSE),VLOOKUP(A18,code!$A$159:$E$170,4,FALSE),base!X18)+1) -> 31 | AE18: =IF($Z6="","",SUM($AD$14:$AD18)-SUM($AE$1:$AE5)) | AF18: {=IF(AD18>0,INDEX($AE$14:$AE$1844,MIN(IF($AE18:$AE65<>"",ROW($AE18:$AE$65)-1,""))),"")} -> 522 | AG18: {=IF(AE18>0,INDEX($I$14:$I$1844,MIN(IF($AE18:$AE1848<>"",ROW($AE18:$AE$1844)-1,""))),"")} -> #REF!
A19: 201312 | B19: 154763 | C19: B | D19: Emmanuel | E19: ACT | F19: 1 | G19: 3256 | H19: ASH QUALIFIE | I19: AGENT DES SERVICES HOSPITALIERS | J19: 4300 | K19: USLD | L19: B | S19: 309 | T19: 31 | U19: 0 | V19: 31 | W19: 31 | X19: 41548 | Y19: 41670 | Z19: 1885.95 | AA19: 1 | AB19: 25 | AC19: =IF(T19="","",IF(V19/30>1,1,V19/VLOOKUP(A19,code!$A$159:$C$170,3,FALSE))) -> 1 | AD19: =+(IF(Y19>VLOOKUP(A19,code!$A$159:$E$170,5,FALSE),VLOOKUP(A19,code!$A$159:$E$170,5,FALSE),Y19)-IF(X19<VLOOKUP(A19,code!$A$159:$E$170,4,FALSE),VLOOKUP(A19,code!$A$159:$E$170,4,FALSE),base!X19)+1) -> 31 | AE19: =IF($Z7="","",SUM($AD$14:$AD19)-SUM($AE$1:$AE6)) | AF19: {=IF(AD19>0,INDEX($AE$14:$AE$1844,MIN(IF($AE19:$AE65<>"",ROW($AE19:$AE$65)-1,""))),"")} -> 522 | AG19: {=IF(AE19>0,INDEX($I$14:$I$1844,MIN(IF($AE19:$AE1849<>"",ROW($AE19:$AE$1844)-1,""))),"")} -> #REF!
A20: 201312 | B20: 151750 | C20: B | D20: Bastien | E20: ACT | F20: 1 | G20: 4437 | H20: AGT ENTRETIEN QUALIFIE | I20: AGENT D'ENTRETIEN QUALIFIE | J20: 7460 | K20: SERVICE LOGISTIQUE | L20: H | S20: 309 | T20: 31 | U20: 0 | V20: 31 | W20: 31 | X20: 41197 | Y20: 2958465 | Z20: 1586.57 | AA20: 1 | AB20: 25 | AC20: =IF(T20="","",IF(V20/30>1,1,V20/VLOOKUP(A20,code!$A$159:$C$170,3,FALSE))) -> 1 | AD20: =+(IF(Y20>VLOOKUP(A20,code!$A$159:$E$170,5,FALSE),VLOOKUP(A20,code!$A$159:$E$170,5,FALSE),Y20)-IF(X20<VLOOKUP(A20,code!$A$159:$E$170,4,FALSE),VLOOKUP(A20,code!$A$159:$E$170,4,FALSE),base!X20)+1) -> 31 | AE20: =IF($Z8="","",SUM($AD$14:$AD20)-SUM($AE$1:$AE7)) | AF20: {=IF(AD20>0,INDEX($AE$14:$AE$1844,MIN(IF($AE20:$AE65<>"",ROW($AE20:$AE$65)-1,""))),"")} -> 522 | AG20: {=IF(AE20>0,INDEX($I$14:$I$1844,MIN(IF($AE20:$AE1850<>"",ROW($AE20:$AE$1844)-1,""))),"")} -> #REF!
A21: 201312 | B21: 154635 | C21: B | D21: Stephane | E21: ACT | F21: 1 | G21: 4437 | H21: AGT ENTRETIEN QUALIFIE | I21: AGENT D'ENTRETIEN QUALIFIE | J21: 7615 | K21: SECURITE INCENDIE | L21: H | S21: 309 | T21: 2 | U21: 0 | V21: 2 | W21: 2 | X21: 41571 | Y21: 41610 | Z21: 1252.18 | AA21: 1 | AB21: 25 | AC21: =IF(T21="","",IF(V21/30>1,1,V21/VLOOKUP(A21,code!$A$159:$C$170,3,FALSE))) -> 0.064516129 | AD21: =+(IF(Y21>VLOOKUP(A21,code!$A$159:$E$170,5,FALSE),VLOOKUP(A21,code!$A$159:$E$170,5,FALSE),Y21)-IF(X21<VLOOKUP(A21,code!$A$159:$E$170,4,FALSE),VLOOKUP(A21,code!$A$159:$E$170,4,FALSE),base!X21)+1) -> 2 | AE21: =IF($Z9="","",SUM($AD$14:$AD21)-SUM($AE$1:$AE8)) | AF21: {=IF(AD21>0,INDEX($AE$14:$AE$1844,MIN(IF($AE21:$AE65<>"",ROW($AE21:$AE$65)-1,""))),"")} -> 522 | AG21: {=IF(AE21>0,INDEX($I$14:$I$1844,MIN(IF($AE21:$AE1851<>"",ROW($AE21:$AE$1844)-1,""))),"")} -> #REF!
A22: 201312 | B22: 154635 | C22: B | D22: Stephane | E22: ACT | F22: 1 | G22: 4437 | H22: AGT ENTRETIEN QUALIFIE | I22: AGENT D'ENTRETIEN QUALIFIE | J22: 7615 | K22: SECURITE INCENDIE | L22: H | S22: 309 | T22: 2 | U22: 0 | V22: 2 | W22: 2 | X22: 41614 | Y22: 41615 | AA22: 1 | AB22: 25 | AC22: =IF(T22="","",IF(V22/30>1,1,V22/VLOOKUP(A22,code!$A$159:$C$170,3,FALSE))) -> 0.064516129 | AD22: =+(IF(Y22>VLOOKUP(A22,code!$A$159:$E$170,5,FALSE),VLOOKUP(A22,code!$A$159:$E$170,5,FALSE),Y22)-IF(X22<VLOOKUP(A22,code!$A$159:$E$170,4,FALSE),VLOOKUP(A22,code!$A$159:$E$170,4,FALSE),base!X22)+1) -> 2 | AE22: =IF($Z10="","",SUM($AD$14:$AD22)-SUM($AE$1:$AE9)) | AF22: {=IF(AD22>0,INDEX($AE$14:$AE$1844,MIN(IF($AE22:$AE65<>"",ROW($AE22:$AE$65)-1,""))),"")} -> 522 | AG22: {=IF(AE22>0,INDEX($I$14:$I$1844,MIN(IF($AE22:$AE1852<>"",ROW($AE22:$AE$1844)-1,""))),"")} -> #REF!
A23: 201312 | B23: 154635 | C23: B | D23: Stephane | E23: ACT | F23: 1 | G23: 4437 | H23: AGT ENTRETIEN QUALIFIE | I23: AGENT D'ENTRETIEN QUALIFIE | J23: 7615 | K23: SECURITE INCENDIE | L23: H | S23: 309 | T23: 15 | U23: 0 | V23: 15 | W23: 15 | X23: 41625 | Y23: 41660 | AA23: 1 | AB23: 25 | AC23: =IF(T23="","",IF(V23/30>1,1,V23/VLOOKUP(A23,code!$A$159:$C$170,3,FALSE))) -> 0.48387097 | AD23: =+(IF(Y23>VLOOKUP(A23,code!$A$159:$E$170,5,FALSE),VLOOKUP(A23,code!$A$159:$E$170,5,FALSE),Y23)-IF(X23<VLOOKUP(A23,code!$A$159:$E$170,4,FALSE),VLOOKUP(A23,code!$A$159:$E$170,4,FALSE),base!X23)+1) -> 15 | AE23: =IF($Z11="","",SUM($AD$14:$AD23)-SUM($AE$1:$AE10)) | AF23: {=IF(AD23>0,INDEX($AE$14:$AE$1844,MIN(IF($AE23:$AE65<>"",ROW($AE23:$AE$65)-1,""))),"")} -> 522 | AG23: {=IF(AE23>0,INDEX($I$14:$I$1844,MIN(IF($AE23:$AE1853<>"",ROW($AE23:$AE$1844)-1,""))),"")} -> #REF!
A24: 201312 | B24: 152655 | C24: B | D24: Pauline | E24: ACT | F24: 1 | G24: 3001 | H24: AIDE SOIGNANT CL N | I24: AIDE-SOIGNANT | J24: 1012 | K24: NUIT COMMUN 2 | L24: H | S24: 310 | T24: 31 | U24: 0 | V24: 31 | W24: 31 | X24: 41365 | Y24: 2958465 | Z24: 1969.73 | AA24: 1 | AB24: 25 | AC24: =IF(T24="","",IF(V24/30>1,1,V24/VLOOKUP(A24,code!$A$159:$C$170,3,FALSE))) -> 1 | AD24: =+(IF(Y24>VLOOKUP(A24,code!$A$159:$E$170,5,FALSE),VLOOKUP(A24,code!$A$159:$E$170,5,FALSE),Y24)-IF(X24<VLOOKUP(A24,code!$A$159:$E$170,4,FALSE),VLOOKUP(A24,code!$A$159:$E$170,4,FALSE),base!X24)+1) -> 31 | AE24: =IF($Z12="","",SUM($AD$14:$AD24)-SUM($AE$1:$AE11)) | AF24: {=IF(AD24>0,INDEX($AE$14:$AE$1844,MIN(IF($AE24:$AE65<>"",ROW($AE24:$AE$65)-1,""))),"")} -> 522 | AG24: {=IF(AE24>0,INDEX($I$14:$I$1844,MIN(IF($AE24:$AE1854<>"",ROW($AE24:$AE$1844)-1,""))),"")} -> #REF!
A25: 201312 | B25: 154891 | C25: B | D25: Chloe | E25: ACT | F25: 1 | G25: 3256 | H25: ASH QUALIFIE | I25: AGENT DES SERVICES HOSPITALIERS | J25: 4090 | K25: EHPAD | L25: J | S25: 309 | T25: 13 | U25: 0 | V25: 13 | W25: 13 | X25: 41627 | Y25: 41670 | Z25: 686.34 | AA25: 1 | AB25: 25 | AC25: =IF(T25="","",IF(V25/30>1,1,V25/VLOOKUP(A25,code!$A$159:$C$170,3,FALSE))) -> 0.41935484 | AD25: =+(IF(Y25>VLOOKUP(A25,code!$A$159:$E$170,5,FALSE),VLOOKUP(A25,code!$A$159:$E$170,5,FALSE),Y25)-IF(X25<VLOOKUP(A25,code!$A$159:$E$170,4,FALSE),VLOOKUP(A25,code!$A$159:$E$170,4,FALSE),base!X25)+1) -> 13 | AE25: =IF($Z13="","",SUM($AD$14:$AD25)-SUM($AE$1:$AE12)) | AF25: {=IF(AD25>0,INDEX($AE$14:$AE$1844,MIN(IF($AE25:$AE65<>"",ROW($AE25:$AE$65)-1,""))),"")} -> 522 | AG25: {=IF(AE25>0,INDEX($I$14:$I$1844,MIN(IF($AE25:$AE1855<>"",ROW($AE25:$AE$1844)-1,""))),"")} -> #REF!
A26: 201312 | B26: 154583 | C26: B | D26: Audrey | E26: ACT | F26: 1 | G26: 2154 | H26: INFIRMIER D.E. 1ER GRADE CATEG.A | I26: IDE | J26: 1023 | K26: E.C.S. POLE ENFANT | L26: H | S26: 342 | T26: 16 | U26: 0 | V26: 16 | W26: 16 | X26: 41470 | Y26: 41624 | Z26: 1875.94 | AA26: 1 | AB26: 25 | AC26: =IF(T26="","",IF(V26/30>1,1,V26/VLOOKUP(A26,code!$A$159:$C$170,3,FALSE))) -> 0.51612903 | AD26: =+(IF(Y26>VLOOKUP(A26,code!$A$159:$E$170,5,FALSE),VLOOKUP(A26,code!$A$159:$E$170,5,FALSE),Y26)-IF(X26<VLOOKUP(A26,code!$A$159:$E$170,4,FALSE),VLOOKUP(A26,code!$A$159:$E$170,4,FALSE),base!X26)+1) -> 16 | AE26: =IF($Z14="","",SUM($AD$14:$AD26)-SUM($AE$1:$AE13)) -> 250 | AF26: {=IF(AD26>0,INDEX($AE$14:$AE$1844,MIN(IF($AE26:$AE65<>"",ROW($AE26:$AE$65)-1,""))),"")} -> 522 | AG26: {=IF(AE26>0,INDEX($I$14:$I$1844,MIN(IF($AE26:$AE1856<>"",ROW($AE26:$AE$1844)-1,""))),"")} -> #REF!
A27: 201312 | B27: 154583 | C27: B | D27: Audrey | E27: ACT | F27: 1 | G27: 2154 | H27: INFIRMIER D.E. 1ER GRADE CATEG.A | I27: IDE | J27: 1024 | K27: E.C.S. POLE MERE | L27: H | S27: 342 | T27: 15 | U27: 0 | V27: 15 | W27: 15 | X27: 41625 | Y27: 41670 | AA27: 1 | AB27: 25 | AC27: =IF(T27="","",IF(V27/30>1,1,V27/VLOOKUP(A27,code!$A$159:$C$170,3,FALSE))) -> 0.48387097 | AD27: =+(IF(Y27>VLOOKUP(A27,code!$A$159:$E$170,5,FALSE),VLOOKUP(A27,code!$A$159:$E$170,5,FALSE),Y27)-IF(X27<VLOOKUP(A27,code!$A$159:$E$170,4,FALSE),VLOOKUP(A27,code!$A$159:$E$170,4,FALSE),base!X27)+1) -> 15 | AE27: =IF($Z15="","",SUM($AD$14:$AD27)-SUM($AE$1:$AE14)) -> 265 | AF27: {=IF(AD27>0,INDEX($AE$14:$AE$1844,MIN(IF($AE27:$AE65<>"",ROW($AE27:$AE$65)-1,""))),"")} | AG27: {=IF(AE27>0,INDEX($I$14:$I$1844,MIN(IF($AE27:$AE1857<>"",ROW($AE27:$AE$1844)-1,""))),"")} -> #REF!
A28: 201312 | B28: 150325 | C28: B | D28: ELODIE | E28: ACT | F28: 1 | G28: 3256 | H28: ASH QUALIFIE | I28: AGENT DES SERVICES HOSPITALIERS | J28: 4300 | K28: USLD | L28: B | S28: 309 | T28: 26 | U28: 0 | V28: 26 | W28: 26 | X28: 41614 | Y28: 41639 | AA28: 1 | AB28: 25 | AC28: =IF(T28="","",IF(V28/30>1,1,V28/VLOOKUP(A28,code!$A$159:$C$170,3,FALSE))) -> 0.83870968 | AD28: =+(IF(Y28>VLOOKUP(A28,code!$A$159:$E$170,5,FALSE),VLOOKUP(A28,code!$A$159:$E$170,5,FALSE),Y28)-IF(X28<VLOOKUP(A28,code!$A$159:$E$170,4,FALSE),VLOOKUP(A28,code!$A$159:$E$170,4,FALSE),base!X28)+1) -> 26 | AE28: =IF($Z16="","",SUM($AD$14:$AD28)-SUM($AE$1:$AE15)) -> 291 | AF28: {=IF(AD28>0,INDEX($AE$14:$AE$1844,MIN(IF($AE28:$AE65<>"",ROW($AE28:$AE$65)-1,""))),"")} | AG28: {=IF(AE28>0,INDEX($I$14:$I$1844,MIN(IF($AE28:$AE1858<>"",ROW($AE28:$AE$1844)-1,""))),"")} -> #REF!
A29: 201312 | B29: 153964 | C29: B | D29: Emmeline | E29: ACT | F29: 1 | G29: 3001 | H29: AIDE SOIGNANT CL N | I29: AIDE-SOIGNANT | J29: 1012 | K29: NUIT COMMUN 2 | L29: H | S29: 310 | T29: 0 | U29: 31 | V29: 31 | W29: 0 | X29: 41183 | Y29: 2958465 | Z29: 1468.19 | AA29: 1 | AB29: 25 | AC29: =IF(T29="","",IF(V29/30>1,1,V29/VLOOKUP(A29,code!$A$159:$C$170,3,FALSE))) -> 1 | AD29: =+(IF(Y29>VLOOKUP(A29,code!$A$159:$E$170,5,FALSE),VLOOKUP(A29,code!$A$159:$E$170,5,FALSE),Y29)-IF(X29<VLOOKUP(A29,code!$A$159:$E$170,4,FALSE),VLOOKUP(A29,code!$A$159:$E$170,4,FALSE),base!X29)+1) -> 31 | AE29: =IF($Z17="","",SUM($AD$14:$AD29)-SUM($AE$1:$AE16)) | AF29: {=IF(AD29>0,INDEX($AE$14:$AE$1844,MIN(IF($AE29:$AE65<>"",ROW($AE29:$AE$65)-1,""))),"")} -> -189 | AG29: {=IF(AE29>0,INDEX($I$14:$I$1844,MIN(IF($AE29:$AE1859<>"",ROW($AE29:$AE$1844)-1,""))),"")} -> #REF!
A30: 201312 | B30: 153457 | C30: B | D30: Michelle | E30: ACT | F30: 1 | G30: 3256 | H30: ASH QUALIFIE | I30: AGENT DES SERVICES HOSPITALIERS | J30: 4300 | K30: USLD | L30: B | S30: 309 | T30: 1 | U30: 0 | V30: 1 | W30: 1 | X30: 41619 | Y30: 41619 | Z30: 1107.01 | AA30: 1 | AB30: 25 | AC30: =IF(T30="","",IF(V30/30>1,1,V30/VLOOKUP(A30,code!$A$159:$C$170,3,FALSE))) -> 0.032258065 | AD30: =+(IF(Y30>VLOOKUP(A30,code!$A$159:$E$170,5,FALSE),VLOOKUP(A30,code!$A$159:$E$170,5,FALSE),Y30)-IF(X30<VLOOKUP(A30,code!$A$159:$E$170,4,FALSE),VLOOKUP(A30,code!$A$159:$E$170,4,FALSE),base!X30)+1) -> 1 | AE30: =IF($Z18="","",SUM($AD$14:$AD30)-SUM($AE$1:$AE17)) -> 323 | AF30: {=IF(AD30>0,INDEX($AE$14:$AE$1844,MIN(IF($AE30:$AE65<>"",ROW($AE30:$AE$65)-1,""))),"")} -> -189 | AG30: {=IF(AE30>0,INDEX($I$14:$I$1844,MIN(IF($AE30:$AE1860<>"",ROW($AE30:$AE$1844)-1,""))),"")} -> #REF!
A31: 201312 | B31: 154836 | C31: B | D31: Julie | E31: ACT | F31: 1 | G31: 3256 | H31: ASH QUALIFIE | I31: AGENT DES SERVICES HOSPITALIERS | J31: 4300 | K31: USLD | L31: B | S31: 309 | T31: 24 | U31: 0 | V31: 24 | W31: 24 | X31: 41616 | Y31: 41639 | AA31: 1 | AB31: 25 | AC31: =IF(T31="","",IF(V31/30>1,1,V31/VLOOKUP(A31,code!$A$159:$C$170,3,FALSE))) -> 0.77419355 | AD31: =+(IF(Y31>VLOOKUP(A31,code!$A$159:$E$170,5,FALSE),VLOOKUP(A31,code!$A$159:$E$170,5,FALSE),Y31)-IF(X31<VLOOKUP(A31,code!$A$159:$E$170,4,FALSE),VLOOKUP(A31,code!$A$159:$E$170,4,FALSE),base!X31)+1) -> 24 | AE31: =IF($Z19="","",SUM($AD$14:$AD31)-SUM($AE$1:$AE18)) -> 347 | AF31: {=IF(AD31>0,INDEX($AE$14:$AE$1844,MIN(IF($AE31:$AE65<>"",ROW($AE31:$AE$65)-1,""))),"")} | AG31: {=IF(AE31>0,INDEX($I$14:$I$1844,MIN(IF($AE31:$AE1861<>"",ROW($AE31:$AE$1844)-1,""))),"")} -> #REF!
A32: 201312 | B32: 153242 | C32: B | D32: Francois | E32: ACT | F32: 1 | G32: 2154 | H32: INFIRMIER D.E. 1ER GRADE CATEG.A | I32: IDE | J32: 4300 | K32: USLD | L32: B | S32: 342 | T32: 31 | U32: 0 | V32: 31 | W32: 31 | X32: 41548 | Y32: 2958465 | Z32: 2010.49 | AA32: 1 | AB32: 25 | AC32: =IF(T32="","",IF(V32/30>1,1,V32/VLOOKUP(A32,code!$A$159:$C$170,3,FALSE))) -> 1 | AD32: =+(IF(Y32>VLOOKUP(A32,code!$A$159:$E$170,5,FALSE),VLOOKUP(A32,code!$A$159:$E$170,5,FALSE),Y32)-IF(X32<VLOOKUP(A32,code!$A$159:$E$170,4,FALSE),VLOOKUP(A32,code!$A$159:$E$170,4,FALSE),base!X32)+1) -> 31 | AE32: =IF($Z20="","",SUM($AD$14:$AD32)-SUM($AE$1:$AE19)) -> 378 | AF32: {=IF(AD32>0,INDEX($AE$14:$AE$1844,MIN(IF($AE32:$AE65<>"",ROW($AE32:$AE$65)-1,""))),"")} -> -847 | AG32: {=IF(AE32>0,INDEX($I$14:$I$1844,MIN(IF($AE32:$AE1862<>"",ROW($AE32:$AE$1844)-1,""))),"")} -> #REF!
A33: 201312 | B33: 154720 | C33: B | D33: Juliette | E33: ACT | F33: 1 | G33: 3256 | H33: ASH QUALIFIE | I33: AGENT DES SERVICES HOSPITALIERS | J33: 7479 | K33: DHB | L33: H | S33: 309 | T33: 11 | U33: 0 | V33: 11 | W33: 11 | X33: 41629 | Y33: 41639 | Z33: 581.16 | AA33: 1 | AB33: 25 | AC33: =IF(T33="","",IF(V33/30>1,1,V33/VLOOKUP(A33,code!$A$159:$C$170,3,FALSE))) -> 0.35483871 | AD33: =+(IF(Y33>VLOOKUP(A33,code!$A$159:$E$170,5,FALSE),VLOOKUP(A33,code!$A$159:$E$170,5,FALSE),Y33)-IF(X33<VLOOKUP(A33,code!$A$159:$E$170,4,FALSE),VLOOKUP(A33,code!$A$159:$E$170,4,FALSE),base!X33)+1) -> 11 | AE33: =IF($Z21="","",SUM($AD$14:$AD33)-SUM($AE$1:$AE20)) -> 389 | AF33: {=IF(AD33>0,INDEX($AE$14:$AE$1844,MIN(IF($AE33:$AE65<>"",ROW($AE33:$AE$65)-1,""))),"")} -> -1194 | AG33: {=IF(AE33>0,INDEX($I$14:$I$1844,MIN(IF($AE33:$AE1863<>"",ROW($AE33:$AE$1844)-1,""))),"")} -> #REF!
A34: 201312 | B34: 154781 | C34: C | D34: Maylis | E34: ACT | F34: 1 | G34: 2334 | H34: SAGE FEMME CLASS NORM | I34: SAGE FEMME | J34: 1024 | K34: E.C.S. POLE MERE | L34: H | S34: 395 | T34: 31 | U34: 0 | V34: 31 | W34: 31 | X34: 41533 | Y34: 41670 | Z34: 2098.69 | AA34: 1 | AB34: 25 | AC34: =IF(T34="","",IF(V34/30>1,1,V34/VLOOKUP(A34,code!$A$159:$C$170,3,FALSE))) -> 1 | AD34: =+(IF(Y34>VLOOKUP(A34,code!$A$159:$E$170,5,FALSE),VLOOKUP(A34,code!$A$159:$E$170,5,FALSE),Y34)-IF(X34<VLOOKUP(A34,code!$A$159:$E$170,4,FALSE),VLOOKUP(A34,code!$A$159:$E$170,4,FALSE),base!X34)+1) -> 31 | AE34: =IF($Z22="","",SUM($AD$14:$AD34)-SUM($AE$1:$AE21)) | AF34: {=IF(AD34>0,INDEX($AE$14:$AE$1844,MIN(IF($AE34:$AE65<>"",ROW($AE34:$AE$65)-1,""))),"")} -> -1537 | AG34: {=IF(AE34>0,INDEX($I$14:$I$1844,MIN(IF($AE34:$AE1864<>"",ROW($AE34:$AE$1844)-1,""))),"")} -> #REF!
A35: 201312 | B35: 154395 | C35: C | D35: Mathilde | E35: ACT | F35: 1 | G35: 3256 | H35: ASH QUALIFIE | I35: AGENT DES SERVICES HOSPITALIERS | J35: 4090 | K35: EHPAD | L35: J | S35: 309 | T35: 11 | U35: 0 | V35: 11 | W35: 11 | X35: 41629 | Y35: 41639 | AA35: 1 | AB35: 25 | AC35: =IF(T35="","",IF(V35/30>1,1,V35/VLOOKUP(A35,code!$A$159:$C$170,3,FALSE))) -> 0.35483871 | AD35: =+(IF(Y35>VLOOKUP(A35,code!$A$159:$E$170,5,FALSE),VLOOKUP(A35,code!$A$159:$E$170,5,FALSE),Y35)-IF(X35<VLOOKUP(A35,code!$A$159:$E$170,4,FALSE),VLOOKUP(A35,code!$A$159:$E$170,4,FALSE),base!X35)+1) -> 11 | AE35: =IF($Z23="","",SUM($AD$14:$AD35)-SUM($AE$1:$AE22)) | AF35: {=IF(AD35>0,INDEX($AE$14:$AE$1844,MIN(IF($AE35:$AE65<>"",ROW($AE35:$AE$65)-1,""))),"")} -> -1537 | AG35: {=IF(AE35>0,INDEX($I$14:$I$1844,MIN(IF($AE35:$AE1865<>"",ROW($AE35:$AE$1844)-1,""))),"")} -> #REF!
A36: 201312 | B36: 154877 | C36: C | D36: Severine | E36: ACT | F36: 1 | G36: 3256 | H36: ASH QUALIFIE | I36: AGENT DES SERVICES HOSPITALIERS | J36: 4300 | K36: USLD | L36: B | S36: 309 | T36: 31 | U36: 0 | V36: 31 | W36: 31 | X36: 41609 | Y36: 41639 | Z36: 1580.28 | AA36: 1 | AB36: 25 | AC36: =IF(T36="","",IF(V36/30>1,1,V36/VLOOKUP(A36,code!$A$159:$C$170,3,FALSE))) -> 1 | AD36: =+(IF(Y36>VLOOKUP(A36,code!$A$159:$E$170,5,FALSE),VLOOKUP(A36,code!$A$159:$E$170,5,FALSE),Y36)-IF(X36<VLOOKUP(A36,code!$A$159:$E$170,4,FALSE),VLOOKUP(A36,code!$A$159:$E$170,4,FALSE),base!X36)+1) -> 31 | AE36: =IF($Z24="","",SUM($AD$14:$AD36)-SUM($AE$1:$AE23)) -> 462 | AF36: {=IF(AD36>0,INDEX($AE$14:$AE$1844,MIN(IF($AE36:$AE66<>"",ROW($AE36:$AE$65)-1,""))),"")} -> #REF! | AG36: {=IF(AE36>0,INDEX($I$14:$I$1844,MIN(IF($AE36:$AE1866<>"",ROW($AE36:$AE$1844)-1,""))),"")} -> #REF!
A37: 201312 | B37: 154078 | C37: C | D37: Emilie | E37: ACT | F37: 0.8 | G37: 2154 | H37: INFIRMIER D.E. 1ER GRADE CATEG.A | I37: IDE | J37: 1022 | K37: E.C.S. CHIRURGIE | L37: H | S37: 342 | T37: 24.8 | U37: 0 | V37: 26.5701 | W37: 31 | X37: 41503 | Y37: 41670 | Z37: 1707.06 | AA37: 1 | AB37: 25 | AC37: =IF(T37="","",IF(V37/30>1,1,V37/VLOOKUP(A37,code!$A$159:$C$170,3,FALSE))) -> 0.8571 | AD37: =+(IF(Y37>VLOOKUP(A37,code!$A$159:$E$170,5,FALSE),VLOOKUP(A37,code!$A$159:$E$170,5,FALSE),Y37)-IF(X37<VLOOKUP(A37,code!$A$159:$E$170,4,FALSE),VLOOKUP(A37,code!$A$159:$E$170,4,FALSE),base!X37)+1) -> 31 | AE37: =IF($Z25="","",SUM($AD$14:$AD37)-SUM($AE$1:$AE24)) -> 493 | AF37: {=IF(AD37>0,INDEX($AE$14:$AE$1844,MIN(IF($AE37:$AE67<>"",ROW($AE37:$AE$65)-1,""))),"")} -> #REF! | AG37: {=IF(AE37>0,INDEX($I$14:$I$1844,MIN(IF($AE37:$AE1867<>"",ROW($AE37:$AE$1844)-1,""))),"")} -> #REF!
A38: 201312 | B38: 154813 | C38: C | D38: Camille | E38: ACT | F38: 1 | G38: 2154 | H38: INFIRMIER D.E. 1ER GRADE CATEG.A | I38: IDE | J38: 4090 | K38: EHPAD | L38: J | S38: 342 | T38: 29 | U38: 0 | V38: 29 | W38: 29 | X38: 41611 | Y38: 41645 | Z38: 1994.02 | AA38: 1 | AB38: 25 | AC38: =IF(T38="","",IF(V38/30>1,1,V38/VLOOKUP(A38,code!$A$159:$C$170,3,FALSE))) -> 0.93548387 | AD38: =+(IF(Y38>VLOOKUP(A38,code!$A$159:$E$170,5,FALSE),VLOOKUP(A38,code!$A$159:$E$170,5,FALSE),Y38)-IF(X38<VLOOKUP(A38,code!$A$159:$E$170,4,FALSE),VLOOKUP(A38,code!$A$159:$E$170,4,FALSE),base!X38)+1) -> 29 | AE38: =IF($Z26="","",SUM($AD$14:$AD38)-SUM($AE$1:$AE25)) -> 522 | AF38: {=IF(AD38>0,INDEX($AE$14:$AE$1844,MIN(IF($AE38:$AE68<>"",ROW($AE38:$AE$65)-1,""))),"")} -> #REF! | AG38: {=IF(AE38>0,INDEX($I$14:$I$1844,MIN(IF($AE38:$AE1868<>"",ROW($AE38:$AE$1844)-1,""))),"")} -> #REF!
A39: 201312 | B39: 154567 | C39: C | D39: Audrey | E39: ACT | F39: 1 | G39: 2154 | H39: INFIRMIER D.E. 1ER GRADE CATEG.A | I39: IDE | J39: 1012 | K39: NUIT COMMUN 2 | L39: H | S39: 342 | T39: 31 | U39: 0 | V39: 31 | W39: 31 | X39: 41548 | Y39: 42004 | Z39: 1875.94 | AA39: 1 | AB39: 25 | AC39: =IF(T39="","",IF(V39/30>1,1,V39/VLOOKUP(A39,code!$A$159:$C$170,3,FALSE))) -> 1 | AD39: =+(IF(Y39>VLOOKUP(A39,code!$A$159:$E$170,5,FALSE),VLOOKUP(A39,code!$A$159:$E$170,5,FALSE),Y39)-IF(X39<VLOOKUP(A39,code!$A$159:$E$170,4,FALSE),VLOOKUP(A39,code!$A$159:$E$170,4,FALSE),base!X39)+1) -> 31 | AE39: =IF($Z27="","",SUM($AD$14:$AD39)-SUM($AE$1:$AE26)) | AF39: {=IF(AD39>0,INDEX($AE$14:$AE$1844,MIN(IF($AE39:$AE69<>"",ROW($AE39:$AE$65)-1,""))),"")} -> #REF! | AG39: {=IF(AE39>0,INDEX($I$14:$I$1844,MIN(IF($AE39:$AE1869<>"",ROW($AE39:$AE$1844)-1,""))),"")} -> #REF!
A40: 201312 | B40: 154585 | C40: C | D40: Elodie | E40: ACT | F40: 1 | G40: 2154 | H40: INFIRMIER D.E. 1ER GRADE CATEG.A | I40: IDE | J40: 1021 | K40: E.C.S. MEDECINE | L40: H | S40: 342 | T40: 31 | U40: 0 | V40: 31 | W40: 31 | X40: 41609 | Y40: 41670 | Z40: 1875.94 | AA40: 1 | AB40: 25 | AC40: =IF(T40="","",IF(V40/30>1,1,V40/VLOOKUP(A40,code!$A$159:$C$170,3,FALSE))) -> 1 | AD40: =+(IF(Y40>VLOOKUP(A40,code!$A$159:$E$170,5,FALSE),VLOOKUP(A40,code!$A$159:$E$170,5,FALSE),Y40)-IF(X40<VLOOKUP(A40,code!$A$159:$E$170,4,FALSE),VLOOKUP(A40,code!$A$159:$E$170,4,FALSE),base!X40)+1) -> 31 | AE40: =IF($Z28="","",SUM($AD$14:$AD40)-SUM($AE$1:$AE27)) | AF40: {=IF(AD40>0,INDEX($AE$14:$AE$1844,MIN(IF($AE40:$AE70<>"",ROW($AE40:$AE$65)-1,""))),"")} -> #REF! | AG40: {=IF(AE40>0,INDEX($I$14:$I$1844,MIN(IF($AE40:$AE1870<>"",ROW($AE40:$AE$1844)-1,""))),"")} -> #REF!
A41: 201312 | B41: 154771 | C41: C | D41: Angelique | E41: ACT | F41: 1 | G41: 3001 | H41: AIDE SOIGNANT CL N | I41: AIDE-SOIGNANT | J41: 1021 | K41: E.C.S. MEDECINE | L41: H | S41: 310 | T41: 31 | U41: 0 | V41: 31 | W41: 31 | X41: 41548 | Y41: 41670 | Z41: 2052.95 | AA41: 1 | AB41: 25 | AC41: =IF(T41="","",IF(V41/30>1,1,V41/VLOOKUP(A41,code!$A$159:$C$170,3,FALSE))) -> 1 | AD41: =+(IF(Y41>VLOOKUP(A41,code!$A$159:$E$170,5,FALSE),VLOOKUP(A41,code!$A$159:$E$170,5,FALSE),Y41)-IF(X41<VLOOKUP(A41,code!$A$159:$E$170,4,FALSE),VLOOKUP(A41,code!$A$159:$E$170,4,FALSE),base!X41)+1) -> 31 | AE41: =IF($Z29="","",SUM($AD$14:$AD41)-SUM($AE$1:$AE28)) -> -191 | AF41: {=IF(AD41>0,INDEX($AE$14:$AE$1844,MIN(IF($AE41:$AE71<>"",ROW($AE41:$AE$65)-1,""))),"")} -> #REF! | AG41: {=IF(AE41>0,INDEX($I$14:$I$1844,MIN(IF($AE41:$AE1871<>"",ROW($AE41:$AE$1844)-1,""))),"")}
A42: 201312 | B42: 154394 | C42: C | D42: Thomas | E42: ACT | F42: 1 | G42: 4437 | H42: AGT ENTRETIEN QUALIFIE | I42: AGENT D'ENTRETIEN QUALIFIE | J42: 7440 | K42: UNITE CENTRALE DE PRODUCTION | L42: H | S42: 309 | T42: 2 | U42: 0 | V42: 2 | W42: 2 | X42: 41622 | Y42: 41623 | AA42: 1 | AB42: 25 | AC42: =IF(T42="","",IF(V42/30>1,1,V42/VLOOKUP(A42,code!$A$159:$C$170,3,FALSE))) -> 0.064516129 | AD42: =+(IF(Y42>VLOOKUP(A42,code!$A$159:$E$170,5,FALSE),VLOOKUP(A42,code!$A$159:$E$170,5,FALSE),Y42)-IF(X42<VLOOKUP(A42,code!$A$159:$E$170,4,FALSE),VLOOKUP(A42,code!$A$159:$E$170,4,FALSE),base!X42)+1) -> 2 | AE42: =IF($Z30="","",SUM($AD$14:$AD42)-SUM($AE$1:$AE29)) -> -189 | AF42: {=IF(AD42>0,INDEX($AE$14:$AE$1844,MIN(IF($AE42:$AE72<>"",ROW($AE42:$AE$65)-1,""))),"")} -> #REF! | AG42: {=IF(AE42>0,INDEX($I$14:$I$1844,MIN(IF($AE42:$AE1872<>"",ROW($AE42:$AE$1844)-1,""))),"")}
A43: 201312 | B43: 154394 | C43: C | D43: Thomas | E43: ACT | F43: 1 | G43: 4437 | H43: AGT ENTRETIEN QUALIFIE | I43: AGENT D'ENTRETIEN QUALIFIE | J43: 7440 | K43: UNITE CENTRALE DE PRODUCTION | L43: H | S43: 309 | T43: 6 | U43: 0 | V43: 6 | W43: 6 | X43: 41631 | Y43: 41636 | AA43: 1 | AB43: 25 | AC43: =IF(T43="","",IF(V43/30>1,1,V43/VLOOKUP(A43,code!$A$159:$C$170,3,FALSE))) -> 0.19354839 | AD43: =+(IF(Y43>VLOOKUP(A43,code!$A$159:$E$170,5,FALSE),VLOOKUP(A43,code!$A$159:$E$170,5,FALSE),Y43)-IF(X43<VLOOKUP(A43,code!$A$159:$E$170,4,FALSE),VLOOKUP(A43,code!$A$159:$E$170,4,FALSE),base!X43)+1) -> 6 | AE43: =IF($Z31="","",SUM($AD$14:$AD43)-SUM($AE$1:$AE30)) | AF43: {=IF(AD43>0,INDEX($AE$14:$AE$1844,MIN(IF($AE43:$AE73<>"",ROW($AE43:$AE$65)-1,""))),"")} -> #REF! | AG43: {=IF(AE43>0,INDEX($I$14:$I$1844,MIN(IF($AE43:$AE1873<>"",ROW($AE43:$AE$1844)-1,""))),"")} -> #REF!
A44: 201312 | B44: 154894 | C44: C | D44: Sonia | E44: ACT | F44: 1 | G44: 3256 | H44: ASH QUALIFIE | I44: AGENT DES SERVICES HOSPITALIERS | J44: 1024 | K44: E.C.S. POLE MERE | L44: H | S44: 309 | T44: 6 | U44: 0 | V44: 6 | W44: 6 | X44: 41634 | Y44: 41658 | Z44: 318.24 | AA44: 1 | AB44: 25 | AC44: =IF(T44="","",IF(V44/30>1,1,V44/VLOOKUP(A44,code!$A$159:$C$170,3,FALSE))) -> 0.19354839 | AD44: =+(IF(Y44>VLOOKUP(A44,code!$A$159:$E$170,5,FALSE),VLOOKUP(A44,code!$A$159:$E$170,5,FALSE),Y44)-IF(X44<VLOOKUP(A44,code!$A$159:$E$170,4,FALSE),VLOOKUP(A44,code!$A$159:$E$170,4,FALSE),base!X44)+1) -> 6 | AE44: =IF($Z32="","",SUM($AD$14:$AD44)-SUM($AE$1:$AE31)) -> -847 | AF44: {=IF(AD44>0,INDEX($AE$14:$AE$1844,MIN(IF($AE44:$AE74<>"",ROW($AE44:$AE$65)-1,""))),"")} -> #REF! | AG44: {=IF(AE44>0,INDEX($I$14:$I$1844,MIN(IF($AE44:$AE1874<>"",ROW($AE44:$AE$1844)-1,""))),"")}
A45: 201312 | B45: 154565 | C45: D | D45: Jennifer | E45: ACT | F45: 1 | G45: 3001 | H45: AIDE SOIGNANT CL N | I45: AIDE-SOIGNANT | J45: 1011 | K45: NUIT COMMUN 1 | L45: H | S45: 310 | T45: 31 | U45: 0 | V45: 31 | W45: 31 | X45: 41439 | Y45: 41639 | Z45: 1918.73 | AA45: 1 | AB45: 25 | AC45: =IF(T45="","",IF(V45/30>1,1,V45/VLOOKUP(A45,code!$A$159:$C$170,3,FALSE))) -> 1 | AD45: =+(IF(Y45>VLOOKUP(A45,code!$A$159:$E$170,5,FALSE),VLOOKUP(A45,code!$A$159:$E$170,5,FALSE),Y45)-IF(X45<VLOOKUP(A45,code!$A$159:$E$170,4,FALSE),VLOOKUP(A45,code!$A$159:$E$170,4,FALSE),base!X45)+1) -> 31 | AE45: =IF($Z33="","",SUM($AD$14:$AD45)-SUM($AE$1:$AE32)) -> -1194 | AF45: {=IF(AD45>0,INDEX($AE$14:$AE$1844,MIN(IF($AE45:$AE75<>"",ROW($AE45:$AE$65)-1,""))),"")} -> #REF! | AG45: {=IF(AE45>0,INDEX($I$14:$I$1844,MIN(IF($AE45:$AE1875<>"",ROW($AE45:$AE$1844)-1,""))),"")}
A46: 201312 | B46: 154760 | C46: D | D46: Patrick | E46: ACT | F46: 1 | G46: 2334 | H46: SAGE FEMME CLASS NORM | I46: SAGE FEMME | J46: 1024 | K46: E.C.S. POLE MERE | L46: H | S46: 543 | T46: 31 | U46: 0 | V46: 31 | W46: 31 | X46: 41487 | Y46: 41698 | Z46: 2849.94 | AA46: 1 | AB46: 25 | AC46: =IF(T46="","",IF(V46/30>1,1,V46/VLOOKUP(A46,code!$A$159:$C$170,3,FALSE))) -> 1 | AD46: =+(IF(Y46>VLOOKUP(A46,code!$A$159:$E$170,5,FALSE),VLOOKUP(A46,code!$A$159:$E$170,5,FALSE),Y46)-IF(X46<VLOOKUP(A46,code!$A$159:$E$170,4,FALSE),VLOOKUP(A46,code!$A$159:$E$170,4,FALSE),base!X46)+1) -> 31 | AE46: =IF($Z34="","",SUM($AD$14:$AD46)-SUM($AE$1:$AE33)) -> -1552 | AF46: {=IF(AD46>0,INDEX($AE$14:$AE$1844,MIN(IF($AE46:$AE76<>"",ROW($AE46:$AE$65)-1,""))),"")} -> #REF! | AG46: {=IF(AE46>0,INDEX($I$14:$I$1844,MIN(IF($AE46:$AE1876<>"",ROW($AE46:$AE$1844)-1,""))),"")}
A47: 201312 | B47: 152728 | C47: D | D47: Maxime | E47: ACT | F47: 1 | G47: 3001 | H47: AIDE SOIGNANT CL N | I47: AIDE-SOIGNANT | J47: 1110 | K47: SAU SMUR UHCD | L47: H | S47: 310 | T47: 11 | U47: 0 | V47: 11 | W47: 11 | X47: 41629 | Y47: 41644 | Z47: 641.22 | AA47: 1 | AB47: 25 | AC47: =IF(T47="","",IF(V47/30>1,1,V47/VLOOKUP(A47,code!$A$159:$C$170,3,FALSE))) -> 0.35483871 | AD47: =+(IF(Y47>VLOOKUP(A47,code!$A$159:$E$170,5,FALSE),VLOOKUP(A47,code!$A$159:$E$170,5,FALSE),Y47)-IF(X47<VLOOKUP(A47,code!$A$159:$E$170,4,FALSE),VLOOKUP(A47,code!$A$159:$E$170,4,FALSE),base!X47)+1) -> 11 | AE47: =IF($Z35="","",SUM($AD$14:$AD47)-SUM($AE$1:$AE34)) | AF47: {=IF(AD47>0,INDEX($AE$14:$AE$1844,MIN(IF($AE47:$AE77<>"",ROW($AE47:$AE$65)-1,""))),"")} -> #REF! | AG47: {=IF(AE47>0,INDEX($I$14:$I$1844,MIN(IF($AE47:$AE1877<>"",ROW($AE47:$AE$1844)-1,""))),"")} -> #REF!
A48: 201312 | B48: 154903 | C48: D | D48: Justine | E48: ACT | F48: 1 | G48: 2154 | H48: INFIRMIER D.E. 1ER GRADE CATEG.A | I48: IDE | J48: 4090 | K48: EHPAD | L48: J | S48: 342 | T48: 4 | U48: 0 | V48: 4 | W48: 4 | X48: 41628 | Y48: 41631 | AA48: 1 | AB48: 25 | AC48: =IF(T48="","",IF(V48/30>1,1,V48/VLOOKUP(A48,code!$A$159:$C$170,3,FALSE))) -> 0.12903226 | AD48: =+(IF(Y48>VLOOKUP(A48,code!$A$159:$E$170,5,FALSE),VLOOKUP(A48,code!$A$159:$E$170,5,FALSE),Y48)-IF(X48<VLOOKUP(A48,code!$A$159:$E$170,4,FALSE),VLOOKUP(A48,code!$A$159:$E$170,4,FALSE),base!X48)+1) -> 4 | AE48: =IF($Z36="","",SUM($AD$14:$AD48)-SUM($AE$1:$AE35)) -> -1537 | AF48: {=IF(AD48>0,INDEX($AE$14:$AE$1844,MIN(IF($AE48:$AE78<>"",ROW($AE48:$AE$65)-1,""))),"")} -> #REF! | AG48: {=IF(AE48>0,INDEX($I$14:$I$1844,MIN(IF($AE48:$AE1878<>"",ROW($AE48:$AE$1844)-1,""))),"")}
A49: 201312 | B49: 154842 | C49: D | D49: Alicia | E49: ACT | F49: 1 | G49: 1423 | H49: ADJ ADMI HOSPI 2CL | I49: ADJOINT ADMINISTRATIF | J49: 1016 | K49: ECS AMA | L49: H | S49: 309 | T49: 9 | U49: 0 | V49: 9 | W49: 9 | X49: 41631 | Y49: 41642 | AA49: 1 | AB49: 25 | AC49: =IF(T49="","",IF(V49/30>1,1,V49/VLOOKUP(A49,code!$A$159:$C$170,3,FALSE))) -> 0.29032258 | AD49: =+(IF(Y49>VLOOKUP(A49,code!$A$159:$E$170,5,FALSE),VLOOKUP(A49,code!$A$159:$E$170,5,FALSE),Y49)-IF(X49<VLOOKUP(A49,code!$A$159:$E$170,4,FALSE),VLOOKUP(A49,code!$A$159:$E$170,4,FALSE),base!X49)+1) -> 9 | AE49: =IF($Z37="","",SUM($AD$14:$AD49)-SUM($AE$1:$AE36)) -> -1990 | AF49: {=IF(AD49>0,INDEX($AE$14:$AE$1844,MIN(IF($AE49:$AE79<>"",ROW($AE49:$AE$65)-1,""))),"")} -> #REF! | AG49: {=IF(AE49>0,INDEX($I$14:$I$1844,MIN(IF($AE49:$AE1879<>"",ROW($AE49:$AE$1844)-1,""))),"")}
A50: 201312 | B50: 154829 | C50: D | D50: Lucie | E50: ACT | F50: 1 | G50: 3256 | H50: ASH QUALIFIE | I50: AGENT DES SERVICES HOSPITALIERS | J50: 4300 | K50: USLD | L50: B | S50: 309 | T50: 31 | U50: 0 | V50: 31 | W50: 31 | X50: 41579 | Y50: 41639 | Z50: 1715.47 | AA50: 1 | AB50: 25 | AC50: =IF(T50="","",IF(V50/30>1,1,V50/VLOOKUP(A50,code!$A$159:$C$170,3,FALSE))) -> 1 | AD50: =+(IF(Y50>VLOOKUP(A50,code!$A$159:$E$170,5,FALSE),VLOOKUP(A50,code!$A$159:$E$170,5,FALSE),Y50)-IF(X50<VLOOKUP(A50,code!$A$159:$E$170,4,FALSE),VLOOKUP(A50,code!$A$159:$E$170,4,FALSE),base!X50)+1) -> 31 | AE50: =IF($Z38="","",SUM($AD$14:$AD50)-SUM($AE$1:$AE37)) -> -2452 | AF50: {=IF(AD50>0,INDEX($AE$14:$AE$1844,MIN(IF($AE50:$AE80<>"",ROW($AE50:$AE$65)-1,""))),"")} -> #REF! | AG50: {=IF(AE50>0,INDEX($I$14:$I$1844,MIN(IF($AE50:$AE1880<>"",ROW($AE50:$AE$1844)-1,""))),"")}
A51: 201312 | B51: 154896 | C51: D | D51: Hadrien | E51: ACT | F51: 1 | G51: 2154 | H51: INFIRMIER D.E. 1ER GRADE CATEG.A | I51: IDE | J51: 1110 | K51: SAU SMUR UHCD | L51: H | S51: 342 | T51: 11 | U51: 0 | V51: 11 | W51: 11 | X51: 41629 | Y51: 41639 | Z51: 689.58 | AA51: 1 | AB51: 25 | AC51: =IF(T51="","",IF(V51/30>1,1,V51/VLOOKUP(A51,code!$A$159:$C$170,3,FALSE))) -> 0.35483871 | AD51: =+(IF(Y51>VLOOKUP(A51,code!$A$159:$E$170,5,FALSE),VLOOKUP(A51,code!$A$159:$E$170,5,FALSE),Y51)-IF(X51<VLOOKUP(A51,code!$A$159:$E$170,4,FALSE),VLOOKUP(A51,code!$A$159:$E$170,4,FALSE),base!X51)+1) -> 11 | AE51: =IF($Z39="","",SUM($AD$14:$AD51)-SUM($AE$1:$AE38)) -> -2963 | AF51: {=IF(AD51>0,INDEX($AE$14:$AE$1844,MIN(IF($AE51:$AE81<>"",ROW($AE51:$AE$65)-1,""))),"")} -> #REF! | AG51: {=IF(AE51>0,INDEX($I$14:$I$1844,MIN(IF($AE51:$AE1881<>"",ROW($AE51:$AE$1844)-1,""))),"")}
A52: 201312 | B52: 154589 | C52: D | D52: Angelique | E52: ACT | F52: 1 | G52: 3001 | H52: AIDE SOIGNANT CL N | I52: AIDE-SOIGNANT | J52: 1021 | K52: E.C.S. MEDECINE | L52: H | S52: 310 | T52: 31 | U52: 0 | V52: 31 | W52: 31 | X52: 41579 | Y52: 41639 | Z52: 1817.11 | AA52: 1 | AB52: 25 | AC52: =IF(T52="","",IF(V52/30>1,1,V52/VLOOKUP(A52,code!$A$159:$C$170,3,FALSE))) -> 1 | AD52: =+(IF(Y52>VLOOKUP(A52,code!$A$159:$E$170,5,FALSE),VLOOKUP(A52,code!$A$159:$E$170,5,FALSE),Y52)-IF(X52<VLOOKUP(A52,code!$A$159:$E$170,4,FALSE),VLOOKUP(A52,code!$A$159:$E$170,4,FALSE),base!X52)+1) -> 31 | AE52: =IF($Z40="","",SUM($AD$14:$AD52)-SUM($AE$1:$AE39)) -> -2932 | AF52: {=IF(AD52>0,INDEX($AE$14:$AE$1844,MIN(IF($AE52:$AE82<>"",ROW($AE52:$AE$65)-1,""))),"")} -> #REF! | AG52: {=IF(AE52>0,INDEX($I$14:$I$1844,MIN(IF($AE52:$AE1882<>"",ROW($AE52:$AE$1844)-1,""))),"")}
...
