Workbook
Name AN: [1]Tableau!$B$5

Sheet Feuil2
B3: 1 | C3: 2 | D3: 3 | E3: 4 | F3: 5 | G3: 6 | H3: 7 | I3: 8 | J3: 9 | K3: 10 | L3: 11 | M3: 12 | N3: 13 | O3: 14 | P3: 15 | Q3: 16 | R3: 17 | S3: 18 | T3: 19 | U3: 20 | V3: 21 | W3: 22 | X3: 23 | Y3: 24 | Z3: 25 | AA3: 26 | AB3: 27 | AC3: 28 | AD3: 29 | AE3: 30 | AF3: 31
A4: JANVIER | D4: a | E4: a | F4: a | G4: a | H4: a | I4: a | J4: a
A5: FEVRIER | D5: a
A6: MARS | G6: a | H6: a | I6: a | J6: a | K6: a | L6: a | M6: b | N6: b | O6: b | P6: b | Q6: c | R6: c | S6: c
A7: AVRIL
A8: MAI
A9: JUIN
A10: JUILLET
A11: AOUT
A12: SEPTEMBRE
A13: OCTOBRE
A14: NOVEMBRE
A15: décembre

Sheet Feuil1
B3: 1 | C3: 2 | D3: 3 | E3: 4 | F3: 5 | G3: 6 | H3: 7 | I3: 8 | J3: 9 | K3: 10 | L3: 11 | M3: 12 | N3: 13 | O3: 14 | P3: 15 | Q3: 16 | R3: 17 | S3: 18 | T3: 19 | U3: 20 | V3: 21 | W3: 22 | X3: 23 | Y3: 24 | Z3: 25 | AA3: 26 | AB3: 27 | AC3: 28 | AD3: 29 | AE3: 30 | AF3: 31
A4: JANVIER | B4: =IF(Feuil2!B4="","",Feuil2!B4) | C4: =IF(Feuil2!C4="","",Feuil2!C4) | D4: =IF(Feuil2!D4="","",Feuil2!D4) -> a | E4: =IF(Feuil2!E4="","",Feuil2!E4) -> a | F4: =IF(Feuil2!F4="","",Feuil2!F4) -> a | G4: =IF(Feuil2!G4="","",Feuil2!G4) -> a | H4: =IF(Feuil2!H4="","",Feuil2!H4) -> a | I4: =IF(Feuil2!I4="","",Feuil2!I4) -> a | ... AF4: =IF(Feuil2!AF4="","",Feuil2!AF4) | AG4: {=IFERROR("Du "&INDEX($B$3:$AF$3,MATCH(INDEX(B4:AF4,MATCH(TRUE,B4:AF4<>"",0)),B4:AF4,0))&" "&"au "&INDEX($B$3:$AF$3,MATCH(2,1/(INDEX(B4:AF4,MAX(COLUMN(B4:AF4)*NOT(ISBLANK(B4:AF4)))-COLUMN(B4:AF4)+1)=B4:AF4)))&" "&A4,"")} -> Du 3 au 31 JANVIER | AH4: du 3 au 9 janvier
A5: FEVRIER | B5: =IF(Feuil2!B5="","",Feuil2!B5) | C5: =IF(Feuil2!C5="","",Feuil2!C5) | D5: =IF(Feuil2!D5="","",Feuil2!D5) -> a | E5: =IF(Feuil2!E5="","",Feuil2!E5) | F5: =IF(Feuil2!F5="","",Feuil2!F5) | G5: =IF(Feuil2!G5="","",Feuil2!G5) | H5: =IF(Feuil2!H5="","",Feuil2!H5) | I5: =IF(Feuil2!I5="","",Feuil2!I5) | ... AF5: =IF(Feuil2!AF5="","",Feuil2!AF5) | AG5: {=IFERROR("Du "&INDEX($B$3:$AF$3,MATCH(INDEX(B5:AF5,MATCH(TRUE,B5:AF5<>"",0)),B5:AF5,0))&" "&"au "&INDEX($B$3:$AF$3,MATCH(2,1/(INDEX(B5:AF5,MAX(COLUMN(B5:AF5)*NOT(ISBLANK(B5:AF5)))-COLUMN(B5:AF5)+1)=B5:AF5)))&" "&A5,"")} -> Du 3 au 31 FEVRIER
A6: MARS | B6: =IF(Feuil2!B6="","",Feuil2!B6) | C6: =IF(Feuil2!C6="","",Feuil2!C6) | D6: =IF(Feuil2!D6="","",Feuil2!D6) | E6: =IF(Feuil2!E6="","",Feuil2!E6) | F6: =IF(Feuil2!F6="","",Feuil2!F6) | G6: =IF(Feuil2!G6="","",Feuil2!G6) -> a | H6: =IF(Feuil2!H6="","",Feuil2!H6) -> a | I6: =IF(Feuil2!I6="","",Feuil2!I6) -> a | ... AF6: =IF(Feuil2!AF6="","",Feuil2!AF6) | AG6: {=IFERROR("Du "&INDEX($B$3:$AF$3,MATCH(INDEX(B6:AF6,MATCH(TRUE,B6:AF6<>"",0)),B6:AF6,0))&" "&"au "&INDEX($B$3:$AF$3,MATCH(2,1/(INDEX(B6:AF6,MAX(COLUMN(B6:AF6)*NOT(ISBLANK(B6:AF6)))-COLUMN(B6:AF6)+1)=B6:AF6)))&" "&A6,"")} -> Du 6 au 31 MARS | AH6: du 9 au 16 mars | AI6: du 24 au 28 mars
A7: AVRIL | B7: =IF(Feuil2!B7="","",Feuil2!B7) | C7: =IF(Feuil2!C7="","",Feuil2!C7) | D7: =IF(Feuil2!D7="","",Feuil2!D7) | E7: =IF(Feuil2!E7="","",Feuil2!E7) | F7: =IF(Feuil2!F7="","",Feuil2!F7) | G7: =IF(Feuil2!G7="","",Feuil2!G7) | H7: =IF(Feuil2!H7="","",Feuil2!H7) | I7: =IF(Feuil2!I7="","",Feuil2!I7) | ... AF7: =IF(Feuil2!AF7="","",Feuil2!AF7) | AG7: {=IFERROR("Du "&INDEX($B$3:$AF$3,MATCH(INDEX(B7:AF7,MATCH(TRUE,B7:AF7<>"",0)),B7:AF7,0))&" "&"au "&INDEX($B$3:$AF$3,MATCH(2,1/(INDEX(B7:AF7,MAX(COLUMN(B7:AF7)*NOT(ISBLANK(B7:AF7)))-COLUMN(B7:AF7)+1)=B7:AF7)))&" "&A7,"")}
A8: MAI | AG8: {=IFERROR("Du "&INDEX($B$3:$AF$3,MATCH(INDEX(B8:AF8,MATCH(TRUE,B8:AF8<>"",0)),B8:AF8,0))&" "&"au "&INDEX($B$3:$AF$3,MATCH(2,1/(INDEX(B8:AF8,MAX(COLUMN(B8:AF8)*NOT(ISBLANK(B8:AF8)))-COLUMN(B8:AF8)+1)=B8:AF8)))&" "&A8,"")}
A9: JUIN | AG9: {=IFERROR("Du "&INDEX($B$3:$AF$3,MATCH(INDEX(B9:AF9,MATCH(TRUE,B9:AF9<>"",0)),B9:AF9,0))&" "&"au "&INDEX($B$3:$AF$3,MATCH(2,1/(INDEX(B9:AF9,MAX(COLUMN(B9:AF9)*NOT(ISBLANK(B9:AF9)))-COLUMN(B9:AF9)+1)=B9:AF9)))&" "&A9,"")}
A10: JUILLET | AG10: {=IFERROR("Du "&INDEX($B$3:$AF$3,MATCH(INDEX(B10:AF10,MATCH(TRUE,B10:AF10<>"",0)),B10:AF10,0))&" "&"au "&INDEX($B$3:$AF$3,MATCH(2,1/(INDEX(B10:AF10,MAX(COLUMN(B10:AF10)*NOT(ISBLANK(B10:AF10)))-COLUMN(B10:AF10)+1)=B10:AF10)))&" "&A10,"")}
A11: AOUT | AG11: {=IFERROR("Du "&INDEX($B$3:$AF$3,MATCH(INDEX(B11:AF11,MATCH(TRUE,B11:AF11<>"",0)),B11:AF11,0))&" "&"au "&INDEX($B$3:$AF$3,MATCH(2,1/(INDEX(B11:AF11,MAX(COLUMN(B11:AF11)*NOT(ISBLANK(B11:AF11)))-COLUMN(B11:AF11)+1)=B11:AF11)))&" "&A11,"")}
A12: SEPTEMBRE | AG12: {=IFERROR("Du "&INDEX($B$3:$AF$3,MATCH(INDEX(B12:AF12,MATCH(TRUE,B12:AF12<>"",0)),B12:AF12,0))&" "&"au "&INDEX($B$3:$AF$3,MATCH(2,1/(INDEX(B12:AF12,MAX(COLUMN(B12:AF12)*NOT(ISBLANK(B12:AF12)))-COLUMN(B12:AF12)+1)=B12:AF12)))&" "&A12,"")}
A13: OCTOBRE | AG13: {=IFERROR("Du "&INDEX($B$3:$AF$3,MATCH(INDEX(B13:AF13,MATCH(TRUE,B13:AF13<>"",0)),B13:AF13,0))&" "&"au "&INDEX($B$3:$AF$3,MATCH(2,1/(INDEX(B13:AF13,MAX(COLUMN(B13:AF13)*NOT(ISBLANK(B13:AF13)))-COLUMN(B13:AF13)+1)=B13:AF13)))&" "&A13,"")}
A14: NOVEMBRE | AG14: {=IFERROR("Du "&INDEX($B$3:$AF$3,MATCH(INDEX(B14:AF14,MATCH(TRUE,B14:AF14<>"",0)),B14:AF14,0))&" "&"au "&INDEX($B$3:$AF$3,MATCH(2,1/(INDEX(B14:AF14,MAX(COLUMN(B14:AF14)*NOT(ISBLANK(B14:AF14)))-COLUMN(B14:AF14)+1)=B14:AF14)))&" "&A14,"")}
A15: décembre | AG15: {=IFERROR("Du "&INDEX($B$3:$AF$3,MATCH(INDEX(B15:AF15,MATCH(TRUE,B15:AF15<>"",0)),B15:AF15,0))&" "&"au "&INDEX($B$3:$AF$3,MATCH(2,1/(INDEX(B15:AF15,MAX(COLUMN(B15:AF15)*NOT(ISBLANK(B15:AF15)))-COLUMN(B15:AF15)+1)=B15:AF15)))&" "&A15,"")}
H18: Comme les cellules de la feuil 1 font référence aux cellules du tableau feuil 2, j'ai donc indiqué que si les cellules de la feuil2 sont vides alors les cellules de la feuil 1 sont vides également. Ca résoud une partie de mon problème car à présent la formule en colone AG permet de bien commencer à la bonne date . Cependant la formule ne prend pas en compte la fin réel de la période, tout se termine au 31
