Workbook
Name AN: '[1]Demande et périodes'!$B$5
Name copie3: #REF!
Name copie3: #REF!
Name copies: #REF!
Name copies: #REF!

Sheet CALENDRIER
A1: 0 | C1: 42005 | D1: =CHOOSE(WEEKDAY(D2,2),"L","M","M","J","V","S","D") -> J | E1: =CHOOSE(WEEKDAY(E2,2),"L","M","M","J","V","S","D") -> V | F1: =CHOOSE(WEEKDAY(F2,2),"L","M","M","J","V","S","D") -> S | G1: =CHOOSE(WEEKDAY(G2,2),"L","M","M","J","V","S","D") -> D | H1: =CHOOSE(WEEKDAY(H2,2),"L","M","M","J","V","S","D") -> L | I1: =CHOOSE(WEEKDAY(I2,2),"L","M","M","J","V","S","D") -> M | J1: =CHOOSE(WEEKDAY(J2,2),"L","M","M","J","V","S","D") -> M | K1: =CHOOSE(WEEKDAY(K2,2),"L","M","M","J","V","S","D") -> J | ... AH1: =CHOOSE(WEEKDAY(AH2,2),"L","M","M","J","V","S","D") -> S
A2: 1 | B2: b | C2: =IF(A2="","",IF(OR(B2="a",B2="c"),"",IF(B2="b",HLOOKUP(A2,Table!$A$1:$L$22,2,FALSE),VLOOKUP(B2,Données!$A$2:$B$101,2,FALSE)))) -> JANVIER | D2: =$C$1 -> 42005 | E2: =D2+1 -> 42006 | F2: =E2+1 -> 42007 | G2: =F2+1 -> 42008 | H2: =G2+1 -> 42009 | I2: =H2+1 -> 42010 | J2: =I2+1 -> 42011 | K2: =J2+1 -> 42012 | L2: =K2+1 -> 42013 | ... AH2: =AG2+1 -> 42035
A3: =IF(A2="","",IF(AND(B3="b",A2=12),"",A2+IF(B3="b",1,0))) -> 1 | B3: c | C3: =IF(A3="","",IF(OR(B3="a",B3="c"),"",IF(B3="b",HLOOKUP(A3,Table!$A$1:$L$22,2,FALSE),VLOOKUP(B3,Données!$A$2:$B$101,2,FALSE))))
A4: =IF(A3="","",IF(AND(B4="b",A3=12),"",A3+IF(B4="b",1,0))) -> 1 | B4: =IF(A3="","",IF(B3="c",1,IF(B3="b","c",IF(B3="a","b",IF(B3>=MAX(Données!$A$2:$A$51),"a",B3+IF(B3>=MAX(Données!$A$2:$A$51),0,1)))))) -> 1 | C4: =IF(A4="","",IF(OR(B4="a",B4="c"),"",IF(B4="b",HLOOKUP(A4,Table!$A$1:$L$22,2,FALSE),VLOOKUP(B4,Données!$A$2:$B$101,2,FALSE)))) -> A | AJ4: 42005
A5: =IF(A4="","",IF(AND(B5="b",A4=12),"",A4+IF(B5="b",1,0))) -> 1 | B5: =IF(A4="","",IF(B4="c",1,IF(B4="b","c",IF(B4="a","b",IF(B4>=MAX(Données!$A$2:$A$51),"a",B4+IF(B4>=MAX(Données!$A$2:$A$51),0,1)))))) -> 2 | C5: =IF(A5="","",IF(OR(B5="a",B5="c"),"",IF(B5="b",HLOOKUP(A5,Table!$A$1:$L$22,2,FALSE),VLOOKUP(B5,Données!$A$2:$B$101,2,FALSE)))) -> B | AJ5: 42370
A6: =IF(A5="","",IF(AND(B6="b",A5=12),"",A5+IF(B6="b",1,0))) -> 1 | B6: =IF(A5="","",IF(B5="c",1,IF(B5="b","c",IF(B5="a","b",IF(B5>=MAX(Données!$A$2:$A$51),"a",B5+IF(B5>=MAX(Données!$A$2:$A$51),0,1)))))) -> 3 | C6: =IF(A6="","",IF(OR(B6="a",B6="c"),"",IF(B6="b",HLOOKUP(A6,Table!$A$1:$L$22,2,FALSE),VLOOKUP(B6,Données!$A$2:$B$101,2,FALSE)))) -> C | AJ6: 42736
A7: =IF(A6="","",IF(AND(B7="b",A6=12),"",A6+IF(B7="b",1,0))) -> 1 | B7: =IF(A6="","",IF(B6="c",1,IF(B6="b","c",IF(B6="a","b",IF(B6>=MAX(Données!$A$2:$A$51),"a",B6+IF(B6>=MAX(Données!$A$2:$A$51),0,1)))))) -> 4 | C7: =IF(A7="","",IF(OR(B7="a",B7="c"),"",IF(B7="b",HLOOKUP(A7,Table!$A$1:$L$22,2,FALSE),VLOOKUP(B7,Données!$A$2:$B$101,2,FALSE)))) -> D
A8: =IF(A7="","",IF(AND(B8="b",A7=12),"",A7+IF(B8="b",1,0))) -> 1 | B8: =IF(A7="","",IF(B7="c",1,IF(B7="b","c",IF(B7="a","b",IF(B7>=MAX(Données!$A$2:$A$51),"a",B7+IF(B7>=MAX(Données!$A$2:$A$51),0,1)))))) -> 5 | C8: =IF(A8="","",IF(OR(B8="a",B8="c"),"",IF(B8="b",HLOOKUP(A8,Table!$A$1:$L$22,2,FALSE),VLOOKUP(B8,Données!$A$2:$B$101,2,FALSE)))) -> E
A9: =IF(A8="","",IF(AND(B9="b",A8=12),"",A8+IF(B9="b",1,0))) -> 1 | B9: =IF(A8="","",IF(B8="c",1,IF(B8="b","c",IF(B8="a","b",IF(B8>=MAX(Données!$A$2:$A$51),"a",B8+IF(B8>=MAX(Données!$A$2:$A$51),0,1)))))) -> 6 | C9: =IF(A9="","",IF(OR(B9="a",B9="c"),"",IF(B9="b",HLOOKUP(A9,Table!$A$1:$L$22,2,FALSE),VLOOKUP(B9,Données!$A$2:$B$101,2,FALSE)))) -> F
A10: =IF(A9="","",IF(AND(B10="b",A9=12),"",A9+IF(B10="b",1,0))) -> 1 | B10: =IF(A9="","",IF(B9="c",1,IF(B9="b","c",IF(B9="a","b",IF(B9>=MAX(Données!$A$2:$A$51),"a",B9+IF(B9>=MAX(Données!$A$2:$A$51),0,1)))))) -> 7 | C10: =IF(A10="","",IF(OR(B10="a",B10="c"),"",IF(B10="b",HLOOKUP(A10,Table!$A$1:$L$22,2,FALSE),VLOOKUP(B10,Données!$A$2:$B$101,2,FALSE)))) -> G
A11: =IF(A10="","",IF(AND(B11="b",A10=12),"",A10+IF(B11="b",1,0))) -> 1 | B11: =IF(A10="","",IF(B10="c",1,IF(B10="b","c",IF(B10="a","b",IF(B10>=MAX(Données!$A$2:$A$51),"a",B10+IF(B10>=MAX(Données!$A$2:$A$51),0,1)))))) -> 8 | C11: =IF(A11="","",IF(OR(B11="a",B11="c"),"",IF(B11="b",HLOOKUP(A11,Table!$A$1:$L$22,2,FALSE),VLOOKUP(B11,Données!$A$2:$B$101,2,FALSE)))) -> H
A12: =IF(A11="","",IF(AND(B12="b",A11=12),"",A11+IF(B12="b",1,0))) -> 1 | B12: =IF(A11="","",IF(B11="c",1,IF(B11="b","c",IF(B11="a","b",IF(B11>=MAX(Données!$A$2:$A$51),"a",B11+IF(B11>=MAX(Données!$A$2:$A$51),0,1)))))) -> 9 | C12: =IF(A12="","",IF(OR(B12="a",B12="c"),"",IF(B12="b",HLOOKUP(A12,Table!$A$1:$L$22,2,FALSE),VLOOKUP(B12,Données!$A$2:$B$101,2,FALSE)))) -> I
A13: =IF(A12="","",IF(AND(B13="b",A12=12),"",A12+IF(B13="b",1,0))) -> 1 | B13: =IF(A12="","",IF(B12="c",1,IF(B12="b","c",IF(B12="a","b",IF(B12>=MAX(Données!$A$2:$A$51),"a",B12+IF(B12>=MAX(Données!$A$2:$A$51),0,1)))))) -> 10 | C13: =IF(A13="","",IF(OR(B13="a",B13="c"),"",IF(B13="b",HLOOKUP(A13,Table!$A$1:$L$22,2,FALSE),VLOOKUP(B13,Données!$A$2:$B$101,2,FALSE)))) -> J
A14: =IF(A13="","",IF(AND(B14="b",A13=12),"",A13+IF(B14="b",1,0))) -> 1 | B14: =IF(A13="","",IF(B13="c",1,IF(B13="b","c",IF(B13="a","b",IF(B13>=MAX(Données!$A$2:$A$51),"a",B13+IF(B13>=MAX(Données!$A$2:$A$51),0,1)))))) -> 11 | C14: =IF(A14="","",IF(OR(B14="a",B14="c"),"",IF(B14="b",HLOOKUP(A14,Table!$A$1:$L$22,2,FALSE),VLOOKUP(B14,Données!$A$2:$B$101,2,FALSE)))) -> K
A15: =IF(A14="","",IF(AND(B15="b",A14=12),"",A14+IF(B15="b",1,0))) -> 1 | B15: =IF(A14="","",IF(B14="c",1,IF(B14="b","c",IF(B14="a","b",IF(B14>=MAX(Données!$A$2:$A$51),"a",B14+IF(B14>=MAX(Données!$A$2:$A$51),0,1)))))) -> 12 | C15: =IF(A15="","",IF(OR(B15="a",B15="c"),"",IF(B15="b",HLOOKUP(A15,Table!$A$1:$L$22,2,FALSE),VLOOKUP(B15,Données!$A$2:$B$101,2,FALSE)))) -> L
A16: =IF(A15="","",IF(AND(B16="b",A15=12),"",A15+IF(B16="b",1,0))) -> 1 | B16: =IF(A15="","",IF(B15="c",1,IF(B15="b","c",IF(B15="a","b",IF(B15>=MAX(Données!$A$2:$A$51),"a",B15+IF(B15>=MAX(Données!$A$2:$A$51),0,1)))))) -> 13 | C16: =IF(A16="","",IF(OR(B16="a",B16="c"),"",IF(B16="b",HLOOKUP(A16,Table!$A$1:$L$22,2,FALSE),VLOOKUP(B16,Données!$A$2:$B$101,2,FALSE)))) -> M
A17: =IF(A16="","",IF(AND(B17="b",A16=12),"",A16+IF(B17="b",1,0))) -> 1 | B17: =IF(A16="","",IF(B16="c",1,IF(B16="b","c",IF(B16="a","b",IF(B16>=MAX(Données!$A$2:$A$51),"a",B16+IF(B16>=MAX(Données!$A$2:$A$51),0,1)))))) -> 14 | C17: =IF(A17="","",IF(OR(B17="a",B17="c"),"",IF(B17="b",HLOOKUP(A17,Table!$A$1:$L$22,2,FALSE),VLOOKUP(B17,Données!$A$2:$B$101,2,FALSE)))) -> N
A18: =IF(A17="","",IF(AND(B18="b",A17=12),"",A17+IF(B18="b",1,0))) -> 1 | B18: =IF(A17="","",IF(B17="c",1,IF(B17="b","c",IF(B17="a","b",IF(B17>=MAX(Données!$A$2:$A$51),"a",B17+IF(B17>=MAX(Données!$A$2:$A$51),0,1)))))) -> 15 | C18: =IF(A18="","",IF(OR(B18="a",B18="c"),"",IF(B18="b",HLOOKUP(A18,Table!$A$1:$L$22,2,FALSE),VLOOKUP(B18,Données!$A$2:$B$101,2,FALSE)))) -> O
... A29: =IF(A28="","",IF(AND(B29="b",A28=12),"",A28+IF(B29="b",1,0))) -> 1 | B29: =IF(A28="","",IF(B28="c",1,IF(B28="b","c",IF(B28="a","b",IF(B28>=MAX(Données!$A$2:$A$51),"a",B28+IF(B28>=MAX(Données!$A$2:$A$51),0,1)))))) -> 26 | C29: =IF(A29="","",IF(OR(B29="a",B29="c"),"",IF(B29="b",HLOOKUP(A29,Table!$A$1:$L$22,2,FALSE),VLOOKUP(B29,Données!$A$2:$B$101,2,FALSE)))) -> vb
A30: =IF(A29="","",IF(AND(B30="b",A29=12),"",A29+IF(B30="b",1,0))) -> 1 | B30: =IF(A29="","",IF(B29="c",1,IF(B29="b","c",IF(B29="a","b",IF(B29>=MAX(Données!$A$2:$A$51),"a",B29+IF(B29>=MAX(Données!$A$2:$A$51),0,1)))))) -> 27 | C30: =IF(A30="","",IF(OR(B30="a",B30="c"),"",IF(B30="b",HLOOKUP(A30,Table!$A$1:$L$22,2,FALSE),VLOOKUP(B30,Données!$A$2:$B$101,2,FALSE)))) -> nb | D30: =COUNTA(D4:D28) -> 0 | E30: =COUNTA(E4:E28) -> 0 | F30: =COUNTA(F4:F28) -> 0 | G30: =COUNTA(G4:G28) -> 0 | H30: =COUNTA(H4:H28) -> 0 | I30: =COUNTA(I4:I28) -> 0 | J30: =COUNTA(J4:J28) -> 0 | K30: =COUNTA(K4:K28) -> 0 | ... AH30: =COUNTA(AH4:AH28) -> 0
A31: =IF(A30="","",IF(AND(B31="b",A30=12),"",A30+IF(B31="b",1,0))) -> 1 | B31: =IF(A30="","",IF(B30="c",1,IF(B30="b","c",IF(B30="a","b",IF(B30>=MAX(Données!$A$2:$A$51),"a",B30+IF(B30>=MAX(Données!$A$2:$A$51),0,1)))))) -> a | C31: =IF(A31="","",IF(OR(B31="a",B31="c"),"",IF(B31="b",HLOOKUP(A31,Table!$A$1:$L$22,2,FALSE),VLOOKUP(B31,Données!$A$2:$B$101,2,FALSE)))) | D31: =CHOOSE(WEEKDAY(D32,2),"L","M","M","J","V","S","D") -> D | E31: =CHOOSE(WEEKDAY(E32,2),"L","M","M","J","V","S","D") -> L | F31: =CHOOSE(WEEKDAY(F32,2),"L","M","M","J","V","S","D") -> M | G31: =CHOOSE(WEEKDAY(G32,2),"L","M","M","J","V","S","D") -> M | H31: =CHOOSE(WEEKDAY(H32,2),"L","M","M","J","V","S","D") -> J | I31: =CHOOSE(WEEKDAY(I32,2),"L","M","M","J","V","S","D") -> V | J31: =CHOOSE(WEEKDAY(J32,2),"L","M","M","J","V","S","D") -> S | K31: =CHOOSE(WEEKDAY(K32,2),"L","M","M","J","V","S","D") -> D | ... AF31: =CHOOSE(WEEKDAY(AF32,2),"L","M","M","J","V","S","D") -> D | AJ31: =DATE(YEAR(C1),MONTH(C1)+1,DAY(C1)) -> 42036
A32: =IF(A31="","",IF(AND(B32="b",A31=12),"",A31+IF(B32="b",1,0))) -> 2 | B32: =IF(A31="","",IF(B31="c",1,IF(B31="b","c",IF(B31="a","b",IF(B31>=MAX(Données!$A$2:$A$51),"a",B31+IF(B31>=MAX(Données!$A$2:$A$51),0,1)))))) -> b | C32: =IF(A32="","",IF(OR(B32="a",B32="c"),"",IF(B32="b",HLOOKUP(A32,Table!$A$1:$L$22,2,FALSE),VLOOKUP(B32,Données!$A$2:$B$101,2,FALSE)))) -> FEVRIER | D32: =$AJ$31 -> 42036 | E32: =D32+1 -> 42037 | F32: =E32+1 -> 42038 | G32: =F32+1 -> 42039 | H32: =G32+1 -> 42040 | I32: =H32+1 -> 42041 | J32: =I32+1 -> 42042 | K32: =J32+1 -> 42043 | L32: =K32+1 -> 42044 | ... AF32: =AE32+1 -> 42064
A33: =IF(A32="","",IF(AND(B33="b",A32=12),"",A32+IF(B33="b",1,0))) -> 2 | B33: =IF(A32="","",IF(B32="c",1,IF(B32="b","c",IF(B32="a","b",IF(B32>=MAX(Données!$A$2:$A$51),"a",B32+IF(B32>=MAX(Données!$A$2:$A$51),0,1)))))) -> c | C33: =IF(A33="","",IF(OR(B33="a",B33="c"),"",IF(B33="b",HLOOKUP(A33,Table!$A$1:$L$22,2,FALSE),VLOOKUP(B33,Données!$A$2:$B$101,2,FALSE))))
A34: =IF(A33="","",IF(AND(B34="b",A33=12),"",A33+IF(B34="b",1,0))) -> 2 | B34: =IF(A33="","",IF(B33="c",1,IF(B33="b","c",IF(B33="a","b",IF(B33>=MAX(Données!$A$2:$A$51),"a",B33+IF(B33>=MAX(Données!$A$2:$A$51),0,1)))))) -> 1 | C34: =IF(A34="","",IF(OR(B34="a",B34="c"),"",IF(B34="b",HLOOKUP(A34,Table!$A$1:$L$22,2,FALSE),VLOOKUP(B34,Données!$A$2:$B$101,2,FALSE)))) -> A
A35: =IF(A34="","",IF(AND(B35="b",A34=12),"",A34+IF(B35="b",1,0))) -> 2 | B35: =IF(A34="","",IF(B34="c",1,IF(B34="b","c",IF(B34="a","b",IF(B34>=MAX(Données!$A$2:$A$51),"a",B34+IF(B34>=MAX(Données!$A$2:$A$51),0,1)))))) -> 2 | C35: =IF(A35="","",IF(OR(B35="a",B35="c"),"",IF(B35="b",HLOOKUP(A35,Table!$A$1:$L$22,2,FALSE),VLOOKUP(B35,Données!$A$2:$B$101,2,FALSE)))) -> B
A36: =IF(A35="","",IF(AND(B36="b",A35=12),"",A35+IF(B36="b",1,0))) -> 2 | B36: =IF(A35="","",IF(B35="c",1,IF(B35="b","c",IF(B35="a","b",IF(B35>=MAX(Données!$A$2:$A$51),"a",B35+IF(B35>=MAX(Données!$A$2:$A$51),0,1)))))) -> 3 | C36: =IF(A36="","",IF(OR(B36="a",B36="c"),"",IF(B36="b",HLOOKUP(A36,Table!$A$1:$L$22,2,FALSE),VLOOKUP(B36,Données!$A$2:$B$101,2,FALSE)))) -> C
A37: =IF(A36="","",IF(AND(B37="b",A36=12),"",A36+IF(B37="b",1,0))) -> 2 | B37: =IF(A36="","",IF(B36="c",1,IF(B36="b","c",IF(B36="a","b",IF(B36>=MAX(Données!$A$2:$A$51),"a",B36+IF(B36>=MAX(Données!$A$2:$A$51),0,1)))))) -> 4 | C37: =IF(A37="","",IF(OR(B37="a",B37="c"),"",IF(B37="b",HLOOKUP(A37,Table!$A$1:$L$22,2,FALSE),VLOOKUP(B37,Données!$A$2:$B$101,2,FALSE)))) -> D
A38: =IF(A37="","",IF(AND(B38="b",A37=12),"",A37+IF(B38="b",1,0))) -> 2 | B38: =IF(A37="","",IF(B37="c",1,IF(B37="b","c",IF(B37="a","b",IF(B37>=MAX(Données!$A$2:$A$51),"a",B37+IF(B37>=MAX(Données!$A$2:$A$51),0,1)))))) -> 5 | C38: =IF(A38="","",IF(OR(B38="a",B38="c"),"",IF(B38="b",HLOOKUP(A38,Table!$A$1:$L$22,2,FALSE),VLOOKUP(B38,Données!$A$2:$B$101,2,FALSE)))) -> E
A39: =IF(A38="","",IF(AND(B39="b",A38=12),"",A38+IF(B39="b",1,0))) -> 2 | B39: =IF(A38="","",IF(B38="c",1,IF(B38="b","c",IF(B38="a","b",IF(B38>=MAX(Données!$A$2:$A$51),"a",B38+IF(B38>=MAX(Données!$A$2:$A$51),0,1)))))) -> 6 | C39: =IF(A39="","",IF(OR(B39="a",B39="c"),"",IF(B39="b",HLOOKUP(A39,Table!$A$1:$L$22,2,FALSE),VLOOKUP(B39,Données!$A$2:$B$101,2,FALSE)))) -> F
A40: =IF(A39="","",IF(AND(B40="b",A39=12),"",A39+IF(B40="b",1,0))) -> 2 | B40: =IF(A39="","",IF(B39="c",1,IF(B39="b","c",IF(B39="a","b",IF(B39>=MAX(Données!$A$2:$A$51),"a",B39+IF(B39>=MAX(Données!$A$2:$A$51),0,1)))))) -> 7 | C40: =IF(A40="","",IF(OR(B40="a",B40="c"),"",IF(B40="b",HLOOKUP(A40,Table!$A$1:$L$22,2,FALSE),VLOOKUP(B40,Données!$A$2:$B$101,2,FALSE)))) -> G
A41: =IF(A40="","",IF(AND(B41="b",A40=12),"",A40+IF(B41="b",1,0))) -> 2 | B41: =IF(A40="","",IF(B40="c",1,IF(B40="b","c",IF(B40="a","b",IF(B40>=MAX(Données!$A$2:$A$51),"a",B40+IF(B40>=MAX(Données!$A$2:$A$51),0,1)))))) -> 8 | C41: =IF(A41="","",IF(OR(B41="a",B41="c"),"",IF(B41="b",HLOOKUP(A41,Table!$A$1:$L$22,2,FALSE),VLOOKUP(B41,Données!$A$2:$B$101,2,FALSE)))) -> H
A42: =IF(A41="","",IF(AND(B42="b",A41=12),"",A41+IF(B42="b",1,0))) -> 2 | B42: =IF(A41="","",IF(B41="c",1,IF(B41="b","c",IF(B41="a","b",IF(B41>=MAX(Données!$A$2:$A$51),"a",B41+IF(B41>=MAX(Données!$A$2:$A$51),0,1)))))) -> 9 | C42: =IF(A42="","",IF(OR(B42="a",B42="c"),"",IF(B42="b",HLOOKUP(A42,Table!$A$1:$L$22,2,FALSE),VLOOKUP(B42,Données!$A$2:$B$101,2,FALSE)))) -> I
A43: =IF(A42="","",IF(AND(B43="b",A42=12),"",A42+IF(B43="b",1,0))) -> 2 | B43: =IF(A42="","",IF(B42="c",1,IF(B42="b","c",IF(B42="a","b",IF(B42>=MAX(Données!$A$2:$A$51),"a",B42+IF(B42>=MAX(Données!$A$2:$A$51),0,1)))))) -> 10 | C43: =IF(A43="","",IF(OR(B43="a",B43="c"),"",IF(B43="b",HLOOKUP(A43,Table!$A$1:$L$22,2,FALSE),VLOOKUP(B43,Données!$A$2:$B$101,2,FALSE)))) -> J
A44: =IF(A43="","",IF(AND(B44="b",A43=12),"",A43+IF(B44="b",1,0))) -> 2 | B44: =IF(A43="","",IF(B43="c",1,IF(B43="b","c",IF(B43="a","b",IF(B43>=MAX(Données!$A$2:$A$51),"a",B43+IF(B43>=MAX(Données!$A$2:$A$51),0,1)))))) -> 11 | C44: =IF(A44="","",IF(OR(B44="a",B44="c"),"",IF(B44="b",HLOOKUP(A44,Table!$A$1:$L$22,2,FALSE),VLOOKUP(B44,Données!$A$2:$B$101,2,FALSE)))) -> K
... A58: =IF(A57="","",IF(AND(B58="b",A57=12),"",A57+IF(B58="b",1,0))) -> 2 | B58: =IF(A57="","",IF(B57="c",1,IF(B57="b","c",IF(B57="a","b",IF(B57>=MAX(Données!$A$2:$A$51),"a",B57+IF(B57>=MAX(Données!$A$2:$A$51),0,1)))))) -> 25 | C58: =IF(A58="","",IF(OR(B58="a",B58="c"),"",IF(B58="b",HLOOKUP(A58,Table!$A$1:$L$22,2,FALSE),VLOOKUP(B58,Données!$A$2:$B$101,2,FALSE)))) -> Y
A59: =IF(A58="","",IF(AND(B59="b",A58=12),"",A58+IF(B59="b",1,0))) -> 2 | B59: =IF(A58="","",IF(B58="c",1,IF(B58="b","c",IF(B58="a","b",IF(B58>=MAX(Données!$A$2:$A$51),"a",B58+IF(B58>=MAX(Données!$A$2:$A$51),0,1)))))) -> 26 | C59: =IF(A59="","",IF(OR(B59="a",B59="c"),"",IF(B59="b",HLOOKUP(A59,Table!$A$1:$L$22,2,FALSE),VLOOKUP(B59,Données!$A$2:$B$101,2,FALSE)))) -> vb | D59: =COUNTA(D34:D58) -> 0 | E59: =COUNTA(E34:E58) -> 0 | F59: =COUNTA(F34:F58) -> 0 | G59: =COUNTA(G34:G58) -> 0 | H59: =COUNTA(H34:H58) -> 0 | I59: =COUNTA(I34:I58) -> 0 | J59: =COUNTA(J34:J58) -> 0 | K59: =COUNTA(K34:K58) -> 0 | ... AF59: =COUNTA(AF34:AF58) -> 0
A60: =IF(A59="","",IF(AND(B60="b",A59=12),"",A59+IF(B60="b",1,0))) -> 2 | B60: =IF(A59="","",IF(B59="c",1,IF(B59="b","c",IF(B59="a","b",IF(B59>=MAX(Données!$A$2:$A$51),"a",B59+IF(B59>=MAX(Données!$A$2:$A$51),0,1)))))) -> 27 | C60: =IF(A60="","",IF(OR(B60="a",B60="c"),"",IF(B60="b",HLOOKUP(A60,Table!$A$1:$L$22,2,FALSE),VLOOKUP(B60,Données!$A$2:$B$101,2,FALSE)))) -> nb | D60: =CHOOSE(WEEKDAY(D61,2),"L","M","M","J","V","S","D") -> D | E60: =CHOOSE(WEEKDAY(E61,2),"L","M","M","J","V","S","D") -> L | F60: =CHOOSE(WEEKDAY(F61,2),"L","M","M","J","V","S","D") -> M | G60: =CHOOSE(WEEKDAY(G61,2),"L","M","M","J","V","S","D") -> M | H60: =CHOOSE(WEEKDAY(H61,2),"L","M","M","J","V","S","D") -> J | I60: =CHOOSE(WEEKDAY(I61,2),"L","M","M","J","V","S","D") -> V | J60: =CHOOSE(WEEKDAY(J61,2),"L","M","M","J","V","S","D") -> S | K60: =CHOOSE(WEEKDAY(K61,2),"L","M","M","J","V","S","D") -> D | ... AH60: =CHOOSE(WEEKDAY(AH61,2),"L","M","M","J","V","S","D") -> M | AJ60: =DATE(YEAR(C1),MONTH(C1)+2,DAY(C1)) -> 42064
A61: =IF(A60="","",IF(AND(B61="b",A60=12),"",A60+IF(B61="b",1,0))) -> 2 | B61: =IF(A60="","",IF(B60="c",1,IF(B60="b","c",IF(B60="a","b",IF(B60>=MAX(Données!$A$2:$A$51),"a",B60+IF(B60>=MAX(Données!$A$2:$A$51),0,1)))))) -> a | C61: =IF(A61="","",IF(OR(B61="a",B61="c"),"",IF(B61="b",HLOOKUP(A61,Table!$A$1:$L$22,2,FALSE),VLOOKUP(B61,Données!$A$2:$B$101,2,FALSE)))) | D61: =$AJ$60 -> 42064 | E61: =D61+1 -> 42065 | F61: =E61+1 -> 42066 | G61: =F61+1 -> 42067 | H61: =G61+1 -> 42068 | I61: =H61+1 -> 42069 | J61: =I61+1 -> 42070 | K61: =J61+1 -> 42071 | L61: =K61+1 -> 42072 | ... AH61: =AG61+1 -> 42094
A62: =IF(A61="","",IF(AND(B62="b",A61=12),"",A61+IF(B62="b",1,0))) -> 3 | B62: =IF(A61="","",IF(B61="c",1,IF(B61="b","c",IF(B61="a","b",IF(B61>=MAX(Données!$A$2:$A$51),"a",B61+IF(B61>=MAX(Données!$A$2:$A$51),0,1)))))) -> b | C62: =IF(A62="","",IF(OR(B62="a",B62="c"),"",IF(B62="b",HLOOKUP(A62,Table!$A$1:$L$22,2,FALSE),VLOOKUP(B62,Données!$A$2:$B$101,2,FALSE)))) -> MARS
A63: =IF(A62="","",IF(AND(B63="b",A62=12),"",A62+IF(B63="b",1,0))) -> 3 | B63: =IF(A62="","",IF(B62="c",1,IF(B62="b","c",IF(B62="a","b",IF(B62>=MAX(Données!$A$2:$A$51),"a",B62+IF(B62>=MAX(Données!$A$2:$A$51),0,1)))))) -> c | C63: =IF(A63="","",IF(OR(B63="a",B63="c"),"",IF(B63="b",HLOOKUP(A63,Table!$A$1:$L$22,2,FALSE),VLOOKUP(B63,Données!$A$2:$B$101,2,FALSE))))
A64: =IF(A63="","",IF(AND(B64="b",A63=12),"",A63+IF(B64="b",1,0))) -> 3 | B64: =IF(A63="","",IF(B63="c",1,IF(B63="b","c",IF(B63="a","b",IF(B63>=MAX(Données!$A$2:$A$51),"a",B63+IF(B63>=MAX(Données!$A$2:$A$51),0,1)))))) -> 1 | C64: =IF(A64="","",IF(OR(B64="a",B64="c"),"",IF(B64="b",HLOOKUP(A64,Table!$A$1:$L$22,2,FALSE),VLOOKUP(B64,Données!$A$2:$B$101,2,FALSE)))) -> A
A65: =IF(A64="","",IF(AND(B65="b",A64=12),"",A64+IF(B65="b",1,0))) -> 3 | B65: =IF(A64="","",IF(B64="c",1,IF(B64="b","c",IF(B64="a","b",IF(B64>=MAX(Données!$A$2:$A$51),"a",B64+IF(B64>=MAX(Données!$A$2:$A$51),0,1)))))) -> 2 | C65: =IF(A65="","",IF(OR(B65="a",B65="c"),"",IF(B65="b",HLOOKUP(A65,Table!$A$1:$L$22,2,FALSE),VLOOKUP(B65,Données!$A$2:$B$101,2,FALSE)))) -> B
A66: =IF(A65="","",IF(AND(B66="b",A65=12),"",A65+IF(B66="b",1,0))) -> 3 | B66: =IF(A65="","",IF(B65="c",1,IF(B65="b","c",IF(B65="a","b",IF(B65>=MAX(Données!$A$2:$A$51),"a",B65+IF(B65>=MAX(Données!$A$2:$A$51),0,1)))))) -> 3 | C66: =IF(A66="","",IF(OR(B66="a",B66="c"),"",IF(B66="b",HLOOKUP(A66,Table!$A$1:$L$22,2,FALSE),VLOOKUP(B66,Données!$A$2:$B$101,2,FALSE)))) -> C
A67: =IF(A66="","",IF(AND(B67="b",A66=12),"",A66+IF(B67="b",1,0))) -> 3 | B67: =IF(A66="","",IF(B66="c",1,IF(B66="b","c",IF(B66="a","b",IF(B66>=MAX(Données!$A$2:$A$51),"a",B66+IF(B66>=MAX(Données!$A$2:$A$51),0,1)))))) -> 4 | C67: =IF(A67="","",IF(OR(B67="a",B67="c"),"",IF(B67="b",HLOOKUP(A67,Table!$A$1:$L$22,2,FALSE),VLOOKUP(B67,Données!$A$2:$B$101,2,FALSE)))) -> D
A68: =IF(A67="","",IF(AND(B68="b",A67=12),"",A67+IF(B68="b",1,0))) -> 3 | B68: =IF(A67="","",IF(B67="c",1,IF(B67="b","c",IF(B67="a","b",IF(B67>=MAX(Données!$A$2:$A$51),"a",B67+IF(B67>=MAX(Données!$A$2:$A$51),0,1)))))) -> 5 | C68: =IF(A68="","",IF(OR(B68="a",B68="c"),"",IF(B68="b",HLOOKUP(A68,Table!$A$1:$L$22,2,FALSE),VLOOKUP(B68,Données!$A$2:$B$101,2,FALSE)))) -> E
A69: =IF(A68="","",IF(AND(B69="b",A68=12),"",A68+IF(B69="b",1,0))) -> 3 | B69: =IF(A68="","",IF(B68="c",1,IF(B68="b","c",IF(B68="a","b",IF(B68>=MAX(Données!$A$2:$A$51),"a",B68+IF(B68>=MAX(Données!$A$2:$A$51),0,1)))))) -> 6 | C69: =IF(A69="","",IF(OR(B69="a",B69="c"),"",IF(B69="b",HLOOKUP(A69,Table!$A$1:$L$22,2,FALSE),VLOOKUP(B69,Données!$A$2:$B$101,2,FALSE)))) -> F
A70: =IF(A69="","",IF(AND(B70="b",A69=12),"",A69+IF(B70="b",1,0))) -> 3 | B70: =IF(A69="","",IF(B69="c",1,IF(B69="b","c",IF(B69="a","b",IF(B69>=MAX(Données!$A$2:$A$51),"a",B69+IF(B69>=MAX(Données!$A$2:$A$51),0,1)))))) -> 7 | C70: =IF(A70="","",IF(OR(B70="a",B70="c"),"",IF(B70="b",HLOOKUP(A70,Table!$A$1:$L$22,2,FALSE),VLOOKUP(B70,Données!$A$2:$B$101,2,FALSE)))) -> G
A71: =IF(A70="","",IF(AND(B71="b",A70=12),"",A70+IF(B71="b",1,0))) -> 3 | B71: =IF(A70="","",IF(B70="c",1,IF(B70="b","c",IF(B70="a","b",IF(B70>=MAX(Données!$A$2:$A$51),"a",B70+IF(B70>=MAX(Données!$A$2:$A$51),0,1)))))) -> 8 | C71: =IF(A71="","",IF(OR(B71="a",B71="c"),"",IF(B71="b",HLOOKUP(A71,Table!$A$1:$L$22,2,FALSE),VLOOKUP(B71,Données!$A$2:$B$101,2,FALSE)))) -> H
A72: =IF(A71="","",IF(AND(B72="b",A71=12),"",A71+IF(B72="b",1,0))) -> 3 | B72: =IF(A71="","",IF(B71="c",1,IF(B71="b","c",IF(B71="a","b",IF(B71>=MAX(Données!$A$2:$A$51),"a",B71+IF(B71>=MAX(Données!$A$2:$A$51),0,1)))))) -> 9 | C72: =IF(A72="","",IF(OR(B72="a",B72="c"),"",IF(B72="b",HLOOKUP(A72,Table!$A$1:$L$22,2,FALSE),VLOOKUP(B72,Données!$A$2:$B$101,2,FALSE)))) -> I
A73: =IF(A72="","",IF(AND(B73="b",A72=12),"",A72+IF(B73="b",1,0))) -> 3 | B73: =IF(A72="","",IF(B72="c",1,IF(B72="b","c",IF(B72="a","b",IF(B72>=MAX(Données!$A$2:$A$51),"a",B72+IF(B72>=MAX(Données!$A$2:$A$51),0,1)))))) -> 10 | C73: =IF(A73="","",IF(OR(B73="a",B73="c"),"",IF(B73="b",HLOOKUP(A73,Table!$A$1:$L$22,2,FALSE),VLOOKUP(B73,Données!$A$2:$B$101,2,FALSE)))) -> J
... A88: =IF(A87="","",IF(AND(B88="b",A87=12),"",A87+IF(B88="b",1,0))) -> 3 | B88: =IF(A87="","",IF(B87="c",1,IF(B87="b","c",IF(B87="a","b",IF(B87>=MAX(Données!$A$2:$A$51),"a",B87+IF(B87>=MAX(Données!$A$2:$A$51),0,1)))))) -> 25 | C88: =IF(A88="","",IF(OR(B88="a",B88="c"),"",IF(B88="b",HLOOKUP(A88,Table!$A$1:$L$22,2,FALSE),VLOOKUP(B88,Données!$A$2:$B$101,2,FALSE)))) -> Y
C89: Congés par jour 5 | D89: =COUNTA(D63:D88) -> 0 | E89: =COUNTA(E63:E88) -> 0 | F89: =COUNTA(F63:F88) -> 0 | G89: =COUNTA(G63:G88) -> 0 | H89: =COUNTA(H63:H88) -> 0 | I89: =COUNTA(I63:I88) -> 0 | J89: =COUNTA(J63:J88) -> 0 | K89: =COUNTA(K63:K88) -> 0 | ... AH89: =COUNTA(AH63:AH88) -> 0

Sheet Données
B1: NOMS
A2: =A1+IF(B2<>"",1,0) -> 1 | B2: A
A3: =A2+IF(B3<>"",1,0) -> 2 | B3: B
A4: =A3+IF(B4<>"",1,0) -> 3 | B4: C
A5: =A4+IF(B5<>"",1,0) -> 4 | B5: D
A6: =A5+IF(B6<>"",1,0) -> 5 | B6: E
A7: =A6+IF(B7<>"",1,0) -> 6 | B7: F
A8: =A7+IF(B8<>"",1,0) -> 7 | B8: G
A9: =A8+IF(B9<>"",1,0) -> 8 | B9: H
A10: =A9+IF(B10<>"",1,0) -> 9 | B10: I
A11: =A10+IF(B11<>"",1,0) -> 10 | B11: J
A12: =A11+IF(B12<>"",1,0) -> 11 | B12: K
A13: =A12+IF(B13<>"",1,0) -> 12 | B13: L
... A28: =A27+IF(B28<>"",1,0) -> 27 | B28: nb
A29: =A28+IF(B29<>"",1,0) -> 27
A30: =A29+IF(B30<>"",1,0) -> 27
A31: =A30+IF(B31<>"",1,0) -> 27
A32: =A31+IF(B32<>"",1,0) -> 27
A33: =A32+IF(B33<>"",1,0) -> 27
A34: =A33+IF(B34<>"",1,0) -> 27
A35: =A34+IF(B35<>"",1,0) -> 27
A36: =A35+IF(B36<>"",1,0) -> 27
A37: =A36+IF(B37<>"",1,0) -> 27
A38: =A37+IF(B38<>"",1,0) -> 27
A39: =A38+IF(B39<>"",1,0) -> 27
A40: =A39+IF(B40<>"",1,0) -> 27
... A101: =A100+IF(B101<>"",1,0) -> 27

Sheet Table
A1: 1 | B1: 2 | C1: 3 | D1: 4 | E1: 5 | F1: 6 | G1: 7 | H1: 8 | I1: 9 | J1: 10 | K1: 11 | L1: 12
A2: JANVIER | B2: FEVRIER | C2: MARS | D2: AVRIL | E2: MAI | F2: JUIN | G2: JUILLET | H2: AOÛT | I2: SEPTEMBRE | J2: OCTOBRE | K2: NOVEMBRE | L2: DÉCEMBRE
