Workbook

Sheet Feuille1
A1: N° | B1: DATE/HEURE | C1: Année | D1: mois | E1: Tranche Horaire | F1: FAISCEAU | G1: EQUIPEMENT | H1: PROTOCOLE | I1: APPELANT | J1: ZONE | K1: RISQUE | L1: CAPTEUR | M1: UTILISATEUR | N1: MESURE | O1: PROVENANCE | Q1: Mois | R1: Année | S1: Tranche Horaire
A2: 1 | B2: 41273.755 | C2: =YEAR(B2) -> 2012 | D2: Décembre | E2: =VLOOKUP(TIMEVALUE(HOUR(B2) & ":" & MINUTE(B2)),Feuil2!E1:G24,3,TRUE) -> 18:01 - 19:00 | F2: 24 | G2: 10067 | H2: SU | I2: ********** | J2: {0} | K2: {01} sos médaillon 1 | L2: {01} | M2: {***} | O2: frontal101 | Q2: Janvier | R2: 2012 | S2: 00:00 - 01:00
A3: 2 | B3: 41273.753 | C3: =YEAR(B3) -> 2012 | D3: Décembre | E3: =VLOOKUP(TIMEVALUE(HOUR(B3) & ":" & MINUTE(B3)),Feuil2!E2:G25,3,TRUE) -> 18:01 - 19:00 | F3: 24 | G3: 10067 | H3: SU | I3: ********** | J3: {0} | K3: {01} sos médaillon 1 | L3: {01} | M3: {***} | O3: frontal101 | Q3: Février | R3: 2013 | S3: 01:01 - 02:00
A4: 3 | B4: 41257.929 | C4: =YEAR(B4) -> 2012 | D4: Décembre | E4: =VLOOKUP(TIMEVALUE(HOUR(B4) & ":" & MINUTE(B4)),Feuil2!E3:G26,3,TRUE) -> 22:01 - 23:00 | F4: 24 | G4: 10067 | H4: SU | I4: ********** | J4: {0} | K4: {01} sos médaillon 1 | L4: {01} | M4: {***} | O4: frontal101 | Q4: Mars | R4: 2014 | S4: 02:01 - 03:00
A5: 4 | B5: 41249.959 | C5: =YEAR(B5) -> 2012 | D5: Décembre | E5: =VLOOKUP(TIMEVALUE(HOUR(B5) & ":" & MINUTE(B5)),Feuil2!E4:G27,3,TRUE) -> 22:01 - 23:00 | F5: 24 | G5: 10067 | H5: SU | I5: ********** | J5: {0} | K5: {01} sos médaillon 1 | L5: {01} | M5: {***} | O5: frontal101 | Q5: Avril | S5: 03:01 - 04:00
A6: 5 | B6: 41249.778 | C6: =YEAR(B6) -> 2012 | D6: Décembre | E6: =VLOOKUP(TIMEVALUE(HOUR(B6) & ":" & MINUTE(B6)),Feuil2!E5:G28,3,TRUE) -> 18:01 - 19:00 | F6: 24 | G6: 10067 | H6: SU | I6: ********** | J6: {0} | K6: {01} sos médaillon 1 | L6: {01} | M6: {***} | O6: frontal101 | Q6: Mai | S6: 04:01 - 05:00
A7: 6 | B7: 41249.775 | C7: =YEAR(B7) -> 2012 | D7: Décembre | E7: =VLOOKUP(TIMEVALUE(HOUR(B7) & ":" & MINUTE(B7)),Feuil2!E6:G29,3,TRUE) -> 18:01 - 19:00 | F7: 24 | G7: 10067 | H7: SU | I7: ********** | J7: {0} | K7: {01} sos médaillon 1 | L7: {01} | M7: {***} | O7: frontal101 | Q7: Juin | S7: 05:01 - 06:00
A8: 7 | B8: 41240.338 | C8: =YEAR(B8) -> 2012 | D8: Novembre | E8: =VLOOKUP(TIMEVALUE(HOUR(B8) & ":" & MINUTE(B8)),Feuil2!E7:G30,3,TRUE) -> 08:01 - 09:00 | F8: 24 | G8: 10067 | H8: SU | I8: ********** | J8: {0} | K8: {01} sos médaillon 1 | L8: {01} | M8: {***} | O8: frontal101 | Q8: Juillet | S8: 06:01 - 07:00
A9: 8 | B9: 41239.376 | C9: =YEAR(B9) -> 2012 | D9: Novembre | E9: =VLOOKUP(TIMEVALUE(HOUR(B9) & ":" & MINUTE(B9)),Feuil2!E8:G31,3,TRUE) -> 09:01 - 10:00 | F9: 24 | G9: 10067 | H9: SU | I9: ********** | J9: {0} | K9: {01} sos médaillon 1 | L9: {01} | M9: {***} | O9: frontal101 | Q9: Août | S9: 07:01 - 08:00
A10: 9 | B10: 41238.402 | C10: =YEAR(B10) -> 2012 | D10: Novembre | E10: =VLOOKUP(TIMEVALUE(HOUR(B10) & ":" & MINUTE(B10)),Feuil2!E9:G32,3,TRUE) -> 09:01 - 10:00 | F10: 24 | G10: 10067 | H10: SU | I10: ********** | J10: {0} | K10: {01} sos médaillon 1 | L10: {01} | M10: {***} | O10: frontal101 | Q10: Septembre | S10: 08:01 - 09:00
S11: 09:01 - 10:00
S12: 10:01 - 11:00
S13: 11:01 - 12:00
S14: 12:01 - 13:00
S15: 13:01 - 14:00
S16: 14:01 - 15:00
S17: 15:01 - 16:00
S18: 16:01 - 17:00
S19: 17:01 - 18:00
S20: 18:01 - 19:00
S21: 19:01 - 20:00
S22: 20:01 - 21:00
... S25: 23:01 - 24:00

Sheet Feuil1
A3: Nombre de RISQUE | B3: Étiquettes de colonnes
B4: 2012 | I4: Total 2012 | J4: 2013 | V4: Total 2013 | W4: 2014 | AE4: Total 2014 | AF4: Total général
A5: Étiquettes de lignes | B5: Décembre | C5: Novembre | D5: Octobre | E5: Septembre | F5: Août | G5: Juillet | H5: Juin | J5: Décembre | K5: Novembre | L5: Octobre | M5: Septembre | N5: Août | O5: Juillet | P5: Juin | Q5: Mai | R5: Avril | S5: Mars | T5: Février | U5: Janvier | W5: Août | X5: Juillet | Y5: Juin | Z5: Mai | AA5: Avril | AB5: Mars | AC5: Février | AD5: Janvier
A6: {01} [ATT] sos médaillon 1 | Q6: 1 | V6: 1 | AF6: 1
A7: {01} sos médaillon 1 | B7: 6 | C7: 10 | D7: 11 | E7: 2 | F7: 6 | G7: 1 | H7: 3 | I7: 39 | N7: 28 | O7: 28 | P7: 36 | Q7: 28 | R7: 32 | S7: 39 | T7: 32 | U7: 7 | V7: 230 | AF7: 269
A8: {099} sos sans écoute | Y8: 3 | AE8: 3 | AF8: 3
A9: {101} sos gprs | J9: 53 | K9: 49 | L9: 13 | M9: 12 | V9: 127 | W9: 112 | X9: 490 | Y9: 91 | Z9: 119 | AA9: 331 | AB9: 438 | AC9: 65 | AD9: 47 | AE9: 1693 | AF9: 1820
A10: {12} phonie inconnue | T10: 1 | V10: 1 | AF10: 1
A11: {12} touche rouge | D11: 1 | I11: 1 | AF11: 1
A12: {606} phonie inconnue | Z12: 2 | AE12: 2 | AF12: 2
A13: Total général | B13: 6 | C13: 10 | D13: 12 | E13: 2 | F13: 6 | G13: 1 | H13: 3 | I13: 40 | J13: 53 | K13: 49 | L13: 13 | M13: 12 | N13: 28 | O13: 28 | P13: 36 | Q13: 29 | R13: 32 | S13: 39 | T13: 33 | U13: 7 | V13: 359 | W13: 112 | X13: 490 | Y13: 94 | Z13: 121 | AA13: 331 | AB13: 438 | AC13: 65 | AD13: 47 | AE13: 1698 | AF13: 2097

Sheet Feuille2
A1: Année 2012 | B1: Nombre de risques : 487 risque mes : 1 risque phonie gprs : 127 risque phonie inconnue : 1 Risque sos gprs : 127 Risque sos médaillon 1 : 231
A2: Année 2013 | B2: Nombre de risques : 487 risque mes : 1 risque phonie gprs : 127 risque phonie inconnue : 1 risque sos gprs : 127 risque sos médaillon 1 : 231
A3: Année 2014
A4: janvier | B4: Nombre de risques : 95 risque mes : 1 risque phonie gprs : 47 Risque sos gprs : 47
A5: février | B5: Nombre de risques : 129 risque phonie gprs : 64 risque sos gprs : 65
A6: mars | B6: Nombre de risques : 878 risque mes : 5 risque phonie gprs : 435 Risque sos gprs : 438
A7: avril | B7: Nombre de risques : 663 risque mes : 1 risque phonie gprs : 331 Risque sos gprs : 331
A8: mai | B8: Nombre de risques : 241risque mes : 1risque phonie gprs : 119risque phonie inconnue : 2risque sos gprs : 119
A9: juin | B9: Nombre de risques : 185risque phonie gprs : 91risque sos gprs : 91risque sos sans écoute : 3
A10: juillet | B10: Nombre de risques : 981risque mes : 1risque phonie gprs : 490risque sos gprs : 490
A11: aout | B11: Nombre de risques : 225risque mes : 1risque phonie gprs : 112risque sos gprs : 112

Sheet Feuille3

Sheet Feuil2
A1: 0 | B1: 0.041666667 | E1: =TIMEVALUE(HOUR(A1) & ":" & MINUTE(A1)) -> 0 | F1: =TIMEVALUE(HOUR(B1) & ":" & MINUTE(B1)) -> 0.041666667 | G1: 00:00 - 01:00
A2: 0.042361111 | B2: 0.083333333 | E2: =TIMEVALUE(HOUR(A2) & ":" & MINUTE(A2)) -> 0.042361111 | F2: =TIMEVALUE(HOUR(B2) & ":" & MINUTE(B2)) -> 0.083333333 | G2: 01:01 - 02:00
A3: 0.084027778 | B3: 0.125 | E3: =TIMEVALUE(HOUR(A3) & ":" & MINUTE(A3)) -> 0.084027778 | F3: =TIMEVALUE(HOUR(B3) & ":" & MINUTE(B3)) -> 0.125 | G3: 02:01 - 03:00
A4: 0.12569444 | B4: 0.16666667 | E4: =TIMEVALUE(HOUR(A4) & ":" & MINUTE(A4)) -> 0.12569444 | F4: =TIMEVALUE(HOUR(B4) & ":" & MINUTE(B4)) -> 0.16666667 | G4: 03:01 - 04:00
A5: 0.16736111 | B5: 0.20833333 | E5: =TIMEVALUE(HOUR(A5) & ":" & MINUTE(A5)) -> 0.16736111 | F5: =TIMEVALUE(HOUR(B5) & ":" & MINUTE(B5)) -> 0.20833333 | G5: 04:01 - 05:00
A6: 0.20902778 | B6: 0.25 | E6: =TIMEVALUE(HOUR(A6) & ":" & MINUTE(A6)) -> 0.20902778 | F6: =TIMEVALUE(HOUR(B6) & ":" & MINUTE(B6)) -> 0.25 | G6: 05:01 - 06:00
A7: 0.25069444 | B7: 0.29166667 | E7: =TIMEVALUE(HOUR(A7) & ":" & MINUTE(A7)) -> 0.25069444 | F7: =TIMEVALUE(HOUR(B7) & ":" & MINUTE(B7)) -> 0.29166667 | G7: 06:01 - 07:00
A8: 0.29236111 | B8: 0.33333333 | E8: =TIMEVALUE(HOUR(A8) & ":" & MINUTE(A8)) -> 0.29236111 | F8: =TIMEVALUE(HOUR(B8) & ":" & MINUTE(B8)) -> 0.33333333 | G8: 07:01 - 08:00
A9: 0.33402778 | B9: 0.375 | E9: =TIMEVALUE(HOUR(A9) & ":" & MINUTE(A9)) -> 0.33402778 | F9: =TIMEVALUE(HOUR(B9) & ":" & MINUTE(B9)) -> 0.375 | G9: 08:01 - 09:00
A10: 0.37569444 | B10: 0.41666667 | E10: =TIMEVALUE(HOUR(A10) & ":" & MINUTE(A10)) -> 0.37569444 | F10: =TIMEVALUE(HOUR(B10) & ":" & MINUTE(B10)) -> 0.41666667 | G10: 09:01 - 10:00
A11: 0.41736111 | B11: 0.45833333 | E11: =TIMEVALUE(HOUR(A11) & ":" & MINUTE(A11)) -> 0.41736111 | F11: =TIMEVALUE(HOUR(B11) & ":" & MINUTE(B11)) -> 0.45833333 | G11: 10:01 - 11:00
A12: 0.45902778 | B12: 0.5 | E12: =TIMEVALUE(HOUR(A12) & ":" & MINUTE(A12)) -> 0.45902778 | F12: =TIMEVALUE(HOUR(B12) & ":" & MINUTE(B12)) -> 0.5 | G12: 11:01 - 12:00
... A24: 0.95902778 | B24: 0.99930556 | E24: =TIMEVALUE(HOUR(A24) & ":" & MINUTE(A24)) -> 0.95902778 | F24: =TIMEVALUE(HOUR(B24) & ":" & MINUTE(B24)) -> 0.99930556 | G24: 23:01 - 24:00
