Workbook

Sheet Extraction initiale
A1: Date | B1: Opération | C1: Montant
A2: 41514 | B2: FACTURE CARTE DU 270813 INTERMARCHE CARTE 4974X | C2: -115.39
A3: 41514 | B3: FACTURE CARTE DU 260813 APRR CARTE 4974X | C3: -21.8
A4: 41508 | B4: FACTURE CARTE DU 210813 BLABLACAR PARIS CARTE 4974XXXX | C4: -39.5
A5: 41502 | B5: FACTURE CARTE DU 150813 SUPER U CARTE 4974 | C5: -7.71
A6: 41494 | B6: VIR EUROPEEN SEPA RECU /DE LA MUTUELLE DES ETUDIANTS | C6: 20.24
A7: 41494 | B7: RETRAIT DAB 07/08/13 14H25 BNP PARIBAS | C7: -20
A8: 41494 | B8: FACTURE CARTE DU 070813 DECATHLON CARTE 497 | C8: -14.9
A9: 41492 | B9: VIREMENT RECU TIERS CAF ISERE | C9: 221.9
A10: 41491 | B10: PRELEVEMENT NUMERICABLE NUM ECH 05.08.13 | C10: -67.15

Sheet Master data
A1: Opération/bénéf | B1: Nature | C1: Opérations | D1: Bénéficiaire
A2: APRR | B2: CARTE | C2: TRANSPORT | D2: APRR
A3: BLABLACAR PARIS | B3: CARTE | C3: TRANSPORT | D3: COVOITURAGE
A4: DECATHLON | B4: CARTE | C4: PLAISIR | D4: DECATHLON
A5: INTERMARCHE | B5: CARTE | C5: SUPERMARCHE | D5: INTERMARCHE
A6: RETRAIT | B6: CARTE | C6: RETRAIT | D6: PORTEFEUILLE
A7: SUPER U | B7: CARTE | C7: SUPERMARCHE | D7: SUPER U
A8: NUMERICABLE | B8: PRELEVEMENT | C8: FACTURE | D8: NUMERICABLE
A9: CAF | B9: VIREMENT | C9: APL | D9: APL
A10: MUTUELLE DES ETUDIANTS | B10: VIREMENT | C10: SANTE | D10: LMDE

Sheet Traitement de l'extraction
A1: Date | B1: Nature | C1: Opérations | D1: Bénéficiaire | E1: Crédit | F1: Débit
A2: ='Extraction initiale'!A2 -> 41514 | B2: =VLOOKUP('Extraction initiale'!$B2,'Master data'!$A:B,2,0) -> #N/A | C2: =VLOOKUP('Extraction initiale'!$B2,'Master data'!$A:C,3,0) -> #N/A | D2: =VLOOKUP('Extraction initiale'!$B2,'Master data'!$A:D,4,0) -> #N/A | E2: =IF('Extraction initiale'!$C2<0,'Extraction initiale'!$C2,"") -> -115.39 | F2: =IF('Extraction initiale'!$C2>0,'Extraction initiale'!$C2,"")
A3: ='Extraction initiale'!A3 -> 41514 | B3: =VLOOKUP('Extraction initiale'!$B3,'Master data'!$A:B,2,0) -> #N/A | C3: =VLOOKUP('Extraction initiale'!$B3,'Master data'!$A:C,3,0) -> #N/A | D3: =VLOOKUP('Extraction initiale'!$B3,'Master data'!$A:D,4,0) -> #N/A | E3: =IF('Extraction initiale'!$C3<0,'Extraction initiale'!$C3,"") -> -21.8 | F3: =IF('Extraction initiale'!$C3>0,'Extraction initiale'!$C3,"")
A4: ='Extraction initiale'!A4 -> 41508 | B4: =VLOOKUP('Extraction initiale'!$B4,'Master data'!$A:B,2,0) -> #N/A | C4: =VLOOKUP('Extraction initiale'!$B4,'Master data'!$A:C,3,0) -> #N/A | D4: =VLOOKUP('Extraction initiale'!$B4,'Master data'!$A:D,4,0) -> #N/A | E4: =IF('Extraction initiale'!$C4<0,'Extraction initiale'!$C4,"") -> -39.5 | F4: =IF('Extraction initiale'!$C4>0,'Extraction initiale'!$C4,"")
A5: ='Extraction initiale'!A5 -> 41502 | B5: =VLOOKUP('Extraction initiale'!$B5,'Master data'!$A:B,2,0) -> #N/A | C5: =VLOOKUP('Extraction initiale'!$B5,'Master data'!$A:C,3,0) -> #N/A | D5: =VLOOKUP('Extraction initiale'!$B5,'Master data'!$A:D,4,0) -> #N/A | E5: =IF('Extraction initiale'!$C5<0,'Extraction initiale'!$C5,"") -> -7.71 | F5: =IF('Extraction initiale'!$C5>0,'Extraction initiale'!$C5,"")
A6: ='Extraction initiale'!A6 -> 41494 | B6: =VLOOKUP('Extraction initiale'!$B6,'Master data'!$A:B,2,0) -> #N/A | C6: =VLOOKUP('Extraction initiale'!$B6,'Master data'!$A:C,3,0) -> #N/A | D6: =VLOOKUP('Extraction initiale'!$B6,'Master data'!$A:D,4,0) -> #N/A | E6: =IF('Extraction initiale'!$C6<0,'Extraction initiale'!$C6,"") | F6: =IF('Extraction initiale'!$C6>0,'Extraction initiale'!$C6,"") -> 20.24
A7: ='Extraction initiale'!A7 -> 41494 | B7: =VLOOKUP('Extraction initiale'!$B7,'Master data'!$A:B,2,0) -> #N/A | C7: =VLOOKUP('Extraction initiale'!$B7,'Master data'!$A:C,3,0) -> #N/A | D7: =VLOOKUP('Extraction initiale'!$B7,'Master data'!$A:D,4,0) -> #N/A | E7: =IF('Extraction initiale'!$C7<0,'Extraction initiale'!$C7,"") -> -20 | F7: =IF('Extraction initiale'!$C7>0,'Extraction initiale'!$C7,"")
A8: ='Extraction initiale'!A8 -> 41494 | B8: =VLOOKUP('Extraction initiale'!$B8,'Master data'!$A:B,2,0) -> #N/A | C8: =VLOOKUP('Extraction initiale'!$B8,'Master data'!$A:C,3,0) -> #N/A | D8: =VLOOKUP('Extraction initiale'!$B8,'Master data'!$A:D,4,0) -> #N/A | E8: =IF('Extraction initiale'!$C8<0,'Extraction initiale'!$C8,"") -> -14.9 | F8: =IF('Extraction initiale'!$C8>0,'Extraction initiale'!$C8,"")
A9: ='Extraction initiale'!A9 -> 41492 | B9: =VLOOKUP('Extraction initiale'!$B9,'Master data'!$A:B,2,0) -> #N/A | C9: =VLOOKUP('Extraction initiale'!$B9,'Master data'!$A:C,3,0) -> #N/A | D9: =VLOOKUP('Extraction initiale'!$B9,'Master data'!$A:D,4,0) -> #N/A | E9: =IF('Extraction initiale'!$C9<0,'Extraction initiale'!$C9,"") | F9: =IF('Extraction initiale'!$C9>0,'Extraction initiale'!$C9,"") -> 221.9
A10: ='Extraction initiale'!A10 -> 41491 | B10: =VLOOKUP('Extraction initiale'!$B10,'Master data'!$A:B,2,0) -> #N/A | C10: =VLOOKUP('Extraction initiale'!$B10,'Master data'!$A:C,3,0) -> #N/A | D10: =VLOOKUP('Extraction initiale'!$B10,'Master data'!$A:D,4,0) -> #N/A | E10: =IF('Extraction initiale'!$C10<0,'Extraction initiale'!$C10,"") -> -67.15 | F10: =IF('Extraction initiale'!$C10>0,'Extraction initiale'!$C10,"")
