Workbook

Sheet BDD V7
A1: Identifiant externe SST | B1: Pays arrivée | C1: Zone arrivée | D1: Ville arrivée | E1: Date sortie de site chg reelle | F1: Date sortie de site dchg reell | G1: A/R | H1: Exclusion | I1: Année | J1: Mois | K1: Jour L | L1: Pays TCD | M1: Clé Trans | N1: Transporteur | O1: Type Transport | P1: Type | Q1: Clé Délai | R1: Délai L. Férié USA | S1: Délai L
A2: Transporteur 1 | B2: US | C2: 90810 | D2: CARSON | E2: 44937 | F2: 44942 | G2: {=IF(H2="E","",IF(SUMPRODUCT(N(ISNUMBER(FIND({"RMA";"RHF";"RETOUR"},#REF!))))>0,"R","A"))} -> A | I2: =YEAR(E2) -> 2023 | J2: =TEXT(E2,"mmmm") -> janvier | K2: =TEXT(F2,"jjjj") -> lundi | L2: =VLOOKUP(B2,Table!$T:$U,2,0) -> UnitedStates | M2: =_xlfn.CONCAT(A2," ",B2) -> Transporteur 1 US | N2: =IF(OR(G2="R",H2="E"),"",VLOOKUP(M2,Table!$B:$D,2,0)) -> TRS 1 | O2: =IF(OR(G2="R",H2="E"),"",VLOOKUP(M2,Table!$B:$E,3,0)) -> Air | P2: =IF(OR(G2="R",H2="E"),"",VLOOKUP(M2,Table!$B:$E,4,0)) -> Parcels | Q2: =IF(OR(G2="R",H2="E"),"",_xlfn.CONCAT(N2," ",B2," ",LEFT(O2,3)," ",LEFT(P2,3))) -> TRS 1 US Air Par | R2: =IF(AND(L2<>"",AND(OR(K2="samedi",K2="dimanche"))),NETWORKDAYS(E2,F2,INDIRECT(L2)),NETWORKDAYS(E2,F2,INDIRECT(L2))-1) -> 2 | S2: {=INDEX(R2:R2,MATCH(TRUE,INDEX(R2:R2<>"",0),0))} -> 2
A3: Transporteur 1 | B3: FR | C3: 90810 | D3: CARSON | E3: 44952 | F3: 44956 | G3: {=IF(H3="E","",IF(SUMPRODUCT(N(ISNUMBER(FIND({"RMA";"RHF";"RETOUR"},#REF!))))>0,"R","A"))} -> A | I3: =YEAR(E3) -> 2023 | J3: =TEXT(E3,"mmmm") -> janvier | K3: =TEXT(F3,"jjjj") -> lundi | L3: =VLOOKUP(B3,Table!$T:$U,2,0) -> France | M3: =_xlfn.CONCAT(A3," ",B3) -> Transporteur 1 FR | N3: =IF(OR(G3="R",H3="E"),"",VLOOKUP(M3,Table!$B:$D,2,0)) -> trs 2 | O3: =IF(OR(G3="R",H3="E"),"",VLOOKUP(M3,Table!$B:$E,3,0)) -> AIR | P3: =IF(OR(G3="R",H3="E"),"",VLOOKUP(M3,Table!$B:$E,4,0)) -> COLIS FR | Q3: =IF(OR(G3="R",H3="E"),"",_xlfn.CONCAT(N3," ",B3," ",LEFT(O3,3)," ",LEFT(P3,3))) -> trs 2 FR AIR COL | R3: =IF(AND(L3<>"",AND(OR(K3="samedi",K3="dimanche"))),NETWORKDAYS(E3,F3,INDIRECT(L3)),NETWORKDAYS(E3,F3,INDIRECT(L3))-1) -> 2 | S3: {=INDEX(R3:R3,MATCH(TRUE,INDEX(R3:R3<>"",0),0))} -> 2
A4: Transporteur 1 | B4: DE | C4: 90810 | D4: CARSON | E4: 44957 | F4: 44963 | G4: {=IF(H4="E","",IF(SUMPRODUCT(N(ISNUMBER(FIND({"RMA";"RHF";"RETOUR"},#REF!))))>0,"R","A"))} -> A | I4: =YEAR(E4) -> 2023 | J4: =TEXT(E4,"mmmm") -> janvier | K4: =TEXT(F4,"jjjj") -> lundi | L4: =VLOOKUP(B4,Table!$T:$U,2,0) -> Germany | M4: =_xlfn.CONCAT(A4," ",B4) -> Transporteur 1 DE | N4: =IF(OR(G4="R",H4="E"),"",VLOOKUP(M4,Table!$B:$D,2,0)) -> trs 3 | O4: =IF(OR(G4="R",H4="E"),"",VLOOKUP(M4,Table!$B:$E,3,0)) -> AIR | P4: =IF(OR(G4="R",H4="E"),"",VLOOKUP(M4,Table!$B:$E,4,0)) -> COLIS DE | Q4: =IF(OR(G4="R",H4="E"),"",_xlfn.CONCAT(N4," ",B4," ",LEFT(O4,3)," ",LEFT(P4,3))) -> trs 3 DE AIR COL | R4: =IF(AND(L4<>"",AND(OR(K4="samedi",K4="dimanche"))),NETWORKDAYS(E4,F4,INDIRECT(L4)),NETWORKDAYS(E4,F4,INDIRECT(L4))-1) -> 4 | S4: {=INDEX(R4:R4,MATCH(TRUE,INDEX(R4:R4<>"",0),0))} -> 4
A5: Transporteur 2 | B5: hk | C5: 90810 | D5: CARSON | E5: 44959 | F5: 44962 | G5: {=IF(H5="E","",IF(SUMPRODUCT(N(ISNUMBER(FIND({"RMA";"RHF";"RETOUR"},#REF!))))>0,"R","A"))} -> A | I5: =YEAR(E5) -> 2023 | J5: =TEXT(E5,"mmmm") -> février | K5: =TEXT(F5,"jjjj") -> dimanche | L5: =VLOOKUP(B5,Table!$T:$U,2,0) -> HONG_KONG | M5: =_xlfn.CONCAT(A5," ",B5) -> Transporteur 2 hk | N5: =IF(OR(G5="R",H5="E"),"",VLOOKUP(M5,Table!$B:$D,2,0)) -> trs 4 | O5: =IF(OR(G5="R",H5="E"),"",VLOOKUP(M5,Table!$B:$E,3,0)) -> AIR | P5: =IF(OR(G5="R",H5="E"),"",VLOOKUP(M5,Table!$B:$E,4,0)) -> COLIS HK | Q5: =IF(OR(G5="R",H5="E"),"",_xlfn.CONCAT(N5," ",B5," ",LEFT(O5,3)," ",LEFT(P5,3))) -> trs 4 hk AIR COL | R5: =IF(AND(L5<>"",AND(OR(K5="samedi",K5="dimanche"))),NETWORKDAYS(E5,F5,INDIRECT(L5)),NETWORKDAYS(E5,F5,INDIRECT(L5))-1) -> 2 | S5: {=INDEX(R5:R5,MATCH(TRUE,INDEX(R5:R5<>"",0),0))} -> 2
A6: Transporteur 1 | B6: JP | C6: 01843 | D6: LAWRENCE | E6: 44964 | F6: 44970 | G6: {=IF(H6="E","",IF(SUMPRODUCT(N(ISNUMBER(FIND({"RMA";"RHF";"RETOUR"},#REF!))))>0,"R","A"))} -> A | I6: =YEAR(E6) -> 2023 | J6: =TEXT(E6,"mmmm") -> février | K6: =TEXT(F6,"jjjj") -> lundi | L6: =VLOOKUP(B6,Table!$T:$U,2,0) -> Japan | M6: =_xlfn.CONCAT(A6," ",B6) -> Transporteur 1 JP | N6: =IF(OR(G6="R",H6="E"),"",VLOOKUP(M6,Table!$B:$D,2,0)) -> trs 5 | O6: =IF(OR(G6="R",H6="E"),"",VLOOKUP(M6,Table!$B:$E,3,0)) -> AIR | P6: =IF(OR(G6="R",H6="E"),"",VLOOKUP(M6,Table!$B:$E,4,0)) -> COLIS JP | Q6: =IF(OR(G6="R",H6="E"),"",_xlfn.CONCAT(N6," ",B6," ",LEFT(O6,3)," ",LEFT(P6,3))) -> trs 5 JP AIR COL | R6: =IF(AND(L6<>"",AND(OR(K6="samedi",K6="dimanche"))),NETWORKDAYS(E6,F6,INDIRECT(L6)),NETWORKDAYS(E6,F6,INDIRECT(L6))-1) -> 4 | S6: {=INDEX(R6:R6,MATCH(TRUE,INDEX(R6:R6<>"",0),0))} -> 4
A7: Transporteur 2 | B7: MX | C7: 90810 | D7: CARSON | E7: 44966 | F7: 44969 | G7: {=IF(H7="E","",IF(SUMPRODUCT(N(ISNUMBER(FIND({"RMA";"RHF";"RETOUR"},#REF!))))>0,"R","A"))} -> A | I7: =YEAR(E7) -> 2023 | J7: =TEXT(E7,"mmmm") -> février | K7: =TEXT(F7,"jjjj") -> dimanche | L7: =VLOOKUP(B7,Table!$T:$U,2,0) -> Mexico | M7: =_xlfn.CONCAT(A7," ",B7) -> Transporteur 2 MX | N7: =IF(OR(G7="R",H7="E"),"",VLOOKUP(M7,Table!$B:$D,2,0)) -> trs 6 | O7: =IF(OR(G7="R",H7="E"),"",VLOOKUP(M7,Table!$B:$E,3,0)) -> AIR | P7: =IF(OR(G7="R",H7="E"),"",VLOOKUP(M7,Table!$B:$E,4,0)) -> COLIS MX | Q7: =IF(OR(G7="R",H7="E"),"",_xlfn.CONCAT(N7," ",B7," ",LEFT(O7,3)," ",LEFT(P7,3))) -> trs 6 MX AIR COL | R7: =IF(AND(L7<>"",AND(OR(K7="samedi",K7="dimanche"))),NETWORKDAYS(E7,F7,INDIRECT(L7)),NETWORKDAYS(E7,F7,INDIRECT(L7))-1) -> 2 | S7: {=INDEX(R7:R7,MATCH(TRUE,INDEX(R7:R7<>"",0),0))} -> 2
A8: Transporteur 1 | B8: IT | C8: 90810 | D8: CARSON | E8: 45007 | F8: 45012 | G8: {=IF(H8="E","",IF(SUMPRODUCT(N(ISNUMBER(FIND({"RMA";"RHF";"RETOUR"},#REF!))))>0,"R","A"))} -> A | I8: =YEAR(E8) -> 2023 | J8: =TEXT(E8,"mmmm") -> mars | K8: =TEXT(F8,"jjjj") -> lundi | L8: =VLOOKUP(B8,Table!$T:$U,2,0) -> Italia | M8: =_xlfn.CONCAT(A8," ",B8) -> Transporteur 1 IT | N8: =IF(OR(G8="R",H8="E"),"",VLOOKUP(M8,Table!$B:$D,2,0)) -> trs 7 | O8: =IF(OR(G8="R",H8="E"),"",VLOOKUP(M8,Table!$B:$E,3,0)) -> AIR | P8: =IF(OR(G8="R",H8="E"),"",VLOOKUP(M8,Table!$B:$E,4,0)) -> COLIS IT | Q8: =IF(OR(G8="R",H8="E"),"",_xlfn.CONCAT(N8," ",B8," ",LEFT(O8,3)," ",LEFT(P8,3))) -> trs 7 IT AIR COL | R8: =IF(AND(L8<>"",AND(OR(K8="samedi",K8="dimanche"))),NETWORKDAYS(E8,F8,INDIRECT(L8)),NETWORKDAYS(E8,F8,INDIRECT(L8))-1) -> 3 | S8: {=INDEX(R8:R8,MATCH(TRUE,INDEX(R8:R8<>"",0),0))} -> 3
A9: Transporteur 2 | B9: US | C9: 90810 | D9: CARSON | E9: 45016 | F9: 45019 | G9: {=IF(H9="E","",IF(SUMPRODUCT(N(ISNUMBER(FIND({"RMA";"RHF";"RETOUR"},#REF!))))>0,"R","A"))} -> A | I9: =YEAR(E9) -> 2023 | J9: =TEXT(E9,"mmmm") -> mars | K9: =TEXT(F9,"jjjj") -> lundi | L9: =VLOOKUP(B9,Table!$T:$U,2,0) -> UnitedStates | M9: =_xlfn.CONCAT(A9," ",B9) -> Transporteur 2 US | N9: =IF(OR(G9="R",H9="E"),"",VLOOKUP(M9,Table!$B:$D,2,0)) -> TRS 2 | O9: =IF(OR(G9="R",H9="E"),"",VLOOKUP(M9,Table!$B:$E,3,0)) -> Air | P9: =IF(OR(G9="R",H9="E"),"",VLOOKUP(M9,Table!$B:$E,4,0)) -> Pallets | Q9: =IF(OR(G9="R",H9="E"),"",_xlfn.CONCAT(N9," ",B9," ",LEFT(O9,3)," ",LEFT(P9,3))) -> TRS 2 US Air Pal | R9: =IF(AND(L9<>"",AND(OR(K9="samedi",K9="dimanche"))),NETWORKDAYS(E9,F9,INDIRECT(L9)),NETWORKDAYS(E9,F9,INDIRECT(L9))-1) -> 1 | S9: {=INDEX(R9:R9,MATCH(TRUE,INDEX(R9:R9<>"",0),0))} -> 1
A10: Transporteur 1 | B10: SG | C10: 90810 | D10: CARSON | E10: 45022 | F10: 45026 | G10: {=IF(H10="E","",IF(SUMPRODUCT(N(ISNUMBER(FIND({"RMA";"RHF";"RETOUR"},#REF!))))>0,"R","A"))} -> A | I10: =YEAR(E10) -> 2023 | J10: =TEXT(E10,"mmmm") -> avril | K10: =TEXT(F10,"jjjj") -> lundi | L10: =VLOOKUP(B10,Table!$T:$U,2,0) -> Singapore | M10: =_xlfn.CONCAT(A10," ",B10) -> Transporteur 1 SG | N10: =IF(OR(G10="R",H10="E"),"",VLOOKUP(M10,Table!$B:$D,2,0)) -> trs 9 | O10: =IF(OR(G10="R",H10="E"),"",VLOOKUP(M10,Table!$B:$E,3,0)) -> AIR | P10: =IF(OR(G10="R",H10="E"),"",VLOOKUP(M10,Table!$B:$E,4,0)) -> COLIS SG | Q10: =IF(OR(G10="R",H10="E"),"",_xlfn.CONCAT(N10," ",B10," ",LEFT(O10,3)," ",LEFT(P10,3))) -> trs 9 SG AIR COL | R10: =IF(AND(L10<>"",AND(OR(K10="samedi",K10="dimanche"))),NETWORKDAYS(E10,F10,INDIRECT(L10)),NETWORKDAYS(E10,F10,INDIRECT(L10))-1) -> 1 | S10: {=INDEX(R10:R10,MATCH(TRUE,INDEX(R10:R10<>"",0),0))} -> 1
A11: Transporteur 1 | B11: CA | C11: 90810 | D11: CARSON | E11: 45029 | F11: 45033 | G11: {=IF(H11="E","",IF(SUMPRODUCT(N(ISNUMBER(FIND({"RMA";"RHF";"RETOUR"},#REF!))))>0,"R","A"))} -> A | I11: =YEAR(E11) -> 2023 | J11: =TEXT(E11,"mmmm") -> avril | K11: =TEXT(F11,"jjjj") -> lundi | L11: =VLOOKUP(B11,Table!$T:$U,2,0) -> Canada | M11: =_xlfn.CONCAT(A11," ",B11) -> Transporteur 1 CA | N11: =IF(OR(G11="R",H11="E"),"",VLOOKUP(M11,Table!$B:$D,2,0)) -> trs 10 | O11: =IF(OR(G11="R",H11="E"),"",VLOOKUP(M11,Table!$B:$E,3,0)) -> AIR | P11: =IF(OR(G11="R",H11="E"),"",VLOOKUP(M11,Table!$B:$E,4,0)) -> COLIS CA | Q11: =IF(OR(G11="R",H11="E"),"",_xlfn.CONCAT(N11," ",B11," ",LEFT(O11,3)," ",LEFT(P11,3))) -> trs 10 CA AIR COL | R11: =IF(AND(L11<>"",AND(OR(K11="samedi",K11="dimanche"))),NETWORKDAYS(E11,F11,INDIRECT(L11)),NETWORKDAYS(E11,F11,INDIRECT(L11))-1) -> 2 | S11: {=INDEX(R11:R11,MATCH(TRUE,INDEX(R11:R11<>"",0),0))} -> 2
A12: Transporteur 1 | B12: US | C12: 90810 | D12: CARSON | E12: 45043 | F12: 45047 | G12: {=IF(H12="E","",IF(SUMPRODUCT(N(ISNUMBER(FIND({"RMA";"RHF";"RETOUR"},#REF!))))>0,"R","A"))} -> A | I12: =YEAR(E12) -> 2023 | J12: =TEXT(E12,"mmmm") -> avril | K12: =TEXT(F12,"jjjj") -> lundi | L12: =VLOOKUP(B12,Table!$T:$U,2,0) -> UnitedStates | M12: =_xlfn.CONCAT(A12," ",B12) -> Transporteur 1 US | N12: =IF(OR(G12="R",H12="E"),"",VLOOKUP(M12,Table!$B:$D,2,0)) -> TRS 1 | O12: =IF(OR(G12="R",H12="E"),"",VLOOKUP(M12,Table!$B:$E,3,0)) -> Air | P12: =IF(OR(G12="R",H12="E"),"",VLOOKUP(M12,Table!$B:$E,4,0)) -> Parcels | Q12: =IF(OR(G12="R",H12="E"),"",_xlfn.CONCAT(N12," ",B12," ",LEFT(O12,3)," ",LEFT(P12,3))) -> TRS 1 US Air Par | R12: =IF(AND(L12<>"",AND(OR(K12="samedi",K12="dimanche"))),NETWORKDAYS(E12,F12,INDIRECT(L12)),NETWORKDAYS(E12,F12,INDIRECT(L12))-1) -> 2 | S12: {=INDEX(R12:R12,MATCH(TRUE,INDEX(R12:R12<>"",0),0))} -> 2

Sheet Table
B2: Clé Transporteur | C2: Type Transporteur | D2: Mode | E2: Cond. | G2: FRANCE | H2: UNITED STATES | I2: JAPAN | J2: SINGAPORE | K2: GERMANY | L2: HONG_KONG | M2: ITALIA | N2: CANADA | O2: MEXICO | Q2: Clé | R2: Délai | T2: Code | U2: Pays
B3: TRANSPORTEUR 1 US | C3: TRS 1 | D3: Air | E3: Parcels | G3: 44927 | H3: 44927 | I3: 44927 | J3: 44927 | K3: 44927 | L3: 44927 | M3: 44927 | N3: 44927 | O3: 44927 | Q3: TRS 1 US Air Par | R3: 2 | T3: CA | U3: Canada
B4: TRANSPORTEUR 2 US | C4: TRS 2 | D4: Air | E4: Pallets | G4: 45026 | H4: 44942 | I4: 44935 | J4: 44948 | K4: 45023 | L4: 45047 | M4: 44932 | N4: 45023 | O4: 44963 | Q4: TRS 2 US Air Pal | R4: 2 | T4: FR | U4: France
B5: TRANSPORTEUR 2 FR | C5: trs 1 | D5: AIR | E5: ="COLIS " &RIGHT(B5,2) -> COLIS FR | G5: 45047 | H5: 44977 | I5: 44968 | J5: 44949 | K5: 45026 | L5: 45108 | M5: 45025 | N5: 45068 | O5: 45005 | T5: DE | U5: Germany
B6: TRANSPORTEUR 1 FR | C6: trs 2 | D6: AIR | E6: ="COLIS " &RIGHT(B6,2) -> COLIS FR | G6: 45054 | H6: 45075 | I6: 44980 | J6: 44950 | K6: 45047 | L6: 45179 | M6: 45026 | N6: 45108 | O6: 44994 | T6: HK | U6: HONG_KONG
B7: Transporteur 1 DE | C7: trs 3 | D7: AIR | E7: ="COLIS " &RIGHT(B7,2) -> COLIS DE | G7: 45064 | H7: 45111 | I7: 45006 | J7: 45023 | K7: 45064 | L7: 45200 | M7: 45041 | N7: 45173 | O7: 45047 | T7: JP | U7: Japan
B8: Transporteur 2 HK | C8: trs 4 | D8: AIR | E8: ="COLIS " &RIGHT(B8,2) -> COLIS HK | G8: 45075 | H8: 45173 | I8: 45045 | J8: 45038 | K8: 45075 | L8: 45285 | M8: 45047 | N8: 45208 | O8: 45060 | T8: MX | U8: Mexico
B9: Transporteur 1 JP | C9: trs 5 | D9: AIR | E9: ="COLIS " &RIGHT(B9,2) -> COLIS JP | G9: 45121 | H9: 45208 | I9: 45049 | J9: 45047 | K9: 45153 | L9: 45286 | M9: 45079 | N9: 45241 | O9: 45185 | T9: IT | U9: Italia
B10: Transporteur 2 MX | C10: trs 6 | D10: AIR | E10: ="COLIS " &RIGHT(B10,2) -> COLIS MX | G10: 45153 | H10: 45240 | I10: 45050 | J10: 45079 | K10: 45202 | M10: 45153 | N10: 45285 | O10: 45250 | T10: SE | U10: Other
B11: Transporteur 1 IT | C11: trs 7 | D11: AIR | E11: ="COLIS " &RIGHT(B11,2) -> COLIS IT | G11: 45231 | H11: 45253 | I11: 45051 | J11: 45106 | K11: 45285 | M11: 45231 | O11: 45284 | T11: CZ | U11: Other
B12: Transporteur 2 US | C12: trs 8 | D12: AIR | E12: ="COLIS " &RIGHT(B12,2) -> COLIS US | G12: 45241 | H12: 45285 | I12: 45124 | J12: 45147 | K12: 45286 | M12: 45268 | O12: 45285 | T12: PL | U12: Other
B13: Transporteur 1 SG | C13: trs 9 | D13: AIR | E13: ="COLIS " &RIGHT(B13,2) -> COLIS SG | G13: 45285 | I13: 45149 | J13: 45242 | K13: 45291 | M13: 45285 | T13: NL | U13: Other
B14: Transporteur 1 CA | C14: trs 10 | D14: AIR | E14: ="COLIS " &RIGHT(B14,2) -> COLIS CA | I14: 45187 | J14: 45243 | M14: 45286 | T14: SI | U14: Other
B15: Transporteur 1 US | C15: trs 11 | I15: 45192 | J15: 45285 | T15: SG | U15: Singapore
I16: 45208 | T16: US | U16: UnitedStates
I17: 45233
I18: 45253
