Workbook

Sheet Onglet extraction
A1: Nom Projet | B1: Chef de projet | C1: Département | D1: Statut | E1: Météo | F1: Motif du retard | G1: Avancement
A2: A | B2: Dominique | C2: DSI | D2: En cours | E2: Conforme | F2: Pas de retard | G2: 0.75
A3: B | B3: Damien | C3: RH | D3: En cours | E3: Conforme | F3: Pas de retard | G3: 0.8
A4: C | B4: Philippe | C4: RH | D4: Terminé | E4: A surveiller | F4: / | G4: 1
A5: D | B5: Fanny | C5: DSI | D5: En cours | E5: A surveiller | F5: Manque de personnel | G5: 0.4
A6: E | B6: Yann | C6: Communication | D6: En cours | E6: Blocage | F6: En attente d'arbitrage | G6: 0.6
A7: F | B7: Olivier | C7: Finance | D7: Terminé | E7: A surveiller | F7: Ok | G7: 1
A8: G | B8: Mathilde | C8: Commercial | D8: Terminé | E8: Conforme | F8: RAS | G8: 1
A9: H | B9: Ronan | C9: RH | D9: En cours | E9: Conforme | F9: RAS | G9: 0.25
A10: I | B10: Mathieu | C10: Commercial | D10: En cours | E10: Blocage | F10: Besoin d'arbitrage | G10: 0.8
A11: J | B11: Amine | C11: DSI | D11: En cours | E11: Conforme | F11: Retard maîtrisé | G11: 0.3
A12: K | B12: Paul Gaspard | C12: DSI | D12: En cours | E12: Conforme | F12: Retard maîtrisé | G12: 0.45
A13: L | B13: David | C13: Finance | D13: En cours | E13: A surveiller | F13: Retard dû à un arrêt maladie | G13: 0.55
... A27: Z | B27: Etienne | C27: DSI | D27: En cours | E27: A surveiller | F27: Absence d'une compétence critique | G27: 0.4

Sheet Onglet projets en difficulté
B2: Nom Projet | C2: Chef de projet | D2: Département | E2: Statut | F2: Météo | G2: Motif du retard | H2: Avancement
B3: =IF(AND('Onglet extraction'!$D2="En cours",OR('Onglet extraction'!$E2="Blocage",'Onglet extraction'!$E2="A surveiller")),'Onglet extraction'!A2,"") | C3: =IF(AND('Onglet extraction'!$D2="En cours",OR('Onglet extraction'!$E2="Blocage",'Onglet extraction'!$E2="A surveiller")),'Onglet extraction'!B2,"") | D3: =IF(AND('Onglet extraction'!$D2="En cours",OR('Onglet extraction'!$E2="Blocage",'Onglet extraction'!$E2="A surveiller")),'Onglet extraction'!C2,"") | E3: =IF(AND('Onglet extraction'!$D2="En cours",OR('Onglet extraction'!$E2="Blocage",'Onglet extraction'!$E2="A surveiller")),'Onglet extraction'!D2,"") | F3: =IF(AND('Onglet extraction'!$D2="En cours",OR('Onglet extraction'!$E2="Blocage",'Onglet extraction'!$E2="A surveiller")),'Onglet extraction'!E2,"") | G3: =IF(AND('Onglet extraction'!$D2="En cours",OR('Onglet extraction'!$E2="Blocage",'Onglet extraction'!$E2="A surveiller")),'Onglet extraction'!F2,"") | H3: =IF(AND('Onglet extraction'!$D2="En cours",OR('Onglet extraction'!$E2="Blocage",'Onglet extraction'!$E2="A surveiller")),'Onglet extraction'!G2,"")
B4: =IF(AND('Onglet extraction'!$D3="En cours",OR('Onglet extraction'!$E3="Blocage",'Onglet extraction'!$E3="A surveiller")),'Onglet extraction'!A3,"") | C4: =IF(AND('Onglet extraction'!$D3="En cours",OR('Onglet extraction'!$E3="Blocage",'Onglet extraction'!$E3="A surveiller")),'Onglet extraction'!B3,"") | D4: =IF(AND('Onglet extraction'!$D3="En cours",OR('Onglet extraction'!$E3="Blocage",'Onglet extraction'!$E3="A surveiller")),'Onglet extraction'!C3,"") | E4: =IF(AND('Onglet extraction'!$D3="En cours",OR('Onglet extraction'!$E3="Blocage",'Onglet extraction'!$E3="A surveiller")),'Onglet extraction'!D3,"") | F4: =IF(AND('Onglet extraction'!$D3="En cours",OR('Onglet extraction'!$E3="Blocage",'Onglet extraction'!$E3="A surveiller")),'Onglet extraction'!E3,"") | G4: =IF(AND('Onglet extraction'!$D3="En cours",OR('Onglet extraction'!$E3="Blocage",'Onglet extraction'!$E3="A surveiller")),'Onglet extraction'!F3,"") | H4: =IF(AND('Onglet extraction'!$D3="En cours",OR('Onglet extraction'!$E3="Blocage",'Onglet extraction'!$E3="A surveiller")),'Onglet extraction'!G3,"")
B5: =IF(AND('Onglet extraction'!$D4="En cours",OR('Onglet extraction'!$E4="Blocage",'Onglet extraction'!$E4="A surveiller")),'Onglet extraction'!A4,"") | C5: =IF(AND('Onglet extraction'!$D4="En cours",OR('Onglet extraction'!$E4="Blocage",'Onglet extraction'!$E4="A surveiller")),'Onglet extraction'!B4,"") | D5: =IF(AND('Onglet extraction'!$D4="En cours",OR('Onglet extraction'!$E4="Blocage",'Onglet extraction'!$E4="A surveiller")),'Onglet extraction'!C4,"") | E5: =IF(AND('Onglet extraction'!$D4="En cours",OR('Onglet extraction'!$E4="Blocage",'Onglet extraction'!$E4="A surveiller")),'Onglet extraction'!D4,"") | F5: =IF(AND('Onglet extraction'!$D4="En cours",OR('Onglet extraction'!$E4="Blocage",'Onglet extraction'!$E4="A surveiller")),'Onglet extraction'!E4,"") | G5: =IF(AND('Onglet extraction'!$D4="En cours",OR('Onglet extraction'!$E4="Blocage",'Onglet extraction'!$E4="A surveiller")),'Onglet extraction'!F4,"") | H5: =IF(AND('Onglet extraction'!$D4="En cours",OR('Onglet extraction'!$E4="Blocage",'Onglet extraction'!$E4="A surveiller")),'Onglet extraction'!G4,"")
B6: =IF(AND('Onglet extraction'!$D5="En cours",OR('Onglet extraction'!$E5="Blocage",'Onglet extraction'!$E5="A surveiller")),'Onglet extraction'!A5,"") -> D | C6: =IF(AND('Onglet extraction'!$D5="En cours",OR('Onglet extraction'!$E5="Blocage",'Onglet extraction'!$E5="A surveiller")),'Onglet extraction'!B5,"") -> Fanny | D6: =IF(AND('Onglet extraction'!$D5="En cours",OR('Onglet extraction'!$E5="Blocage",'Onglet extraction'!$E5="A surveiller")),'Onglet extraction'!C5,"") -> DSI | E6: =IF(AND('Onglet extraction'!$D5="En cours",OR('Onglet extraction'!$E5="Blocage",'Onglet extraction'!$E5="A surveiller")),'Onglet extraction'!D5,"") -> En cours | F6: =IF(AND('Onglet extraction'!$D5="En cours",OR('Onglet extraction'!$E5="Blocage",'Onglet extraction'!$E5="A surveiller")),'Onglet extraction'!E5,"") -> A surveiller | G6: =IF(AND('Onglet extraction'!$D5="En cours",OR('Onglet extraction'!$E5="Blocage",'Onglet extraction'!$E5="A surveiller")),'Onglet extraction'!F5,"") -> Manque de personnel | H6: =IF(AND('Onglet extraction'!$D5="En cours",OR('Onglet extraction'!$E5="Blocage",'Onglet extraction'!$E5="A surveiller")),'Onglet extraction'!G5,"") -> 0.4
B7: =IF(AND('Onglet extraction'!$D6="En cours",OR('Onglet extraction'!$E6="Blocage",'Onglet extraction'!$E6="A surveiller")),'Onglet extraction'!A6,"") -> E | C7: =IF(AND('Onglet extraction'!$D6="En cours",OR('Onglet extraction'!$E6="Blocage",'Onglet extraction'!$E6="A surveiller")),'Onglet extraction'!B6,"") -> Yann | D7: =IF(AND('Onglet extraction'!$D6="En cours",OR('Onglet extraction'!$E6="Blocage",'Onglet extraction'!$E6="A surveiller")),'Onglet extraction'!C6,"") -> Communication | E7: =IF(AND('Onglet extraction'!$D6="En cours",OR('Onglet extraction'!$E6="Blocage",'Onglet extraction'!$E6="A surveiller")),'Onglet extraction'!D6,"") -> En cours | F7: =IF(AND('Onglet extraction'!$D6="En cours",OR('Onglet extraction'!$E6="Blocage",'Onglet extraction'!$E6="A surveiller")),'Onglet extraction'!E6,"") -> Blocage | G7: =IF(AND('Onglet extraction'!$D6="En cours",OR('Onglet extraction'!$E6="Blocage",'Onglet extraction'!$E6="A surveiller")),'Onglet extraction'!F6,"") -> En attente d'arbitrage | H7: =IF(AND('Onglet extraction'!$D6="En cours",OR('Onglet extraction'!$E6="Blocage",'Onglet extraction'!$E6="A surveiller")),'Onglet extraction'!G6,"") -> 0.6
B8: =IF(AND('Onglet extraction'!$D7="En cours",OR('Onglet extraction'!$E7="Blocage",'Onglet extraction'!$E7="A surveiller")),'Onglet extraction'!A7,"") | C8: =IF(AND('Onglet extraction'!$D7="En cours",OR('Onglet extraction'!$E7="Blocage",'Onglet extraction'!$E7="A surveiller")),'Onglet extraction'!B7,"") | D8: =IF(AND('Onglet extraction'!$D7="En cours",OR('Onglet extraction'!$E7="Blocage",'Onglet extraction'!$E7="A surveiller")),'Onglet extraction'!C7,"") | E8: =IF(AND('Onglet extraction'!$D7="En cours",OR('Onglet extraction'!$E7="Blocage",'Onglet extraction'!$E7="A surveiller")),'Onglet extraction'!D7,"") | F8: =IF(AND('Onglet extraction'!$D7="En cours",OR('Onglet extraction'!$E7="Blocage",'Onglet extraction'!$E7="A surveiller")),'Onglet extraction'!E7,"") | G8: =IF(AND('Onglet extraction'!$D7="En cours",OR('Onglet extraction'!$E7="Blocage",'Onglet extraction'!$E7="A surveiller")),'Onglet extraction'!F7,"") | H8: =IF(AND('Onglet extraction'!$D7="En cours",OR('Onglet extraction'!$E7="Blocage",'Onglet extraction'!$E7="A surveiller")),'Onglet extraction'!G7,"")
B9: =IF(AND('Onglet extraction'!$D8="En cours",OR('Onglet extraction'!$E8="Blocage",'Onglet extraction'!$E8="A surveiller")),'Onglet extraction'!A8,"") | C9: =IF(AND('Onglet extraction'!$D8="En cours",OR('Onglet extraction'!$E8="Blocage",'Onglet extraction'!$E8="A surveiller")),'Onglet extraction'!B8,"") | D9: =IF(AND('Onglet extraction'!$D8="En cours",OR('Onglet extraction'!$E8="Blocage",'Onglet extraction'!$E8="A surveiller")),'Onglet extraction'!C8,"") | E9: =IF(AND('Onglet extraction'!$D8="En cours",OR('Onglet extraction'!$E8="Blocage",'Onglet extraction'!$E8="A surveiller")),'Onglet extraction'!D8,"") | F9: =IF(AND('Onglet extraction'!$D8="En cours",OR('Onglet extraction'!$E8="Blocage",'Onglet extraction'!$E8="A surveiller")),'Onglet extraction'!E8,"") | G9: =IF(AND('Onglet extraction'!$D8="En cours",OR('Onglet extraction'!$E8="Blocage",'Onglet extraction'!$E8="A surveiller")),'Onglet extraction'!F8,"") | H9: =IF(AND('Onglet extraction'!$D8="En cours",OR('Onglet extraction'!$E8="Blocage",'Onglet extraction'!$E8="A surveiller")),'Onglet extraction'!G8,"")
B10: =IF(AND('Onglet extraction'!$D9="En cours",OR('Onglet extraction'!$E9="Blocage",'Onglet extraction'!$E9="A surveiller")),'Onglet extraction'!A9,"") | C10: =IF(AND('Onglet extraction'!$D9="En cours",OR('Onglet extraction'!$E9="Blocage",'Onglet extraction'!$E9="A surveiller")),'Onglet extraction'!B9,"") | D10: =IF(AND('Onglet extraction'!$D9="En cours",OR('Onglet extraction'!$E9="Blocage",'Onglet extraction'!$E9="A surveiller")),'Onglet extraction'!C9,"") | E10: =IF(AND('Onglet extraction'!$D9="En cours",OR('Onglet extraction'!$E9="Blocage",'Onglet extraction'!$E9="A surveiller")),'Onglet extraction'!D9,"") | F10: =IF(AND('Onglet extraction'!$D9="En cours",OR('Onglet extraction'!$E9="Blocage",'Onglet extraction'!$E9="A surveiller")),'Onglet extraction'!E9,"") | G10: =IF(AND('Onglet extraction'!$D9="En cours",OR('Onglet extraction'!$E9="Blocage",'Onglet extraction'!$E9="A surveiller")),'Onglet extraction'!F9,"") | H10: =IF(AND('Onglet extraction'!$D9="En cours",OR('Onglet extraction'!$E9="Blocage",'Onglet extraction'!$E9="A surveiller")),'Onglet extraction'!G9,"")
B11: =IF(AND('Onglet extraction'!$D10="En cours",OR('Onglet extraction'!$E10="Blocage",'Onglet extraction'!$E10="A surveiller")),'Onglet extraction'!A10,"") -> I | C11: =IF(AND('Onglet extraction'!$D10="En cours",OR('Onglet extraction'!$E10="Blocage",'Onglet extraction'!$E10="A surveiller")),'Onglet extraction'!B10,"") -> Mathieu | D11: =IF(AND('Onglet extraction'!$D10="En cours",OR('Onglet extraction'!$E10="Blocage",'Onglet extraction'!$E10="A surveiller")),'Onglet extraction'!C10,"") -> Commercial | E11: =IF(AND('Onglet extraction'!$D10="En cours",OR('Onglet extraction'!$E10="Blocage",'Onglet extraction'!$E10="A surveiller")),'Onglet extraction'!D10,"") -> En cours | F11: =IF(AND('Onglet extraction'!$D10="En cours",OR('Onglet extraction'!$E10="Blocage",'Onglet extraction'!$E10="A surveiller")),'Onglet extraction'!E10,"") -> Blocage | G11: =IF(AND('Onglet extraction'!$D10="En cours",OR('Onglet extraction'!$E10="Blocage",'Onglet extraction'!$E10="A surveiller")),'Onglet extraction'!F10,"") -> Besoin d'arbitrage | H11: =IF(AND('Onglet extraction'!$D10="En cours",OR('Onglet extraction'!$E10="Blocage",'Onglet extraction'!$E10="A surveiller")),'Onglet extraction'!G10,"") -> 0.8
B12: =IF(AND('Onglet extraction'!$D11="En cours",OR('Onglet extraction'!$E11="Blocage",'Onglet extraction'!$E11="A surveiller")),'Onglet extraction'!A11,"") | C12: =IF(AND('Onglet extraction'!$D11="En cours",OR('Onglet extraction'!$E11="Blocage",'Onglet extraction'!$E11="A surveiller")),'Onglet extraction'!B11,"") | D12: =IF(AND('Onglet extraction'!$D11="En cours",OR('Onglet extraction'!$E11="Blocage",'Onglet extraction'!$E11="A surveiller")),'Onglet extraction'!C11,"") | E12: =IF(AND('Onglet extraction'!$D11="En cours",OR('Onglet extraction'!$E11="Blocage",'Onglet extraction'!$E11="A surveiller")),'Onglet extraction'!D11,"") | F12: =IF(AND('Onglet extraction'!$D11="En cours",OR('Onglet extraction'!$E11="Blocage",'Onglet extraction'!$E11="A surveiller")),'Onglet extraction'!E11,"") | G12: =IF(AND('Onglet extraction'!$D11="En cours",OR('Onglet extraction'!$E11="Blocage",'Onglet extraction'!$E11="A surveiller")),'Onglet extraction'!F11,"") | H12: =IF(AND('Onglet extraction'!$D11="En cours",OR('Onglet extraction'!$E11="Blocage",'Onglet extraction'!$E11="A surveiller")),'Onglet extraction'!G11,"")
B13: =IF(AND('Onglet extraction'!$D12="En cours",OR('Onglet extraction'!$E12="Blocage",'Onglet extraction'!$E12="A surveiller")),'Onglet extraction'!A12,"") | C13: =IF(AND('Onglet extraction'!$D12="En cours",OR('Onglet extraction'!$E12="Blocage",'Onglet extraction'!$E12="A surveiller")),'Onglet extraction'!B12,"") | D13: =IF(AND('Onglet extraction'!$D12="En cours",OR('Onglet extraction'!$E12="Blocage",'Onglet extraction'!$E12="A surveiller")),'Onglet extraction'!C12,"") | E13: =IF(AND('Onglet extraction'!$D12="En cours",OR('Onglet extraction'!$E12="Blocage",'Onglet extraction'!$E12="A surveiller")),'Onglet extraction'!D12,"") | F13: =IF(AND('Onglet extraction'!$D12="En cours",OR('Onglet extraction'!$E12="Blocage",'Onglet extraction'!$E12="A surveiller")),'Onglet extraction'!E12,"") | G13: =IF(AND('Onglet extraction'!$D12="En cours",OR('Onglet extraction'!$E12="Blocage",'Onglet extraction'!$E12="A surveiller")),'Onglet extraction'!F12,"") | H13: =IF(AND('Onglet extraction'!$D12="En cours",OR('Onglet extraction'!$E12="Blocage",'Onglet extraction'!$E12="A surveiller")),'Onglet extraction'!G12,"")
B14: =IF(AND('Onglet extraction'!$D13="En cours",OR('Onglet extraction'!$E13="Blocage",'Onglet extraction'!$E13="A surveiller")),'Onglet extraction'!A13,"") -> L | C14: =IF(AND('Onglet extraction'!$D13="En cours",OR('Onglet extraction'!$E13="Blocage",'Onglet extraction'!$E13="A surveiller")),'Onglet extraction'!B13,"") -> David | D14: =IF(AND('Onglet extraction'!$D13="En cours",OR('Onglet extraction'!$E13="Blocage",'Onglet extraction'!$E13="A surveiller")),'Onglet extraction'!C13,"") -> Finance | E14: =IF(AND('Onglet extraction'!$D13="En cours",OR('Onglet extraction'!$E13="Blocage",'Onglet extraction'!$E13="A surveiller")),'Onglet extraction'!D13,"") -> En cours | F14: =IF(AND('Onglet extraction'!$D13="En cours",OR('Onglet extraction'!$E13="Blocage",'Onglet extraction'!$E13="A surveiller")),'Onglet extraction'!E13,"") -> A surveiller | G14: =IF(AND('Onglet extraction'!$D13="En cours",OR('Onglet extraction'!$E13="Blocage",'Onglet extraction'!$E13="A surveiller")),'Onglet extraction'!F13,"") -> Retard dû à un arrêt maladie | H14: =IF(AND('Onglet extraction'!$D13="En cours",OR('Onglet extraction'!$E13="Blocage",'Onglet extraction'!$E13="A surveiller")),'Onglet extraction'!G13,"") -> 0.55
... B38: =IF(AND('Onglet extraction'!$D37="En cours",OR('Onglet extraction'!$E37="Blocage",'Onglet extraction'!$E37="A surveiller")),'Onglet extraction'!A37,"") | C38: =IF(AND('Onglet extraction'!$D37="En cours",OR('Onglet extraction'!$E37="Blocage",'Onglet extraction'!$E37="A surveiller")),'Onglet extraction'!B37,"") | D38: =IF(AND('Onglet extraction'!$D37="En cours",OR('Onglet extraction'!$E37="Blocage",'Onglet extraction'!$E37="A surveiller")),'Onglet extraction'!C37,"") | E38: =IF(AND('Onglet extraction'!$D37="En cours",OR('Onglet extraction'!$E37="Blocage",'Onglet extraction'!$E37="A surveiller")),'Onglet extraction'!D37,"") | F38: =IF(AND('Onglet extraction'!$D37="En cours",OR('Onglet extraction'!$E37="Blocage",'Onglet extraction'!$E37="A surveiller")),'Onglet extraction'!E37,"") | G38: =IF(AND('Onglet extraction'!$D37="En cours",OR('Onglet extraction'!$E37="Blocage",'Onglet extraction'!$E37="A surveiller")),'Onglet extraction'!F37,"") | H38: =IF(AND('Onglet extraction'!$D37="En cours",OR('Onglet extraction'!$E37="Blocage",'Onglet extraction'!$E37="A surveiller")),'Onglet extraction'!G37,"")
