Workbook
Name Objets: base!$A$2:$A$15

Sheet base
A1: Date de transaction | B1: 44260 | C1: 44349 | D1: 44362 | E1: 44363 | F1: 44364 | G1: 44365 | H1: 44366 | I1: 44367
A2: Objets | B2: EUR | C2: EUR | D2: EUR | E2: EUR | F2: EUR | G2: EUR | H2: EUR | I2: EUR | M2: Objets
A3: Cahier | B3: 5 | C3: 4 | I3: 12 | M3: {=IF(ISNA(MATCH(0, COUNTIF(M$2:M2, INDIRECT(M$2)), 0)), "", INDEX(INDIRECT(M$2), MATCH(0, COUNTIF(M$2:M2, INDIRECT(M$2)), 0)))} -> Cahier
A4: Carreau | B4: 12 | E4: 26 | H4: 78 | M4: {=IF(ISNA(MATCH(0, COUNTIF(M$2:M3, INDIRECT(M$2)), 0)), "", INDEX(INDIRECT(M$2), MATCH(0, COUNTIF(M$2:M3, INDIRECT(M$2)), 0)))} -> Carreau
A5: Carreau | D5: 7 | E5: 12 | F5: 3 | M5: {=IF(ISNA(MATCH(0, COUNTIF(M$2:M4, INDIRECT(M$2)), 0)), "", INDEX(INDIRECT(M$2), MATCH(0, COUNTIF(M$2:M4, INDIRECT(M$2)), 0)))} -> Citron
A6: Citron | C6: 6 | F6: 43 | G6: 22 | M6: {=IF(ISNA(MATCH(0, COUNTIF(M$2:M5, INDIRECT(M$2)), 0)), "", INDEX(INDIRECT(M$2), MATCH(0, COUNTIF(M$2:M5, INDIRECT(M$2)), 0)))} -> Escalier
A7: Escalier | C7: 10 | F7: 67 | G7: 18 | M7: {=IF(ISNA(MATCH(0, COUNTIF(M$2:M6, INDIRECT(M$2)), 0)), "", INDEX(INDIRECT(M$2), MATCH(0, COUNTIF(M$2:M6, INDIRECT(M$2)), 0)))} -> Flèche
A8: Flèche | C8: 20 | D8: 45 | H8: 20 | M8: {=IF(ISNA(MATCH(0, COUNTIF(M$2:M7, INDIRECT(M$2)), 0)), "", INDEX(INDIRECT(M$2), MATCH(0, COUNTIF(M$2:M7, INDIRECT(M$2)), 0)))} -> Fronde
A9: Flèche | E9: 6 | G9: 20 | M9: {=IF(ISNA(MATCH(0, COUNTIF(M$2:M8, INDIRECT(M$2)), 0)), "", INDEX(INDIRECT(M$2), MATCH(0, COUNTIF(M$2:M8, INDIRECT(M$2)), 0)))} -> Tableau
A10: Flèche | E10: 3 | F10: 6 | G10: 10 | M10: {=IF(ISNA(MATCH(0, COUNTIF(M$2:M9, INDIRECT(M$2)), 0)), "", INDEX(INDIRECT(M$2), MATCH(0, COUNTIF(M$2:M9, INDIRECT(M$2)), 0)))} -> Tenaille
A11: Fronde | B11: 50 | E11: 45 | M11: {=IF(ISNA(MATCH(0, COUNTIF(M$2:M10, INDIRECT(M$2)), 0)), "", INDEX(INDIRECT(M$2), MATCH(0, COUNTIF(M$2:M10, INDIRECT(M$2)), 0)))} -> Terrain
A12: Tableau | B12: 9 | D12: 12 | H12: 23 | M12: {=IF(ISNA(MATCH(0, COUNTIF(M$2:M11, INDIRECT(M$2)), 0)), "", INDEX(INDIRECT(M$2), MATCH(0, COUNTIF(M$2:M11, INDIRECT(M$2)), 0)))} -> Voiture
A13: Tenaille | B13: 23 | D13: 89 | G13: 63 | I13: 56 | M13: {=IF(ISNA(MATCH(0, COUNTIF(M$2:M12, INDIRECT(M$2)), 0)), "", INDEX(INDIRECT(M$2), MATCH(0, COUNTIF(M$2:M12, INDIRECT(M$2)), 0)))}
A14: Terrain | C14: 3 | G14: 19 | I14: 16 | M14: {=IF(ISNA(MATCH(0, COUNTIF(M$2:M13, INDIRECT(M$2)), 0)), "", INDEX(INDIRECT(M$2), MATCH(0, COUNTIF(M$2:M13, INDIRECT(M$2)), 0)))}
A15: Voiture | B15: 13 | G15: 5 | M15: {=IF(ISNA(MATCH(0, COUNTIF(M$2:M14, INDIRECT(M$2)), 0)), "", INDEX(INDIRECT(M$2), MATCH(0, COUNTIF(M$2:M14, INDIRECT(M$2)), 0)))}
M16: {=IF(ISNA(MATCH(0, COUNTIF(M$2:M15, INDIRECT(M$2)), 0)), "", INDEX(INDIRECT(M$2), MATCH(0, COUNTIF(M$2:M15, INDIRECT(M$2)), 0)))}
M17: {=IF(ISNA(MATCH(0, COUNTIF(M$2:M16, INDIRECT(M$2)), 0)), "", INDEX(INDIRECT(M$2), MATCH(0, COUNTIF(M$2:M16, INDIRECT(M$2)), 0)))}
M18: {=IF(ISNA(MATCH(0, COUNTIF(M$2:M17, INDIRECT(M$2)), 0)), "", INDEX(INDIRECT(M$2), MATCH(0, COUNTIF(M$2:M17, INDIRECT(M$2)), 0)))}

Sheet Feuil2
A1: Date début | B1: 44349
A2: Date fin | B2: 44365
A4: Objets | B4: Valeurs
A5: {=IF(ISNA(MATCH(0, COUNTIF(A$4:A4, INDIRECT(A$4)), 0)), "", INDEX(INDIRECT(A$4), MATCH(0, COUNTIF(A$4:A4, INDIRECT(A$4)), 0)))} -> Cahier | B5: {=SUMPRODUCT((base!$B$1:$I$1>=$B$1)*(base!$B$1:$I$1<=$B$2)*(base!$A$3:$A$15=$A5)*base!$B$3:$I$15)} -> 4
A6: {=IF(ISNA(MATCH(0, COUNTIF(A$4:A5, INDIRECT(A$4)), 0)), "", INDEX(INDIRECT(A$4), MATCH(0, COUNTIF(A$4:A5, INDIRECT(A$4)), 0)))} -> Carreau | B6: {=SUMPRODUCT((base!$B$1:$I$1>=$B$1)*(base!$B$1:$I$1<=$B$2)*(base!$A$3:$A$15=$A6)*base!$B$3:$I$15)} -> 48 | C6: C'est bien la somme attendue
A7: {=IF(ISNA(MATCH(0, COUNTIF(A$4:A6, INDIRECT(A$4)), 0)), "", INDEX(INDIRECT(A$4), MATCH(0, COUNTIF(A$4:A6, INDIRECT(A$4)), 0)))} -> Citron | B7: {=SUMPRODUCT((base!$B$1:$I$1>=$B$1)*(base!$B$1:$I$1<=$B$2)*(base!$A$3:$A$15=$A7)*base!$B$3:$I$15)} -> 71 | C7: C'est un doublon
A8: {=IF(ISNA(MATCH(0, COUNTIF(A$4:A7, INDIRECT(A$4)), 0)), "", INDEX(INDIRECT(A$4), MATCH(0, COUNTIF(A$4:A7, INDIRECT(A$4)), 0)))} -> Escalier | B8: {=SUMPRODUCT((base!$B$1:$I$1>=$B$1)*(base!$B$1:$I$1<=$B$2)*(base!$A$3:$A$15=$A8)*base!$B$3:$I$15)} -> 95
A9: {=IF(ISNA(MATCH(0, COUNTIF(A$4:A8, INDIRECT(A$4)), 0)), "", INDEX(INDIRECT(A$4), MATCH(0, COUNTIF(A$4:A8, INDIRECT(A$4)), 0)))} -> Flèche | B9: {=SUMPRODUCT((base!$B$1:$I$1>=$B$1)*(base!$B$1:$I$1<=$B$2)*(base!$A$3:$A$15=$A9)*base!$B$3:$I$15)} -> 110
A10: {=IF(ISNA(MATCH(0, COUNTIF(A$4:A9, INDIRECT(A$4)), 0)), "", INDEX(INDIRECT(A$4), MATCH(0, COUNTIF(A$4:A9, INDIRECT(A$4)), 0)))} -> Fronde | B10: {=SUMPRODUCT((base!$B$1:$I$1>=$B$1)*(base!$B$1:$I$1<=$B$2)*(base!$A$3:$A$15=$A10)*base!$B$3:$I$15)} -> 45 | C10: C'est bien la somme attendue
A11: {=IF(ISNA(MATCH(0, COUNTIF(A$4:A10, INDIRECT(A$4)), 0)), "", INDEX(INDIRECT(A$4), MATCH(0, COUNTIF(A$4:A10, INDIRECT(A$4)), 0)))} -> Tableau | B11: {=SUMPRODUCT((base!$B$1:$I$1>=$B$1)*(base!$B$1:$I$1<=$B$2)*(base!$A$3:$A$15=$A11)*base!$B$3:$I$15)} -> 12 | C11: C'est un doublon
A12: {=IF(ISNA(MATCH(0, COUNTIF(A$4:A11, INDIRECT(A$4)), 0)), "", INDEX(INDIRECT(A$4), MATCH(0, COUNTIF(A$4:A11, INDIRECT(A$4)), 0)))} -> Tenaille | B12: {=SUMPRODUCT((base!$B$1:$I$1>=$B$1)*(base!$B$1:$I$1<=$B$2)*(base!$A$3:$A$15=$A12)*base!$B$3:$I$15)} -> 152 | C12: C'est un "triplion"
A13: {=IF(ISNA(MATCH(0, COUNTIF(A$4:A12, INDIRECT(A$4)), 0)), "", INDEX(INDIRECT(A$4), MATCH(0, COUNTIF(A$4:A12, INDIRECT(A$4)), 0)))} -> Terrain | B13: {=SUMPRODUCT((base!$B$1:$I$1>=$B$1)*(base!$B$1:$I$1<=$B$2)*(base!$A$3:$A$15=$A13)*base!$B$3:$I$15)} -> 22
A14: {=IF(ISNA(MATCH(0, COUNTIF(A$4:A13, INDIRECT(A$4)), 0)), "", INDEX(INDIRECT(A$4), MATCH(0, COUNTIF(A$4:A13, INDIRECT(A$4)), 0)))} -> Voiture | B14: {=SUMPRODUCT((base!$B$1:$I$1>=$B$1)*(base!$B$1:$I$1<=$B$2)*(base!$A$3:$A$15=$A14)*base!$B$3:$I$15)} -> 5
A15: {=IF(ISNA(MATCH(0, COUNTIF(A$4:A14, INDIRECT(A$4)), 0)), "", INDEX(INDIRECT(A$4), MATCH(0, COUNTIF(A$4:A14, INDIRECT(A$4)), 0)))}
A16: {=IF(ISNA(MATCH(0, COUNTIF(A$4:A15, INDIRECT(A$4)), 0)), "", INDEX(INDIRECT(A$4), MATCH(0, COUNTIF(A$4:A15, INDIRECT(A$4)), 0)))}
A17: {=IF(ISNA(MATCH(0, COUNTIF(A$4:A16, INDIRECT(A$4)), 0)), "", INDEX(INDIRECT(A$4), MATCH(0, COUNTIF(A$4:A16, INDIRECT(A$4)), 0)))}
A18: {=IF(ISNA(MATCH(0, COUNTIF(A$4:A17, INDIRECT(A$4)), 0)), "", INDEX(INDIRECT(A$4), MATCH(0, COUNTIF(A$4:A17, INDIRECT(A$4)), 0)))}
A19: {=IF(ISNA(MATCH(0, COUNTIF(A$4:A18, INDIRECT(A$4)), 0)), "", INDEX(INDIRECT(A$4), MATCH(0, COUNTIF(A$4:A18, INDIRECT(A$4)), 0)))}
A20: {=IF(ISNA(MATCH(0, COUNTIF(A$4:A19, INDIRECT(A$4)), 0)), "", INDEX(INDIRECT(A$4), MATCH(0, COUNTIF(A$4:A19, INDIRECT(A$4)), 0)))}
A21: {=IF(ISNA(MATCH(0, COUNTIF(A$4:A20, INDIRECT(A$4)), 0)), "", INDEX(INDIRECT(A$4), MATCH(0, COUNTIF(A$4:A20, INDIRECT(A$4)), 0)))}
A22: {=IF(ISNA(MATCH(0, COUNTIF(A$4:A21, INDIRECT(A$4)), 0)), "", INDEX(INDIRECT(A$4), MATCH(0, COUNTIF(A$4:A21, INDIRECT(A$4)), 0)))}
A23: {=IF(ISNA(MATCH(0, COUNTIF(A$4:A22, INDIRECT(A$4)), 0)), "", INDEX(INDIRECT(A$4), MATCH(0, COUNTIF(A$4:A22, INDIRECT(A$4)), 0)))}
A24: {=IF(ISNA(MATCH(0, COUNTIF(A$4:A23, INDIRECT(A$4)), 0)), "", INDEX(INDIRECT(A$4), MATCH(0, COUNTIF(A$4:A23, INDIRECT(A$4)), 0)))}
A25: {=IF(ISNA(MATCH(0, COUNTIF(A$4:A24, INDIRECT(A$4)), 0)), "", INDEX(INDIRECT(A$4), MATCH(0, COUNTIF(A$4:A24, INDIRECT(A$4)), 0)))}
A26: {=IF(ISNA(MATCH(0, COUNTIF(A$4:A25, INDIRECT(A$4)), 0)), "", INDEX(INDIRECT(A$4), MATCH(0, COUNTIF(A$4:A25, INDIRECT(A$4)), 0)))}
... A30: {=IF(ISNA(MATCH(0, COUNTIF(A$4:A29, INDIRECT(A$4)), 0)), "", INDEX(INDIRECT(A$4), MATCH(0, COUNTIF(A$4:A29, INDIRECT(A$4)), 0)))}
