Workbook
Name Commande: Commandes!$A:$A
Name Facture: Facturation!$F:$F
Name Factureacpte: Facturation!$E:$E
Name factures: #REF!
Name Proforma: Facturation!$D:$D

Sheet Commandes
A1: COMMANDES | T1: RESTE | V1: Comments
A3: Cde Client | B3: Affaire | C3: Date | D3: mois | E3: Type | F3: HT | T3: A FACTURER HT | U3: A RECEVOIR HT sur CA
A4: 61LW-13 | B4: AF 001 | C4: 41561 | D4: =TEXT(C4,"MMMM AAAA") -> octobre 2013 | E4: Intervention | F4: 3400 | T4: =IF(F4<Facturation!J4,0,SUM(F4-Facturation!J4)) -> 0 | U4: =IF(OR(Encaissements!O4=0,T4=0),Encaissements!M4+Encaissements!N4,Encaissements!M4+Encaissements!N4+T4) -> 0
A6: 27335 | B6: AF 3500 | C6: 40801 | D6: =TEXT(C6,"MMMM") -> septembre | E6: SP | F6: 50000 | T6: =IF(F6<Facturation!J6,0,SUM(F6-Facturation!J6)) -> 50000 | U6: =IF(OR(Encaissements!M6=0,T6=0),Encaissements!M6,Encaissements!M6+T6) -> 0
A7: 27879 | B7: AF 540 | C7: 40865 | D7: =TEXT(C7,"MMMM") -> novembre | E7: SP | F7: 380 | T7: =IF(F7<Facturation!J7,0,SUM(F7-Facturation!J7)) -> 380 | U7: =IF(OR(Encaissements!M7=0,T7=0),Encaissements!M7,Encaissements!M7+T7) -> 0
A8: 25465 | B8: AF540 | C8: 41596 | D8: =TEXT(C8,"MMMM") -> novembre | T8: =IF(F8<Facturation!J8,0,SUM(F8-Facturation!J8)) -> 0 | U8: =IF(OR(Encaissements!M8=0,T8=0),Encaissements!M8,Encaissements!M8+T8) -> 0
B9: af 911 | C9: 41627 | D9: =TEXT(C9,"MMMM") -> décembre | T9: =IF(F9<Facturation!J9,0,SUM(F9-Facturation!J9)) -> 0 | U9: =IF(OR(Encaissements!M9=0,T9=0),Encaissements!M9+Encaissements!N9,Encaissements!M9+Encaissements!N9+T9) -> 0
D10: =TEXT(C10,"MMMM") -> janvier | T10: =IF(F10<Facturation!J10,0,SUM(F10-Facturation!J10)) -> 0 | U10: =IF(OR(Encaissements!M10=0,T10=0),Encaissements!M10+Encaissements!N10,Encaissements!M10+Encaissements!N10+T10) -> 0
D11: =TEXT(C11,"MMMM") -> janvier | T11: =IF(F11<Facturation!J11,0,SUM(F11-Facturation!J11)) -> 0 | U11: =IF(OR(Encaissements!M11=0,T11=0),Encaissements!M11+Encaissements!N11,Encaissements!M11+Encaissements!N11+T11) -> 0
D12: =TEXT(C12,"MMMM") -> janvier | T12: =IF(F12<Facturation!J12,0,SUM(F12-Facturation!J12)) -> 0 | U12: =IF(OR(Encaissements!M12=0,T12=0),Encaissements!M12+Encaissements!N12,Encaissements!M12+Encaissements!N12+T12) -> 0
D13: =TEXT(C13,"MMMM") -> janvier | T13: =IF(F13<Facturation!J13,0,SUM(F13-Facturation!J13)) -> 0 | U13: =IF(OR(Encaissements!M13=0,T13=0),Encaissements!M13+Encaissements!N13,Encaissements!M13+Encaissements!N13+T13) -> 0
D14: =TEXT(C14,"MMMM") -> janvier | T14: =IF(F14<Facturation!J14,0,SUM(F14-Facturation!J14)) -> 0 | U14: =IF(OR(Encaissements!M14=0,T14=0),Encaissements!M14+Encaissements!N14,Encaissements!M14+Encaissements!N14+T14) -> 0
D15: =TEXT(C15,"MMMM") -> janvier | T15: =IF(F15<Facturation!J15,0,SUM(F15-Facturation!J15)) -> 0 | U15: =IF(OR(Encaissements!M15=0,T15=0),Encaissements!M15+Encaissements!N15,Encaissements!M15+Encaissements!N15+T15) -> 0
D16: =TEXT(C16,"MMMM") -> janvier | T16: =IF(F16<Facturation!J16,0,SUM(F16-Facturation!J16)) -> 0 | U16: =IF(OR(Encaissements!M16=0,T16=0),Encaissements!M16+Encaissements!N16,Encaissements!M16+Encaissements!N16+T16) -> 0
D17: =TEXT(C17,"MMMM") -> janvier | T17: =IF(F17<Facturation!J17,0,SUM(F17-Facturation!J17)) -> 0 | U17: =IF(OR(Encaissements!M17=0,T17=0),Encaissements!M17+Encaissements!N17,Encaissements!M17+Encaissements!N17+T17) -> 0
D18: =TEXT(C18,"MMMM") -> janvier | T18: =IF(F18<Facturation!J18,0,SUM(F18-Facturation!J18)) -> 0 | U18: =IF(OR(Encaissements!M18=0,T18=0),Encaissements!M18+Encaissements!N18,Encaissements!M18+Encaissements!N18+T18) -> 0
D19: =TEXT(C19,"MMMM") -> janvier | T19: =IF(F19<Facturation!J19,0,SUM(F19-Facturation!J19)) -> 0 | U19: =IF(OR(Encaissements!M19=0,T19=0),Encaissements!M19+Encaissements!N19,Encaissements!M19+Encaissements!N19+T19) -> 0
D20: =TEXT(C20,"MMMM") -> janvier | T20: =IF(F20<Facturation!J20,0,SUM(F20-Facturation!J20)) -> 0 | U20: =IF(OR(Encaissements!M20=0,T20=0),Encaissements!M20+Encaissements!N20,Encaissements!M20+Encaissements!N20+T20) -> 0
D21: =TEXT(C21,"MMMM") -> janvier
D22: =TEXT(C22,"MMMM") -> janvier
D23: =TEXT(C23,"MMMM") -> janvier
D24: =TEXT(C24,"MMMM") -> janvier
D25: =TEXT(C25,"MMMM") -> janvier
D26: =TEXT(C26,"MMMM") -> janvier
D27: =TEXT(C27,"MMMM") -> janvier
D28: =TEXT(C28,"MMMM") -> janvier
D29: =TEXT(C29,"MMMM") -> janvier
D30: =TEXT(C30,"MMMM") -> janvier
D31: =TEXT(C31,"MMMM") -> janvier
D32: =TEXT(C32,"MMMM") -> janvier
... D38: =TEXT(C38,"MMMM") -> janvier

Sheet Facturation
A1: FACTURATION
A3: Affaire | B3: N° Commande | C3: Type | D3: N° Proforma | E3: N° Facture Acpte | F3: N° Facture | G3: N°Avoir | H3: Date | I3: Mois | J3: HT | K3: TVA | L3: TTC | M3: .+ ou-Commande
A4: =IF(B4="","",VLOOKUP(B4,Commandes!$A$4:$F$2000,2,0)) -> AF 001 | B4: 61LW-13 | C4: =IF(B4="","",VLOOKUP(B4,Commandes!$A$4:$F$2000,5,0)) -> Intervention | F4: F 130005 | H4: 41610 | I4: =IF(H4="","",TEXT(H4,"MMMM AAAA")) -> décembre 2013 | J4: 6130.49 | K4: 0 | L4: =J4+K4 -> 6130.49 | M4: 2730.49
A5: =IF(B5="","",VLOOKUP(B5,Commandes!$A$4:$F$2000,2,0)) | C5: =IF(B5="","",VLOOKUP(B5,Commandes!$A$4:$F$2000,5,0)) | I5: =IF(H5="","",TEXT(H5,"MMMM AAAA"))
A6: =IF(B6="","",VLOOKUP(B6,Commandes!$A$4:$F$2000,2,0)) | C6: =IF(B6="","",VLOOKUP(B6,Commandes!$A$4:$F$2000,5,0)) | I6: =IF(H6="","",TEXT(H6,"MMMM AAAA"))
A7: =IF(B7="","",VLOOKUP(B7,Commandes!$A$4:$F$2000,2,0)) | C7: =IF(B7="","",VLOOKUP(B7,Commandes!$A$4:$F$2000,5,0)) | I7: =IF(H7="","",TEXT(H7,"MMMM AAAA"))
A8: =IF(B8="","",VLOOKUP(B8,Commandes!$A$4:$F$2000,2,0)) | C8: =IF(B8="","",VLOOKUP(B8,Commandes!$A$4:$F$2000,5,0)) | I8: =IF(H8="","",TEXT(H8,"MMMM AAAA"))
A9: =IF(B9="","",VLOOKUP(B9,Commandes!$A$4:$F$2000,2,0)) | C9: =IF(B9="","",VLOOKUP(B9,Commandes!$A$4:$F$2000,5,0)) | I9: =IF(H9="","",TEXT(H9,"MMMM AAAA"))
A10: =IF(B10="","",VLOOKUP(B10,Commandes!$A$4:$F$2000,2,0)) | C10: =IF(B10="","",VLOOKUP(B10,Commandes!$A$4:$F$2000,5,0)) | I10: =IF(H10="","",TEXT(H10,"MMMM AAAA"))
A11: =IF(B11="","",VLOOKUP(B11,Commandes!$A$4:$F$2000,2,0)) | C11: =IF(B11="","",VLOOKUP(B11,Commandes!$A$4:$F$2000,5,0)) | I11: =IF(H11="","",TEXT(H11,"MMMM AAAA"))
A12: =IF(B12="","",VLOOKUP(B12,Commandes!$A$4:$F$2000,2,0)) | C12: =IF(B12="","",VLOOKUP(B12,Commandes!$A$4:$F$2000,5,0)) | I12: =IF(H12="","",TEXT(H12,"MMMM AAAA"))
A13: =IF(B13="","",VLOOKUP(B13,Commandes!$A$4:$F$2000,2,0)) | C13: =IF(B13="","",VLOOKUP(B13,Commandes!$A$4:$F$2000,5,0)) | I13: =IF(H13="","",TEXT(H13,"MMMM AAAA"))
A14: =IF(B14="","",VLOOKUP(B14,Commandes!$A$4:$F$2000,2,0)) | C14: =IF(B14="","",VLOOKUP(B14,Commandes!$A$4:$F$2000,5,0)) | I14: =IF(H14="","",TEXT(H14,"MMMM AAAA"))
A15: =IF(B15="","",VLOOKUP(B15,Commandes!$A$4:$F$2000,2,0)) | C15: =IF(B15="","",VLOOKUP(B15,Commandes!$A$4:$F$2000,5,0)) | I15: =IF(H15="","",TEXT(H15,"MMMM AAAA"))
A16: =IF(B16="","",VLOOKUP(B16,Commandes!$A$4:$F$2000,2,0)) | C16: =IF(B16="","",VLOOKUP(B16,Commandes!$A$4:$F$2000,5,0)) | I16: =IF(H16="","",TEXT(H16,"MMMM AAAA"))
... A1145: =IF(B1145="","",VLOOKUP(B1145,Commandes!$A$4:$F$2000,2,0)) | C1145: =IF(B1145="","",VLOOKUP(B1145,Commandes!$A$4:$F$2000,5,0)) | I1145: =IF(H1145="","",TEXT(H1145,"MMMM AAAA"))
A1146: =IF(B1146="","",VLOOKUP(B1146,Commandes!$A$4:$F$2000,2,0)) | C1146: =IF(B1146="","",VLOOKUP(B1146,Commandes!$A$4:$F$2000,5,0))
A1147: =IF(B1147="","",VLOOKUP(B1147,Commandes!$A$4:$F$2000,2,0)) | C1147: =IF(B1147="","",VLOOKUP(B1147,Commandes!$A$4:$F$2000,5,0))
A1148: =IF(B1148="","",VLOOKUP(B1148,Commandes!$A$4:$F$2000,2,0)) | C1148: =IF(B1148="","",VLOOKUP(B1148,Commandes!$A$4:$F$2000,5,0))
A1149: =IF(B1149="","",VLOOKUP(B1149,Commandes!$A$4:$F$2000,2,0)) | C1149: =IF(B1149="","",VLOOKUP(B1149,Commandes!$A$4:$F$2000,5,0))
A1150: =IF(B1150="","",VLOOKUP(B1150,Commandes!$A$4:$F$2000,2,0)) | C1150: =IF(B1150="","",VLOOKUP(B1150,Commandes!$A$4:$F$2000,5,0))
A1151: =IF(B1151="","",VLOOKUP(B1151,Commandes!$A$4:$F$2000,2,0)) | C1151: =IF(B1151="","",VLOOKUP(B1151,Commandes!$A$4:$F$2000,5,0))
A1152: =IF(B1152="","",VLOOKUP(B1152,Commandes!$A$4:$F$2000,2,0)) | C1152: =IF(B1152="","",VLOOKUP(B1152,Commandes!$A$4:$F$2000,5,0))
A1153: =IF(B1153="","",VLOOKUP(B1153,Commandes!$A$4:$F$2000,2,0)) | C1153: =IF(B1153="","",VLOOKUP(B1153,Commandes!$A$4:$F$2000,5,0))
A1154: =IF(B1154="","",VLOOKUP(B1154,Commandes!$A$4:$F$2000,2,0)) | C1154: =IF(B1154="","",VLOOKUP(B1154,Commandes!$A$4:$F$2000,5,0))
A1155: =IF(B1155="","",VLOOKUP(B1155,Commandes!$A$4:$F$2000,2,0)) | C1155: =IF(B1155="","",VLOOKUP(B1155,Commandes!$A$4:$F$2000,5,0))
A1156: =IF(B1156="","",VLOOKUP(B1156,Commandes!$A$4:$F$2000,2,0)) | C1156: =IF(B1156="","",VLOOKUP(B1156,Commandes!$A$4:$F$2000,5,0))
A1157: =IF(B1157="","",VLOOKUP(B1157,Commandes!$A$4:$F$2000,2,0)) | C1157: =IF(B1157="","",VLOOKUP(B1157,Commandes!$A$4:$F$2000,5,0))
... A1521: =IF(B1521="","",VLOOKUP(B1521,Commandes!$A$4:$F$2000,2,0)) | C1521: =IF(B1521="","",VLOOKUP(B1521,Commandes!$A$4:$F$2000,5,0))
C1522: =IF(B1522="","",VLOOKUP(B1522,Commandes!$A$4:$F$2000,5,0))
C1523: =IF(B1523="","",VLOOKUP(B1523,Commandes!$A$4:$F$2000,5,0))
C1524: =IF(B1524="","",VLOOKUP(B1524,Commandes!$A$4:$F$2000,5,0))

Sheet Encaissements
J1: ENCAISSEMENTS | M1: A ENCAISSER sur facture
A3: Affaire | B3: N° Commande | C3: Type | D3: N° Proforma | E3: N° Facture Acpte | F3: N° Facture | G3: HT | H3: TVA | I3: TTC | J3: HT | K3: TVA | L3: TTC | M3: HT | N3: TVA | O3: TTC
A4: =IF(B4="","",VLOOKUP(B4,Commandes!$A$4:$F$2000,2,0)) -> AF 001 | B4: 61LW-13 | C4: =IF(B4="","",VLOOKUP(B4,Commandes!$A$4:$F$2000,5,0)) -> Intervention | F4: F 130005 | G4: =IF(F4="","",VLOOKUP(F4,Commandes!$A$4:$F$2000,10,0)) -> #N/A | L4: =J4+K4 -> 0 | N4: =IF(Facturation!K4<K4,0,Facturation!K4-K4) -> 0 | O4: =M4+N4 -> 0
A5: =IF(B5="","",VLOOKUP(B5,Commandes!$A$4:$F$2000,2,0)) | C5: =IF(B5="","",VLOOKUP(B5,Commandes!$A$4:$F$2000,5,0)) | G5: =IF(F5="","",VLOOKUP(F5,Commandes!$A$4:$F$2000,10,0)) | L5: =J5+K5 -> 0
A6: =IF(B6="","",VLOOKUP(B6,Commandes!$A$4:$F$2000,2,0)) | C6: =IF(B6="","",VLOOKUP(B6,Commandes!$A$4:$F$2000,5,0)) | G6: =IF(F6="","",VLOOKUP(F6,Commandes!$A$4:$F$2000,10,0)) | L6: =J6+K6 -> 0 | N6: =IF(Facturation!K6<K6,0,Facturation!K6-K6) -> 0 | O6: =M6+N6 -> 0
A7: =IF(B7="","",VLOOKUP(B7,Commandes!$A$4:$F$2000,2,0)) | C7: =IF(B7="","",VLOOKUP(B7,Commandes!$A$4:$F$2000,5,0)) | G7: =IF(F7="","",VLOOKUP(F7,Commandes!$A$4:$F$2000,10,0)) | L7: =J7+K7 -> 0 | N7: =IF(Facturation!K7<K7,0,Facturation!K7-K7) -> 0 | O7: =M7+N7 -> 0
A8: =IF(B8="","",VLOOKUP(B8,Commandes!$A$4:$F$2000,2,0)) | C8: =IF(B8="","",VLOOKUP(B8,Commandes!$A$4:$F$2000,5,0)) | G8: =IF(F8="","",VLOOKUP(F8,Commandes!$A$4:$F$2000,10,0)) | L8: =J8+K8 -> 0 | N8: =IF(Facturation!K8<K8,0,Facturation!K8-K8) -> 0 | O8: =M8+N8 -> 0
A9: =IF(B9="","",VLOOKUP(B9,Commandes!$A$4:$F$2000,2,0)) | C9: =IF(B9="","",VLOOKUP(B9,Commandes!$A$4:$F$2000,5,0)) | G9: =IF(F9="","",VLOOKUP(F9,Commandes!$A$4:$F$2000,10,0)) | L9: =J9+K9 -> 0 | O9: =IF(Facturation!L9<L9,0,Facturation!L9-L9) -> 0
A10: =IF(B10="","",VLOOKUP(B10,Commandes!$A$4:$F$2000,2,0)) | C10: =IF(B10="","",VLOOKUP(B10,Commandes!$A$4:$F$2000,5,0)) | G10: =IF(F10="","",VLOOKUP(F10,Commandes!$A$4:$F$2000,10,0)) | L10: =J10+K10 -> 0 | O10: =IF(Facturation!L10<L10,0,Facturation!L10-L10) -> 0
A11: =IF(B11="","",VLOOKUP(B11,Commandes!$A$4:$F$2000,2,0)) | C11: =IF(B11="","",VLOOKUP(B11,Commandes!$A$4:$F$2000,5,0)) | G11: =IF(F11="","",VLOOKUP(F11,Commandes!$A$4:$F$2000,10,0)) | L11: =J11+K11 -> 0 | O11: =IF(Facturation!L11<L11,0,Facturation!L11-L11) -> 0
A12: =IF(B12="","",VLOOKUP(B12,Commandes!$A$4:$F$2000,2,0)) | C12: =IF(B12="","",VLOOKUP(B12,Commandes!$A$4:$F$2000,5,0)) | G12: =IF(F12="","",VLOOKUP(F12,Commandes!$A$4:$F$2000,10,0)) | L12: =J12+K12 -> 0 | O12: =IF(Facturation!L12<L12,0,Facturation!L12-L12) -> 0
A13: =IF(B13="","",VLOOKUP(B13,Commandes!$A$4:$F$2000,2,0)) | C13: =IF(B13="","",VLOOKUP(B13,Commandes!$A$4:$F$2000,5,0)) | G13: =IF(F13="","",VLOOKUP(F13,Commandes!$A$4:$F$2000,10,0)) | L13: =J13+K13 -> 0 | O13: =IF(Facturation!L13<L13,0,Facturation!L13-L13) -> 0
A14: =IF(B14="","",VLOOKUP(B14,Commandes!$A$4:$F$2000,2,0)) | C14: =IF(B14="","",VLOOKUP(B14,Commandes!$A$4:$F$2000,5,0)) | G14: =IF(F14="","",VLOOKUP(F14,Commandes!$A$4:$F$2000,10,0)) | L14: =J14+K14 -> 0 | O14: =IF(Facturation!L14<L14,0,Facturation!L14-L14) -> 0
A15: =IF(B15="","",VLOOKUP(B15,Commandes!$A$4:$F$2000,2,0)) | C15: =IF(B15="","",VLOOKUP(B15,Commandes!$A$4:$F$2000,5,0)) | G15: =IF(F15="","",VLOOKUP(F15,Commandes!$A$4:$F$2000,10,0)) | L15: =J15+K15 -> 0 | O15: =IF(Facturation!L15<L15,0,Facturation!L15-L15) -> 0
A16: =IF(B16="","",VLOOKUP(B16,Commandes!$A$4:$F$2000,2,0)) | C16: =IF(B16="","",VLOOKUP(B16,Commandes!$A$4:$F$2000,5,0)) | G16: =IF(F16="","",VLOOKUP(F16,Commandes!$A$4:$F$2000,10,0)) | L16: =J16+K16 -> 0 | O16: =IF(Facturation!L16<L16,0,Facturation!L16-L16) -> 0
A17: =IF(B17="","",VLOOKUP(B17,Commandes!$A$4:$F$2000,2,0)) | C17: =IF(B17="","",VLOOKUP(B17,Commandes!$A$4:$F$2000,5,0)) | G17: =IF(F17="","",VLOOKUP(F17,Commandes!$A$4:$F$2000,10,0)) | L17: =J17+K17 -> 0 | O17: =IF(Facturation!L17<L17,0,Facturation!L17-L17) -> 0
A18: =IF(B18="","",VLOOKUP(B18,Commandes!$A$4:$F$2000,2,0)) | C18: =IF(B18="","",VLOOKUP(B18,Commandes!$A$4:$F$2000,5,0)) | G18: =IF(F18="","",VLOOKUP(F18,Commandes!$A$4:$F$2000,10,0)) | L18: =J18+K18 -> 0 | O18: =IF(Facturation!L18<L18,0,Facturation!L18-L18) -> 0
A19: =IF(B19="","",VLOOKUP(B19,Commandes!$A$4:$F$2000,2,0)) | C19: =IF(B19="","",VLOOKUP(B19,Commandes!$A$4:$F$2000,5,0)) | G19: =IF(F19="","",VLOOKUP(F19,Commandes!$A$4:$F$2000,10,0)) | L19: =J19+K19 -> 0 | O19: =IF(Facturation!L19<L19,0,Facturation!L19-L19) -> 0
A20: =IF(B20="","",VLOOKUP(B20,Commandes!$A$4:$F$2000,2,0)) | C20: =IF(B20="","",VLOOKUP(B20,Commandes!$A$4:$F$2000,5,0)) | G20: =IF(F20="","",VLOOKUP(F20,Commandes!$A$4:$F$2000,10,0)) | L20: =J20+K20 -> 0 | O20: =IF(Facturation!L20<L20,0,Facturation!L20-L20) -> 0
... A24: =IF(B24="","",VLOOKUP(B24,Commandes!$A$4:$F$2000,2,0)) | C24: =IF(B24="","",VLOOKUP(B24,Commandes!$A$4:$F$2000,5,0)) | G24: =IF(F24="","",VLOOKUP(F24,Commandes!$A$4:$F$2000,10,0)) | L24: =J24+K24 -> 0 | O24: =IF(Facturation!L24<L24,0,Facturation!L24-L24) -> 0
A25: =IF(B25="","",VLOOKUP(B25,Commandes!$A$4:$F$2000,2,0)) | C25: =IF(B25="","",VLOOKUP(B25,Commandes!$A$4:$F$2000,5,0)) | G25: =IF(F25="","",VLOOKUP(F25,Commandes!$A$4:$F$2000,10,0)) | L25: =J25+K25 -> 0
A26: =IF(B26="","",VLOOKUP(B26,Commandes!$A$4:$F$2000,2,0)) | C26: =IF(B26="","",VLOOKUP(B26,Commandes!$A$4:$F$2000,5,0)) | G26: =IF(F26="","",VLOOKUP(F26,Commandes!$A$4:$F$2000,10,0)) | L26: =J26+K26 -> 0
A27: =IF(B27="","",VLOOKUP(B27,Commandes!$A$4:$F$2000,2,0)) | C27: =IF(B27="","",VLOOKUP(B27,Commandes!$A$4:$F$2000,5,0)) | L27: =J27+K27 -> 0
A28: =IF(B28="","",VLOOKUP(B28,Commandes!$A$4:$F$2000,2,0)) | C28: =IF(B28="","",VLOOKUP(B28,Commandes!$A$4:$F$2000,5,0)) | L28: =J28+K28 -> 0
A29: =IF(B29="","",VLOOKUP(B29,Commandes!$A$4:$F$2000,2,0)) | C29: =IF(B29="","",VLOOKUP(B29,Commandes!$A$4:$F$2000,5,0)) | L29: =J29+K29 -> 0
A30: =IF(B30="","",VLOOKUP(B30,Commandes!$A$4:$F$2000,2,0)) | C30: =IF(B30="","",VLOOKUP(B30,Commandes!$A$4:$F$2000,5,0)) | L30: =J30+K30 -> 0
A31: =IF(B31="","",VLOOKUP(B31,Commandes!$A$4:$F$2000,2,0)) | C31: =IF(B31="","",VLOOKUP(B31,Commandes!$A$4:$F$2000,5,0)) | L31: =J31+K31 -> 0
A32: =IF(B32="","",VLOOKUP(B32,Commandes!$A$4:$F$2000,2,0)) | C32: =IF(B32="","",VLOOKUP(B32,Commandes!$A$4:$F$2000,5,0)) | L32: =J32+K32 -> 0
A33: =IF(B33="","",VLOOKUP(B33,Commandes!$A$4:$F$2000,2,0)) | C33: =IF(B33="","",VLOOKUP(B33,Commandes!$A$4:$F$2000,5,0)) | L33: =J33+K33 -> 0
A34: =IF(B34="","",VLOOKUP(B34,Commandes!$A$4:$F$2000,2,0)) | C34: =IF(B34="","",VLOOKUP(B34,Commandes!$A$4:$F$2000,5,0)) | L34: =J34+K34 -> 0
A35: =IF(B35="","",VLOOKUP(B35,Commandes!$A$4:$F$2000,2,0)) | C35: =IF(B35="","",VLOOKUP(B35,Commandes!$A$4:$F$2000,5,0)) | L35: =J35+K35 -> 0
A36: =IF(B36="","",VLOOKUP(B36,Commandes!$A$4:$F$2000,2,0)) | C36: =IF(B36="","",VLOOKUP(B36,Commandes!$A$4:$F$2000,5,0)) | L36: =J36+K36 -> 0
A37: =IF(B37="","",VLOOKUP(B37,Commandes!$A$4:$F$2000,2,0)) | C37: =IF(B37="","",VLOOKUP(B37,Commandes!$A$4:$F$2000,5,0)) | L37: =J37+K37 -> 0
A38: =IF(B38="","",VLOOKUP(B38,Commandes!$A$4:$F$2000,2,0)) | C38: =IF(B38="","",VLOOKUP(B38,Commandes!$A$4:$F$2000,5,0)) | L38: =J38+K38 -> 0
... A1307: =IF(B1307="","",VLOOKUP(B1307,Commandes!$A$4:$F$2000,2,0)) | C1307: =IF(B1307="","",VLOOKUP(B1307,Commandes!$A$4:$F$2000,5,0)) | L1307: =J1307+K1307 -> 0
C1308: =IF(B1308="","",VLOOKUP(B1308,Commandes!$A$4:$F$2000,5,0))
C1309: =IF(B1309="","",VLOOKUP(B1309,Commandes!$A$4:$F$2000,5,0))
C1310: =IF(B1310="","",VLOOKUP(B1310,Commandes!$A$4:$F$2000,5,0))
C1311: =IF(B1311="","",VLOOKUP(B1311,Commandes!$A$4:$F$2000,5,0))
C1312: =IF(B1312="","",VLOOKUP(B1312,Commandes!$A$4:$F$2000,5,0))
...
