Workbook

Sheet Pre-Datas
A1: DATE_PROC | B1: DATE_TIME | C1: LOT_ID | D1: SLOT_ID | E1: EQUIPMENT | F1: CHAMBER | G1: laisser Vide | H1: laisser Vide | I1: laisser Vide | J1: laisser Vide | K1: RECIPE
A2: 41768 | B2: =Sla!H77 -> 0.010844907 | C2: =Sla!D77 -> CID0100 | D2: =Sla!C77 -> 1 | F2: =Sla!J14 -> U25 | G2: laisser Vide | H2: laisser Vide | I2: laisser Vide | J2: laisser Vide | K2: =Sla!G77 -> 156
A3: 41768 | B3: =Sla!H78 -> 0.010844907 | C3: =Sla!D78 -> CID0100 | D3: 1 | F3: =Sla!AB14 -> 1:ID(U1) | G3: laisser Vide | H3: laisser Vide | I3: laisser Vide | J3: laisser Vide | K3: =Sla!G77 -> 156
A4: 41768 | B4: =Sla!H79 -> 0.010844907 | C4: =Sla!D79 -> CID0100 | D4: 1 | F4: =Sla!AP14 -> 21:IF-A(U21) | G4: laisser Vide | H4: laisser Vide | I4: laisser Vide | J4: laisser Vide | K4: =Sla!G77 -> 156
A5: 41768 | B5: =Sla!H80 -> 0.010844907 | C5: =Sla!D80 -> CID0100 | D5: 1 | F5: =Sla!AV14 -> U28 | G5: laisser Vide | H5: laisser Vide | I5: laisser Vide | J5: laisser Vide | K5: =Sla!G77 -> 156
A6: 41768 | B6: =Sla!H81 -> 0.010844907 | C6: =Sla!D81 -> CID0100 | D6: 1 | F6: =Sla!BT14 -> 22:IF-B(U22) | G6: laisser Vide | H6: laisser Vide | I6: laisser Vide | J6: laisser Vide | K6: =Sla!G77 -> 156
A7: 41768 | B7: =Sla!H82 -> 0.010844907 | C7: =Sla!D82 -> CID0100 | D7: 1 | F7: =Sla!DP14 -> U12 | G7: laisser Vide | H7: laisser Vide | I7: laisser Vide | J7: laisser Vide | K7: =Sla!G77 -> 156
A8: 41768 | B8: =Sla!H83 -> 0.010844907 | C8: =Sla!D83 -> CID0100 | D8: 1 | F8: =Sla!DV14 -> U42 | G8: laisser Vide | H8: laisser Vide | I8: laisser Vide | J8: laisser Vide | K8: =Sla!G77 -> 156
A9: 41768 | B9: =Sla!H84 -> 0.010844907 | C9: =Sla!D84 -> CID0100 | D9: 1 | F9: =Sla!EB14 -> U26 | G9: laisser Vide | H9: laisser Vide | I9: laisser Vide | J9: laisser Vide | K9: =Sla!G77 -> 156
A10: 41768 | B10: =Sla!H85 -> 0.010844907 | C10: =Sla!D85 -> CID0100 | D10: 1 | F10: =Sla!EH14 -> U17 | G10: laisser Vide | H10: laisser Vide | I10: laisser Vide | J10: laisser Vide | K10: =Sla!G77 -> 156
A11: 41768 | B11: =Sla!H86 -> 0.010844907 | C11: =Sla!D86 -> CID0100 | D11: 1 | F11: =Sla!EN14 -> U29 | G11: laisser Vide | H11: laisser Vide | I11: laisser Vide | J11: laisser Vide | K11: =Sla!G77 -> 156
A12: 41768 | B12: 0.010844907 | C12: CID0100 | D12: 1 | F12: =Sla!ET14 -> U33 | G12: laisser Vide | H12: laisser Vide | I12: laisser Vide | J12: laisser Vide | K12: =Sla!G77 -> 156
A13: 41768 | B13: 0.010844907 | C13: CID0100 | D13: 1 | F13: =Sla!FF14 -> U34 | G13: laisser Vide | H13: laisser Vide | I13: laisser Vide | J13: laisser Vide | K13: =Sla!G77 -> 156
A14: 41768 | B14: 0.010844907 | C14: CID0100 | D14: 1 | F14: =Sla!FR14 -> U6 | G14: laisser Vide | H14: laisser Vide | I14: laisser Vide | J14: laisser Vide | K14: =Sla!G77 -> 156
A15: 41768 | B15: 0.010844907 | C15: CID0100 | D15: 1 | F15: =Sla!FX14 -> U47 | G15: laisser Vide | H15: laisser Vide | I15: laisser Vide | J15: laisser Vide | K15: =Sla!G77 -> 156
A16: 41768 | B16: 0.010844907 | C16: CID0100 | D16: 1 | F16: =Sla!GJ14 -> U20 | G16: laisser Vide | H16: laisser Vide | I16: laisser Vide | J16: laisser Vide | K16: =Sla!G77 -> 156
A17: 41768 | B17: 0.010844907 | C17: CID0100 | D17: 1 | F17: =Sla!GP14 -> U7 | G17: laisser Vide | H17: laisser Vide | I17: laisser Vide | J17: laisser Vide | K17: =Sla!G77 -> 156
A18: 41768 | B18: 0.052511574 | C18: CID0100 | D18: 2 | F18: U4 | G18: laisser Vide | H18: laisser Vide | I18: laisser Vide | J18: laisser Vide | K18: =Sla!G78 -> 156
A19: 41768 | B19: 0.094178241 | C19: CID0100 | D19: 2 | F19: U44 | G19: laisser Vide | H19: laisser Vide | I19: laisser Vide | J19: laisser Vide | K19: =Sla!G78 -> 156
F20: Etc…. | G20: laisser Vide | H20: laisser Vide | I20: laisser Vide | J20: laisser Vide
A21: ►Changement de Date Proc change SLA! A2252 non fixe tjrs encadré par ###### xx/xx/xxxx#######
A22: ►Date Time évolue à chaque changement de LOT_ID

Sheet Sla
A1: *** Wafer History Report ***
A3: ** Report Period **
B4: 2014/05/09_00:13:34 - 2014/05/10_05:18:24
A6: ** System Model Information **
B7: Equipment Name
B8: Model Name | C8: SK-2000
B9: Serial Number | C9: 700101520A
B10: DNS Version | C10: SK2000 B33D000
B11: Created Date | C11: 39199
A13: ** Wafer History **
A14: No | B14: Stage | C14: Slot | D14: Carrier Id | E14: ControlJob Id | F14: ProcessJob Id | J14: U25 | P14: U4 | V14: U44 | AB14: 1:ID(U1) | AD14: U18 | AJ14: U39 | AP14: 21:IF-A(U21) | AV14: U28 | BB14: U27 | BH14: U10 | BN14: U35 | BT14: 22:IF-B(U22) | BZ14: U36 | CF14: U16 | CL14: U31 | CR14: U11 | CX14: U24 | DD14: U5 | DJ14: U43 | DP14: U12 | DV14: U42 | EB14: U26 | EH14: U17 | EN14: U29 | ET14: U33 | EZ14: U19 | FF14: U34 | FL14: U14 | FR14: U6 | FX14: U47 | GD14: U15 | GJ14: U20 | GP14: U7 | GV14: U3 | HB14: U30 | HH14: U45 | HN14: U46 | HT14: U37 | HZ14: U38 | IF14: U8 | IL14: U9 | IR14: U13
G15: Flow | H15: Start time | I15: End time | J15: Time when the unit received the wafer | K15: Time when the unit started prcessing of a wafer | L15: Time when the unit completed processing of a wafer | M15: Time when the unit took out the wafer | N15: Processing time | O15: Time when the unit maintained the wafer | P15: Time when the unit received the wafer | Q15: Time when the unit started prcessing of a wafer | R15: Time when the unit completed processing of a wafer | S15: Time when the unit took out the wafer | T15: Processing time | U15: Time when the unit maintained the wafer | V15: Time when the unit received the wafer | W15: Time when the unit started prcessing of a wafer | X15: Time when the unit completed processing of a wafer | Y15: Time when the unit took out the wafer | Z15: Processing time | AA15: Time when the unit maintained the wafer | AB15: Start time | AC15: End time | AD15: Time when the unit received the wafer | AE15: Time when the unit started prcessing of a wafer | AF15: Time when the unit completed processing of a wafer | AG15: Time when the unit took out the wafer | AH15: Processing time | AI15: Time when the unit maintained the wafer | AJ15: Time when the unit received the wafer | AK15: Time when the unit started prcessing of a wafer | AL15: Time when the unit completed processing of a wafer | AM15: Time when the unit took out the wafer | AN15: Processing time | AO15: Time when the unit maintained the wafer | AP15: Time when the unit received the wafer | AQ15: Time when the unit started prcessing of a wafer | AR15: Time when the unit completed processing of a wafer | AS15: Time when the unit took out the wafer | AT15: Processing time | AU15: Time when the unit maintained the wafer | AV15: Time when the unit received the wafer | AW15: Time when the unit started prcessing of a wafer | AX15: Time when the unit completed processing of a wafer | AY15: Time when the unit took out the wafer | AZ15: Processing time | BA15: Time when the unit maintained the wafer | BB15: Time when the unit received the wafer | BC15: Time when the unit started prcessing of a wafer | BD15: Time when the unit completed processing of a wafer | BE15: Time when the unit took out the wafer | BF15: Processing time | BG15: Time when the unit maintained the wafer | BH15: Time when the unit received the wafer | BI15: Time when the unit started prcessing of a wafer | BJ15: Time when the unit completed processing of a wafer | BK15: Time when the unit took out the wafer | BL15: Processing time | BM15: Time when the unit maintained the wafer | BN15: Time when the unit received the wafer | BO15: Time when the unit started prcessing of a wafer | BP15: Time when the unit completed processing of a wafer | BQ15: Time when the unit took out the wafer | BR15: Processing time | BS15: Time when the unit maintained the wafer | BT15: Time when the unit received the wafer | BU15: Time when the unit started prcessing of a wafer | BV15: Time when the unit completed processing of a wafer | BW15: Time when the unit took out the wafer | BX15: Processing time | BY15: Time when the unit maintained the wafer | BZ15: Time when the unit received the wafer | CA15: Time when the unit started prcessing of a wafer | CB15: Time when the unit completed processing of a wafer | CC15: Time when the unit took out the wafer | CD15: Processing time | CE15: Time when the unit maintained the wafer | CF15: Time when the unit received the wafer | CG15: Time when the unit started prcessing of a wafer | CH15: Time when the unit completed processing of a wafer | CI15: Time when the unit took out the wafer | CJ15: Processing time | CK15: Time when the unit maintained the wafer | CL15: Time when the unit received the wafer | CM15: Time when the unit started prcessing of a wafer | CN15: Time when the unit completed processing of a wafer | CO15: Time when the unit took out the wafer | CP15: Processing time | CQ15: Time when the unit maintained the wafer | CR15: Time when the unit received the wafer | CS15: Time when the unit started prcessing of a wafer | CT15: Time when the unit completed processing of a wafer | CU15: Time when the unit took out the wafer | CV15: Processing time | CW15: Time when the unit maintained the wafer | CX15: Time when the unit received the wafer | CY15: Time when the unit started prcessing of a wafer | CZ15: Time when the unit completed processing of a wafer | DA15: Time when the unit took out the wafer | DB15: Processing time | DC15: Time when the unit maintained the wafer | DD15: Time when the unit received the wafer | DE15: Time when the unit started prcessing of a wafer | DF15: Time when the unit completed processing of a wafer | DG15: Time when the unit took out the wafer | DH15: Processing time | DI15: Time when the unit maintained the wafer | DJ15: Time when the unit received the wafer | DK15: Time when the unit started prcessing of a wafer | DL15: Time when the unit completed processing of a wafer | DM15: Time when the unit took out the wafer | DN15: Processing time | DO15: Time when the unit maintained the wafer | DP15: Time when the unit received the wafer | DQ15: Time when the unit started prcessing of a wafer | DR15: Time when the unit completed processing of a wafer | DS15: Time when the unit took out the wafer | DT15: Processing time | DU15: Time when the unit maintained the wafer | DV15: Time when the unit received the wafer | DW15: Time when the unit started prcessing of a wafer | DX15: Time when the unit completed processing of a wafer | DY15: Time when the unit took out the wafer | DZ15: Processing time | EA15: Time when the unit maintained the wafer | EB15: Time when the unit received the wafer | EC15: Time when the unit started prcessing of a wafer | ED15: Time when the unit completed processing of a wafer | EE15: Time when the unit took out the wafer | EF15: Processing time | EG15: Time when the unit maintained the wafer | EH15: Time when the unit received the wafer | EI15: Time when the unit started prcessing of a wafer | EJ15: Time when the unit completed processing of a wafer | EK15: Time when the unit took out the wafer | EL15: Processing time | EM15: Time when the unit maintained the wafer | EN15: Time when the unit received the wafer | EO15: Time when the unit started prcessing of a wafer | EP15: Time when the unit completed processing of a wafer | EQ15: Time when the unit took out the wafer | ER15: Processing time | ES15: Time when the unit maintained the wafer | ET15: Time when the unit received the wafer | EU15: Time when the unit started prcessing of a wafer | EV15: Time when the unit completed processing of a wafer | EW15: Time when the unit took out the wafer | EX15: Processing time | EY15: Time when the unit maintained the wafer | EZ15: Time when the unit received the wafer | FA15: Time when the unit started prcessing of a wafer | FB15: Time when the unit completed processing of a wafer | FC15: Time when the unit took out the wafer | FD15: Processing time | FE15: Time when the unit maintained the wafer | FF15: Time when the unit received the wafer | FG15: Time when the unit started prcessing of a wafer | FH15: Time when the unit completed processing of a wafer | FI15: Time when the unit took out the wafer | FJ15: Processing time | FK15: Time when the unit maintained the wafer | FL15: Time when the unit received the wafer | FM15: Time when the unit started prcessing of a wafer | FN15: Time when the unit completed processing of a wafer | FO15: Time when the unit took out the wafer | FP15: Processing time | FQ15: Time when the unit maintained the wafer | FR15: Time when the unit received the wafer | FS15: Time when the unit started prcessing of a wafer | FT15: Time when the unit completed processing of a wafer | FU15: Time when the unit took out the wafer | FV15: Processing time | FW15: Time when the unit maintained the wafer | FX15: Time when the unit received the wafer | FY15: Time when the unit started prcessing of a wafer | FZ15: Time when the unit completed processing of a wafer | GA15: Time when the unit took out the wafer | GB15: Processing time | GC15: Time when the unit maintained the wafer | GD15: Time when the unit received the wafer | GE15: Time when the unit started prcessing of a wafer | GF15: Time when the unit completed processing of a wafer | GG15: Time when the unit took out the wafer | GH15: Processing time | GI15: Time when the unit maintained the wafer | GJ15: Time when the unit received the wafer | GK15: Time when the unit started prcessing of a wafer | GL15: Time when the unit completed processing of a wafer | GM15: Time when the unit took out the wafer | GN15: Processing time | GO15: Time when the unit maintained the wafer | GP15: Time when the unit received the wafer | GQ15: Time when the unit started prcessing of a wafer | GR15: Time when the unit completed processing of a wafer | GS15: Time when the unit took out the wafer | GT15: Processing time | GU15: Time when the unit maintained the wafer | GV15: Time when the unit received the wafer | GW15: Time when the unit started prcessing of a wafer | GX15: Time when the unit completed processing of a wafer | GY15: Time when the unit took out the wafer | GZ15: Processing time | HA15: Time when the unit maintained the wafer | HB15: Time when the unit received the wafer | HC15: Time when the unit started prcessing of a wafer | HD15: Time when the unit completed processing of a wafer | HE15: Time when the unit took out the wafer | HF15: Processing time | HG15: Time when the unit maintained the wafer | HH15: Time when the unit received the wafer | HI15: Time when the unit started prcessing of a wafer | HJ15: Time when the unit completed processing of a wafer | HK15: Time when the unit took out the wafer | HL15: Processing time | HM15: Time when the unit maintained the wafer | HN15: Time when the unit received the wafer | HO15: Time when the unit started prcessing of a wafer | HP15: Time when the unit completed processing of a wafer | HQ15: Time when the unit took out the wafer | HR15: Processing time | HS15: Time when the unit maintained the wafer | HT15: Time when the unit received the wafer | HU15: Time when the unit started prcessing of a wafer | HV15: Time when the unit completed processing of a wafer | HW15: Time when the unit took out the wafer | HX15: Processing time | HY15: Time when the unit maintained the wafer | HZ15: Time when the unit received the wafer | IA15: Time when the unit started prcessing of a wafer | IB15: Time when the unit completed processing of a wafer | IC15: Time when the unit took out the wafer | ID15: Processing time | IE15: Time when the unit maintained the wafer | IF15: Time when the unit received the wafer | IG15: Time when the unit started prcessing of a wafer | IH15: Time when the unit completed processing of a wafer | II15: Time when the unit took out the wafer | IJ15: Processing time | IK15: Time when the unit maintained the wafer | IL15: Time when the unit received the wafer | IM15: Time when the unit started prcessing of a wafer | IN15: Time when the unit completed processing of a wafer | IO15: Time when the unit took out the wafer | IP15: Processing time | IQ15: Time when the unit maintained the wafer | IR15: Time when the unit received the wafer | IS15: Time when the unit started prcessing of a wafer | IT15: Time when the unit completed processing of a wafer | IU15: Time when the unit took out the wafer | IV15: Processing time | IW15: Time when the unit maintained the wafer
A16: ###########################2014/05/09###########################
A17: 0 | B17: 4 | C17: 12 | G17: 0 | V17: 0.0094791667 | W17: 0.009537037 | X17: 0.010625 | Y17: 0.010659722 | Z17: 0.001087963 | AA17: 0.0011805556 | AB17: 0.0094212963 | AC17: 0.028530093 | AP17: 0.011597222 | AS17: 0.011678241 | AT17: 0 | AU17: 8.1018519e-05 | BT17: 0.012569444 | BU17: 0.02005787 | BV17: 0.02130787 | BW17: 0.022916667 | BX17: 0.00125 | BY17: 0.010347222 | DP17: 0.027060185 | DQ17: 0.027118056 | DR17: 0.028217593 | DS17: 0.028240741 | DT17: 0.001099537 | DU17: 0.0011805556 | DV17: 0.010717593 | DW17: 0.010717593 | DX17: 0.011446759 | DY17: 0.011527778 | DZ17: 0.00072916667 | EA17: 0.00081018519 | EH17: 0.011736111 | EI17: 0.011793981 | EJ17: 0.011979167 | EK17: 0.012511574 | EL17: 0.00018518519 | EM17: 0.00077546296 | GJ17: 0.022962963 | GK17: 0.023020833 | GL17: 0.02412037 | GM17: 0.024155093 | GN17: 0.001099537 | GO17: 0.0011921296 | GP17: 0.024201389 | GQ17: 0.024201389 | GR17: 0.024930556 | GS17: 0.02537037 | GT17: 0.00072916667 | GU17: 0.0011689815 | GV17: 0.025428241 | GW17: 0.025462963 | GX17: 0.026944444 | GY17: 0.027002315 | GZ17: 0.0014814815 | HA17: 0.0015740741
A18: 1 | B18: 1 | C18: 6 | G18: 0 | AB18: 0.0094328704 | AC18: 0.0109375 | AD18: 0.0094791667 | AE18: 0.009537037 | AF18: 0.010636574 | AG18: 0.010659722 | AH18: 0.001099537 | AI18: 0.0011805556
A19: 2 | B19: 4 | C19: 14 | G19: 0 | J19: 0.0094328704 | K19: 0.0094675926 | L19: 0.010046296 | M19: 0.010219907 | N19: 0.0005787037 | O19: 0.00078703704 | AB19: 0.0094328704 | AC19: 0.029328704 | AD19: 0.027847222 | AE19: 0.027893519 | AF19: 0.028993056 | AG19: 0.029016204 | AH19: 0.001099537 | AI19: 0.0011689815 | AP19: 0.012395833 | AS19: 0.012465278 | AT19: 0 | AU19: 6.9444444e-05 | BT19: 0.013356481 | BU19: 0.02068287 | BV19: 0.021956019 | BW19: 0.023715278 | BX19: 0.0012731481 | BY19: 0.010358796 | DD19: 0.026203704 | DE19: 0.026226852 | DF19: 0.027685185 | DG19: 0.027789352 | DH19: 0.0014583333 | DI19: 0.0015856481 | DV19: 0.011539352 | DW19: 0.011539352 | DX19: 0.012268519 | DY19: 0.012326389 | DZ19: 0.00072916667 | EA19: 0.00078703704 | EH19: 0.012523148 | EI19: 0.012581019 | EJ19: 0.012766204 | EK19: 0.013310185 | EL19: 0.00018518519 | EM19: 0.00078703704 | EZ19: 0.023761574 | FA19: 0.023819444 | FB19: 0.024907407 | FC19: 0.024930556 | FD19: 0.001087963 | FE19: 0.0011689815 | FL19: 0.024976852 | FM19: 0.024988426 | FN19: 0.025717593 | FO19: 0.026145833 | FP19: 0.00072916667 | FQ19: 0.0011689815 | FX19: 0.010277778 | FY19: 0.010324074 | FZ19: 0.011423611 | GA19: 0.011481481 | GB19: 0.001099537 | GC19: 0.0012037037
A20: 3 | B20: 1 | C20: 10 | G20: 0 | P20: 0.0094444444 | Q20: 0.0094675926 | R20: 0.0109375 | S20: 0.011076389 | T20: 0.0014699074 | U20: 0.0016319444 | AB20: 0.0094444444 | AC20: 0.012569444 | DP20: 0.011134259 | DQ20: 0.011180556 | DR20: 0.012291667 | DS20: 0.012326389 | DT20: 0.0011111111 | DU20: 0.0011921296
A21: 4 | B21: 4 | C21: 9 | G21: 0 | P21: 0.024236111 | Q21: 0.024270833 | R21: 0.025740741 | S21: 0.025810185 | T21: 0.0014699074 | U21: 0.0015740741 | AB21: 0.0094444444 | AC21: 0.027337963 | AJ21: 0.009537037 | AK21: 0.009537037 | AL21: 0.010266204 | AM21: 0.010324074 | AN21: 0.00072916667 | AO21: 0.00078703704 | AP21: 0.010381944 | AS21: 0.010416667 | AT21: 0 | AU21: 3.4722222e-05 | BH21: 0.010474537 | BI21: 0.010532407 | BJ21: 0.010717593 | BK21: 0.01130787 | BL21: 0.00018518519 | BM21: 0.00083333333 | BT21: 0.011365741 | BU21: 0.01912037 | BV21: 0.020381944 | BW21: 0.021712963 | BX21: 0.0012615741 | BY21: 0.010347222 | DP21: 0.02587963 | DQ21: 0.025925926 | DR21: 0.027025463 | DS21: 0.027048611 | DT21: 0.001099537 | DU21: 0.0011689815 | GJ21: 0.021770833 | GK21: 0.021828704 | GL21: 0.022928241 | GM21: 0.022951389 | GN21: 0.001099537 | GO21: 0.0011805556 | GP21: 0.023009259 | GQ21: 0.023009259 | GR21: 0.023738426 | GS21: 0.024189815 | GT21: 0.00072916667 | GU21: 0.0011805556
A22: 5 | B22: 1 | C22: 3 | G22: 0 | AB22: 0.0094560185 | AC22: 0.0097222222
A23: 6 | B23: 4 | C23: 25 | G23: 0 | P23: 0.030590278 | Q23: 0.030613426 | R23: 0.032094907 | S23: 0.032164352 | T23: 0.0014814815 | U23: 0.0015740741 | AB23: 0.0094675926 | AC23: 0.033715278 | AJ23: 0.015960648 | AK23: 0.015960648 | AL23: 0.016689815 | AM23: 0.016747685 | AN23: 0.00072916667 | AO23: 0.00078703704 | AP23: 0.0096296296 | AS23: 0.0099652778 | AT23: 0 | AU23: 0.00033564815 | AV23: 0.010046296 | AW23: 0.010046296 | AX23: 0.01037037 | AY23: 0.010416667 | AZ23: 0.00032407407 | BA23: 0.00037037037 | BB23: 0.010462963 | BC23: 0.010497685 | BD23: 0.011076389 | BE23: 0.011273148 | BF23: 0.0005787037 | BG23: 0.00081018519 | BH23: 0.016886574 | BI23: 0.016944444 | BJ23: 0.01712963 | BK23: 0.017662037 | BL23: 0.00018518519 | BM23: 0.00077546296 | BN23: 0.011331019 | BO23: 0.011678241 | BP23: 0.012083333 | BQ23: 0.012118056 | BR23: 0.00040509259 | BS23: 0.00078703704 | BT23: 0.017708333 | BU23: 0.025162037 | BV23: 0.026354167 | BW23: 0.02806713 | BX23: 0.0011921296 | BY23: 0.010358796 | BZ23: 0.012175926 | CA23: 0.012349537 | CB23: 0.012916667 | CC23: 0.012951389 | CD23: 0.00056712963 | CE23: 0.00077546296 | CF23: 0.028113426 | CG23: 0.028171296 | CH23: 0.029270833 | CI23: 0.029293981 | CJ23: 0.001099537 | CK23: 0.0011805556 | CL23: 0.012997685 | CM23: 0.013009259 | CN23: 0.013738426 | CO23: 0.013784722 | CP23: 0.00072916667 | CQ23: 0.00078703704 | CR23: 0.029340278 | CS23: 0.029351852 | CT23: 0.030081019 | CU23: 0.030532407 | CV23: 0.00072916667 | CW23: 0.0011921296 | CX23: 0.013842593 | CY23: 0.013877315 | CZ23: 0.014456019 | DA23: 0.01462963 | DB23: 0.0005787037 | DC23: 0.00078703704 | DJ23: 0.0146875 | DK23: 0.014733796 | DL23: 0.015833333 | DM23: 0.015891204 | DN23: 0.001099537 | DO23: 0.0012037037 | GD23: 0.032222222 | GE23: 0.032280093 | GF23: 0.03337963 | GG23: 0.033402778 | GH23: 0.001099537 | GI23: 0.0011805556
A24: 7 | B24: 4 | C24: 7 | G24: 0 | AB24: 0.0094791667 | AC24: 0.026493056 | AP24: 0.0095833333 | AS24: 0.0096180556 | AT24: 0 | AU24: 3.4722222e-05 | BH24: 0.0096759259 | BI24: 0.0097337963 | BJ24: 0.0099189815 | BK24: 0.010462963 | BL24: 0.00018518519 | BM24: 0.00078703704 | BT24: 0.010509259 | BU24: 0.01849537 | BV24: 0.019780093 | BW24: 0.020914352 | BX24: 0.0012847222 | BY24: 0.010405093 | CF24: 0.020972222 | CG24: 0.021030093 | CH24: 0.022152778 | CI24: 0.022164352 | CJ24: 0.0011226852 | CK24: 0.0011921296 | CR24: 0.022210648 | CS24: 0.022210648 | CT24: 0.022939815 | CU24: 0.023402778 | CV24: 0.00072916667 | CW24: 0.0011921296 | FR24: 0.023449074 | FS24: 0.023483796 | FT24: 0.024953704 | FU24: 0.025011574 | FV24: 0.0014699074 | FW24: 0.0015625 | GD24: 0.025069444 | GE24: 0.025127315 | GF24: 0.026226852 | GG24: 0.02625 | GH24: 0.001099537 | GI24: 0.0011805556
A25: 8 | B25: 4 | C25: 21 | G25: 0 | P25: 0.028981481 | Q25: 0.029016204 | R25: 0.030486111 | S25: 0.030578704 | T25: 0.0014699074 | U25: 0.0015972222 | V25: 0.013090278 | W25: 0.013148148 | X25: 0.014236111 | Y25: 0.014270833 | Z25: 0.001087963 | AA25: 0.0011805556 | AB25: 0.0094791667 | AC25: 0.032118056 | AJ25: 0.014328704 | AK25: 0.014340278 | AL25: 0.01505787 | AM25: 0.015150463 | AN25: 0.00071759259 | AO25: 0.00082175926 | AP25: 0.015208333 | AS25: 0.015243056 | AT25: 0 | AU25: 3.4722222e-05 | BH25: 0.015289352 | BI25: 0.015347222 | BJ25: 0.015532407 | BK25: 0.016076389 | BL25: 0.00018518519 | BM25: 0.00078703704 | BN25: 0.0097106481 | BO25: 0.010069444 | BP25: 0.010462963 | BQ25: 0.010497685 | BR25: 0.00039351852 | BS25: 0.00078703704 | BT25: 0.016134259 | BU25: 0.0234375 | BV25: 0.025162037 | BW25: 0.026423611 | BX25: 0.001724537 | BY25: 0.010289352 | BZ25: 0.010543981 | CA25: 0.010729167 | CB25: 0.011296296 | CC25: 0.011354167 | CD25: 0.00056712963 | CE25: 0.00081018519 | CL25: 0.011412037 | CM25: 0.011412037 | CN25: 0.012141204 | CO25: 0.012199074 | CP25: 0.00072916667 | CQ25: 0.00078703704 | CX25: 0.01224537 | CY25: 0.012280093 | CZ25: 0.01287037 | DA25: 0.013032407 | DB25: 0.00059027778 | DC25: 0.00078703704 | DP25: 0.030625 | DQ25: 0.03068287 | DR25: 0.031782407 | DS25: 0.03181713 | DT25: 0.001099537 | DU25: 0.0011921296 | GJ25: 0.026539352 | GK25: 0.026585648 | GL25: 0.027685185 | GM25: 0.027708333 | GN25: 0.001099537 | GO25: 0.0011689815 | GP25: 0.02775463 | GQ25: 0.027766204 | GR25: 0.02849537 | GS25: 0.028935185 | GT25: 0.00072916667 | GU25: 0.0011805556
A26: 9 | B26: 4 | C26: 6 | G26: 0 | AB26: 0.0095138889 | AC26: 0.026053241 | BT26: 0.010127315 | BU26: 0.01818287 | BV26: 0.019456019 | BW26: 0.020520833 | BX26: 0.0012731481 | BY26: 0.010393519 | DD26: 0.023043981 | DE26: 0.02306713 | DF26: 0.024537037 | DG26: 0.02462963 | DH26: 0.0014699074 | DI26: 0.0015856481 | DP26: 0.0246875 | DQ26: 0.02474537 | DR26: 0.025844907 | DS26: 0.025868056 | DT26: 0.001099537 | DU26: 0.0011805556 | GJ26: 0.020578704 | GK26: 0.020625 | GL26: 0.021724537 | GM26: 0.021759259 | GN26: 0.001099537 | GO26: 0.0011805556 | GP26: 0.021805556 | GQ26: 0.02181713 | GR26: 0.022546296 | GS26: 0.022997685 | GT26: 0.00072916667 | GU26: 0.0011921296
A27: 10 | B27: 4 | C27: 18 | G27: 0 | J27: 0.011064815 | K27: 0.011099537 | L27: 0.011689815 | M27: 0.011840278 | N27: 0.00059027778 | O27: 0.00077546296 | V27: 0.011898148 | W27: 0.011956019 | X27: 0.013055556 | Y27: 0.013078704 | Z27: 0.001099537 | AA27: 0.0011805556 | AB27: 0.009537037 | AC27: 0.030925926 | AP27: 0.013993056 | AS27: 0.014050926 | AT27: 0 | AU27: 5.787037e-05 | BT27: 0.014918981 | BU27: 0.022604167 | BV27: 0.023784722 | BW27: 0.025138889 | BX27: 0.0011805556 | BY27: 0.010219907 | DD27: 0.027800926 | DE27: 0.027824074 | DF27: 0.029282407 | DG27: 0.029375 | DH27: 0.0014583333 | DI27: 0.0015740741 | DP27: 0.02943287 | DQ27: 0.029490741 | DR27: 0.030590278 | DS27: 0.030613426 | DT27: 0.001099537 | DU27: 0.0011805556 | DV27: 0.013125 | DW27: 0.013136574 | DX27: 0.013854167 | DY27: 0.013912037 | DZ27: 0.00071759259 | EA27: 0.00078703704 | EH27: 0.014108796 | EI27: 0.014166667 | EJ27: 0.014351852 | EK27: 0.014861111 | EL27: 0.00018518519 | EM27: 0.00075231481 | FF27: 0.010196759 | FG27: 0.010196759 | FH27: 0.0109375 | FI27: 0.011018519 | FJ27: 0.00074074074 | FK27: 0.00082175926 | GJ27: 0.025347222 | GK27: 0.025405093 | GL27: 0.02650463 | GM27: 0.026516204 | GN27: 0.001099537 | GO27: 0.0011689815 | GP27: 0.026574074 | GQ27: 0.026574074 | GR27: 0.027303241 | GS27: 0.027743056 | GT27: 0.00072916667 | GU27: 0.0011689815
A28: 11 | B28: 4 | C28: 23 | G28: 0 | AB28: 0.0095601852 | AC28: 0.032916667 | AD28: 0.031423611 | AE28: 0.031481481 | AF28: 0.032581019 | AG28: 0.032604167 | AH28: 0.001099537 | AI28: 0.0011805556 | AJ28: 0.015162037 | AK28: 0.015162037 | AL28: 0.015891204 | AM28: 0.015949074 | AN28: 0.00072916667 | AO28: 0.00078703704 | AP28: 0.016006944 | AS28: 0.016030093 | AT28: 0 | AU28: 2.3148148e-05 | BB28: 0.0096759259 | BC28: 0.0096990741 | BD28: 0.010289352 | BE28: 0.010462963 | BF28: 0.00059027778 | BG28: 0.00078703704 | BH28: 0.016087963 | BI28: 0.016145833 | BJ28: 0.016331019 | BK28: 0.016875 | BL28: 0.00018518519 | BM28: 0.00078703704 | BN28: 0.010509259 | BO28: 0.01087963 | BP28: 0.011261574 | BQ28: 0.011319444 | BR28: 0.00038194444 | BS28: 0.00081018519 | BT28: 0.01693287 | BU28: 0.024733796 | BV28: 0.025740741 | BW28: 0.027268519 | BX28: 0.0010069444 | BY28: 0.010335648 | BZ28: 0.011365741 | CA28: 0.011550926 | CB28: 0.012106481 | CC28: 0.012164352 | CD28: 0.00055555556 | CE28: 0.00079861111 | CL28: 0.012210648 | CM28: 0.012222222 | CN28: 0.012939815 | CO28: 0.012986111 | CP28: 0.00071759259 | CQ28: 0.00077546296 | CX28: 0.013043981 | CY28: 0.01306713 | CZ28: 0.013657407 | DA28: 0.013831019 | DB28: 0.00059027778 | DC28: 0.00078703704 | EZ28: 0.027314815 | FA28: 0.027361111 | FB28: 0.028460648 | FC28: 0.02849537 | FD28: 0.001099537 | FE28: 0.0011805556 | FL28: 0.028541667 | FM28: 0.028541667 | FN28: 0.029270833 | FO28: 0.029733796 | FP28: 0.00072916667 | FQ28: 0.0011921296 | FR28: 0.029780093 | FS28: 0.029803241 | FT28: 0.031284722 | FU28: 0.031365741 | FV28: 0.0014814815 | FW28: 0.0015856481 | FX28: 0.013888889 | FY28: 0.013946759 | FZ28: 0.015034722 | GA28: 0.015115741 | GB28: 0.001087963 | GC28: 0.0012268519
A29: 12 | B29: 4 | C29: 24 | G29: 0 | J29: 0.013449074 | K29: 0.013472222 | L29: 0.0140625 | M29: 0.014224537 | N29: 0.00059027778 | O29: 0.00077546296 | V29: 0.014282407 | W29: 0.014340278 | X29: 0.015428241 | Y29: 0.015486111 | Z29: 0.001087963 | AA29: 0.0012037037 | AB29: 0.0095717593 | AC29: 0.033310185 | AP29: 0.016400463 | AS29: 0.016435185 | AT29: 0 | AU29: 3.4722222e-05 | AV29: 0.0096180556 | AW29: 0.0096296296 | AX29: 0.0099421296 | AY29: 0.010011574 | AZ29: 0.0003125 | BA29: 0.00039351852 | BT29: 0.017314815 | BU29: 0.024895833 | BV29: 0.026041667 | BW29: 0.027673611 | BX29: 0.0011458333 | BY29: 0.010358796 | DP29: 0.03181713 | DQ29: 0.031875 | DR29: 0.032974537 | DS29: 0.033009259 | DT29: 0.001099537 | DU29: 0.0011921296 | DV29: 0.015543981 | DW29: 0.015543981 | DX29: 0.016273148 | DY29: 0.016331019 | DZ29: 0.00072916667 | EA29: 0.00078703704 | EB29: 0.010081019 | EC29: 0.010104167 | ED29: 0.01068287 | EE29: 0.010856481 | EF29: 0.0005787037 | EG29: 0.00077546296 | EH29: 0.016481481 | EI29: 0.016550926 | EJ29: 0.016736111 | EK29: 0.017256944 | EL29: 0.00018518519 | EM29: 0.00077546296 | EN29: 0.010960648 | EO29: 0.01130787 | EP29: 0.011712963 | EQ29: 0.011736111 | ER29: 0.00040509259 | ES29: 0.00077546296 | ET29: 0.011782407 | EU29: 0.011956019 | EV29: 0.012534722 | EW29: 0.012546296 | EX29: 0.0005787037 | EY29: 0.00076388889 | FF29: 0.012604167 | FG29: 0.012615741 | FH29: 0.013333333 | FI29: 0.013391204 | FJ29: 0.00071759259 | FK29: 0.00078703704 | GJ29: 0.027719907 | GK29: 0.027777778 | GL29: 0.028877315 | GM29: 0.028900463 | GN29: 0.001099537 | GO29: 0.0011805556 | GP29: 0.028946759 | GQ29: 0.028958333 | GR29: 0.029675926 | GS29: 0.030127315 | GT29: 0.00071759259 | GU29: 0.0011805556 | GV29: 0.030185185 | GW29: 0.030208333 | GX29: 0.031701389 | GY29: 0.031770833 | GZ29: 0.0014930556 | HA29: 0.0015856481
A30: 13 | B30: 1 | C30: 21 | G30: 0 | AB30: 0.0096759259 | AC30: 0.01693287 | AD30: 0.015497685 | AE30: 0.015555556 | AF30: 0.016655093 | AG30: 0.016678241 | AH30: 0.001099537 | AI30: 0.0011805556 | EZ30: 0.011400463 | FA30: 0.011469907 | FB30: 0.01255787 | FC30: 0.012592593 | FD30: 0.001087963 | FE30: 0.0011921296 | FL30: 0.012650463 | FM30: 0.012650463 | FN30: 0.01337963 | FO30: 0.01380787 | FP30: 0.00072916667 | FQ30: 0.0011574074 | GV30: 0.013865741 | GW30: 0.013900463 | GX30: 0.015393519 | GY30: 0.015439815 | GZ30: 0.0014930556 | HA30: 0.0015740741
A31: 14 | B31: 4 | C31: 5 | G31: 0 | P31: 0.022650463 | Q31: 0.022673611 | R31: 0.024143519 | S31: 0.024224537 | T31: 0.0014699074 | U31: 0.0015740741 | AB31: 0.0096759259 | AC31: 0.025648148 | AD31: 0.024282407 | AE31: 0.024340278 | AF31: 0.025439815 | AG31: 0.025462963 | AH31: 0.001099537 | AI31: 0.0011805556 | BT31: 0.0097222222 | BU31: 0.01787037 | BV31: 0.019155093 | BW31: 0.020115741 | BX31: 0.0012847222 | BY31: 0.010393519 | EZ31: 0.020173611 | FA31: 0.020231481 | FB31: 0.021319444 | FC31: 0.021354167 | FD31: 0.001087963 | FE31: 0.0011805556 | FL31: 0.021412037 | FM31: 0.021412037 | FN31: 0.022152778 | FO31: 0.022592593 | FP31: 0.00074074074 | FQ31: 0.0011805556
A32: 15 | B32: 4 | C32: 13 | G32: 0 | P32: 0.025821759 | Q32: 0.02587963 | R32: 0.027314815 | S32: 0.027372685 | T32: 0.0014351852 | U32: 0.0015509259 | AB32: 0.0096759259 | AC32: 0.028923611 | AJ32: 0.011145833 | AK32: 0.011168981 | AL32: 0.011886574 | AM32: 0.011944444 | AN32: 0.00071759259 | AO32: 0.00079861111 | AP32: 0.012002315 | AS32: 0.012071759 | AT32: 0 | AU32: 6.9444444e-05 | BH32: 0.01212963 | BI32: 0.0121875 | BJ32: 0.012372685 | BK32: 0.012905093 | BL32: 0.00018518519 | BM32: 0.00077546296 | BT32: 0.012962963 | BU32: 0.02037037 | BV32: 0.02162037 | BW32: 0.023321759 | BX32: 0.00125 | BY32: 0.010358796 | CF32: 0.02337963 | CG32: 0.023425926 | CH32: 0.024525463 | CI32: 0.024548611 | CJ32: 0.001099537 | CK32: 0.0011689815 | CR32: 0.024594907 | CS32: 0.024606481 | CT32: 0.025324074 | CU32: 0.025775463 | CV32: 0.00071759259 | CW32: 0.0011805556 | DJ32: 0.0098726852 | DK32: 0.0099305556 | DL32: 0.011018519 | DM32: 0.011099537 | DN32: 0.001087963 | DO32: 0.0012268519 | GD32: 0.02744213 | GE32: 0.0275 | GF32: 0.028599537 | GG32: 0.028622685 | GH32: 0.001099537 | GI32: 0.0011805556
A33: 16 | B33: 4 | C33: 19 | G33: 0 | AB33: 0.0096759259 | AC33: 0.031319444 | AJ33: 0.013541667 | AK33: 0.013541667 | AL33: 0.014270833 | AM33: 0.01431713 | AN33: 0.00072916667 | AO33: 0.00077546296 | AP33: 0.014386574 | AS33: 0.01443287 | AT33: 0 | AU33: 4.6296296e-05 | BH33: 0.014490741 | BI33: 0.014548611 | BJ33: 0.014733796 | BK33: 0.015277778 | BL33: 0.00018518519 | BM33: 0.00078703704 | BT33: 0.015335648 | BU33: 0.022858796 | BV33: 0.024050926 | BW33: 0.025543981 | BX33: 0.0011921296 | BY33: 0.010208333 | BZ33: 0.0097569444 | CA33: 0.0099305556 | CB33: 0.010497685 | CC33: 0.010543981 | CD33: 0.00056712963 | CE33: 0.00078703704 | CF33: 0.025752315 | CG33: 0.025798611 | CH33: 0.026898148 | CI33: 0.026921296 | CJ33: 0.001099537 | CK33: 0.0011689815 | CL33: 0.010590278 | CM33: 0.010590278 | CN33: 0.011319444 | CO33: 0.011400463 | CP33: 0.00072916667 | CQ33: 0.00081018519 | CR33: 0.026967593 | CS33: 0.026979167 | CT33: 0.027708333 | CU33: 0.028148148 | CV33: 0.00072916667 | CW33: 0.0011805556 | CX33: 0.011458333 | CY33: 0.011481481 | CZ33: 0.012071759 | DA33: 0.01224537 | DB33: 0.00059027778 | DC33: 0.00078703704 | DJ33: 0.012291667 | DK33: 0.012349537 | DL33: 0.0134375 | DM33: 0.013472222 | DN33: 0.001087963 | DO33: 0.0011805556 | FR33: 0.028194444 | FS33: 0.028229167 | FT33: 0.0296875 | FU33: 0.029768519 | FV33: 0.0014583333 | FW33: 0.0015740741 | GD33: 0.029826389 | GE33: 0.029884259 | GF33: 0.030983796 | GG33: 0.031006944 | GH33: 0.001099537 | GI33: 0.0011805556
A34: 17 | B34: 4 | C34: 20 | G34: 0 | J34: 0.011851852 | K34: 0.011886574 | L34: 0.012476852 | M34: 0.012638889 | N34: 0.00059027778 | O34: 0.00078703704 | AB34: 0.0096759259 | AC34: 0.031724537 | AD34: 0.030219907 | AE34: 0.030277778 | AF34: 0.031377315 | AG34: 0.031412037 | AH34: 0.001099537 | AI34: 0.0011921296 | AP34: 0.014791667 | AS34: 0.014826389 | AT34: 0 | AU34: 3.4722222e-05 | BT34: 0.015740741 | BU34: 0.023148148 | BV34: 0.02443287 | BW34: 0.025949074 | BX34: 0.0012847222 | BY34: 0.010208333 | DV34: 0.013923611 | DW34: 0.013935185 | DX34: 0.014652778 | DY34: 0.014710648 | DZ34: 0.00071759259 | EA34: 0.00078703704 | EH34: 0.014872685 | EI34: 0.014930556 | EJ34: 0.015115741 | EK34: 0.01568287 | EL34: 0.00018518519 | EM34: 0.00081018519 | ET34: 0.010162037 | EU34: 0.010335648 | EV34: 0.0109375 | EW34: 0.010983796 | EX34: 0.00060185185 | EY34: 0.00082175926 | EZ34: 0.026122685 | FA34: 0.026180556 | FB34: 0.027280093 | FC34: 0.027291667 | FD34: 0.001099537 | FE34: 0.0011689815 | FF34: 0.011030093 | FG34: 0.011041667 | FH34: 0.011747685 | FI34: 0.011805556 | FJ34: 0.00070601852 | FK34: 0.00077546296 | FL34: 0.027349537 | FM34: 0.027349537 | FN34: 0.028078704 | FO34: 0.028530093 | FP34: 0.00072916667 | FQ34: 0.0011805556 | FX34: 0.012685185 | FY34: 0.012743056 | FZ34: 0.013842593 | GA34: 0.013877315 | GB34: 0.001099537 | GC34: 0.0011921296 | GV34: 0.028587963 | GW34: 0.028634259 | GX34: 0.030115741 | GY34: 0.030173611 | GZ34: 0.0014814815 | HA34: 0.0015856481
A35: 18 | B35: 1 | C35: 17 | G35: 0 | AB35: 0.0096990741 | AC35: 0.015335648 | CF35: 0.0097569444 | CG35: 0.0098148148 | CH35: 0.0109375 | CI35: 0.01099537 | CJ35: 0.0011226852 | CK35: 0.0012384259 | CR35: 0.011053241 | CS35: 0.011053241 | CT35: 0.011782407 | CU35: 0.01224537 | CV35: 0.00072916667 | CW35: 0.0011921296 | GD35: 0.013923611 | GE35: 0.013981481 | GF35: 0.015081019 | GG35: 0.015092593 | GH35: 0.001099537 | GI35: 0.0011689815 | GV35: 0.012291667 | GW35: 0.012314815 | GX35: 0.01380787 | GY35: 0.013865741 | GZ35: 0.0014930556 | HA35: 0.0015740741
A36: 19 | B36: 4 | C36: 17 | G36: 0 | P36: 0.027384259 | Q36: 0.027418981 | R36: 0.028888889 | S36: 0.028969907 | T36: 0.0014699074 | U36: 0.0015856481 | AB36: 0.0096990741 | AC36: 0.030520833 | AD36: 0.029027778 | AE36: 0.029085648 | AF36: 0.030185185 | AG36: 0.030208333 | AH36: 0.001099537 | AI36: 0.0011805556 | AJ36: 0.012743056 | AK36: 0.01275463 | AL36: 0.013472222 | AM36: 0.013530093 | AN36: 0.00071759259 | AO36: 0.00078703704 | AP36: 0.013599537 | AS36: 0.013645833 | AT36: 0 | AU36: 4.6296296e-05 | BH36: 0.013703704 | BI36: 0.013761574 | BJ36: 0.013946759 | BK36: 0.014479167 | BL36: 0.00018518519 | BM36: 0.00077546296 | BT36: 0.014537037 | BU36: 0.02244213 | BV36: 0.023472222 | BW36: 0.024791667 | BX36: 0.0010300926 | BY36: 0.01025463 | CL36: 0.0097916667 | CM36: 0.0098032407 | CN36: 0.010520833 | CO36: 0.010578704 | CP36: 0.00071759259 | CQ36: 0.00078703704 | CX36: 0.010625 | CY36: 0.010659722 | CZ36: 0.01125 | DA36: 0.011435185 | DB36: 0.00059027778 | DC36: 0.00081018519 | EZ36: 0.02494213 | FA36: 0.025 | FB36: 0.026087963 | FC36: 0.026111111 | FD36: 0.001087963 | FE36: 0.0011689815 | FL36: 0.026157407 | FM36: 0.026168981 | FN36: 0.026898148 | FO36: 0.027337963 | FP36: 0.00072916667 | FQ36: 0.0011805556 | FX36: 0.011493056 | FY36: 0.011550926 | FZ36: 0.012650463 | GA36: 0.012673611 | GB36: 0.001099537 | GC36: 0.0011805556
A37: 20 | B37: 1 | C37: 14 | G37: 0 | P37: 0.011087963 | Q37: 0.011111111 | R37: 0.012581019 | S37: 0.012673611 | T37: 0.0014699074 | U37: 0.0015856481 | AB37: 0.0097106481 | AC37: 0.014155093 | CR37: 0.0098032407 | CS37: 0.0098032407 | CT37: 0.010532407 | CU37: 0.011030093 | CV37: 0.00072916667 | CW37: 0.0012268519 | GD37: 0.012731481 | GE37: 0.012789352 | GF37: 0.013888889 | GG37: 0.013912037 | GH37: 0.001099537 | GI37: 0.0011805556
A38: 21 | B38: 1 | C38: 12 | G38: 0 | AB38: 0.0097222222 | AC38: 0.013368056 | AD38: 0.011944444 | AE38: 0.011990741 | AF38: 0.013090278 | AG38: 0.013113426 | AH38: 0.001099537 | AI38: 0.0011689815 | FR38: 0.010243056 | FS38: 0.010266204 | FT38: 0.011736111 | FU38: 0.011886574 | FV38: 0.0014699074 | FW38: 0.0016435185
A39: 22 | B39: 4 | C39: 15 | G39: 0 | V39: 0.010671296 | W39: 0.010729167 | X39: 0.011828704 | Y39: 0.011886574 | Z39: 0.001099537 | AA39: 0.0012152778 | AB39: 0.0097337963 | AC39: 0.029722222 | AJ39: 0.011956019 | AK39: 0.011956019 | AL39: 0.012685185 | AM39: 0.012731481 | AN39: 0.00072916667 | AO39: 0.00077546296 | AP39: 0.012800926 | AS39: 0.01287037 | AT39: 0 | AU39: 6.9444444e-05 | BH39: 0.012916667 | BI39: 0.012974537 | BJ39: 0.013159722 | BK39: 0.01369213 | BL39: 0.00018518519 | BM39: 0.00077546296 | BT39: 0.013738426 | BU39: 0.020983796 | BV39: 0.02287037 | BW39: 0.024108796 | BX39: 0.0018865741 | BY39: 0.01037037 | CX39: 0.009837963 | CY39: 0.0098726852 | CZ39: 0.010451389 | DA39: 0.010613426 | DB39: 0.0005787037 | DC39: 0.00077546296 | DP39: 0.028252315 | DQ39: 0.028298611 | DR39: 0.029398148 | DS39: 0.029421296 | DT39: 0.001099537 | DU39: 0.0011689815 | FR39: 0.026608796 | FS39: 0.026643519 | FT39: 0.028113426 | FU39: 0.02818287 | FV39: 0.0014699074 | FW39: 0.0015740741 | GJ39: 0.024166667 | GK39: 0.024212963 | GL39: 0.0253125 | GM39: 0.025335648 | GN39: 0.001099537 | GO39: 0.0011689815 | GP39: 0.025381944 | GQ39: 0.025393519 | GR39: 0.026122685 | GS39: 0.0265625 | GT39: 0.00072916667 | GU39: 0.0011805556
A40: 23 | B40: 1 | C40: 7 | G40: 0 | AB40: 0.0097453704 | AC40: 0.011377315 | DP40: 0.0098842593 | DQ40: 0.0099421296 | DR40: 0.011041667 | DS40: 0.011122685 | DT40: 0.001099537 | DU40: 0.0012384259
A41: 24 | B41: 1 | C41: 11 | G41: 0 | AB41: 0.0097800926 | AC41: 0.012974537 | DD41: 0.009837963 | DE41: 0.0098611111 | DF41: 0.011331019 | DG41: 0.011481481 | DH41: 0.0014699074 | DI41: 0.0016435185 | GD41: 0.011539352 | GE41: 0.011597222 | GF41: 0.012696759 | GG41: 0.012719907 | GH41: 0.001099537 | GI41: 0.0011805556
A42: 25 | B42: 4 | C42: 10 | G42: 0 | AB42: 0.0098263889 | AC42: 0.027731481 | AP42: 0.010775463 | AS42: 0.010810185 | AT42: 0 | AU42: 3.4722222e-05 | BT42: 0.011770833 | BU42: 0.019421296 | BV42: 0.02068287 | BW42: 0.022118056 | BX42: 0.0012615741 | BY42: 0.010347222 | CF42: 0.022164352 | CG42: 0.022222222 | CH42: 0.023321759 | CI42: 0.023368056 | CJ42: 0.001099537 | CK42: 0.0012037037 | CR42: 0.023414352 | CS42: 0.023414352 | CT42: 0.024143519 | CU42: 0.024583333 | CV42: 0.00072916667 | CW42: 0.0011689815 | DD42: 0.024641204 | DE42: 0.024664352 | DF42: 0.026122685 | DG42: 0.02619213 | DH42: 0.0014583333 | DI42: 0.0015509259 | DV42: 0.0099189815 | DW42: 0.0099305556 | DX42: 0.010648148 | DY42: 0.010706019 | DZ42: 0.00071759259 | EA42: 0.00078703704 | EH42: 0.01087963 | EI42: 0.010949074 | EJ42: 0.011134259 | EK42: 0.011724537 | EL42: 0.00018518519 | EM42: 0.00084490741 | GD42: 0.026261574 | GE42: 0.026319444 | GF42: 0.027418981 | GG42: 0.027430556 | GH42: 0.001099537 | GI42: 0.0011689815
A43: 26 | B43: 1 | C43: 4 | G43: 0 | AB43: 0.009837963 | AC43: 0.010127315
...

Sheet Classified as UnClassified

Sheet xl_DCF_History
A1: CLINAME | B1: DATETIME | C1: DONEBY | D1: IPADDRESS | E1: APPVER | F1: RANDOM | G1: CHECKSUM
A2: ཡེཏླྀ཭ཿཿཱཱཱིུུ཰ | B2: ཁ༻༽༼༻༾༼༽ཀ༬༬༽༼ཆ༾ཁཌྷཙ༬༴ནཙའ༷༾ཆ༼༵ | C2: ཟའཨཐ཭ཱཱེུླྀ༬ཱིཾཱུཹ཭ཱྀ཰ | D2: ཞཛཡ༼ཀ༾ཅ༽ | E2: ཀ༺༼༺༾༺༼ | F2: 12 | G2: ཀགྷངང
