Workbook

Sheet Pre-Datas
A1: DATE_PROC | B1: DATE_TIME | C1: LOT_ID | D1: SLOT_ID | E1: EQUIPMENT | F1: CHAMBER | G1: laisser Vide | H1: laisser Vide | I1: laisser Vide | J1: laisser Vide | K1: RECIPE
A2: 41768 | B2: =Sla!H77 -> 0.010844907 | C2: =Sla!D77 -> CID0100 | D2: =Sla!C77 -> 1 | F2: =Sla!J14 -> U25 | G2: laisser Vide | H2: laisser Vide | I2: laisser Vide | J2: laisser Vide | K2: =Sla!G77 -> 156
A3: 41768 | B3: =Sla!H78 -> 0.010844907 | C3: =Sla!D78 -> CID0100 | D3: 1 | F3: =Sla!AB14 -> 1:ID(U1) | G3: laisser Vide | H3: laisser Vide | I3: laisser Vide | J3: laisser Vide | K3: =Sla!G77 -> 156
A4: 41768 | B4: =Sla!H79 -> 0.010844907 | C4: =Sla!D79 -> CID0100 | D4: 1 | F4: =Sla!AP14 -> 21:IF-A(U21) | G4: laisser Vide | H4: laisser Vide | I4: laisser Vide | J4: laisser Vide | K4: =Sla!G77 -> 156
A5: 41768 | B5: =Sla!H80 -> 0.010844907 | C5: =Sla!D80 -> CID0100 | D5: 1 | F5: =Sla!AV14 -> U28 | G5: laisser Vide | H5: laisser Vide | I5: laisser Vide | J5: laisser Vide | K5: =Sla!G77 -> 156
A6: 41768 | B6: =Sla!H81 -> 0.010844907 | C6: =Sla!D81 -> CID0100 | D6: 1 | F6: =Sla!BT14 -> 22:IF-B(U22) | G6: laisser Vide | H6: laisser Vide | I6: laisser Vide | J6: laisser Vide | K6: =Sla!G77 -> 156
A7: 41768 | B7: =Sla!H82 -> 0.010844907 | C7: =Sla!D82 -> CID0100 | D7: 1 | F7: =Sla!DP14 -> U12 | G7: laisser Vide | H7: laisser Vide | I7: laisser Vide | J7: laisser Vide | K7: =Sla!G77 -> 156
A8: 41768 | B8: =Sla!H83 -> 0.010844907 | C8: =Sla!D83 -> CID0100 | D8: 1 | F8: =Sla!DV14 -> U42 | G8: laisser Vide | H8: laisser Vide | I8: laisser Vide | J8: laisser Vide | K8: =Sla!G77 -> 156
A9: 41768 | B9: =Sla!H84 -> 0.010844907 | C9: =Sla!D84 -> CID0100 | D9: 1 | F9: =Sla!EB14 -> U26 | G9: laisser Vide | H9: laisser Vide | I9: laisser Vide | J9: laisser Vide | K9: =Sla!G77 -> 156
A10: 41768 | B10: =Sla!H85 -> 0.010844907 | C10: =Sla!D85 -> CID0100 | D10: 1 | F10: =Sla!EH14 -> U17 | G10: laisser Vide | H10: laisser Vide | I10: laisser Vide | J10: laisser Vide | K10: =Sla!G77 -> 156
A11: 41768 | B11: =Sla!H86 -> 0.010844907 | C11: =Sla!D86 -> CID0100 | D11: 1 | F11: =Sla!EN14 -> U29 | G11: laisser Vide | H11: laisser Vide | I11: laisser Vide | J11: laisser Vide | K11: =Sla!G77 -> 156
A12: 41768 | B12: 0.010844907 | C12: CID0100 | D12: 1 | F12: =Sla!ET14 -> U33 | G12: laisser Vide | H12: laisser Vide | I12: laisser Vide | J12: laisser Vide | K12: =Sla!G77 -> 156
A13: 41768 | B13: 0.010844907 | C13: CID0100 | D13: 1 | F13: =Sla!FF14 -> U34 | G13: laisser Vide | H13: laisser Vide | I13: laisser Vide | J13: laisser Vide | K13: =Sla!G77 -> 156
A14: 41768 | B14: 0.010844907 | C14: CID0100 | D14: 1 | F14: =Sla!FR14 -> U6 | G14: laisser Vide | H14: laisser Vide | I14: laisser Vide | J14: laisser Vide | K14: =Sla!G77 -> 156
A15: 41768 | B15: 0.010844907 | C15: CID0100 | D15: 1 | F15: =Sla!FX14 -> U47 | G15: laisser Vide | H15: laisser Vide | I15: laisser Vide | J15: laisser Vide | K15: =Sla!G77 -> 156
A16: 41768 | B16: 0.010844907 | C16: CID0100 | D16: 1 | F16: =Sla!GJ14 -> U20 | G16: laisser Vide | H16: laisser Vide | I16: laisser Vide | J16: laisser Vide | K16: =Sla!G77 -> 156
A17: 41768 | B17: 0.010844907 | C17: CID0100 | D17: 1 | F17: =Sla!GP14 -> U7 | G17: laisser Vide | H17: laisser Vide | I17: laisser Vide | J17: laisser Vide | K17: =Sla!G77 -> 156
A18: 41768 | B18: 0.052511574 | C18: CID0100 | D18: 2 | F18: U4 | G18: laisser Vide | H18: laisser Vide | I18: laisser Vide | J18: laisser Vide | K18: =Sla!G78 -> 156
A19: 41768 | B19: 0.094178241 | C19: CID0100 | D19: 2 | F19: U44 | G19: laisser Vide | H19: laisser Vide | I19: laisser Vide | J19: laisser Vide | K19: =Sla!G78 -> 156
F20: Etc…. | G20: laisser Vide | H20: laisser Vide | I20: laisser Vide | J20: laisser Vide
A21: ►Changement de Date Proc change SLA! A2252 non fixe tjrs encadré par ###### xx/xx/xxxx#######
A22: ►Date Time évolue à chaque changement de LOT_ID

Sheet Sla
A1: *** Wafer History Report ***
A3: ** Report Period **
B4: 2014/05/09_00:13:34 - 2014/05/10_05:18:24
A6: ** System Model Information **
B7: Equipment Name
B8: Model Name | C8: SK-2000
B9: Serial Number | C9: 700101520A
B10: DNS Version | C10: SK2000 B33D000
B11: Created Date | C11: 39199
A13: ** Wafer History **
A14: No | B14: Stage | C14: Slot | D14: Carrier Id | E14: ControlJob Id | F14: ProcessJob Id | J14: U25 | P14: U4 | V14: U44 | AB14: 1:ID(U1) | AD14: U18 | AJ14: U39 | AP14: 21:IF-A(U21) | AV14: U28 | BB14: U27 | BH14: U10 | BN14: U35 | BT14: 22:IF-B(U22) | BZ14: U36 | CF14: U16 | CL14: U31 | CR14: U11 | CX14: U24 | DD14: U5 | DJ14: U43 | DP14: U12 | DV14: U42 | EB14: U26 | EH14: U17 | EN14: U29 | ET14: U33 | EZ14: U19 | FF14: U34 | FL14: U14 | FR14: U6 | FX14: U47 | GD14: U15 | GJ14: U20 | GP14: U7 | GV14: U3 | HB14: U30 | HH14: U45 | HN14: U46 | HT14: U37 | HZ14: U38 | IF14: U8 | IL14: U9 | IR14: U13
G15: Flow | H15: Start time | I15: End time | J15: Time when the unit received the wafer | K15: Time when the unit started prcessing of a wafer | L15: Time when the unit completed processing of a wafer | M15: Time when the unit took out the wafer | N15: Processing time | O15: Time when the unit maintained the wafer | P15: Time when the unit received the wafer | Q15: Time when the unit started prcessing of a wafer | R15: Time when the unit completed processing of a wafer | S15: Time when the unit took out the wafer | T15: Processing time | U15: Time when the unit maintained the wafer | V15: Time when the unit received the wafer | W15: Time when the unit started prcessing of a wafer | X15: Time when the unit completed processing of a wafer | Y15: Time when the unit took out the wafer | Z15: Processing time | AA15: Time when the unit maintained the wafer | AB15: Start time | AC15: End time | AD15: Time when the unit received the wafer | AE15: Time when the unit started prcessing of a wafer | AF15: Time when the unit completed processing of a wafer | AG15: Time when the unit took out the wafer | AH15: Processing time | AI15: Time when the unit maintained the wafer | AJ15: Time when the unit received the wafer | AK15: Time when the unit started prcessing of a wafer | AL15: Time when the unit completed processing of a wafer | AM15: Time when the unit took out the wafer | AN15: Processing time | AO15: Time when the unit maintained the wafer | AP15: Time when the unit received the wafer | AQ15: Time when the unit started prcessing of a wafer | AR15: Time when the unit completed processing of a wafer | AS15: Time when the unit took out the wafer | AT15: Processing time | AU15: Time when the unit maintained the wafer | AV15: Time when the unit received the wafer | AW15: Time when the unit started prcessing of a wafer | AX15: Time when the unit completed processing of a wafer | AY15: Time when the unit took out the wafer | AZ15: Processing time | BA15: Time when the unit maintained the wafer | BB15: Time when the unit received the wafer | BC15: Time when the unit started prcessing of a wafer | BD15: Time when the unit completed processing of a wafer | BE15: Time when the unit took out the wafer | BF15: Processing time | BG15: Time when the unit maintained the wafer | BH15: Time when the unit received the wafer | BI15: Time when the unit started prcessing of a wafer | BJ15: Time when the unit completed processing of a wafer | BK15: Time when the unit took out the wafer | BL15: Processing time | BM15: Time when the unit maintained the wafer | BN15: Time when the unit received the wafer | BO15: Time when the unit started prcessing of a wafer | BP15: Time when the unit completed processing of a wafer | BQ15: Time when the unit took out the wafer | BR15: Processing time | BS15: Time when the unit maintained the wafer | BT15: Time when the unit received the wafer | BU15: Time when the unit started prcessing of a wafer | BV15: Time when the unit completed processing of a wafer | BW15: Time when the unit took out the wafer | BX15: Processing time | BY15: Time when the unit maintained the wafer | BZ15: Time when the unit received the wafer | CA15: Time when the unit started prcessing of a wafer | CB15: Time when the unit completed processing of a wafer | CC15: Time when the unit took out the wafer | CD15: Processing time | CE15: Time when the unit maintained the wafer | CF15: Time when the unit received the wafer | CG15: Time when the unit started prcessing of a wafer | CH15: Time when the unit completed processing of a wafer | CI15: Time when the unit took out the wafer | CJ15: Processing time | CK15: Time when the unit maintained the wafer | CL15: Time when the unit received the wafer | CM15: Time when the unit started prcessing of a wafer | CN15: Time when the unit completed processing of a wafer | CO15: Time when the unit took out the wafer | CP15: Processing time | CQ15: Time when the unit maintained the wafer | CR15: Time when the unit received the wafer | CS15: Time when the unit started prcessing of a wafer | CT15: Time when the unit completed processing of a wafer | CU15: Time when the unit took out the wafer | CV15: Processing time | CW15: Time when the unit maintained the wafer | CX15: Time when the unit received the wafer | CY15: Time when the unit started prcessing of a wafer | CZ15: Time when the unit completed processing of a wafer | DA15: Time when the unit took out the wafer | DB15: Processing time | DC15: Time when the unit maintained the wafer | DD15: Time when the unit received the wafer | DE15: Time when the unit started prcessing of a wafer | DF15: Time when the unit completed processing of a wafer | DG15: Time when the unit took out the wafer | DH15: Processing time | DI15: Time when the unit maintained the wafer | DJ15: Time when the unit received the wafer | DK15: Time when the unit started prcessing of a wafer | DL15: Time when the unit completed processing of a wafer | DM15: Time when the unit took out the wafer | DN15: Processing time | DO15: Time when the unit maintained the wafer | DP15: Time when the unit received the wafer | DQ15: Time when the unit started prcessing of a wafer | DR15: Time when the unit completed processing of a wafer | DS15: Time when the unit took out the wafer | DT15: Processing time | DU15: Time when the unit maintained the wafer | DV15: Time when the unit received the wafer | DW15: Time when the unit started prcessing of a wafer | DX15: Time when the unit completed processing of a wafer | DY15: Time when the unit took out the wafer | DZ15: Processing time | EA15: Time when the unit maintained the wafer | EB15: Time when the unit received the wafer | EC15: Time when the unit started prcessing of a wafer | ED15: Time when the unit completed processing of a wafer | EE15: Time when the unit took out the wafer | EF15: Processing time | EG15: Time when the unit maintained the wafer | EH15: Time when the unit received the wafer | EI15: Time when the unit started prcessing of a wafer | EJ15: Time when the unit completed processing of a wafer | EK15: Time when the unit took out the wafer | EL15: Processing time | EM15: Time when the unit maintained the wafer | EN15: Time when the unit received the wafer | EO15: Time when the unit started prcessing of a wafer | EP15: Time when the unit completed processing of a wafer | EQ15: Time when the unit took out the wafer | ER15: Processing time | ES15: Time when the unit maintained the wafer | ET15: Time when the unit received the wafer | EU15: Time when the unit started prcessing of a wafer | EV15: Time when the unit completed processing of a wafer | EW15: Time when the unit took out the wafer | EX15: Processing time | EY15: Time when the unit maintained the wafer | EZ15: Time when the unit received the wafer | FA15: Time when the unit started prcessing of a wafer | FB15: Time when the unit completed processing of a wafer | FC15: Time when the unit took out the wafer | FD15: Processing time | FE15: Time when the unit maintained the wafer | FF15: Time when the unit received the wafer | FG15: Time when the unit started prcessing of a wafer | FH15: Time when the unit completed processing of a wafer | FI15: Time when the unit took out the wafer | FJ15: Processing time | FK15: Time when the unit maintained the wafer | FL15: Time when the unit received the wafer | FM15: Time when the unit started prcessing of a wafer | FN15: Time when the unit completed processing of a wafer | FO15: Time when the unit took out the wafer | FP15: Processing time | FQ15: Time when the unit maintained the wafer | FR15: Time when the unit received the wafer | FS15: Time when the unit started prcessing of a wafer | FT15: Time when the unit completed processing of a wafer | FU15: Time when the unit took out the wafer | FV15: Processing time | FW15: Time when the unit maintained the wafer | FX15: Time when the unit received the wafer | FY15: Time when the unit started prcessing of a wafer | FZ15: Time when the unit completed processing of a wafer | GA15: Time when the unit took out the wafer | GB15: Processing time | GC15: Time when the unit maintained the wafer | GD15: Time when the unit received the wafer | GE15: Time when the unit started prcessing of a wafer | GF15: Time when the unit completed processing of a wafer | GG15: Time when the unit took out the wafer | GH15: Processing time | GI15: Time when the unit maintained the wafer | GJ15: Time when the unit received the wafer | GK15: Time when the unit started prcessing of a wafer | GL15: Time when the unit completed processing of a wafer | GM15: Time when the unit took out the wafer | GN15: Processing time | GO15: Time when the unit maintained the wafer | GP15: Time when the unit received the wafer | GQ15: Time when the unit started prcessing of a wafer | GR15: Time when the unit completed processing of a wafer | GS15: Time when the unit took out the wafer | GT15: Processing time | GU15: Time when the unit maintained the wafer | GV15: Time when the unit received the wafer | GW15: Time when the unit started prcessing of a wafer | GX15: Time when the unit completed processing of a wafer | GY15: Time when the unit took out the wafer | GZ15: Processing time | HA15: Time when the unit maintained the wafer | HB15: Time when the unit received the wafer | HC15: Time when the unit started prcessing of a wafer | HD15: Time when the unit completed processing of a wafer | HE15: Time when the unit took out the wafer | HF15: Processing time | HG15: Time when the unit maintained the wafer | HH15: Time when the unit received the wafer | HI15: Time when the unit started prcessing of a wafer | HJ15: Time when the unit completed processing of a wafer | HK15: Time when the unit took out the wafer | HL15: Processing time | HM15: Time when the unit maintained the wafer | HN15: Time when the unit received the wafer | HO15: Time when the unit started prcessing of a wafer | HP15: Time when the unit completed processing of a wafer | HQ15: Time when the unit took out the wafer | HR15: Processing time | HS15: Time when the unit maintained the wafer | HT15: Time when the unit received the wafer | HU15: Time when the unit started prcessing of a wafer | HV15: Time when the unit completed processing of a wafer | HW15: Time when the unit took out the wafer | HX15: Processing time | HY15: Time when the unit maintained the wafer | HZ15: Time when the unit received the wafer | IA15: Time when the unit started prcessing of a wafer | IB15: Time when the unit completed processing of a wafer | IC15: Time when the unit took out the wafer | ID15: Processing time | IE15: Time when the unit maintained the wafer | IF15: Time when the unit received the wafer | IG15: Time when the unit started prcessing of a wafer | IH15: Time when the unit completed processing of a wafer | II15: Time when the unit took out the wafer | IJ15: Processing time | IK15: Time when the unit maintained the wafer | IL15: Time when the unit received the wafer | IM15: Time when the unit started prcessing of a wafer | IN15: Time when the unit completed processing of a wafer | IO15: Time when the unit took out the wafer | IP15: Processing time | IQ15: Time when the unit maintained the wafer | IR15: Time when the unit received the wafer | IS15: Time when the unit started prcessing of a wafer | IT15: Time when the unit completed processing of a wafer | IU15: Time when the unit took out the wafer | IV15: Processing time | IW15: Time when the unit maintained the wafer
A16: ###########################2014/05/09###########################
A17: 0 | B17: 4 | C17: 12 | G17: 0 | V17: 0.0094791667 | W17: 0.009537037 | X17: 0.010625 | Y17: 0.010659722 | Z17: 0.001087963 | AA17: 0.0011805556 | AB17: 0.0094212963 | AC17: 0.028530093 | AP17: 0.011597222 | AS17: 0.011678241 | AT17: 0 | AU17: 8.1018519e-05 | BT17: 0.012569444 | BU17: 0.02005787 | BV17: 0.02130787 | BW17: 0.022916667 | BX17: 0.00125 | BY17: 0.010347222 | DP17: 0.027060185 | DQ17: 0.027118056 | DR17: 0.028217593 | DS17: 0.028240741 | DT17: 0.001099537 | DU17: 0.0011805556 | DV17: 0.010717593 | DW17: 0.010717593 | DX17: 0.011446759 | DY17: 0.011527778 | DZ17: 0.00072916667 | EA17: 0.00081018519 | EH17: 0.011736111 | EI17: 0.011793981 | EJ17: 0.011979167 | EK17: 0.012511574 | EL17: 0.00018518519 | EM17: 0.00077546296 | GJ17: 0.022962963 | GK17: 0.023020833 | GL17: 0.02412037 | GM17: 0.024155093 | GN17: 0.001099537 | GO17: 0.0011921296 | GP17: 0.024201389 | GQ17: 0.024201389 | GR17: 0.024930556 | GS17: 0.02537037 | GT17: 0.00072916667 | GU17: 0.0011689815 | GV17: 0.025428241 | GW17: 0.025462963 | GX17: 0.026944444 | GY17: 0.027002315 | GZ17: 0.0014814815 | HA17: 0.0015740741
A18: 1 | B18: 1 | C18: 6 | G18: 0 | AB18: 0.0094328704 | AC18: 0.0109375 | AD18: 0.0094791667 | AE18: 0.009537037 | AF18: 0.010636574 | AG18: 0.010659722 | AH18: 0.001099537 | AI18: 0.0011805556
A19: 2 | B19: 4 | C19: 14 | G19: 0 | J19: 0.0094328704 | K19: 0.0094675926 | L19: 0.010046296 | M19: 0.010219907 | N19: 0.0005787037 | O19: 0.00078703704 | AB19: 0.0094328704 | AC19: 0.029328704 | AD19: 0.027847222 | AE19: 0.027893519 | AF19: 0.028993056 | AG19: 0.029016204 | AH19: 0.001099537 | AI19: 0.0011689815 | AP19: 0.012395833 | AS19: 0.012465278 | AT19: 0 | AU19: 6.9444444e-05 | BT19: 0.013356481 | BU19: 0.02068287 | BV19: 0.021956019 | BW19: 0.023715278 | BX19: 0.0012731481 | BY19: 0.010358796 | DD19: 0.026203704 | DE19: 0.026226852 | DF19: 0.027685185 | DG19: 0.027789352 | DH19: 0.0014583333 | DI19: 0.0015856481 | DV19: 0.011539352 | DW19: 0.011539352 | DX19: 0.012268519 | DY19: 0.012326389 | DZ19: 0.00072916667 | EA19: 0.00078703704 | EH19: 0.012523148 | EI19: 0.012581019 | EJ19: 0.012766204 | EK19: 0.013310185 | EL19: 0.00018518519 | EM19: 0.00078703704 | EZ19: 0.023761574 | FA19: 0.023819444 | FB19: 0.024907407 | FC19: 0.024930556 | FD19: 0.001087963 | FE19: 0.0011689815 | FL19: 0.024976852 | FM19: 0.024988426 | FN19: 0.025717593 | FO19: 0.026145833 | FP19: 0.00072916667 | FQ19: 0.0011689815 | FX19: 0.010277778 | FY19: 0.010324074 | FZ19: 0.011423611 | GA19: 0.011481481 | GB19: 0.001099537 | GC19: 0.0012037037
A20: 3 | B20: 1 | C20: 10 | G20: 0 | P20: 0.0094444444 | Q20: 0.0094675926 | R20: 0.0109375 | S20: 0.011076389 | T20: 0.0014699074 | U20: 0.0016319444 | AB20: 0.0094444444 | AC20: 0.012569444 | DP20: 0.011134259 | DQ20: 0.011180556 | DR20: 0.012291667 | DS20: 0.012326389 | DT20: 0.0011111111 | DU20: 0.0011921296
A21: 4 | B21: 4 | C21: 9 | G21: 0 | P21: 0.024236111 | Q21: 0.024270833 | R21: 0.025740741 | S21: 0.025810185 | T21: 0.0014699074 | U21: 0.0015740741 | AB21: 0.0094444444 | AC21: 0.027337963 | AJ21: 0.009537037 | AK21: 0.009537037 | AL21: 0.010266204 | AM21: 0.010324074 | AN21: 0.00072916667 | AO21: 0.00078703704 | AP21: 0.010381944 | AS21: 0.010416667 | AT21: 0 | AU21: 3.4722222e-05 | BH21: 0.010474537 | BI21: 0.010532407 | BJ21: 0.010717593 | BK21: 0.01130787 | BL21: 0.00018518519 | BM21: 0.00083333333 | BT21: 0.011365741 | BU21: 0.01912037 | BV21: 0.020381944 | BW21: 0.021712963 | BX21: 0.0012615741 | BY21: 0.010347222 | DP21: 0.02587963 | DQ21: 0.025925926 | DR21: 0.027025463 | DS21: 0.027048611 | DT21: 0.001099537 | DU21: 0.0011689815 | GJ21: 0.021770833 | GK21: 0.021828704 | GL21: 0.022928241 | GM21: 0.022951389 | GN21: 0.001099537 | GO21: 0.0011805556 | GP21: 0.023009259 | GQ21: 0.023009259 | GR21: 0.023738426 | GS21: 0.024189815 | GT21: 0.00072916667 | GU21: 0.0011805556
A22: 5 | B22: 1 | C22: 3 | G22: 0 | AB22: 0.0094560185 | AC22: 0.0097222222
A23: 6 | B23: 4 | C23: 25 | G23: 0 | P23: 0.030590278 | Q23: 0.030613426 | R23: 0.032094907 | S23: 0.032164352 | T23: 0.0014814815 | U23: 0.0015740741 | AB23: 0.0094675926 | AC23: 0.033715278 | AJ23: 0.015960648 | AK23: 0.015960648 | AL23: 0.016689815 | AM23: 0.016747685 | AN23: 0.00072916667 | AO23: 0.00078703704 | AP23: 0.0096296296 | AS23: 0.0099652778 | AT23: 0 | AU23: 0.00033564815 | AV23: 0.010046296 | AW23: 0.010046296 | AX23: 0.01037037 | AY23: 0.010416667 | AZ23: 0.00032407407 | BA23: 0.00037037037 | BB23: 0.010462963 | BC23: 0.010497685 | BD23: 0.011076389 | BE23: 0.011273148 | BF23: 0.0005787037 | BG23: 0.00081018519 | BH23: 0.016886574 | BI23: 0.016944444 | BJ23: 0.01712963 | BK23: 0.017662037 | BL23: 0.00018518519 | BM23: 0.00077546296 | BN23: 0.011331019 | BO23: 0.011678241 | BP23: 0.012083333 | BQ23: 0.012118056 | BR23: 0.00040509259 | BS23: 0.00078703704 | BT23: 0.017708333 | BU23: 0.025162037 | BV23: 0.026354167 | BW23: 0.02806713 | BX23: 0.0011921296 | BY23: 0.010358796 | BZ23: 0.012175926 | CA23: 0.012349537 | CB23: 0.012916667 | CC23: 0.012951389 | CD23: 0.00056712963 | CE23: 0.00077546296 | CF23: 0.028113426 | CG23: 0.028171296 | CH23: 0.029270833 | CI23: 0.029293981 | CJ23: 0.001099537 | CK23: 0.0011805556 | CL23: 0.012997685 | CM23: 0.013009259 | CN23: 0.013738426 | CO23: 0.013784722 | CP23: 0.00072916667 | CQ23: 0.00078703704 | CR23: 0.029340278 | CS23: 0.029351852 | CT23: 0.030081019 | CU23: 0.030532407 | CV23: 0.00072916667 | CW23: 0.0011921296 | CX23: 0.013842593 | CY23: 0.013877315 | CZ23: 0.014456019 | DA23: 0.01462963 | DB23: 0.0005787037 | DC23: 0.00078703704 | DJ23: 0.0146875 | DK23: 0.014733796 | DL23: 0.015833333 | DM23: 0.015891204 | DN23: 0.001099537 | DO23: 0.0012037037 | GD23: 0.032222222 | GE23: 0.032280093 | GF23: 0.03337963 | GG23: 0.033402778 | GH23: 0.001099537 | GI23: 0.0011805556
A24: 7 | B24: 4 | C24: 7 | G24: 0 | AB24: 0.0094791667 | AC24: 0.026493056 | AP24: 0.0095833333 | AS24: 0.0096180556 | AT24: 0 | AU24: 3.4722222e-05 | BH24: 0.0096759259 | BI24: 0.0097337963 | BJ24: 0.0099189815 | BK24: 0.010462963 | BL24: 0.00018518519 | BM24: 0.00078703704 | BT24: 0.010509259 | BU24: 0.01849537 | BV24: 0.019780093 | BW24: 0.020914352 | BX24: 0.0012847222 | BY24: 0.010405093 | CF24: 0.020972222 | CG24: 0.021030093 | CH24: 0.022152778 | CI24: 0.022164352 | CJ24: 0.0011226852 | CK24: 0.0011921296 | CR24: 0.022210648 | CS24: 0.022210648 | CT24: 0.022939815 | CU24: 0.023402778 | CV24: 0.00072916667 | CW24: 0.0011921296 | FR24: 0.023449074 | FS24: 0.023483796 | FT24: 0.024953704 | FU24: 0.025011574 | FV24: 0.0014699074 | FW24: 0.0015625 | GD24: 0.025069444 | GE24: 0.025127315 | GF24: 0.026226852 | GG24: 0.02625 | GH24: 0.001099537 | GI24: 0.0011805556
A25: 8 | B25: 4 | C25: 21 | G25: 0 | P25: 0.028981481 | Q25: 0.029016204 | R25: 0.030486111 | S25: 0.030578704 | T25: 0.0014699074 | U25: 0.0015972222 | V25: 0.013090278 | W25: 0.013148148 | X25: 0.014236111 | Y25: 0.014270833 | Z25: 0.001087963 | AA25: 0.0011805556 | AB25: 0.0094791667 | AC25: 0.032118056 | AJ25: 0.014328704 | AK25: 0.014340278 | AL25: 0.01505787 | AM25: 0.015150463 | AN25: 0.00071759259 | AO25: 0.00082175926 | AP25: 0.015208333 | AS25: 0.015243056 | AT25: 0 | AU25: 3.4722222e-05 | BH25: 0.015289352 | BI25: 0.015347222 | BJ25: 0.015532407 | BK25: 0.016076389 | BL25: 0.00018518519 | BM25: 0.00078703704 | BN25: 0.0097106481 | BO25: 0.010069444 | BP25: 0.010462963 | BQ25: 0.010497685 | BR25: 0.00039351852 | BS25: 0.00078703704 | BT25: 0.016134259 | BU25: 0.0234375 | BV25: 0.025162037 | BW25: 0.026423611 | BX25: 0.001724537 | BY25: 0.010289352 | BZ25: 0.010543981 | CA25: 0.010729167 | CB25: 0.011296296 | CC25: 0.011354167 | CD25: 0.00056712963 | CE25: 0.00081018519 | CL25: 0.011412037 | CM25: 0.011412037 | CN25: 0.012141204 | CO25: 0.012199074 | CP25: 0.00072916667 | CQ25: 0.00078703704 | CX25: 0.01224537 | CY25: 0.012280093 | CZ25: 0.01287037 | DA25: 0.013032407 | DB25: 0.00059027778 | DC25: 0.00078703704 | DP25: 0.030625 | DQ25: 0.03068287 | DR25: 0.031782407 | DS25: 0.03181713 | DT25: 0.001099537 | DU25: 0.0011921296 | GJ25: 0.026539352 | GK25: 0.026585648 | GL25: 0.027685185 | GM25: 0.027708333 | GN25: 0.001099537 | GO25: 0.0011689815 | GP25: 0.02775463 | GQ25: 0.027766204 | GR25: 0.02849537 | GS25: 0.028935185 | GT25: 0.00072916667 | GU25: 0.0011805556
A26: 9 | B26: 4 | C26: 6 | G26: 0 | AB26: 0.0095138889 | AC26: 0.026053241 | BT26: 0.010127315 | BU26: 0.01818287 | BV26: 0.019456019 | BW26: 0.020520833 | BX26: 0.0012731481 | BY26: 0.010393519 | DD26: 0.023043981 | DE26: 0.02306713 | DF26: 0.024537037 | DG26: 0.02462963 | DH26: 0.0014699074 | DI26: 0.0015856481 | DP26: 0.0246875 | DQ26: 0.02474537 | DR26: 0.025844907 | DS26: 0.025868056 | DT26: 0.001099537 | DU26: 0.0011805556 | GJ26: 0.020578704 | GK26: 0.020625 | GL26: 0.021724537 | GM26: 0.021759259 | GN26: 0.001099537 | GO26: 0.0011805556 | GP26: 0.021805556 | GQ26: 0.02181713 | GR26: 0.022546296 | GS26: 0.022997685 | GT26: 0.00072916667 | GU26: 0.0011921296
A27: 10 | B27: 4 | C27: 18 | G27: 0 | J27: 0.011064815 | K27: 0.011099537 | L27: 0.011689815 | M27: 0.011840278 | N27: 0.00059027778 | O27: 0.00077546296 | V27: 0.011898148 | W27: 0.011956019 | X27: 0.013055556 | Y27: 0.013078704 | Z27: 0.001099537 | AA27: 0.0011805556 | AB27: 0.009537037 | AC27: 0.030925926 | AP27: 0.013993056 | AS27: 0.014050926 | AT27: 0 | AU27: 5.787037e-05 | BT27: 0.014918981 | BU27: 0.022604167 | BV27: 0.023784722 | BW27: 0.025138889 | BX27: 0.0011805556 | BY27: 0.010219907 | DD27: 0.027800926 | DE27: 0.027824074 | DF27: 0.029282407 | DG27: 0.029375 | DH27: 0.0014583333 | DI27: 0.0015740741 | DP27: 0.02943287 | DQ27: 0.029490741 | DR27: 0.030590278 | DS27: 0.030613426 | DT27: 0.001099537 | DU27: 0.0011805556 | DV27: 0.013125 | DW27: 0.013136574 | DX27: 0.013854167 | DY27: 0.013912037 | DZ27: 0.00071759259 | EA27: 0.00078703704 | EH27: 0.014108796 | EI27: 0.014166667 | EJ27: 0.014351852 | EK27: 0.014861111 | EL27: 0.00018518519 | EM27: 0.00075231481 | FF27: 0.010196759 | FG27: 0.010196759 | FH27: 0.0109375 | FI27: 0.011018519 | FJ27: 0.00074074074 | FK27: 0.00082175926 | GJ27: 0.025347222 | GK27: 0.025405093 | GL27: 0.02650463 | GM27: 0.026516204 | GN27: 0.001099537 | GO27: 0.0011689815 | GP27: 0.026574074 | GQ27: 0.026574074 | GR27: 0.027303241 | GS27: 0.027743056 | GT27: 0.00072916667 | GU27: 0.0011689815
A28: 11 | B28: 4 | C28: 23 | G28: 0 | AB28: 0.0095601852 | AC28: 0.032916667 | AD28: 0.031423611 | AE28: 0.031481481 | AF28: 0.032581019 | AG28: 0.032604167 | AH28: 0.001099537 | AI28: 0.0011805556 | AJ28: 0.015162037 | AK28: 0.015162037 | AL28: 0.015891204 | AM28: 0.015949074 | AN28: 0.00072916667 | AO28: 0.00078703704 | AP28: 0.016006944 | AS28: 0.016030093 | AT28: 0 | AU28: 2.3148148e-05 | BB28: 0.0096759259 | BC28: 0.0096990741 | BD28: 0.010289352 | BE28: 0.010462963 | BF28: 0.00059027778 | BG28: 0.00078703704 | BH28: 0.016087963 | BI28: 0.016145833 | BJ28: 0.016331019 | BK28: 0.016875 | BL28: 0.00018518519 | BM28: 0.00078703704 | BN28: 0.010509259 | BO28: 0.01087963 | BP28: 0.011261574 | BQ28: 0.011319444 | BR28: 0.00038194444 | BS28: 0.00081018519 | BT28: 0.01693287 | BU28: 0.024733796 | BV28: 0.025740741 | BW28: 0.027268519 | BX28: 0.0010069444 | BY28: 0.010335648 | BZ28: 0.011365741 | CA28: 0.011550926 | CB28: 0.012106481 | CC28: 0.012164352 | CD28: 0.00055555556 | CE28: 0.00079861111 | CL28: 0.012210648 | CM28: 0.012222222 | CN28: 0.012939815 | CO28: 0.012986111 | CP28: 0.00071759259 | CQ28: 0.00077546296 | CX28: 0.013043981 | CY28: 0.01306713 | CZ28: 0.013657407 | DA28: 0.013831019 | DB28: 0.00059027778 | DC28: 0.00078703704 | EZ28: 0.027314815 | FA28: 0.027361111 | FB28: 0.028460648 | FC28: 0.02849537 | FD28: 0.001099537 | FE28: 0.0011805556 | FL28: 0.028541667 | FM28: 0.028541667 | FN28: 0.029270833 | FO28: 0.029733796 | FP28: 0.00072916667 | FQ28: 0.0011921296 | FR28: 0.029780093 | FS28: 0.029803241 | FT28: 0.031284722 | FU28: 0.031365741 | FV28: 0.0014814815 | FW28: 0.0015856481 | FX28: 0.013888889 | FY28: 0.013946759 | FZ28: 0.015034722 | GA28: 0.015115741 | GB28: 0.001087963 | GC28: 0.0012268519
A29: 12 | B29: 4 | C29: 24 | G29: 0 | J29: 0.013449074 | K29: 0.013472222 | L29: 0.0140625 | M29: 0.014224537 | N29: 0.00059027778 | O29: 0.00077546296 | V29: 0.014282407 | W29: 0.014340278 | X29: 0.015428241 | Y29: 0.015486111 | Z29: 0.001087963 | AA29: 0.0012037037 | AB29: 0.0095717593 | AC29: 0.033310185 | AP29: 0.016400463 | AS29: 0.016435185 | AT29: 0 | AU29: 3.4722222e-05 | AV29: 0.0096180556 | AW29: 0.0096296296 | AX29: 0.0099421296 | AY29: 0.010011574 | AZ29: 0.0003125 | BA29: 0.00039351852 | BT29: 0.017314815 | BU29: 0.024895833 | BV29: 0.026041667 | BW29: 0.027673611 | BX29: 0.0011458333 | BY29: 0.010358796 | DP29: 0.03181713 | DQ29: 0.031875 | DR29: 0.032974537 | DS29: 0.033009259 | DT29: 0.001099537 | DU29: 0.0011921296 | DV29: 0.015543981 | DW29: 0.015543981 | DX29: 0.016273148 | DY29: 0.016331019 | DZ29: 0.00072916667 | EA29: 0.00078703704 | EB29: 0.010081019 | EC29: 0.010104167 | ED29: 0.01068287 | EE29: 0.010856481 | EF29: 0.0005787037 | EG29: 0.00077546296 | EH29: 0.016481481 | EI29: 0.016550926 | EJ29: 0.016736111 | EK29: 0.017256944 | EL29: 0.00018518519 | EM29: 0.00077546296 | EN29: 0.010960648 | EO29: 0.01130787 | EP29: 0.011712963 | EQ29: 0.011736111 | ER29: 0.00040509259 | ES29: 0.00077546296 | ET29: 0.011782407 | EU29: 0.011956019 | EV29: 0.012534722 | EW29: 0.012546296 | EX29: 0.0005787037 | EY29: 0.00076388889 | FF29: 0.012604167 | FG29: 0.012615741 | FH29: 0.013333333 | FI29: 0.013391204 | FJ29: 0.00071759259 | FK29: 0.00078703704 | GJ29: 0.027719907 | GK29: 0.027777778 | GL29: 0.028877315 | GM29: 0.028900463 | GN29: 0.001099537 | GO29: 0.0011805556 | GP29: 0.028946759 | GQ29: 0.028958333 | GR29: 0.029675926 | GS29: 0.030127315 | GT29: 0.00071759259 | GU29: 0.0011805556 | GV29: 0.030185185 | GW29: 0.030208333 | GX29: 0.031701389 | GY29: 0.031770833 | GZ29: 0.0014930556 | HA29: 0.0015856481
A30: 13 | B30: 1 | C30: 21 | G30: 0 | AB30: 0.0096759259 | AC30: 0.01693287 | AD30: 0.015497685 | AE30: 0.015555556 | AF30: 0.016655093 | AG30: 0.016678241 | AH30: 0.001099537 | AI30: 0.0011805556 | EZ30: 0.011400463 | FA30: 0.011469907 | FB30: 0.01255787 | FC30: 0.012592593 | FD30: 0.001087963 | FE30: 0.0011921296 | FL30: 0.012650463 | FM30: 0.012650463 | FN30: 0.01337963 | FO30: 0.01380787 | FP30: 0.00072916667 | FQ30: 0.0011574074 | GV30: 0.013865741 | GW30: 0.013900463 | GX30: 0.015393519 | GY30: 0.015439815 | GZ30: 0.0014930556 | HA30: 0.0015740741
A31: 14 | B31: 4 | C31: 5 | G31: 0 | P31: 0.022650463 | Q31: 0.022673611 | R31: 0.024143519 | S31: 0.024224537 | T31: 0.0014699074 | U31: 0.0015740741 | AB31: 0.0096759259 | AC31: 0.025648148 | AD31: 0.024282407 | AE31: 0.024340278 | AF31: 0.025439815 | AG31: 0.025462963 | AH31: 0.001099537 | AI31: 0.0011805556 | BT31: 0.0097222222 | BU31: 0.01787037 | BV31: 0.019155093 | BW31: 0.020115741 | BX31: 0.0012847222 | BY31: 0.010393519 | EZ31: 0.020173611 | FA31: 0.020231481 | FB31: 0.021319444 | FC31: 0.021354167 | FD31: 0.001087963 | FE31: 0.0011805556 | FL31: 0.021412037 | FM31: 0.021412037 | FN31: 0.022152778 | FO31: 0.022592593 | FP31: 0.00074074074 | FQ31: 0.0011805556
A32: 15 | B32: 4 | C32: 13 | G32: 0 | P32: 0.025821759 | Q32: 0.02587963 | R32: 0.027314815 | S32: 0.027372685 | T32: 0.0014351852 | U32: 0.0015509259 | AB32: 0.0096759259 | AC32: 0.028923611 | AJ32: 0.011145833 | AK32: 0.011168981 | AL32: 0.011886574 | AM32: 0.011944444 | AN32: 0.00071759259 | AO32: 0.00079861111 | AP32: 0.012002315 | AS32: 0.012071759 | AT32: 0 | AU32: 6.9444444e-05 | BH32: 0.01212963 | BI32: 0.0121875 | BJ32: 0.012372685 | BK32: 0.012905093 | BL32: 0.00018518519 | BM32: 0.00077546296 | BT32: 0.012962963 | BU32: 0.02037037 | BV32: 0.02162037 | BW32: 0.023321759 | BX32: 0.00125 | BY32: 0.010358796 | CF32: 0.02337963 | CG32: 0.023425926 | CH32: 0.024525463 | CI32: 0.024548611 | CJ32: 0.001099537 | CK32: 0.0011689815 | CR32: 0.024594907 | CS32: 0.024606481 | CT32: 0.025324074 | CU32: 0.025775463 | CV32: 0.00071759259 | CW32: 0.0011805556 | DJ32: 0.0098726852 | DK32: 0.0099305556 | DL32: 0.011018519 | DM32: 0.011099537 | DN32: 0.001087963 | DO32: 0.0012268519 | GD32: 0.02744213 | GE32: 0.0275 | GF32: 0.028599537 | GG32: 0.028622685 | GH32: 0.001099537 | GI32: 0.0011805556
A33: 16 | B33: 4 | C33: 19 | G33: 0 | AB33: 0.0096759259 | AC33: 0.031319444 | AJ33: 0.013541667 | AK33: 0.013541667 | AL33: 0.014270833 | AM33: 0.01431713 | AN33: 0.00072916667 | AO33: 0.00077546296 | AP33: 0.014386574 | AS33: 0.01443287 | AT33: 0 | AU33: 4.6296296e-05 | BH33: 0.014490741 | BI33: 0.014548611 | BJ33: 0.014733796 | BK33: 0.015277778 | BL33: 0.00018518519 | BM33: 0.00078703704 | BT33: 0.015335648 | BU33: 0.022858796 | BV33: 0.024050926 | BW33: 0.025543981 | BX33: 0.0011921296 | BY33: 0.010208333 | BZ33: 0.0097569444 | CA33: 0.0099305556 | CB33: 0.010497685 | CC33: 0.010543981 | CD33: 0.00056712963 | CE33: 0.00078703704 | CF33: 0.025752315 | CG33: 0.025798611 | CH33: 0.026898148 | CI33: 0.026921296 | CJ33: 0.001099537 | CK33: 0.0011689815 | CL33: 0.010590278 | CM33: 0.010590278 | CN33: 0.011319444 | CO33: 0.011400463 | CP33: 0.00072916667 | CQ33: 0.00081018519 | CR33: 0.026967593 | CS33: 0.026979167 | CT33: 0.027708333 | CU33: 0.028148148 | CV33: 0.00072916667 | CW33: 0.0011805556 | CX33: 0.011458333 | CY33: 0.011481481 | CZ33: 0.012071759 | DA33: 0.01224537 | DB33: 0.00059027778 | DC33: 0.00078703704 | DJ33: 0.012291667 | DK33: 0.012349537 | DL33: 0.0134375 | DM33: 0.013472222 | DN33: 0.001087963 | DO33: 0.0011805556 | FR33: 0.028194444 | FS33: 0.028229167 | FT33: 0.0296875 | FU33: 0.029768519 | FV33: 0.0014583333 | FW33: 0.0015740741 | GD33: 0.029826389 | GE33: 0.029884259 | GF33: 0.030983796 | GG33: 0.031006944 | GH33: 0.001099537 | GI33: 0.0011805556
A34: 17 | B34: 4 | C34: 20 | G34: 0 | J34: 0.011851852 | K34: 0.011886574 | L34: 0.012476852 | M34: 0.012638889 | N34: 0.00059027778 | O34: 0.00078703704 | AB34: 0.0096759259 | AC34: 0.031724537 | AD34: 0.030219907 | AE34: 0.030277778 | AF34: 0.031377315 | AG34: 0.031412037 | AH34: 0.001099537 | AI34: 0.0011921296 | AP34: 0.014791667 | AS34: 0.014826389 | AT34: 0 | AU34: 3.4722222e-05 | BT34: 0.015740741 | BU34: 0.023148148 | BV34: 0.02443287 | BW34: 0.025949074 | BX34: 0.0012847222 | BY34: 0.010208333 | DV34: 0.013923611 | DW34: 0.013935185 | DX34: 0.014652778 | DY34: 0.014710648 | DZ34: 0.00071759259 | EA34: 0.00078703704 | EH34: 0.014872685 | EI34: 0.014930556 | EJ34: 0.015115741 | EK34: 0.01568287 | EL34: 0.00018518519 | EM34: 0.00081018519 | ET34: 0.010162037 | EU34: 0.010335648 | EV34: 0.0109375 | EW34: 0.010983796 | EX34: 0.00060185185 | EY34: 0.00082175926 | EZ34: 0.026122685 | FA34: 0.026180556 | FB34: 0.027280093 | FC34: 0.027291667 | FD34: 0.001099537 | FE34: 0.0011689815 | FF34: 0.011030093 | FG34: 0.011041667 | FH34: 0.011747685 | FI34: 0.011805556 | FJ34: 0.00070601852 | FK34: 0.00077546296 | FL34: 0.027349537 | FM34: 0.027349537 | FN34: 0.028078704 | FO34: 0.028530093 | FP34: 0.00072916667 | FQ34: 0.0011805556 | FX34: 0.012685185 | FY34: 0.012743056 | FZ34: 0.013842593 | GA34: 0.013877315 | GB34: 0.001099537 | GC34: 0.0011921296 | GV34: 0.028587963 | GW34: 0.028634259 | GX34: 0.030115741 | GY34: 0.030173611 | GZ34: 0.0014814815 | HA34: 0.0015856481
A35: 18 | B35: 1 | C35: 17 | G35: 0 | AB35: 0.0096990741 | AC35: 0.015335648 | CF35: 0.0097569444 | CG35: 0.0098148148 | CH35: 0.0109375 | CI35: 0.01099537 | CJ35: 0.0011226852 | CK35: 0.0012384259 | CR35: 0.011053241 | CS35: 0.011053241 | CT35: 0.011782407 | CU35: 0.01224537 | CV35: 0.00072916667 | CW35: 0.0011921296 | GD35: 0.013923611 | GE35: 0.013981481 | GF35: 0.015081019 | GG35: 0.015092593 | GH35: 0.001099537 | GI35: 0.0011689815 | GV35: 0.012291667 | GW35: 0.012314815 | GX35: 0.01380787 | GY35: 0.013865741 | GZ35: 0.0014930556 | HA35: 0.0015740741
A36: 19 | B36: 4 | C36: 17 | G36: 0 | P36: 0.027384259 | Q36: 0.027418981 | R36: 0.028888889 | S36: 0.028969907 | T36: 0.0014699074 | U36: 0.0015856481 | AB36: 0.0096990741 | AC36: 0.030520833 | AD36: 0.029027778 | AE36: 0.029085648 | AF36: 0.030185185 | AG36: 0.030208333 | AH36: 0.001099537 | AI36: 0.0011805556 | AJ36: 0.012743056 | AK36: 0.01275463 | AL36: 0.013472222 | AM36: 0.013530093 | AN36: 0.00071759259 | AO36: 0.00078703704 | AP36: 0.013599537 | AS36: 0.013645833 | AT36: 0 | AU36: 4.6296296e-05 | BH36: 0.013703704 | BI36: 0.013761574 | BJ36: 0.013946759 | BK36: 0.014479167 | BL36: 0.00018518519 | BM36: 0.00077546296 | BT36: 0.014537037 | BU36: 0.02244213 | BV36: 0.023472222 | BW36: 0.024791667 | BX36: 0.0010300926 | BY36: 0.01025463 | CL36: 0.0097916667 | CM36: 0.0098032407 | CN36: 0.010520833 | CO36: 0.010578704 | CP36: 0.00071759259 | CQ36: 0.00078703704 | CX36: 0.010625 | CY36: 0.010659722 | CZ36: 0.01125 | DA36: 0.011435185 | DB36: 0.00059027778 | DC36: 0.00081018519 | EZ36: 0.02494213 | FA36: 0.025 | FB36: 0.026087963 | FC36: 0.026111111 | FD36: 0.001087963 | FE36: 0.0011689815 | FL36: 0.026157407 | FM36: 0.026168981 | FN36: 0.026898148 | FO36: 0.027337963 | FP36: 0.00072916667 | FQ36: 0.0011805556 | FX36: 0.011493056 | FY36: 0.011550926 | FZ36: 0.012650463 | GA36: 0.012673611 | GB36: 0.001099537 | GC36: 0.0011805556
A37: 20 | B37: 1 | C37: 14 | G37: 0 | P37: 0.011087963 | Q37: 0.011111111 | R37: 0.012581019 | S37: 0.012673611 | T37: 0.0014699074 | U37: 0.0015856481 | AB37: 0.0097106481 | AC37: 0.014155093 | CR37: 0.0098032407 | CS37: 0.0098032407 | CT37: 0.010532407 | CU37: 0.011030093 | CV37: 0.00072916667 | CW37: 0.0012268519 | GD37: 0.012731481 | GE37: 0.012789352 | GF37: 0.013888889 | GG37: 0.013912037 | GH37: 0.001099537 | GI37: 0.0011805556
A38: 21 | B38: 1 | C38: 12 | G38: 0 | AB38: 0.0097222222 | AC38: 0.013368056 | AD38: 0.011944444 | AE38: 0.011990741 | AF38: 0.013090278 | AG38: 0.013113426 | AH38: 0.001099537 | AI38: 0.0011689815 | FR38: 0.010243056 | FS38: 0.010266204 | FT38: 0.011736111 | FU38: 0.011886574 | FV38: 0.0014699074 | FW38: 0.0016435185
A39: 22 | B39: 4 | C39: 15 | G39: 0 | V39: 0.010671296 | W39: 0.010729167 | X39: 0.011828704 | Y39: 0.011886574 | Z39: 0.001099537 | AA39: 0.0012152778 | AB39: 0.0097337963 | AC39: 0.029722222 | AJ39: 0.011956019 | AK39: 0.011956019 | AL39: 0.012685185 | AM39: 0.012731481 | AN39: 0.00072916667 | AO39: 0.00077546296 | AP39: 0.012800926 | AS39: 0.01287037 | AT39: 0 | AU39: 6.9444444e-05 | BH39: 0.012916667 | BI39: 0.012974537 | BJ39: 0.013159722 | BK39: 0.01369213 | BL39: 0.00018518519 | BM39: 0.00077546296 | BT39: 0.013738426 | BU39: 0.020983796 | BV39: 0.02287037 | BW39: 0.024108796 | BX39: 0.0018865741 | BY39: 0.01037037 | CX39: 0.009837963 | CY39: 0.0098726852 | CZ39: 0.010451389 | DA39: 0.010613426 | DB39: 0.0005787037 | DC39: 0.00077546296 | DP39: 0.028252315 | DQ39: 0.028298611 | DR39: 0.029398148 | DS39: 0.029421296 | DT39: 0.001099537 | DU39: 0.0011689815 | FR39: 0.026608796 | FS39: 0.026643519 | FT39: 0.028113426 | FU39: 0.02818287 | FV39: 0.0014699074 | FW39: 0.0015740741 | GJ39: 0.024166667 | GK39: 0.024212963 | GL39: 0.0253125 | GM39: 0.025335648 | GN39: 0.001099537 | GO39: 0.0011689815 | GP39: 0.025381944 | GQ39: 0.025393519 | GR39: 0.026122685 | GS39: 0.0265625 | GT39: 0.00072916667 | GU39: 0.0011805556
A40: 23 | B40: 1 | C40: 7 | G40: 0 | AB40: 0.0097453704 | AC40: 0.011377315 | DP40: 0.0098842593 | DQ40: 0.0099421296 | DR40: 0.011041667 | DS40: 0.011122685 | DT40: 0.001099537 | DU40: 0.0012384259
A41: 24 | B41: 1 | C41: 11 | G41: 0 | AB41: 0.0097800926 | AC41: 0.012974537 | DD41: 0.009837963 | DE41: 0.0098611111 | DF41: 0.011331019 | DG41: 0.011481481 | DH41: 0.0014699074 | DI41: 0.0016435185 | GD41: 0.011539352 | GE41: 0.011597222 | GF41: 0.012696759 | GG41: 0.012719907 | GH41: 0.001099537 | GI41: 0.0011805556
A42: 25 | B42: 4 | C42: 10 | G42: 0 | AB42: 0.0098263889 | AC42: 0.027731481 | AP42: 0.010775463 | AS42: 0.010810185 | AT42: 0 | AU42: 3.4722222e-05 | BT42: 0.011770833 | BU42: 0.019421296 | BV42: 0.02068287 | BW42: 0.022118056 | BX42: 0.0012615741 | BY42: 0.010347222 | CF42: 0.022164352 | CG42: 0.022222222 | CH42: 0.023321759 | CI42: 0.023368056 | CJ42: 0.001099537 | CK42: 0.0012037037 | CR42: 0.023414352 | CS42: 0.023414352 | CT42: 0.024143519 | CU42: 0.024583333 | CV42: 0.00072916667 | CW42: 0.0011689815 | DD42: 0.024641204 | DE42: 0.024664352 | DF42: 0.026122685 | DG42: 0.02619213 | DH42: 0.0014583333 | DI42: 0.0015509259 | DV42: 0.0099189815 | DW42: 0.0099305556 | DX42: 0.010648148 | DY42: 0.010706019 | DZ42: 0.00071759259 | EA42: 0.00078703704 | EH42: 0.01087963 | EI42: 0.010949074 | EJ42: 0.011134259 | EK42: 0.011724537 | EL42: 0.00018518519 | EM42: 0.00084490741 | GD42: 0.026261574 | GE42: 0.026319444 | GF42: 0.027418981 | GG42: 0.027430556 | GH42: 0.001099537 | GI42: 0.0011689815
A43: 26 | B43: 1 | C43: 4 | G43: 0 | AB43: 0.009837963 | AC43: 0.010127315
A44: 27 | B44: 4 | C44: 8 | G44: 0 | AB44: 0.009849537 | AC44: 0.02693287 | AD44: 0.025474537 | AE44: 0.025520833 | AF44: 0.02662037 | AG44: 0.026643519 | AH44: 0.001099537 | AI44: 0.0011689815 | AP44: 0.0099884259 | AS44: 0.010011574 | AT44: 0 | AU44: 2.3148148e-05 | BT44: 0.010972222 | BU44: 0.01880787 | BV44: 0.020069444 | BW44: 0.021319444 | BX44: 0.0012615741 | BY44: 0.010347222 | EH44: 0.010081019 | EI44: 0.010138889 | EJ44: 0.010324074 | EK44: 0.010856481 | EL44: 0.00018518519 | EM44: 0.00077546296 | EZ44: 0.021365741 | FA44: 0.021423611 | FB44: 0.022523148 | FC44: 0.02255787 | FD44: 0.001099537 | FE44: 0.0011921296 | FL44: 0.022604167 | FM44: 0.022604167 | FN44: 0.023333333 | FO44: 0.023784722 | FP44: 0.00072916667 | FQ44: 0.0011805556 | GV44: 0.023842593 | GW44: 0.023865741 | GX44: 0.025358796 | GY44: 0.025416667 | GZ44: 0.0014930556 | HA44: 0.0015740741
A45: 28 | B45: 3 | C45: 1 | G45: 0 | J45: 0.014236111 | K45: 0.014270833 | L45: 0.014861111 | M45: 0.015023148 | N45: 0.00059027778 | O45: 0.00078703704 | AB45: 0.0098611111 | AC45: 0.034131944 | AD45: 0.032615741 | AE45: 0.032673611 | AF45: 0.033773148 | AG45: 0.033854167 | AH45: 0.001099537 | AI45: 0.0012384259 | AP45: 0.010046296 | AS45: 0.01037037 | AT45: 0 | AU45: 0.00032407407 | AV45: 0.010428241 | AW45: 0.010439815 | AX45: 0.010763889 | AY45: 0.010810185 | AZ45: 0.00032407407 | BA45: 0.00038194444 | BT45: 0.018113426 | BU45: 0.025451389 | BV45: 0.027233796 | BW45: 0.028460648 | BX45: 0.0017824074 | BY45: 0.010347222 | DD45: 0.030983796 | DE45: 0.031006944 | DF45: 0.032476852 | DG45: 0.032569444 | DH45: 0.0014699074 | DI45: 0.0015856481 | DV45: 0.016342593 | DW45: 0.016342593 | DX45: 0.017060185 | DY45: 0.017118056 | DZ45: 0.00071759259 | EA45: 0.00077546296 | EB45: 0.010856481 | EC45: 0.010891204 | ED45: 0.011469907 | EE45: 0.011666667 | EF45: 0.0005787037 | EG45: 0.00081018519 | EH45: 0.017268519 | EI45: 0.017337963 | EJ45: 0.017604167 | EK45: 0.018055556 | EL45: 0.0002662037 | EM45: 0.00078703704 | EN45: 0.011736111 | EO45: 0.012094907 | EP45: 0.012488426 | EQ45: 0.012511574 | ER45: 0.00039351852 | ES45: 0.00077546296 | ET45: 0.01255787 | EU45: 0.012743056 | EV45: 0.013310185 | EW45: 0.013356481 | EX45: 0.00056712963 | EY45: 0.00079861111 | EZ45: 0.028506944 | FA45: 0.028564815 | FB45: 0.029652778 | FC45: 0.0296875 | FD45: 0.001087963 | FE45: 0.0011805556 | FF45: 0.013402778 | FG45: 0.013414352 | FH45: 0.014131944 | FI45: 0.014189815 | FJ45: 0.00071759259 | FK45: 0.00078703704 | FL45: 0.02974537 | FM45: 0.02974537 | FN45: 0.030474537 | FO45: 0.030925926 | FP45: 0.00072916667 | FQ45: 0.0011805556 | HB45: 0.015081019 | HC45: 0.015138889 | HD45: 0.016226852 | HE45: 0.016284722 | HF45: 0.001087963 | HG45: 0.0012037037
A46: 29 | B46: 4 | C46: 22 | G46: 0 | J46: 0.012650463 | K46: 0.012673611 | L46: 0.013263889 | M46: 0.0134375 | N46: 0.00059027778 | O46: 0.00078703704 | AB46: 0.0098726852 | AC46: 0.032511574 | AP46: 0.015613426 | AS46: 0.015636574 | AT46: 0 | AU46: 2.3148148e-05 | BT46: 0.016527778 | BU46: 0.02375 | BV46: 0.025451389 | BW46: 0.026875 | BX46: 0.0017013889 | BY46: 0.010347222 | CF46: 0.02693287 | CG46: 0.026990741 | CH46: 0.028090278 | CI46: 0.028101852 | CJ46: 0.001099537 | CK46: 0.0011689815 | CR46: 0.028159722 | CS46: 0.028159722 | CT46: 0.028888889 | CU46: 0.029340278 | CV46: 0.00072916667 | CW46: 0.0011805556 | DD46: 0.029386574 | DE46: 0.029409722 | DF46: 0.03087963 | DG46: 0.030972222 | DH46: 0.0014699074 | DI46: 0.0015856481 | DJ46: 0.013483796 | DK46: 0.013541667 | DL46: 0.01462963 | DM46: 0.014675926 | DN46: 0.001087963 | DO46: 0.0011921296 | DV46: 0.014722222 | DW46: 0.014733796 | DX46: 0.015451389 | DY46: 0.015532407 | DZ46: 0.00071759259 | EA46: 0.00081018519 | EH46: 0.015694444 | EI46: 0.015752315 | EJ46: 0.0159375 | EK46: 0.016481481 | EL46: 0.00018518519 | EM46: 0.00078703704 | EN46: 0.010115741 | EO46: 0.010474537 | EP46: 0.01087963 | EQ46: 0.010949074 | ER46: 0.00040509259 | ES46: 0.00083333333 | ET46: 0.01099537 | EU46: 0.011168981 | EV46: 0.011747685 | EW46: 0.011770833 | EX46: 0.0005787037 | EY46: 0.00077546296 | FF46: 0.01181713 | FG46: 0.01181713 | FH46: 0.012534722 | FI46: 0.012592593 | FJ46: 0.00071759259 | FK46: 0.00077546296 | GD46: 0.031018519 | GE46: 0.031076389 | GF46: 0.032175926 | GG46: 0.032210648 | GH46: 0.001099537 | GI46: 0.0011921296
A47: 30 | B47: 1 | C47: 22 | G47: 0 | P47: 0.014259259 | Q47: 0.014293981 | R47: 0.015763889 | S47: 0.015821759 | T47: 0.0014699074 | U47: 0.0015625 | AB47: 0.010046296 | AC47: 0.017337963 | DP47: 0.015902778 | DQ47: 0.015949074 | DR47: 0.017048611 | DS47: 0.017071759 | DT47: 0.001099537 | DU47: 0.0011689815 | GJ47: 0.01181713 | GK47: 0.011875 | GL47: 0.012974537 | GM47: 0.012997685 | GN47: 0.001099537 | GO47: 0.0011805556 | GP47: 0.013043981 | GQ47: 0.013055556 | GR47: 0.013773148 | GS47: 0.014212963 | GT47: 0.00071759259 | GU47: 0.0011689815
A48: 31 | B48: 1 | C48: 15 | G48: 0 | AB48: 0.010104167 | AC48: 0.014548611 | AD48: 0.013125 | AE48: 0.01318287 | AF48: 0.014282407 | AG48: 0.014293981 | AH48: 0.001099537 | AI48: 0.0011689815 | DD48: 0.011493056 | DE48: 0.011516204 | DF48: 0.012986111 | DG48: 0.013078704 | DH48: 0.0014699074 | DI48: 0.0015856481 | FL48: 0.010196759 | FM48: 0.010208333 | FN48: 0.0109375 | FO48: 0.011435185 | FP48: 0.00072916667 | FQ48: 0.0012384259
A49: 32 | B49: 1 | C49: 18 | G49: 0 | P49: 0.012685185 | Q49: 0.012719907 | R49: 0.014201389 | S49: 0.014247685 | T49: 0.0014814815 | U49: 0.0015625 | AB49: 0.010104167 | AC49: 0.015740741 | AD49: 0.014305556 | AE49: 0.014363426 | AF49: 0.015462963 | AG49: 0.015486111 | AH49: 0.001099537 | AI49: 0.0011805556 | EZ49: 0.010162037 | FA49: 0.010219907 | FB49: 0.01130787 | FC49: 0.011400463 | FD49: 0.001087963 | FE49: 0.0012384259 | FL49: 0.011458333 | FM49: 0.011458333 | FN49: 0.0121875 | FO49: 0.012638889 | FP49: 0.00072916667 | FQ49: 0.0011805556
A50: 33 | B50: 4 | C50: 16 | G50: 0 | J50: 0.010231481 | K50: 0.010266204 | L50: 0.010856481 | M50: 0.011053241 | N50: 0.00059027778 | O50: 0.00082175926 | AB50: 0.010115741 | AC50: 0.030127315 | AP50: 0.013194444 | AS50: 0.013263889 | AT50: 0 | AU50: 6.9444444e-05 | BT50: 0.014155093 | BU50: 0.021296296 | BV50: 0.02318287 | BW50: 0.024409722 | BX50: 0.0018865741 | BY50: 0.01025463 | CF50: 0.024560185 | CG50: 0.024618056 | CH50: 0.025717593 | CI50: 0.025729167 | CJ50: 0.001099537 | CK50: 0.0011689815 | CR50: 0.025787037 | CS50: 0.025787037 | CT50: 0.026527778 | CU50: 0.026956019 | CV50: 0.00074074074 | CW50: 0.0011689815 | DJ50: 0.011111111 | DK50: 0.011168981 | DL50: 0.012256944 | DM50: 0.012280093 | DN50: 0.001087963 | DO50: 0.0011689815 | DV50: 0.012337963 | DW50: 0.012337963 | DX50: 0.01306713 | DY50: 0.013113426 | DZ50: 0.00072916667 | EA50: 0.00077546296 | EH50: 0.013310185 | EI50: 0.01337963 | EJ50: 0.013553241 | EK50: 0.014097222 | EL50: 0.00017361111 | EM50: 0.00078703704 | GD50: 0.028634259 | GE50: 0.02869213 | GF50: 0.029791667 | GG50: 0.029814815 | GH50: 0.001099537 | GI50: 0.0011805556 | GV50: 0.027013889 | GW50: 0.027037037 | GX50: 0.028530093 | GY50: 0.028576389 | GZ50: 0.0014930556 | HA50: 0.0015625
A51: 34 | B51: 1 | C51: 13 | G51: 0 | AB51: 0.010127315 | AC51: 0.01375 | DP51: 0.012337963 | DQ51: 0.012395833 | DR51: 0.01349537 | DS51: 0.013506944 | DT51: 0.001099537 | DU51: 0.0011689815 | GV51: 0.010636574 | GW51: 0.010659722 | GX51: 0.012152778 | GY51: 0.012280093 | GZ51: 0.0014930556 | HA51: 0.0016435185
A52: 35 | B52: 1 | C52: 8 | G52: 0 | AB52: 0.010138889 | AC52: 0.011782407 | GD52: 0.010289352 | GE52: 0.010335648 | GF52: 0.011446759 | GG52: 0.011527778 | GH52: 0.0011111111 | GI52: 0.0012384259
A53: 36 | B53: 1 | C53: 5 | G53: 0 | AB53: 0.010231481 | AC53: 0.010520833
A54: 37 | B54: 4 | C54: 11 | G54: 0 | AB54: 0.010231481 | AC54: 0.028125 | AD54: 0.026655093 | AE54: 0.026712963 | AF54: 0.0278125 | AG54: 0.027835648 | AH54: 0.001099537 | AI54: 0.0011805556 | AJ54: 0.010335648 | AK54: 0.010335648 | AL54: 0.011064815 | AM54: 0.011134259 | AN54: 0.00072916667 | AO54: 0.00079861111 | AP54: 0.011203704 | AS54: 0.011273148 | AT54: 0 | AU54: 6.9444444e-05 | BH54: 0.011319444 | BI54: 0.011388889 | BJ54: 0.0115625 | BK54: 0.012118056 | BL54: 0.00017361111 | BM54: 0.00079861111 | BT54: 0.012175926 | BU54: 0.01974537 | BV54: 0.02099537 | BW54: 0.022511574 | BX54: 0.00125 | BY54: 0.010335648 | EZ54: 0.022569444 | FA54: 0.022615741 | FB54: 0.023715278 | FC54: 0.02375 | FD54: 0.001099537 | FE54: 0.0011805556 | FL54: 0.023796296 | FM54: 0.02380787 | FN54: 0.024525463 | FO54: 0.024965278 | FP54: 0.00071759259 | FQ54: 0.0011689815 | FR54: 0.025023148 | FS54: 0.025046296 | FT54: 0.026516204 | FU54: 0.026597222 | FV54: 0.0014699074 | FW54: 0.0015740741
A55: 38 | B55: 3 | C55: 2 | G55: 0 | V55: 0.015497685 | W55: 0.015555556 | X55: 0.016643519 | Y55: 0.016689815 | Z55: 0.001087963 | AA55: 0.0011921296 | AB55: 0.010266204 | AC55: 0.034537037 | AJ55: 0.016759259 | AK55: 0.016759259 | AL55: 0.017488426 | AM55: 0.017534722 | AN55: 0.00072916667 | AO55: 0.00077546296 | AP55: 0.010428241 | AS55: 0.010763889 | AT55: 0 | AU55: 0.00033564815 | AV55: 0.010821759 | AW55: 0.010844907 | AX55: 0.011168981 | AY55: 0.011226852 | AZ55: 0.00032407407 | BA55: 0.00040509259 | BB55: 0.011284722 | BC55: 0.01130787 | BD55: 0.011875 | BE55: 0.012071759 | BF55: 0.00056712963 | BG55: 0.00078703704 | BH55: 0.017673611 | BI55: 0.017731481 | BJ55: 0.017997685 | BK55: 0.018460648 | BL55: 0.0002662037 | BM55: 0.00078703704 | BN55: 0.01212963 | BO55: 0.012488426 | BP55: 0.012881944 | BQ55: 0.012905093 | BR55: 0.00039351852 | BS55: 0.00077546296 | BT55: 0.018518519 | BU55: 0.025740741 | BV55: 0.027673611 | BW55: 0.028865741 | BX55: 0.0019328704 | BY55: 0.010347222 | BZ55: 0.012962963 | CA55: 0.013136574 | CB55: 0.013703704 | CC55: 0.01375 | CD55: 0.00056712963 | CE55: 0.00078703704 | CL55: 0.013796296 | CM55: 0.01380787 | CN55: 0.014525463 | CO55: 0.014583333 | CP55: 0.00071759259 | CQ55: 0.00078703704 | CX55: 0.014641204 | CY55: 0.014664352 | CZ55: 0.015266204 | DA55: 0.015451389 | DB55: 0.00060185185 | DC55: 0.00081018519 | DP55: 0.033020833 | DQ55: 0.03306713 | DR55: 0.034166667 | DS55: 0.034212963 | DT55: 0.001099537 | DU55: 0.0011921296 | FR55: 0.031377315 | FS55: 0.031400463 | FT55: 0.032881944 | FU55: 0.032962963 | FV55: 0.0014814815 | FW55: 0.0015856481 | GJ55: 0.028912037 | GK55: 0.028958333 | GL55: 0.03005787 | GM55: 0.030092593 | GN55: 0.001099537 | GO55: 0.0011805556 | GP55: 0.030138889 | GQ55: 0.030150463 | GR55: 0.030868056 | GS55: 0.031331019 | GT55: 0.00071759259 | GU55: 0.0011921296
A56: 39 | B56: 1 | C56: 25 | G56: 0 | AB56: 0.010439815 | AC56: 0.0184375 | DP56: 0.017083333 | DQ56: 0.017141204 | DR56: 0.018240741 | DS56: 0.018263889 | DT56: 0.001099537 | DU56: 0.0011805556 | GJ56: 0.013009259 | GK56: 0.013055556 | GL56: 0.014155093 | GM56: 0.014178241 | GN56: 0.001099537 | GO56: 0.0011689815 | GP56: 0.014224537 | GQ56: 0.014224537 | GR56: 0.014953704 | GS56: 0.015381944 | GT56: 0.00072916667 | GU56: 0.0011574074 | GV56: 0.015451389 | GW56: 0.015486111 | GX56: 0.016967593 | GY56: 0.017025463 | GZ56: 0.0014814815 | HA56: 0.0015740741
A57: 40 | B57: 1 | C57: 19 | G57: 0 | AB57: 0.010497685 | AC57: 0.016134259 | DD57: 0.013078704 | DE57: 0.013113426 | DF57: 0.014571759 | DG57: 0.01462963 | DH57: 0.0014583333 | DI57: 0.0015509259 | DP57: 0.014710648 | DQ57: 0.014768519 | DR57: 0.015868056 | DS57: 0.01587963 | DT57: 0.001099537 | DU57: 0.0011689815 | GJ57: 0.010555556 | GK57: 0.010613426 | GL57: 0.011712963 | GM57: 0.011805556 | GN57: 0.001099537 | GO57: 0.00125 | GP57: 0.011851852 | GQ57: 0.011863426 | GR57: 0.012581019 | GS57: 0.013032407 | GT57: 0.00071759259 | GU57: 0.0011805556
A58: 41 | B58: 1 | C58: 16 | G58: 0 | AB58: 0.010509259 | AC58: 0.014930556 | DP58: 0.013518519 | DQ58: 0.013576389 | DR58: 0.014675926 | DS58: 0.014699074 | DT58: 0.001099537 | DU58: 0.0011805556 | FR58: 0.011898148 | FS58: 0.011921296 | FT58: 0.013391204 | FU58: 0.013460648 | FV58: 0.0014699074 | FW58: 0.0015625 | GP58: 0.010590278 | GQ58: 0.010601852 | GR58: 0.011319444 | GS58: 0.011840278 | GT58: 0.00071759259 | GU58: 0.00125
A59: 42 | B59: 1 | C59: 9 | G59: 0 | AB59: 0.010555556 | AC59: 0.012175926 | AD59: 0.01068287 | AE59: 0.010729167 | AF59: 0.011828704 | AG59: 0.011921296 | AH59: 0.001099537 | AI59: 0.0012384259
A60: 43 | B60: 4 | C60: 1 | G60: 0 | P60: 0.021053241 | Q60: 0.021087963 | R60: 0.02255787 | S60: 0.022627315 | T60: 0.0014699074 | U60: 0.0015740741 | AB60: 0.010601852 | AC60: 0.024143519 | CF60: 0.018553241 | CG60: 0.018611111 | CH60: 0.019710648 | CI60: 0.01974537 | CJ60: 0.001099537 | CK60: 0.0011921296 | CR60: 0.019791667 | CS60: 0.019803241 | CT60: 0.020532407 | CU60: 0.021006944 | CV60: 0.00072916667 | CW60: 0.0012152778 | GD60: 0.022685185 | GE60: 0.022743056 | GF60: 0.023842593 | GG60: 0.023877315 | GH60: 0.001099537 | GI60: 0.0011921296
A61: 44 | B61: 3 | C61: 3 | G61: 0 | J61: 0.015034722 | K61: 0.015069444 | L61: 0.015659722 | M61: 0.015844907 | N61: 0.00059027778 | O61: 0.00081018519 | AB61: 0.010659722 | AC61: 0.034930556 | AP61: 0.010844907 | AS61: 0.01119213 | AT61: 0 | AU61: 0.00034722222 | AV61: 0.01125 | AW61: 0.011261574 | AX61: 0.011574074 | AY61: 0.011631944 | AZ61: 0.0003125 | BA61: 0.00038194444 | BT61: 0.018912037 | BU61: 0.026018519 | BV61: 0.028125 | BW61: 0.029259259 | BX61: 0.0021064815 | BY61: 0.010347222 | CF61: 0.029305556 | CG61: 0.029363426 | CH61: 0.030462963 | CI61: 0.030497685 | CJ61: 0.001099537 | CK61: 0.0011921296 | CR61: 0.030543981 | CS61: 0.030555556 | CT61: 0.031284722 | CU61: 0.031724537 | CV61: 0.00072916667 | CW61: 0.0011805556 | DJ61: 0.015902778 | DK61: 0.015949074 | DL61: 0.017048611 | DM61: 0.017083333 | DN61: 0.001099537 | DO61: 0.0011805556 | DV61: 0.01712963 | DW61: 0.017141204 | DX61: 0.017858796 | DY61: 0.017928241 | DZ61: 0.00071759259 | EA61: 0.00079861111 | EB61: 0.011678241 | EC61: 0.011712963 | ED61: 0.012280093 | EE61: 0.012465278 | EF61: 0.00056712963 | EG61: 0.00078703704 | EH61: 0.01806713 | EI61: 0.018136574 | EJ61: 0.018402778 | EK61: 0.018854167 | EL61: 0.0002662037 | EM61: 0.00078703704 | EN61: 0.012523148 | EO61: 0.01287037 | EP61: 0.013275463 | EQ61: 0.013310185 | ER61: 0.00040509259 | ES61: 0.00078703704 | ET61: 0.013368056 | EU61: 0.013541667 | EV61: 0.01412037 | EW61: 0.014143519 | EX61: 0.0005787037 | EY61: 0.00077546296 | FF61: 0.014201389 | FG61: 0.014201389 | FH61: 0.014918981 | FI61: 0.014988426 | FJ61: 0.00071759259 | FK61: 0.00078703704 | GD61: 0.033414352 | GE61: 0.033472222 | GF61: 0.034571759 | GG61: 0.034664352 | GH61: 0.001099537 | GI61: 0.00125 | GV61: 0.031782407 | GW61: 0.03181713 | GX61: 0.033298611 | GY61: 0.033344907 | GZ61: 0.0014814815 | HA61: 0.0015625
A62: 45 | B62: 4 | C62: 2 | G62: 0 | AB62: 0.010856481 | AC62: 0.024467593 | AD62: 0.023090278 | AE62: 0.023136574 | AF62: 0.024236111 | AG62: 0.024270833 | AH62: 0.001099537 | AI62: 0.0011805556 | DD62: 0.021446759 | DE62: 0.021469907 | DF62: 0.022939815 | DG62: 0.023032407 | DH62: 0.0014699074 | DI62: 0.0015856481 | EZ62: 0.018958333 | FA62: 0.01900463 | FB62: 0.020104167 | FC62: 0.020162037 | FD62: 0.001099537 | FE62: 0.0012037037 | FL62: 0.020208333 | FM62: 0.020208333 | FN62: 0.0209375 | FO62: 0.021400463 | FP62: 0.00072916667 | FQ62: 0.0011921296
A63: 46 | B63: 1 | C63: 23 | G63: 0 | AB63: 0.01087963 | AC63: 0.017743056 | CF63: 0.012210648 | CG63: 0.012268519 | CH63: 0.013368056 | CI63: 0.013391204 | CJ63: 0.001099537 | CK63: 0.0011805556 | CR63: 0.013425926 | CS63: 0.0134375 | CT63: 0.014166667 | CU63: 0.014594907 | CV63: 0.00072916667 | CW63: 0.0011689815 | DD63: 0.014641204 | DE63: 0.014664352 | DF63: 0.016134259 | DG63: 0.016180556 | DH63: 0.0014699074 | DI63: 0.0015393519 | GD63: 0.016296296 | GE63: 0.016354167 | GF63: 0.017453704 | GG63: 0.017476852 | GH63: 0.001099537 | GI63: 0.0011805556
A64: 47 | B64: 1 | C64: 20 | G64: 0 | AB64: 0.010949074 | AC64: 0.016539352 | CF64: 0.011006944 | CG64: 0.011064815 | CH64: 0.012164352 | CI64: 0.012199074 | CJ64: 0.001099537 | CK64: 0.0011921296 | CR64: 0.012256944 | CS64: 0.012256944 | CT64: 0.012986111 | CU64: 0.013414352 | CV64: 0.00072916667 | CW64: 0.0011574074 | FR64: 0.013472222 | FS64: 0.01349537 | FT64: 0.014965278 | FU64: 0.015011574 | FV64: 0.0014699074 | FW64: 0.0015393519 | GD64: 0.015104167 | GE64: 0.015162037 | GF64: 0.016261574 | GG64: 0.016284722 | GH64: 0.001099537 | GI64: 0.0011805556
A65: 48 | B65: 3 | C65: 4 | G65: 0 | P65: 0.032175926 | Q65: 0.032199074 | R65: 0.033668981 | S65: 0.03380787 | T65: 0.0014699074 | U65: 0.0016319444 | AB65: 0.011111111 | AC65: 0.035324074 | AD65: 0.033865741 | AE65: 0.033912037 | AF65: 0.035011574 | AG65: 0.035069444 | AH65: 0.001099537 | AI65: 0.0012037037 | AJ65: 0.017546296 | AK65: 0.01755787 | AL65: 0.018275463 | AM65: 0.018333333 | AN65: 0.00071759259 | AO65: 0.00078703704 | AP65: 0.011284722 | AS65: 0.011585648 | AT65: 0 | AU65: 0.00030092593 | AV65: 0.011643519 | AW65: 0.011655093 | AX65: 0.011967593 | AY65: 0.012025463 | AZ65: 0.0003125 | BA65: 0.00038194444 | BB65: 0.012083333 | BC65: 0.012118056 | BD65: 0.012685185 | BE65: 0.01287037 | BF65: 0.00056712963 | BG65: 0.00078703704 | BH65: 0.018472222 | BI65: 0.018541667 | BJ65: 0.01880787 | BK65: 0.019259259 | BL65: 0.0002662037 | BM65: 0.00078703704 | BN65: 0.012916667 | BO65: 0.013275463 | BP65: 0.013680556 | BQ65: 0.013703704 | BR65: 0.00040509259 | BS65: 0.00078703704 | BT65: 0.01931713 | BU65: 0.026331019 | BV65: 0.028622685 | BW65: 0.029664352 | BX65: 0.0022916667 | BY65: 0.010347222 | BZ65: 0.013761574 | CA65: 0.013935185 | CB65: 0.014502315 | CC65: 0.014548611 | CD65: 0.00056712963 | CE65: 0.00078703704 | CL65: 0.014594907 | CM65: 0.014606481 | CN65: 0.015324074 | CO65: 0.015405093 | CP65: 0.00071759259 | CQ65: 0.00081018519 | CX65: 0.015451389 | CY65: 0.015486111 | CZ65: 0.016076389 | DA65: 0.016238426 | DB65: 0.00059027778 | DC65: 0.00078703704 | EZ65: 0.029699074 | FA65: 0.029756944 | FB65: 0.030856481 | FC65: 0.030891204 | FD65: 0.001099537 | FE65: 0.0011921296 | FL65: 0.0309375 | FM65: 0.0309375 | FN65: 0.031666667 | FO65: 0.03212963 | FP65: 0.00072916667 | FQ65: 0.0011921296 | HB65: 0.016296296 | HC65: 0.016354167 | HD65: 0.01744213 | HE65: 0.017476852 | HF65: 0.001087963 | HG65: 0.0011805556
A66: 49 | B66: 4 | C66: 3 | G66: 0 | AB66: 0.011145833 | AC66: 0.024861111 | DP66: 0.02349537 | DQ66: 0.023553241 | DR66: 0.024652778 | DS66: 0.024675926 | DT66: 0.001099537 | DU66: 0.0011805556 | FR66: 0.021851852 | FS66: 0.021875 | FT66: 0.023344907 | FU66: 0.0234375 | FV66: 0.0014699074 | FW66: 0.0015856481 | GJ66: 0.019363426 | GK66: 0.019409722 | GL66: 0.020509259 | GM66: 0.02056713 | GN66: 0.001099537 | GO66: 0.0012037037 | GP66: 0.020613426 | GQ66: 0.020613426 | GR66: 0.021342593 | GS66: 0.021805556 | GT66: 0.00072916667 | GU66: 0.0011921296
A67: 50 | B67: 1 | C67: 24 | G67: 0 | AB67: 0.011157407 | AC67: 0.018136574 | AD67: 0.016678241 | AE67: 0.016736111 | AF67: 0.017835648 | AG67: 0.017858796 | AH67: 0.001099537 | AI67: 0.0011805556 | EZ67: 0.012604167 | FA67: 0.012662037 | FB67: 0.013761574 | FC67: 0.013784722 | FD67: 0.001099537 | FE67: 0.0011805556 | FL67: 0.013819444 | FM67: 0.013819444 | FN67: 0.014548611 | FO67: 0.014976852 | FP67: 0.00072916667 | FQ67: 0.0011574074 | FR67: 0.015023148 | FS67: 0.01505787 | FT67: 0.016527778 | FU67: 0.016574074 | FV67: 0.0014699074 | FW67: 0.0015509259
A68: 51 | B68: 4 | C68: 4 | G68: 0 | AB68: 0.011446759 | AC68: 0.02525463 | CF68: 0.019756944 | CG68: 0.019814815 | CH68: 0.020914352 | CI68: 0.020960648 | CJ68: 0.001099537 | CK68: 0.0012037037 | CR68: 0.021018519 | CS68: 0.021018519 | CT68: 0.021747685 | CU68: 0.022199074 | CV68: 0.00072916667 | CW68: 0.0011805556 | GD68: 0.023888889 | GE68: 0.023935185 | GF68: 0.025034722 | GG68: 0.02505787 | GH68: 0.001099537 | GI68: 0.0011689815 | GV68: 0.02224537 | GW68: 0.022268519 | GX68: 0.023761574 | GY68: 0.023831019 | GZ68: 0.0014930556 | HA68: 0.0015856481
A69: 52 | B69: 3 | C69: 5 | G69: 0 | J69: 0.015856481 | K69: 0.015891204 | L69: 0.016481481 | M69: 0.016643519 | N69: 0.00059027778 | O69: 0.00078703704 | V69: 0.016689815 | W69: 0.016747685 | X69: 0.017847222 | Y69: 0.017881944 | Z69: 0.001099537 | AA69: 0.0011921296 | AB69: 0.011527778 | AC69: 0.035729167 | AP69: 0.011689815 | AS69: 0.011990741 | AT69: 0 | AU69: 0.00030092593 | AV69: 0.012037037 | AW69: 0.012048611 | AX69: 0.012372685 | AY69: 0.012430556 | AZ69: 0.00032407407 | BA69: 0.00039351852 | BT69: 0.019710648 | BU69: 0.027210648 | BV69: 0.029039352 | BW69: 0.03005787 | BX69: 0.0018287037 | BY69: 0.010347222 | DD69: 0.032581019 | DE69: 0.032604167 | DF69: 0.034074074 | DG69: 0.034178241 | DH69: 0.0014699074 | DI69: 0.0015972222 | DP69: 0.034236111 | DQ69: 0.034282407 | DR69: 0.035381944 | DS69: 0.035462963 | DT69: 0.001099537 | DU69: 0.0012268519 | DV69: 0.017939815 | DW69: 0.017951389 | DX69: 0.018668981 | DY69: 0.018726852 | DZ69: 0.00071759259 | EA69: 0.00078703704 | EB69: 0.012476852 | EC69: 0.012511574 | ED69: 0.013078704 | EE69: 0.013263889 | EF69: 0.00056712963 | EG69: 0.00078703704 | EH69: 0.018865741 | EI69: 0.018935185 | EJ69: 0.019201389 | EK69: 0.019664352 | EL69: 0.0002662037 | EM69: 0.00079861111 | EN69: 0.013321759 | EO69: 0.013668981 | EP69: 0.014074074 | EQ69: 0.014108796 | ER69: 0.00040509259 | ES69: 0.00078703704 | ET69: 0.014155093 | EU69: 0.014340278 | EV69: 0.014907407 | EW69: 0.01494213 | EX69: 0.00056712963 | EY69: 0.00078703704 | FF69: 0.015 | FG69: 0.015 | FH69: 0.015717593 | FI69: 0.015798611 | FJ69: 0.00071759259 | FK69: 0.00079861111 | GJ69: 0.030104167 | GK69: 0.030162037 | GL69: 0.031261574 | GM69: 0.031284722 | GN69: 0.001099537 | GO69: 0.0011805556 | GP69: 0.031342593 | GQ69: 0.031342593 | GR69: 0.032071759 | GS69: 0.032523148 | GT69: 0.00072916667 | GU69: 0.0011805556
A70: 53 | B70: 3 | C70: 6 | G70: 0 | AB70: 0.011921296 | AC70: 0.036122685 | AJ70: 0.018344907 | AK70: 0.018344907 | AL70: 0.019074074 | AM70: 0.01912037 | AN70: 0.00072916667 | AO70: 0.00077546296 | AP70: 0.012083333 | AS70: 0.012384259 | AT70: 0 | AU70: 0.00030092593 | AV70: 0.01244213 | AW70: 0.012453704 | AX70: 0.012766204 | AY70: 0.012824074 | AZ70: 0.0003125 | BA70: 0.00038194444 | BB70: 0.012881944 | BC70: 0.012905093 | BD70: 0.013472222 | BE70: 0.013668981 | BF70: 0.00056712963 | BG70: 0.00078703704 | BH70: 0.019270833 | BI70: 0.019340278 | BJ70: 0.019606481 | BK70: 0.020081019 | BL70: 0.0002662037 | BM70: 0.00081018519 | BN70: 0.013726852 | BO70: 0.014074074 | BP70: 0.014479167 | BQ70: 0.014502315 | BR70: 0.00040509259 | BS70: 0.00077546296 | BT70: 0.020127315 | BU70: 0.027673611 | BV70: 0.029513889 | BW70: 0.030462963 | BX70: 0.0018402778 | BY70: 0.010335648 | BZ70: 0.014560185 | CA70: 0.014733796 | CB70: 0.015300926 | CC70: 0.015358796 | CD70: 0.00056712963 | CE70: 0.00079861111 | CF70: 0.030509259 | CG70: 0.03056713 | CH70: 0.031655093 | CI70: 0.031689815 | CJ70: 0.001087963 | CK70: 0.0011805556 | CL70: 0.015416667 | CM70: 0.015416667 | CN70: 0.016145833 | CO70: 0.016203704 | CP70: 0.00072916667 | CQ70: 0.00078703704 | CR70: 0.031736111 | CS70: 0.031736111 | CT70: 0.032465278 | CU70: 0.032928241 | CV70: 0.00072916667 | CW70: 0.0011921296 | CX70: 0.01625 | CY70: 0.016284722 | CZ70: 0.016875 | DA70: 0.017037037 | DB70: 0.00059027778 | DC70: 0.00078703704 | DJ70: 0.017094907 | DK70: 0.017152778 | DL70: 0.018240741 | DM70: 0.018287037 | DN70: 0.001087963 | DO70: 0.0011921296 | FR70: 0.032974537 | FS70: 0.032997685 | FT70: 0.034479167 | FU70: 0.034618056 | FV70: 0.0014814815 | FW70: 0.0016435185 | GD70: 0.034675926 | GE70: 0.034722222 | GF70: 0.035821759 | GG70: 0.035844907 | GH70: 0.001099537 | GI70: 0.0011689815
A71: 54 | B71: 3 | C71: 7 | G71: 0 | J71: 0.016655093 | K71: 0.016689815 | L71: 0.017280093 | M71: 0.01744213 | N71: 0.00059027778 | O71: 0.00078703704 | AB71: 0.012314815 | AC71: 0.036527778 | AD71: 0.035081019 | AE71: 0.035138889 | AF71: 0.036238426 | AG71: 0.036273148 | AH71: 0.001099537 | AI71: 0.0011921296 | AP71: 0.012476852 | AS71: 0.012789352 | AT71: 0 | AU71: 0.0003125 | AV71: 0.012835648 | AW71: 0.012847222 | AX71: 0.013171296 | AY71: 0.013229167 | AZ71: 0.00032407407 | BA71: 0.00039351852 | BT71: 0.020532407 | BU71: 0.028125 | BV71: 0.029988426 | BW71: 0.030856481 | BX71: 0.0018634259 | BY71: 0.010324074 | DV71: 0.018738426 | DW71: 0.018738426 | DX71: 0.019467593 | DY71: 0.019525463 | DZ71: 0.00072916667 | EA71: 0.00078703704 | EB71: 0.013275463 | EC71: 0.013310185 | ED71: 0.013877315 | EE71: 0.0140625 | EF71: 0.00056712963 | EG71: 0.00078703704 | EH71: 0.019675926 | EI71: 0.01974537 | EJ71: 0.020011574 | EK71: 0.020474537 | EL71: 0.0002662037 | EM71: 0.00079861111 | EN71: 0.01412037 | EO71: 0.014467593 | EP71: 0.014872685 | EQ71: 0.014907407 | ER71: 0.00040509259 | ES71: 0.00078703704 | ET71: 0.014953704 | EU71: 0.015138889 | EV71: 0.015706019 | EW71: 0.015763889 | EX71: 0.00056712963 | EY71: 0.00081018519 | EZ71: 0.030902778 | FA71: 0.030960648 | FB71: 0.032048611 | FC71: 0.032083333 | FD71: 0.001087963 | FE71: 0.0011805556 | FF71: 0.015810185 | FG71: 0.015821759 | FH71: 0.016539352 | FI71: 0.016597222 | FJ71: 0.00071759259 | FK71: 0.00078703704 | FL71: 0.032141204 | FM71: 0.032141204 | FN71: 0.03287037 | FO71: 0.033298611 | FP71: 0.00072916667 | FQ71: 0.0011574074 | GV71: 0.033356481 | GW71: 0.03337963 | GX71: 0.034872685 | GY71: 0.035023148 | GZ71: 0.0014930556 | HA71: 0.0016666667 | HB71: 0.017488426 | HC71: 0.017546296 | HD71: 0.018645833 | HE71: 0.018680556 | HF71: 0.001099537 | HG71: 0.0011921296
A72: 55 | B72: 3 | C72: 8 | G72: 0 | P72: 0.033819444 | Q72: 0.033854167 | R72: 0.0353125 | S72: 0.035416667 | T72: 0.0014583333 | U72: 0.0015972222 | V72: 0.017893519 | W72: 0.017951389 | X72: 0.019050926 | Y72: 0.019085648 | Z72: 0.001099537 | AA72: 0.0011921296 | AB72: 0.012719907 | AC72: 0.03693287 | AJ72: 0.019131944 | AK72: 0.019143519 | AL72: 0.019861111 | AM72: 0.019965278 | AN72: 0.00071759259 | AO72: 0.00083333333 | AP72: 0.012881944 | AS72: 0.01318287 | AT72: 0 | AU72: 0.00030092593 | AV72: 0.013240741 | AW72: 0.013252315 | AX72: 0.013564815 | AY72: 0.013622685 | AZ72: 0.0003125 | BA72: 0.00038194444 | BB72: 0.013680556 | BC72: 0.013703704 | BD72: 0.014270833 | BE72: 0.014467593 | BF72: 0.00056712963 | BG72: 0.00078703704 | BH72: 0.020092593 | BI72: 0.020150463 | BJ72: 0.020416667 | BK72: 0.02087963 | BL72: 0.0002662037 | BM72: 0.00078703704 | BN72: 0.014513889 | BO72: 0.014872685 | BP72: 0.015266204 | BQ72: 0.015324074 | BR72: 0.00039351852 | BS72: 0.00081018519 | BT72: 0.020925926 | BU72: 0.028587963 | BV72: 0.030451389 | BW72: 0.031261574 | BX72: 0.0018634259 | BY72: 0.010335648 | BZ72: 0.01537037 | CA72: 0.015555556 | CB72: 0.016111111 | CC72: 0.016157407 | CD72: 0.00055555556 | CE72: 0.00078703704 | CL72: 0.016215278 | CM72: 0.016215278 | CN72: 0.016944444 | CO72: 0.017002315 | CP72: 0.00072916667 | CQ72: 0.00078703704 | CX72: 0.017048611 | CY72: 0.017083333 | CZ72: 0.017673611 | DA72: 0.017835648 | DB72: 0.00059027778 | DC72: 0.00078703704 | DP72: 0.035474537 | DQ72: 0.035532407 | DR72: 0.036631944 | DS72: 0.036666667 | DT72: 0.001099537 | DU72: 0.0011921296 | GJ72: 0.031296296 | GK72: 0.031354167 | GL72: 0.032453704 | GM72: 0.032488426 | GN72: 0.001099537 | GO72: 0.0011921296 | GP72: 0.032534722 | GQ72: 0.032546296 | GR72: 0.033263889 | GS72: 0.033761574 | GT72: 0.00071759259 | GU72: 0.0012268519
A73: 56 | B73: 3 | C73: 9 | G73: 0 | J73: 0.017453704 | K73: 0.017476852 | L73: 0.018078704 | M73: 0.018240741 | N73: 0.00060185185 | O73: 0.00078703704 | AB73: 0.013113426 | AC73: 0.037326389 | AP73: 0.013275463 | AS73: 0.013587963 | AT73: 0 | AU73: 0.0003125 | AV73: 0.013634259 | AW73: 0.013645833 | AX73: 0.013969907 | AY73: 0.014027778 | AZ73: 0.00032407407 | BA73: 0.00039351852 | BT73: 0.021331019 | BU73: 0.029039352 | BV73: 0.030891204 | BW73: 0.031655093 | BX73: 0.0018518519 | BY73: 0.010324074 | CF73: 0.031701389 | CG73: 0.031759259 | CH73: 0.032847222 | CI73: 0.032881944 | CJ73: 0.001087963 | CK73: 0.0011805556 | CR73: 0.032939815 | CS73: 0.032939815 | CT73: 0.033668981 | CU73: 0.034131944 | CV73: 0.00072916667 | CW73: 0.0011921296 | DD73: 0.034189815 | DE73: 0.034212963 | DF73: 0.035671296 | DG73: 0.035810185 | DH73: 0.0014583333 | DI73: 0.0016203704 | DJ73: 0.018298611 | DK73: 0.018356481 | DL73: 0.019444444 | DM73: 0.019490741 | DN73: 0.001087963 | DO73: 0.0011921296 | DV73: 0.019537037 | DW73: 0.019537037 | DX73: 0.020266204 | DY73: 0.020335648 | DZ73: 0.00072916667 | EA73: 0.00079861111 | EB73: 0.014074074 | EC73: 0.014097222 | ED73: 0.014675926 | EE73: 0.014861111 | EF73: 0.0005787037 | EG73: 0.00078703704 | EH73: 0.020486111 | EI73: 0.020555556 | EJ73: 0.020833333 | EK73: 0.021273148 | EL73: 0.00027777778 | EM73: 0.00078703704 | EN73: 0.014918981 | EO73: 0.015266204 | EP73: 0.015671296 | EQ73: 0.015717593 | ER73: 0.00040509259 | ES73: 0.00079861111 | ET73: 0.015775463 | EU73: 0.015949074 | EV73: 0.016527778 | EW73: 0.0165625 | EX73: 0.0005787037 | EY73: 0.00078703704 | FF73: 0.016608796 | FG73: 0.016608796 | FH73: 0.017337963 | FI73: 0.017395833 | FJ73: 0.00072916667 | FK73: 0.00078703704 | GD73: 0.035856481 | GE73: 0.035914352 | GF73: 0.037013889 | GG73: 0.037060185 | GH73: 0.001099537 | GI73: 0.0012037037
A74: 57 | B74: 3 | C74: 10 | G74: 0 | AB74: 0.01349537 | AC74: 0.037719907 | AD74: 0.036284722 | AE74: 0.036342593 | AF74: 0.03744213 | AG74: 0.037465278 | AH74: 0.001099537 | AI74: 0.0011805556 | AJ74: 0.019976852 | AK74: 0.019976852 | AL74: 0.020706019 | AM74: 0.020752315 | AN74: 0.00072916667 | AO74: 0.00077546296 | AP74: 0.013657407 | AS74: 0.013981481 | AT74: 0 | AU74: 0.00032407407 | AV74: 0.014039352 | AW74: 0.014050926 | AX74: 0.014363426 | AY74: 0.014421296 | AZ74: 0.0003125 | BA74: 0.00038194444 | BB74: 0.014467593 | BC74: 0.014502315 | BD74: 0.015069444 | BE74: 0.015277778 | BF74: 0.00056712963 | BG74: 0.00081018519 | BH74: 0.020891204 | BI74: 0.020960648 | BJ74: 0.021226852 | BK74: 0.021678241 | BL74: 0.0002662037 | BM74: 0.00078703704 | BN74: 0.015335648 | BO74: 0.01568287 | BP74: 0.016087963 | BQ74: 0.016122685 | BR74: 0.00040509259 | BS74: 0.00078703704 | BT74: 0.021724537 | BU74: 0.029513889 | BV74: 0.031377315 | BW74: 0.032060185 | BX74: 0.0018634259 | BY74: 0.010335648 | BZ74: 0.016168981 | CA74: 0.016354167 | CB74: 0.016921296 | CC74: 0.016956019 | CD74: 0.00056712963 | CE74: 0.00078703704 | CL74: 0.017013889 | CM74: 0.017013889 | CN74: 0.017731481 | CO74: 0.017800926 | CP74: 0.00071759259 | CQ74: 0.00078703704 | CX74: 0.017847222 | CY74: 0.017881944 | CZ74: 0.018472222 | DA74: 0.018645833 | DB74: 0.00059027778 | DC74: 0.00079861111 | EZ74: 0.032094907 | FA74: 0.032152778 | FB74: 0.033252315 | FC74: 0.033263889 | FD74: 0.001099537 | FE74: 0.0011689815 | FL74: 0.033310185 | FM74: 0.033310185 | FN74: 0.034039352 | FO74: 0.034594907 | FP74: 0.00072916667 | FQ74: 0.0012847222 | FR74: 0.03462963 | FS74: 0.034652778 | FT74: 0.036122685 | FU74: 0.036238426 | FV74: 0.0014699074 | FW74: 0.0016087963 | HB74: 0.01869213 | HC74: 0.01875 | HD74: 0.019837963 | HE74: 0.019918981 | HF74: 0.001087963 | HG74: 0.0012268519
A75: 58 | B75: 3 | C75: 11 | G75: 0 | J75: 0.018252315 | K75: 0.018275463 | L75: 0.018877315 | M75: 0.019039352 | N75: 0.00060185185 | O75: 0.00078703704 | V75: 0.019097222 | W75: 0.019155093 | X75: 0.020243056 | Y75: 0.020300926 | Z75: 0.001087963 | AA75: 0.0012037037 | AB75: 0.013900463 | AC75: 0.038136574 | AP75: 0.014074074 | AS75: 0.014375 | AT75: 0 | AU75: 0.00030092593 | AV75: 0.01443287 | AW75: 0.014444444 | AX75: 0.014768519 | AY75: 0.014826389 | AZ75: 0.00032407407 | BA75: 0.00039351852 | BT75: 0.02212963 | BU75: 0.029976852 | BV75: 0.031805556 | BW75: 0.032453704 | BX75: 0.0018287037 | BY75: 0.010324074 | DP75: 0.036678241 | DQ75: 0.036724537 | DR75: 0.037824074 | DS75: 0.037881944 | DT75: 0.001099537 | DU75: 0.0012037037 | DV75: 0.020347222 | DW75: 0.020358796 | DX75: 0.021076389 | DY75: 0.021134259 | DZ75: 0.00071759259 | EA75: 0.00078703704 | EB75: 0.014872685 | EC75: 0.014895833 | ED75: 0.015474537 | EE75: 0.015671296 | EF75: 0.0005787037 | EG75: 0.00079861111 | EH75: 0.021284722 | EI75: 0.021354167 | EJ75: 0.02162037 | EK75: 0.022071759 | EL75: 0.0002662037 | EM75: 0.00078703704 | EN75: 0.015729167 | EO75: 0.016076389 | EP75: 0.016481481 | EQ75: 0.016516204 | ER75: 0.00040509259 | ES75: 0.00078703704 | ET75: 0.016574074 | EU75: 0.016747685 | EV75: 0.017326389 | EW75: 0.017349537 | EX75: 0.0005787037 | EY75: 0.00077546296 | FF75: 0.017407407 | FG75: 0.017418981 | FH75: 0.018125 | FI75: 0.018194444 | FJ75: 0.00070601852 | FK75: 0.00078703704 | GJ75: 0.0325 | GK75: 0.03255787 | GL75: 0.033645833 | GM75: 0.033726852 | GN75: 0.001087963 | GO75: 0.0012268519 | GP75: 0.033773148 | GQ75: 0.033773148 | GR75: 0.034502315 | GS75: 0.034988426 | GT75: 0.00072916667 | GU75: 0.0012152778 | GV75: 0.035034722 | GW75: 0.035069444 | GX75: 0.0365625 | GY75: 0.036631944 | GZ75: 0.0014930556 | HA75: 0.0015972222
A76: 59 | B76: 3 | C76: 12 | G76: 0 | P76: 0.035428241 | Q76: 0.035462963 | R76: 0.03693287 | S76: 0.037013889 | T76: 0.0014699074 | U76: 0.0015856481 | AB76: 0.014293981 | AC76: 0.038483796 | AJ76: 0.020763889 | AK76: 0.020775463 | AL76: 0.021493056 | AM76: 0.021550926 | AN76: 0.00071759259 | AO76: 0.00078703704 | AP76: 0.014456019 | AS76: 0.014780093 | AT76: 0 | AU76: 0.00032407407 | AV76: 0.014837963 | AW76: 0.014849537 | AX76: 0.015162037 | AY76: 0.015231481 | AZ76: 0.0003125 | BA76: 0.00039351852 | BB76: 0.015289352 | BC76: 0.0153125 | BD76: 0.01587963 | BE76: 0.016076389 | BF76: 0.00056712963 | BG76: 0.00078703704 | BH76: 0.021689815 | BI76: 0.021759259 | BJ76: 0.022025463 | BK76: 0.022465278 | BL76: 0.0002662037 | BM76: 0.00077546296 | BN76: 0.016134259 | BO76: 0.016481481 | BP76: 0.016886574 | BQ76: 0.016921296 | BR76: 0.00040509259 | BS76: 0.00078703704 | BT76: 0.022523148 | BU76: 0.030428241 | BV76: 0.032268519 | BW76: 0.032858796 | BX76: 0.0018402778 | BY76: 0.010335648 | BZ76: 0.016967593 | CA76: 0.017152778 | CB76: 0.017708333 | CC76: 0.01775463 | CD76: 0.00055555556 | CE76: 0.00078703704 | CF76: 0.032893519 | CG76: 0.032951389 | CH76: 0.034050926 | CI76: 0.034108796 | CJ76: 0.001099537 | CK76: 0.0012152778 | CL76: 0.017800926 | CM76: 0.0178125 | CN76: 0.018530093 | CO76: 0.018599537 | CP76: 0.00071759259 | CQ76: 0.00079861111 | CR76: 0.034143519 | CS76: 0.034155093 | CT76: 0.034884259 | CU76: 0.035393519 | CV76: 0.00072916667 | CW76: 0.00125 | CX76: 0.018657407 | CY76: 0.018680556 | CZ76: 0.019282407 | DA76: 0.01943287 | DB76: 0.00060185185 | DC76: 0.00077546296 | DJ76: 0.019490741 | DK76: 0.019548611 | DL76: 0.020648148 | DM76: 0.020706019 | DN76: 0.001099537 | DO76: 0.0012152778 | GD76: 0.037071759 | GE76: 0.03712963 | GF76: 0.038229167 | GG76: 0.038252315 | GH76: 0.001099537 | GI76: 0.0011805556
A77: 60 | B77: 2 | C77: 1 | D77: CID0100 | E77: CJID0092 | F77: PRID0120 | G77: 156 | H77: 0.010844907 | I77: 0.044178241 | J77: 0.019050926 | K77: 0.019085648 | L77: 0.019675926 | M77: 0.019837963 | N77: 0.00059027778 | O77: 0.00078703704 | AB77: 0.014664352 | AC77: 0.039328704 | AP77: 0.014837963 | AS77: 0.015196759 | AT77: 0 | AU77: 0.0003587963 | AV77: 0.01525463 | AW77: 0.01525463 | AX77: 0.015578704 | AY77: 0.015636574 | AZ77: 0.00032407407 | BA77: 0.00038194444 | BT77: 0.022928241 | BU77: 0.030891204 | BV77: 0.033032407 | BW77: 0.03369213 | BX77: 0.0021412037 | BY77: 0.010763889 | DP77: 0.037893519 | DQ77: 0.037939815 | DR77: 0.039050926 | DS77: 0.039074074 | DT77: 0.0011111111 | DU77: 0.0011805556 | DV77: 0.021145833 | DW77: 0.021157407 | DX77: 0.021875 | DY77: 0.021944444 | DZ77: 0.00071759259 | EA77: 0.00079861111 | EB77: 0.015694444 | EC77: 0.015717593 | ED77: 0.016296296 | EE77: 0.016469907 | EF77: 0.0005787037 | EG77: 0.00077546296 | EH77: 0.022083333 | EI77: 0.022164352 | EJ77: 0.022337963 | EK77: 0.02287037 | EL77: 0.00017361111 | EM77: 0.00078703704 | EN77: 0.016527778 | EO77: 0.016886574 | EP77: 0.017280093 | EQ77: 0.017314815 | ER77: 0.00039351852 | ES77: 0.00078703704 | ET77: 0.017361111 | EU77: 0.017546296 | EV77: 0.018113426 | EW77: 0.018159722 | EX77: 0.00056712963 | EY77: 0.00079861111 | FF77: 0.018206019 | FG77: 0.018217593 | FH77: 0.018923611 | FI77: 0.01900463 | FJ77: 0.00070601852 | FK77: 0.00079861111 | FR77: 0.03625 | FS77: 0.036273148 | FT77: 0.037743056 | FU77: 0.037835648 | FV77: 0.0014699074 | FW77: 0.0015856481 | FX77: 0.019895833 | FY77: 0.019953704 | FZ77: 0.021041667 | GA77: 0.021099537 | GB77: 0.001087963 | GC77: 0.0012037037 | GJ77: 0.033738426 | GK77: 0.033796296 | GL77: 0.034884259 | GM77: 0.03494213 | GN77: 0.001087963 | GO77: 0.0012037037 | GP77: 0.035 | GQ77: 0.035 | GR77: 0.035729167 | GS77: 0.03619213 | GT77: 0.00072916667 | GU77: 0.0011921296
A78: 61 | B78: 2 | C78: 2 | D78: CID0100 | E78: CJID0092 | F78: PRID0120 | G78: 156 | H78: 0.010844907 | I78: 0.044178241 | P78: 0.037025463 | Q78: 0.037060185 | R78: 0.038530093 | S78: 0.038622685 | T78: 0.0014699074 | U78: 0.0015972222 | V78: 0.0203125 | W78: 0.02037037 | X78: 0.021458333 | Y78: 0.021493056 | Z78: 0.001087963 | AA78: 0.0011805556 | AB78: 0.01505787 | AC78: 0.040127315 | AD78: 0.038680556 | AE78: 0.038738426 | AF78: 0.039837963 | AG78: 0.039872685 | AH78: 0.001099537 | AI78: 0.0011921296 | AJ78: 0.0215625 | AK78: 0.0215625 | AL78: 0.022291667 | AM78: 0.022337963 | AN78: 0.00072916667 | AO78: 0.00077546296 | AP78: 0.015243056 | AS78: 0.015590278 | AT78: 0 | AU78: 0.00034722222 | AV78: 0.015648148 | AW78: 0.015659722 | AX78: 0.015983796 | AY78: 0.016030093 | AZ78: 0.00032407407 | BA78: 0.00038194444 | BB78: 0.016087963 | BC78: 0.016111111 | BD78: 0.016678241 | BE78: 0.016875 | BF78: 0.00056712963 | BG78: 0.00078703704 | BH78: 0.022476852 | BI78: 0.022546296 | BJ78: 0.022731481 | BK78: 0.023275463 | BL78: 0.00018518519 | BM78: 0.00079861111 | BN78: 0.01693287 | BO78: 0.017280093 | BP78: 0.017673611 | BQ78: 0.017708333 | BR78: 0.00039351852 | BS78: 0.00077546296 | BT78: 0.023333333 | BU78: 0.031342593 | BV78: 0.033402778 | BW78: 0.034513889 | BX78: 0.0020601852 | BY78: 0.011180556 | BZ78: 0.017766204 | CA78: 0.017939815 | CB78: 0.018518519 | CC78: 0.018553241 | CD78: 0.0005787037 | CE78: 0.00078703704 | CL78: 0.018611111 | CM78: 0.018611111 | CN78: 0.019340278 | CO78: 0.019398148 | CP78: 0.00072916667 | CQ78: 0.00078703704 | CX78: 0.019444444 | CY78: 0.019479167 | CZ78: 0.02005787 | DA78: 0.02025463 | DB78: 0.0005787037 | DC78: 0.00081018519 | EZ78: 0.034560185 | FA78: 0.034618056 | FB78: 0.035717593 | FC78: 0.035740741 | FD78: 0.001099537 | FE78: 0.0011805556 | FL78: 0.035787037 | FM78: 0.035787037 | FN78: 0.036516204 | FO78: 0.036990741 | FP78: 0.00072916667 | FQ78: 0.0012037037
A79: 62 | B79: 2 | C79: 3 | D79: CID0100 | E79: CJID0092 | F79: PRID0120 | G79: 156 | H79: 0.010844907 | I79: 0.044178241 | J79: 0.019849537 | K79: 0.019884259 | L79: 0.020474537 | M79: 0.020659722 | N79: 0.00059027778 | O79: 0.00081018519 | AB79: 0.015474537 | AC79: 0.040555556 | AP79: 0.015648148 | AS79: 0.01599537 | AT79: 0 | AU79: 0.00034722222 | AV79: 0.016041667 | AW79: 0.016053241 | AX79: 0.016377315 | AY79: 0.016435185 | AZ79: 0.00032407407 | BA79: 0.00039351852 | BT79: 0.023726852 | BU79: 0.031805556 | BV79: 0.033796296 | BW79: 0.034907407 | BX79: 0.0019907407 | BY79: 0.011180556 | DD79: 0.037430556 | DE79: 0.037453704 | DF79: 0.038923611 | DG79: 0.039027778 | DH79: 0.0014699074 | DI79: 0.0015972222 | DJ79: 0.020706019 | DK79: 0.020763889 | DL79: 0.021863426 | DM79: 0.021898148 | DN79: 0.001099537 | DO79: 0.0011921296 | DP79: 0.039085648 | DQ79: 0.039143519 | DR79: 0.040243056 | DS79: 0.040289352 | DT79: 0.001099537 | DU79: 0.0012037037 | DV79: 0.021956019 | DW79: 0.021956019 | DX79: 0.022673611 | DY79: 0.022731481 | DZ79: 0.00071759259 | EA79: 0.00077546296 | EB79: 0.016481481 | EC79: 0.016516204 | ED79: 0.017083333 | EE79: 0.017268519 | EF79: 0.00056712963 | EG79: 0.00078703704 | EH79: 0.022881944 | EI79: 0.022951389 | EJ79: 0.023125 | EK79: 0.023668981 | EL79: 0.00017361111 | EM79: 0.00078703704 | EN79: 0.017326389 | EO79: 0.017673611 | EP79: 0.01806713 | EQ79: 0.018113426 | ER79: 0.00039351852 | ES79: 0.00078703704 | ET79: 0.018171296 | EU79: 0.018344907 | EV79: 0.018923611 | EW79: 0.018958333 | EX79: 0.0005787037 | EY79: 0.00078703704 | FF79: 0.019016204 | FG79: 0.019016204 | FH79: 0.019733796 | FI79: 0.019803241 | FJ79: 0.00071759259 | FK79: 0.00078703704 | GJ79: 0.034965278 | GK79: 0.035011574 | GL79: 0.036111111 | GM79: 0.036157407 | GN79: 0.001099537 | GO79: 0.0011921296 | GP79: 0.036203704 | GQ79: 0.036215278 | GR79: 0.03693287 | GS79: 0.037384259 | GT79: 0.00071759259 | GU79: 0.0011805556
A80: 63 | B80: 2 | C80: 4 | D80: CID0100 | E80: CJID0092 | F80: PRID0120 | G80: 156 | H80: 0.010844907 | I80: 0.044178241 | AB80: 0.015856481 | AC80: 0.0409375 | AJ80: 0.022349537 | AK80: 0.022361111 | AL80: 0.023078704 | AM80: 0.023136574 | AN80: 0.00071759259 | AO80: 0.00078703704 | AP80: 0.016053241 | AS80: 0.016388889 | AT80: 0 | AU80: 0.00033564815 | AV80: 0.016446759 | AW80: 0.016458333 | AX80: 0.016770833 | AY80: 0.016828704 | AZ80: 0.0003125 | BA80: 0.00038194444 | BB80: 0.016886574 | BC80: 0.016921296 | BD80: 0.017488426 | BE80: 0.017673611 | BF80: 0.00056712963 | BG80: 0.00078703704 | BH80: 0.023287037 | BI80: 0.023356481 | BJ80: 0.023530093 | BK80: 0.0240625 | BL80: 0.00017361111 | BM80: 0.00077546296 | BN80: 0.017719907 | BO80: 0.018078704 | BP80: 0.018472222 | BQ80: 0.018518519 | BR80: 0.00039351852 | BS80: 0.00079861111 | BT80: 0.02412037 | BU80: 0.032268519 | BV80: 0.034155093 | BW80: 0.0353125 | BX80: 0.0018865741 | BY80: 0.01119213 | BZ80: 0.018564815 | CA80: 0.01875 | CB80: 0.01931713 | CC80: 0.019351852 | CD80: 0.00056712963 | CE80: 0.00078703704 | CF80: 0.035358796 | CG80: 0.035416667 | CH80: 0.036516204 | CI80: 0.036550926 | CJ80: 0.001099537 | CK80: 0.0011921296 | CL80: 0.019409722 | CM80: 0.019409722 | CN80: 0.020138889 | CO80: 0.020219907 | CP80: 0.00072916667 | CQ80: 0.00081018519 | CR80: 0.036608796 | CS80: 0.036608796 | CT80: 0.037337963 | CU80: 0.037789352 | CV80: 0.00072916667 | CW80: 0.0011805556 | CX80: 0.020266204 | CY80: 0.020289352 | CZ80: 0.02087963 | DA80: 0.021053241 | DB80: 0.00059027778 | DC80: 0.00078703704 | FR80: 0.037847222 | FS80: 0.03787037 | FT80: 0.039340278 | FU80: 0.039444444 | FV80: 0.0014699074 | FW80: 0.0015972222 | FX80: 0.021111111 | FY80: 0.021168981 | FZ80: 0.022256944 | GA80: 0.022291667 | GB80: 0.001087963 | GC80: 0.0011805556 | GD80: 0.039502315 | GE80: 0.039548611 | GF80: 0.040659722 | GG80: 0.040694444 | GH80: 0.0011111111 | GI80: 0.0011921296
A81: 64 | B81: 2 | C81: 5 | D81: CID0100 | E81: CJID0092 | F81: PRID0120 | G81: 156 | H81: 0.010844907 | I81: 0.044178241 | J81: 0.020671296 | K81: 0.020706019 | L81: 0.021284722 | M81: 0.021458333 | N81: 0.0005787037 | O81: 0.00078703704 | P81: 0.038634259 | Q81: 0.038680556 | R81: 0.040138889 | S81: 0.040243056 | T81: 0.0014583333 | U81: 0.0016087963 | V81: 0.02150463 | W81: 0.0215625 | X81: 0.022662037 | Y81: 0.022696759 | Z81: 0.001099537 | AA81: 0.0011921296 | AB81: 0.016215278 | AC81: 0.041747685 | AP81: 0.016446759 | AS81: 0.016793981 | AT81: 0 | AU81: 0.00034722222 | AV81: 0.016840278 | AW81: 0.016851852 | AX81: 0.017175926 | AY81: 0.017233796 | AZ81: 0.00032407407 | BA81: 0.00039351852 | BT81: 0.024421296 | BU81: 0.033020833 | BV81: 0.035266204 | BW81: 0.036111111 | BX81: 0.0022453704 | BY81: 0.011689815 | DP81: 0.040300926 | DQ81: 0.040347222 | DR81: 0.041458333 | DS81: 0.041481481 | DT81: 0.0011111111 | DU81: 0.0011805556 | DV81: 0.022743056 | DW81: 0.02275463 | DX81: 0.023483796 | DY81: 0.023530093 | DZ81: 0.00072916667 | EA81: 0.00078703704 | EB81: 0.017280093 | EC81: 0.017314815 | ED81: 0.017881944 | EE81: 0.01806713 | EF81: 0.00056712963 | EG81: 0.00078703704 | EH81: 0.023680556 | EI81: 0.023738426 | EJ81: 0.023923611 | EK81: 0.024363426 | EL81: 0.00018518519 | EM81: 0.00068287037 | EN81: 0.018125 | EO81: 0.018472222 | EP81: 0.018865741 | EQ81: 0.018912037 | ER81: 0.00039351852 | ES81: 0.00078703704 | ET81: 0.018969907 | EU81: 0.019143519 | EV81: 0.019722222 | EW81: 0.019756944 | EX81: 0.0005787037 | EY81: 0.00078703704 | FF81: 0.019814815 | FG81: 0.019826389 | FH81: 0.020532407 | FI81: 0.020613426 | FJ81: 0.00070601852 | FK81: 0.00079861111 | GJ81: 0.036168981 | GK81: 0.036215278 | GL81: 0.037314815 | GM81: 0.037337963 | GN81: 0.001099537 | GO81: 0.0011689815 | GP81: 0.037395833 | GQ81: 0.037395833 | GR81: 0.038125 | GS81: 0.038587963 | GT81: 0.00072916667 | GU81: 0.0011921296
A82: 65 | B82: 2 | C82: 6 | D82: CID0100 | E82: CJID0092 | F82: PRID0120 | G82: 156 | H82: 0.010844907 | I82: 0.044178241 | AB82: 0.016608796 | AC82: 0.042152778 | AJ82: 0.023148148 | AK82: 0.023148148 | AL82: 0.023877315 | AM82: 0.023923611 | AN82: 0.00072916667 | AO82: 0.00077546296 | AP82: 0.016840278 | AS82: 0.0171875 | AT82: 0 | AU82: 0.00034722222 | AV82: 0.01724537 | AW82: 0.017256944 | AX82: 0.017569444 | AY82: 0.017627315 | AZ82: 0.0003125 | BA82: 0.00038194444 | BB82: 0.017685185 | BC82: 0.017708333 | BD82: 0.018275463 | BE82: 0.018472222 | BF82: 0.00056712963 | BG82: 0.00078703704 | BH82: 0.024074074 | BI82: 0.024143519 | BJ82: 0.024328704 | BK82: 0.024756944 | BL82: 0.00018518519 | BM82: 0.00068287037 | BN82: 0.018530093 | BO82: 0.018877315 | BP82: 0.019282407 | BQ82: 0.01931713 | BR82: 0.00040509259 | BS82: 0.00078703704 | BT82: 0.024803241 | BU82: 0.033402778 | BV82: 0.035659722 | BW82: 0.036516204 | BX82: 0.0022569444 | BY82: 0.011712963 | BZ82: 0.019363426 | CA82: 0.019548611 | CB82: 0.020115741 | CC82: 0.020173611 | CD82: 0.00056712963 | CE82: 0.00081018519 | CF82: 0.0365625 | CG82: 0.03662037 | CH82: 0.037719907 | CI82: 0.03775463 | CJ82: 0.001099537 | CK82: 0.0011921296 | CL82: 0.020231481 | CM82: 0.020231481 | CN82: 0.020949074 | CO82: 0.021018519 | CP82: 0.00071759259 | CQ82: 0.00078703704 | CR82: 0.037800926 | CS82: 0.0378125 | CT82: 0.038541667 | CU82: 0.038981481 | CV82: 0.00072916667 | CW82: 0.0011805556 | CX82: 0.021064815 | CY82: 0.021099537 | CZ82: 0.021678241 | DA82: 0.021851852 | DB82: 0.0005787037 | DC82: 0.00078703704 | DD82: 0.039050926 | DE82: 0.039074074 | DF82: 0.040555556 | DG82: 0.040648148 | DH82: 0.0014814815 | DI82: 0.0015972222 | DJ82: 0.021909722 | DK82: 0.021967593 | DL82: 0.023055556 | DM82: 0.023090278 | DN82: 0.001087963 | DO82: 0.0011805556 | GD82: 0.040706019 | GE82: 0.040752315 | GF82: 0.041863426 | GG82: 0.041898148 | GH82: 0.0011111111 | GI82: 0.0011921296
A83: 66 | B83: 2 | C83: 7 | D83: CID0100 | E83: CJID0092 | F83: PRID0120 | G83: 156 | H83: 0.010844907 | I83: 0.044178241 | J83: 0.030636574 | K83: 0.030671296 | L83: 0.031261574 | M83: 0.031423611 | N83: 0.00059027778 | O83: 0.00078703704 | AB83: 0.026226852 | AC83: 0.04255787 | AD83: 0.041087963 | AE83: 0.041145833 | AF83: 0.04224537 | AG83: 0.042303241 | AH83: 0.001099537 | AI83: 0.0012152778 | AP83: 0.026388889 | AS83: 0.026793981 | AT83: 0 | AU83: 0.00040509259 | AV83: 0.026840278 | AW83: 0.026851852 | AX83: 0.027175926 | AY83: 0.027233796 | AZ83: 0.00032407407 | BA83: 0.00039351852 | BT83: 0.034525463 | BU83: 0.034826389 | BV83: 0.036076389 | BW83: 0.036909722 | BX83: 0.00125 | BY83: 0.0023842593 | DV83: 0.032719907 | DW83: 0.032719907 | DX83: 0.033449074 | DY83: 0.033506944 | DZ83: 0.00072916667 | EA83: 0.00078703704 | EB83: 0.027280093 | EC83: 0.027303241 | ED83: 0.027881944 | EE83: 0.02806713 | EF83: 0.0005787037 | EG83: 0.00078703704 | EH83: 0.033668981 | EI83: 0.033726852 | EJ83: 0.033912037 | EK83: 0.034467593 | EL83: 0.00018518519 | EM83: 0.00079861111 | EN83: 0.028125 | EO83: 0.028472222 | EP83: 0.028877315 | EQ83: 0.028912037 | ER83: 0.00040509259 | ES83: 0.00078703704 | ET83: 0.028958333 | EU83: 0.029131944 | EV83: 0.029710648 | EW83: 0.02974537 | EX83: 0.0005787037 | EY83: 0.00078703704 | EZ83: 0.036967593 | FA83: 0.037025463 | FB83: 0.038113426 | FC83: 0.038148148 | FD83: 0.001087963 | FE83: 0.0011805556 | FF83: 0.029803241 | FG83: 0.029803241 | FH83: 0.030520833 | FI83: 0.030590278 | FJ83: 0.00071759259 | FK83: 0.00078703704 | FL83: 0.038206019 | FM83: 0.038206019 | FN83: 0.038935185 | FO83: 0.039386574 | FP83: 0.00072916667 | FQ83: 0.0011805556 | FR83: 0.039456019 | FS83: 0.039479167 | FT83: 0.040949074 | FU83: 0.041041667 | FV83: 0.0014699074 | FW83: 0.0015856481 | FX83: 0.031481481 | FY83: 0.031527778 | FZ83: 0.032627315 | GA83: 0.032662037 | GB83: 0.001099537 | GC83: 0.0011805556
A84: 67 | B84: 2 | C84: 8 | D84: CID0100 | E84: CJID0092 | F84: PRID0120 | G84: 156 | H84: 0.010844907 | I84: 0.044178241 | V84: 0.031886574 | W84: 0.031944444 | X84: 0.033043981 | Y84: 0.03306713 | Z84: 0.001099537 | AA84: 0.0011805556 | AB84: 0.026643519 | AC84: 0.042962963 | AJ84: 0.033113426 | AK84: 0.033125 | AL84: 0.033842593 | AM84: 0.033946759 | AN84: 0.00071759259 | AO84: 0.00083333333 | AP84: 0.026840278 | AS84: 0.0271875 | AT84: 0 | AU84: 0.00034722222 | AV84: 0.02724537 | AW84: 0.027256944 | AX84: 0.027569444 | AY84: 0.027627315 | AZ84: 0.0003125 | BA84: 0.00038194444 | BB84: 0.027685185 | BC84: 0.027708333 | BD84: 0.028275463 | BE84: 0.028472222 | BF84: 0.00056712963 | BG84: 0.00078703704 | BH84: 0.034074074 | BI84: 0.034143519 | BJ84: 0.034328704 | BK84: 0.034861111 | BL84: 0.00018518519 | BM84: 0.00078703704 | BN84: 0.028518519 | BO84: 0.028877315 | BP84: 0.029270833 | BQ84: 0.029305556 | BR84: 0.00039351852 | BS84: 0.00078703704 | BT84: 0.034918981 | BU84: 0.035231481 | BV84: 0.036469907 | BW84: 0.037303241 | BX84: 0.0012384259 | BY84: 0.0023842593 | BZ84: 0.029363426 | CA84: 0.029537037 | CB84: 0.030104167 | CC84: 0.030150463 | CD84: 0.00056712963 | CE84: 0.00078703704 | CL84: 0.030196759 | CM84: 0.030196759 | CN84: 0.030925926 | CO84: 0.030983796 | CP84: 0.00072916667 | CQ84: 0.00078703704 | CX84: 0.031030093 | CY84: 0.031064815 | CZ84: 0.031643519 | DA84: 0.031828704 | DB84: 0.0005787037 | DC84: 0.00079861111 | DP84: 0.04150463 | DQ84: 0.041550926 | DR84: 0.042650463 | DS84: 0.042708333 | DT84: 0.001099537 | DU84: 0.0012037037 | GJ84: 0.037349537 | GK84: 0.037407407 | GL84: 0.038506944 | GM84: 0.038541667 | GN84: 0.001099537 | GO84: 0.0011921296 | GP84: 0.038599537 | GQ84: 0.038599537 | GR84: 0.039328704 | GS84: 0.039803241 | GT84: 0.00072916667 | GU84: 0.0012037037 | GV84: 0.039849537 | GW84: 0.039872685 | GX84: 0.041365741 | GY84: 0.041446759 | GZ84: 0.0014930556 | HA84: 0.0015972222
A85: 68 | B85: 2 | C85: 9 | D85: CID0100 | E85: CJID0092 | F85: PRID0120 | G85: 156 | H85: 0.010844907 | I85: 0.044178241 | J85: 0.031435185 | K85: 0.031458333 | L85: 0.032048611 | M85: 0.032222222 | N85: 0.00059027778 | O85: 0.00078703704 | P85: 0.04025463 | Q85: 0.040289352 | R85: 0.041759259 | S85: 0.041863426 | T85: 0.0014699074 | U85: 0.0016087963 | AB85: 0.027037037 | AC85: 0.043368056 | AP85: 0.027233796 | AS85: 0.027592593 | AT85: 0 | AU85: 0.0003587963 | AV85: 0.027638889 | AW85: 0.027650463 | AX85: 0.027974537 | AY85: 0.028020833 | AZ85: 0.00032407407 | BA85: 0.00038194444 | BT85: 0.035324074 | BU85: 0.035613426 | BV85: 0.036863426 | BW85: 0.037708333 | BX85: 0.00125 | BY85: 0.0023842593 | CF85: 0.037766204 | CG85: 0.037824074 | CH85: 0.038923611 | CI85: 0.038946759 | CJ85: 0.001099537 | CK85: 0.0011805556 | CR85: 0.038993056 | CS85: 0.038993056 | CT85: 0.039722222 | CU85: 0.040196759 | CV85: 0.00072916667 | CW85: 0.0012037037 | DJ85: 0.032280093 | DK85: 0.032337963 | DL85: 0.033425926 | DM85: 0.033460648 | DN85: 0.001087963 | DO85: 0.0011805556 | DV85: 0.033518519 | DW85: 0.033518519 | DX85: 0.034247685 | DY85: 0.03431713 | DZ85: 0.00072916667 | EA85: 0.00079861111 | EB85: 0.028078704 | EC85: 0.028101852 | ED85: 0.028680556 | EE85: 0.028865741 | EF85: 0.0005787037 | EG85: 0.00078703704 | EH85: 0.034479167 | EI85: 0.034548611 | EJ85: 0.034733796 | EK85: 0.035277778 | EL85: 0.00018518519 | EM85: 0.00079861111 | EN85: 0.028923611 | EO85: 0.029270833 | EP85: 0.029675926 | EQ85: 0.029710648 | ER85: 0.00040509259 | ES85: 0.00078703704 | ET85: 0.029756944 | EU85: 0.029930556 | EV85: 0.030509259 | EW85: 0.030555556 | EX85: 0.0005787037 | EY85: 0.00079861111 | FF85: 0.030601852 | FG85: 0.030601852 | FH85: 0.031319444 | FI85: 0.031388889 | FJ85: 0.00071759259 | FK85: 0.00078703704 | GD85: 0.041921296 | GE85: 0.041967593 | GF85: 0.04306713 | GG85: 0.043113426 | GH85: 0.001099537 | GI85: 0.0011921296
A86: 69 | B86: 2 | C86: 10 | D86: CID0100 | E86: CJID0092 | F86: PRID0120 | G86: 156 | H86: 0.010844907 | I86: 0.044178241 | AB86: 0.027418981 | AC86: 0.043773148 | AD86: 0.042314815 | AE86: 0.042372685 | AF86: 0.043472222 | AG86: 0.043518519 | AH86: 0.001099537 | AI86: 0.0012037037 | AJ86: 0.033958333 | AK86: 0.033958333 | AL86: 0.0346875 | AM86: 0.034733796 | AN86: 0.00072916667 | AO86: 0.00077546296 | AP86: 0.027638889 | AS86: 0.027986111 | AT86: 0 | AU86: 0.00034722222 | AV86: 0.028043981 | AW86: 0.028055556 | AX86: 0.028368056 | AY86: 0.028425926 | AZ86: 0.0003125 | BA86: 0.00038194444 | BB86: 0.028472222 | BC86: 0.028506944 | BD86: 0.029074074 | BE86: 0.029270833 | BF86: 0.00056712963 | BG86: 0.00079861111 | BH86: 0.034872685 | BI86: 0.03494213 | BJ86: 0.035127315 | BK86: 0.035671296 | BL86: 0.00018518519 | BM86: 0.00079861111 | BN86: 0.02931713 | BO86: 0.029675926 | BP86: 0.030069444 | BQ86: 0.030104167 | BR86: 0.00039351852 | BS86: 0.00078703704 | BT86: 0.035717593 | BU86: 0.036041667 | BV86: 0.037256944 | BW86: 0.038113426 | BX86: 0.0012152778 | BY86: 0.0023958333 | BZ86: 0.030162037 | CA86: 0.030335648 | CB86: 0.030902778 | CC86: 0.030949074 | CD86: 0.00056712963 | CE86: 0.00078703704 | CL86: 0.03099537 | CM86: 0.03099537 | CN86: 0.031724537 | CO86: 0.031782407 | CP86: 0.00072916667 | CQ86: 0.00078703704 | CX86: 0.031840278 | CY86: 0.031875 | CZ86: 0.032453704 | DA86: 0.032627315 | DB86: 0.0005787037 | DC86: 0.00078703704 | DD86: 0.040659722 | DE86: 0.04068287 | DF86: 0.042141204 | DG86: 0.042268519 | DH86: 0.0014583333 | DI86: 0.0016087963 | EZ86: 0.038159722 | FA86: 0.038217593 | FB86: 0.03931713 | FC86: 0.039351852 | FD86: 0.001099537 | FE86: 0.0011921296 | FL86: 0.039398148 | FM86: 0.03943287 | FN86: 0.040127315 | FO86: 0.040613426 | FP86: 0.00069444444 | FQ86: 0.0012152778 | FX86: 0.032673611 | FY86: 0.032731481 | FZ86: 0.033819444 | GA86: 0.033900463 | GB86: 0.001087963 | GC86: 0.0012268519
A87: 70 | B87: 2 | C87: 11 | D87: CID0100 | E87: CJID0092 | F87: PRID0120 | G87: 156 | H87: 0.010844907 | I87: 0.044178241 | J87: 0.032233796 | K87: 0.032256944 | L87: 0.032847222 | M87: 0.033020833 | N87: 0.00059027778 | O87: 0.00078703704 | V87: 0.033078704 | W87: 0.033136574 | X87: 0.034224537 | Y87: 0.034270833 | Z87: 0.001087963 | AA87: 0.0011921296 | AB87: 0.027824074 | AC87: 0.044178241 | AP87: 0.028032407 | AS87: 0.02837963 | AT87: 0 | AU87: 0.00034722222 | AV87: 0.0284375 | AW87: 0.028449074 | AX87: 0.028761574 | AY87: 0.028819444 | AZ87: 0.0003125 | BA87: 0.00038194444 | BT87: 0.036122685 | BU87: 0.036435185 | BV87: 0.037673611 | BW87: 0.03849537 | BX87: 0.0012384259 | BY87: 0.0023726852 | DP87: 0.042719907 | DQ87: 0.042777778 | DR87: 0.043877315 | DS87: 0.043923611 | DT87: 0.001099537 | DU87: 0.0012037037 | DV87: 0.034328704 | DW87: 0.034328704 | DX87: 0.03505787 | DY87: 0.035115741 | DZ87: 0.00072916667 | EA87: 0.00078703704 | EB87: 0.028877315 | EC87: 0.028900463 | ED87: 0.029467593 | EE87: 0.029664352 | EF87: 0.00056712963 | EG87: 0.00078703704 | EH87: 0.035277778 | EI87: 0.035347222 | EJ87: 0.035532407 | EK87: 0.036064815 | EL87: 0.00018518519 | EM87: 0.00078703704 | EN87: 0.029722222 | EO87: 0.030069444 | EP87: 0.030474537 | EQ87: 0.030509259 | ER87: 0.00040509259 | ES87: 0.00078703704 | ET87: 0.030555556 | EU87: 0.030740741 | EV87: 0.03130787 | EW87: 0.031342593 | EX87: 0.00056712963 | EY87: 0.00078703704 | FF87: 0.031400463 | FG87: 0.031400463 | FH87: 0.03212963 | FI87: 0.032175926 | FJ87: 0.00072916667 | FK87: 0.00077546296 | FR87: 0.041053241 | FS87: 0.041076389 | FT87: 0.042546296 | FU87: 0.042673611 | FV87: 0.0014699074 | FW87: 0.0016203704 | GJ87: 0.038553241 | GK87: 0.038611111 | GL87: 0.039710648 | GM87: 0.039756944 | GN87: 0.001099537 | GO87: 0.0012037037 | GP87: 0.039803241 | GQ87: 0.039814815 | GR87: 0.040555556 | GS87: 0.04099537 | GT87: 0.00074074074 | GU87: 0.0011921296
A88: 71 | B88: 1 | C88: 1 | D88: CID0101 | E88: CJID0093 | F88: PRID0121 | G88: 34 | H88: 0.022164352 | I88: 0.054201389 | AB88: 0.028229167 | AC88: 0.044583333 | AJ88: 0.03474537 | AK88: 0.03474537 | AL88: 0.035474537 | AM88: 0.035520833 | AN88: 0.00072916667 | AO88: 0.00077546296 | AP88: 0.0284375 | AS88: 0.028784722 | AT88: 0 | AU88: 0.00034722222 | AV88: 0.028831019 | AW88: 0.028854167 | AX88: 0.029166667 | AY88: 0.029224537 | AZ88: 0.0003125 | BA88: 0.00039351852 | BB88: 0.029270833 | BC88: 0.029305556 | BD88: 0.029884259 | BE88: 0.03005787 | BF88: 0.0005787037 | BG88: 0.00078703704 | BH88: 0.035671296 | BI88: 0.035740741 | BJ88: 0.035925926 | BK88: 0.036481481 | BL88: 0.00018518519 | BM88: 0.00081018519 | BN88: 0.030115741 | BO88: 0.030474537 | BP88: 0.030868056 | BQ88: 0.030902778 | BR88: 0.00039351852 | BS88: 0.00078703704 | BT88: 0.036527778 | BU88: 0.036828704 | BV88: 0.038287037 | BW88: 0.038900463 | BX88: 0.0014583333 | BY88: 0.0023726852 | BZ88: 0.030960648 | CA88: 0.031134259 | CB88: 0.031701389 | CC88: 0.031747685 | CD88: 0.00056712963 | CE88: 0.00078703704 | CF88: 0.038958333 | CG88: 0.03900463 | CH88: 0.040104167 | CI88: 0.040150463 | CJ88: 0.001099537 | CK88: 0.0011921296 | CL88: 0.031793981 | CM88: 0.031793981 | CN88: 0.032523148 | CO88: 0.032581019 | CP88: 0.00072916667 | CQ88: 0.00078703704 | CR88: 0.040208333 | CS88: 0.040219907 | CT88: 0.040949074 | CU88: 0.041400463 | CV88: 0.00072916667 | CW88: 0.0011921296 | CX88: 0.032627315 | CY88: 0.032662037 | CZ88: 0.033240741 | DA88: 0.033414352 | DB88: 0.0005787037 | DC88: 0.00078703704 | DJ88: 0.033472222 | DK88: 0.033530093 | DL88: 0.034618056 | DM88: 0.034675926 | DN88: 0.001087963 | DO88: 0.0012037037 | GD88: 0.043125 | GE88: 0.04318287 | GF88: 0.044282407 | GG88: 0.044328704 | GH88: 0.001099537 | GI88: 0.0012037037 | GV88: 0.041458333 | GW88: 0.041493056 | GX88: 0.042974537 | GY88: 0.043078704 | GZ88: 0.0014814815 | HA88: 0.0016203704
A89: 72 | B89: 1 | C89: 2 | D89: CID0101 | E89: CJID0093 | F89: PRID0121 | G89: 34 | H89: 0.022164352 | I89: 0.054201389 | J89: 0.033043981 | K89: 0.03306713 | L89: 0.033645833 | M89: 0.033819444 | N89: 0.0005787037 | O89: 0.00077546296 | P89: 0.041875 | Q89: 0.041898148 | R89: 0.043368056 | S89: 0.043483796 | T89: 0.0014699074 | U89: 0.0016087963 | AB89: 0.028634259 | AC89: 0.045 | AD89: 0.043530093 | AE89: 0.043587963 | AF89: 0.0446875 | AG89: 0.04474537 | AH89: 0.001099537 | AI89: 0.0012152778 | AP89: 0.028831019 | AS89: 0.029178241 | AT89: 0 | AU89: 0.00034722222 | AV89: 0.029236111 | AW89: 0.029247685 | AX89: 0.029560185 | AY89: 0.029618056 | AZ89: 0.0003125 | BA89: 0.00038194444 | BT89: 0.036921296 | BU89: 0.037233796 | BV89: 0.038657407 | BW89: 0.03931713 | BX89: 0.0014236111 | BY89: 0.0023958333 | DV89: 0.035127315 | DW89: 0.035127315 | DX89: 0.035856481 | DY89: 0.035914352 | DZ89: 0.00072916667 | EA89: 0.00078703704 | EB89: 0.029675926 | EC89: 0.029699074 | ED89: 0.030266204 | EE89: 0.030474537 | EF89: 0.00056712963 | EG89: 0.00079861111 | EH89: 0.036087963 | EI89: 0.036145833 | EJ89: 0.036331019 | EK89: 0.036875 | EL89: 0.00018518519 | EM89: 0.00078703704 | EN89: 0.030520833 | EO89: 0.030868056 | EP89: 0.031273148 | EQ89: 0.031296296 | ER89: 0.00040509259 | ES89: 0.00077546296 | ET89: 0.031354167 | EU89: 0.031527778 | EV89: 0.032106481 | EW89: 0.032141204 | EX89: 0.0005787037 | EY89: 0.00078703704 | EZ89: 0.039363426 | FA89: 0.03943287 | FB89: 0.040520833 | FC89: 0.04056713 | FD89: 0.001087963 | FE89: 0.0012037037 | FF89: 0.0321875 | FG89: 0.032199074 | FH89: 0.032916667 | FI89: 0.032974537 | FJ89: 0.00071759259 | FK89: 0.00078703704 | FL89: 0.040625 | FM89: 0.040625 | FN89: 0.041354167 | FO89: 0.04181713 | FP89: 0.00072916667 | FQ89: 0.0011921296 | HB89: 0.033877315 | HC89: 0.033923611 | HD89: 0.035023148 | HE89: 0.035069444 | HF89: 0.001099537 | HG89: 0.0011921296
A90: 73 | B90: 1 | C90: 3 | D90: CID0101 | E90: CJID0093 | F90: PRID0121 | G90: 34 | H90: 0.022164352 | I90: 0.054201389 | V90: 0.034293981 | W90: 0.034340278 | X90: 0.035439815 | Y90: 0.035474537 | Z90: 0.001099537 | AA90: 0.0011805556 | AB90: 0.029016204 | AC90: 0.045393519 | AJ90: 0.035532407 | AK90: 0.035543981 | AL90: 0.036261574 | AM90: 0.036319444 | AN90: 0.00071759259 | AO90: 0.00078703704 | AP90: 0.029236111 | AS90: 0.029583333 | AT90: 0 | AU90: 0.00034722222 | AV90: 0.02962963 | AW90: 0.029641204 | AX90: 0.029965278 | AY90: 0.030023148 | AZ90: 0.00032407407 | BA90: 0.00039351852 | BB90: 0.030069444 | BC90: 0.030104167 | BD90: 0.03068287 | BE90: 0.030856481 | BF90: 0.0005787037 | BG90: 0.00078703704 | BH90: 0.036481481 | BI90: 0.036550926 | BJ90: 0.036724537 | BK90: 0.037256944 | BL90: 0.00017361111 | BM90: 0.00077546296 | BN90: 0.030914352 | BO90: 0.031261574 | BP90: 0.031666667 | BQ90: 0.031701389 | BR90: 0.00040509259 | BS90: 0.00078703704 | BT90: 0.037314815 | BU90: 0.037650463 | BV90: 0.039050926 | BW90: 0.039710648 | BX90: 0.001400463 | BY90: 0.0023958333 | BZ90: 0.031747685 | CA90: 0.03193287 | CB90: 0.032488426 | CC90: 0.032546296 | CD90: 0.00055555556 | CE90: 0.00079861111 | CL90: 0.032592593 | CM90: 0.032592593 | CN90: 0.033321759 | CO90: 0.03337963 | CP90: 0.00072916667 | CQ90: 0.00078703704 | CX90: 0.033425926 | CY90: 0.033460648 | CZ90: 0.034039352 | DA90: 0.034236111 | DB90: 0.0005787037 | DC90: 0.00081018519 | DD90: 0.042280093 | DE90: 0.042303241 | DF90: 0.043773148 | DG90: 0.043888889 | DH90: 0.0014699074 | DI90: 0.0016087963 | DP90: 0.043935185 | DQ90: 0.043993056 | DR90: 0.045092593 | DS90: 0.045138889 | DT90: 0.001099537 | DU90: 0.0012037037 | GJ90: 0.039768519 | GK90: 0.039826389 | GL90: 0.040925926 | GM90: 0.040960648 | GN90: 0.001099537 | GO90: 0.0011921296 | GP90: 0.041006944 | GQ90: 0.041018519 | GR90: 0.041747685 | GS90: 0.042222222 | GT90: 0.00072916667 | GU90: 0.0012152778
A91: 74 | B91: 1 | C91: 4 | D91: CID0101 | E91: CJID0093 | F91: PRID0121 | G91: 34 | H91: 0.022164352 | I91: 0.054201389 | J91: 0.033831019 | K91: 0.033865741 | L91: 0.034444444 | M91: 0.03462963 | N91: 0.0005787037 | O91: 0.00079861111 | AB91: 0.029421296 | AC91: 0.045798611 | AP91: 0.02962963 | AS91: 0.029988426 | AT91: 0 | AU91: 0.0003587963 | AV91: 0.030034722 | AW91: 0.030046296 | AX91: 0.030358796 | AY91: 0.030416667 | AZ91: 0.0003125 | BA91: 0.00038194444 | BT91: 0.037719907 | BU91: 0.038032407 | BV91: 0.039421296 | BW91: 0.040104167 | BX91: 0.0013888889 | BY91: 0.0023842593 | CF91: 0.040173611 | CG91: 0.040231481 | CH91: 0.041331019 | CI91: 0.041365741 | CJ91: 0.001099537 | CK91: 0.0011921296 | CR91: 0.041412037 | CS91: 0.041423611 | CT91: 0.042152778 | CU91: 0.042627315 | CV91: 0.00072916667 | CW91: 0.0012152778 | DJ91: 0.0346875 | DK91: 0.03474537 | DL91: 0.035833333 | DM91: 0.035868056 | DN91: 0.001087963 | DO91: 0.0011805556 | DV91: 0.035925926 | DW91: 0.035925926 | DX91: 0.036655093 | DY91: 0.036712963 | DZ91: 0.00072916667 | EA91: 0.00078703704 | EB91: 0.030474537 | EC91: 0.030509259 | ED91: 0.031076389 | EE91: 0.031261574 | EF91: 0.00056712963 | EG91: 0.00078703704 | EH91: 0.036875 | EI91: 0.036944444 | EJ91: 0.03712963 | EK91: 0.037685185 | EL91: 0.00018518519 | EM91: 0.00081018519 | EN91: 0.03130787 | EO91: 0.031666667 | EP91: 0.032060185 | EQ91: 0.032094907 | ER91: 0.00039351852 | ES91: 0.00078703704 | ET91: 0.032152778 | EU91: 0.032326389 | EV91: 0.032905093 | EW91: 0.032939815 | EX91: 0.0005787037 | EY91: 0.00078703704 | FF91: 0.032986111 | FG91: 0.032997685 | FH91: 0.033715278 | FI91: 0.033773148 | FJ91: 0.00071759259 | FK91: 0.00078703704 | FR91: 0.042685185 | FS91: 0.042708333 | FT91: 0.044178241 | FU91: 0.044293981 | FV91: 0.0014699074 | FW91: 0.0016087963 | GD91: 0.044340278 | GE91: 0.044398148 | GF91: 0.045497685 | GG91: 0.045543981 | GH91: 0.001099537 | GI91: 0.0012037037
A92: 75 | B92: 1 | C92: 5 | D92: CID0101 | E92: CJID0093 | F92: PRID0121 | G92: 34 | H92: 0.022164352 | I92: 0.054201389 | AB92: 0.029814815 | AC92: 0.046215278 | AD92: 0.044756944 | AE92: 0.044803241 | AF92: 0.045902778 | AG92: 0.045949074 | AH92: 0.001099537 | AI92: 0.0011921296 | AJ92: 0.036331019 | AK92: 0.036331019 | AL92: 0.037060185 | AM92: 0.037106481 | AN92: 0.00072916667 | AO92: 0.00077546296 | AP92: 0.030034722 | AS92: 0.030381944 | AT92: 0 | AU92: 0.00034722222 | AV92: 0.030428241 | AW92: 0.030451389 | AX92: 0.030752315 | AY92: 0.030821759 | AZ92: 0.00030092593 | BA92: 0.00039351852 | BB92: 0.030868056 | BC92: 0.030902778 | BD92: 0.031481481 | BE92: 0.031655093 | BF92: 0.0005787037 | BG92: 0.00078703704 | BH92: 0.037268519 | BI92: 0.037337963 | BJ92: 0.037523148 | BK92: 0.03806713 | BL92: 0.00018518519 | BM92: 0.00079861111 | BN92: 0.031712963 | BO92: 0.032060185 | BP92: 0.032465278 | BQ92: 0.0325 | BR92: 0.00040509259 | BS92: 0.00078703704 | BT92: 0.038125 | BU92: 0.038449074 | BV92: 0.039803241 | BW92: 0.040509259 | BX92: 0.0013541667 | BY92: 0.0023842593 | BZ92: 0.03255787 | CA92: 0.032731481 | CB92: 0.033298611 | CC92: 0.033333333 | CD92: 0.00056712963 | CE92: 0.00077546296 | CL92: 0.033391204 | CM92: 0.033391204 | CN92: 0.03412037 | CO92: 0.034189815 | CP92: 0.00072916667 | CQ92: 0.00079861111 | CX92: 0.034247685 | CY92: 0.034270833 | CZ92: 0.034849537 | DA92: 0.035034722 | DB92: 0.0005787037 | DC92: 0.00078703704 | EZ92: 0.040578704 | FA92: 0.040636574 | FB92: 0.041747685 | FC92: 0.041782407 | FD92: 0.0011111111 | FE92: 0.0012037037 | FL92: 0.041828704 | FM92: 0.041840278 | FN92: 0.04255787 | FO92: 0.043032407 | FP92: 0.00071759259 | FQ92: 0.0012037037 | GV92: 0.043090278 | GW92: 0.043113426 | GX92: 0.044606481 | GY92: 0.044699074 | GZ92: 0.0014930556 | HA92: 0.0016087963 | HB92: 0.035081019 | HC92: 0.035138889 | HD92: 0.036238426 | HE92: 0.036273148 | HF92: 0.001099537 | HG92: 0.0011921296
A93: 76 | B93: 1 | C93: 6 | D93: CID0101 | E93: CJID0093 | F93: PRID0121 | G93: 34 | H93: 0.022164352 | I93: 0.054201389 | J93: 0.034641204 | K93: 0.034675926 | L93: 0.035243056 | M93: 0.035428241 | N93: 0.00056712963 | O93: 0.00078703704 | P93: 0.04349537 | Q93: 0.043518519 | R93: 0.045 | S93: 0.045104167 | T93: 0.0014814815 | U93: 0.0016087963 | V93: 0.035486111 | W93: 0.035543981 | X93: 0.036631944 | Y93: 0.036666667 | Z93: 0.001087963 | AA93: 0.0011805556 | AB93: 0.030219907 | AC93: 0.046608796 | AP93: 0.030428241 | AS93: 0.030775463 | AT93: 0 | AU93: 0.00034722222 | AV93: 0.030833333 | AW93: 0.030844907 | AX93: 0.031157407 | AY93: 0.031215278 | AZ93: 0.0003125 | BA93: 0.00038194444 | BT93: 0.038506944 | BU93: 0.038819444 | BV93: 0.040173611 | BW93: 0.040925926 | BX93: 0.0013541667 | BY93: 0.0024189815 | DP93: 0.045162037 | DQ93: 0.045208333 | DR93: 0.04630787 | DS93: 0.046354167 | DT93: 0.001099537 | DU93: 0.0011921296 | DV93: 0.036724537 | DW93: 0.036724537 | DX93: 0.037453704 | DY93: 0.037511574 | DZ93: 0.00072916667 | EA93: 0.00078703704 | EB93: 0.031273148 | EC93: 0.031296296 | ED93: 0.031863426 | EE93: 0.032060185 | EF93: 0.00056712963 | EG93: 0.00078703704 | EH93: 0.037685185 | EI93: 0.03775463 | EJ93: 0.037928241 | EK93: 0.038460648 | EL93: 0.00017361111 | EM93: 0.00077546296 | EN93: 0.032106481 | EO93: 0.032465278 | EP93: 0.032858796 | EQ93: 0.032893519 | ER93: 0.00039351852 | ES93: 0.00078703704 | ET93: 0.032951389 | EU93: 0.033125 | EV93: 0.033703704 | EW93: 0.033738426 | EX93: 0.0005787037 | EY93: 0.00078703704 | FF93: 0.033796296 | FG93: 0.033796296 | FH93: 0.034513889 | FI93: 0.034594907 | FJ93: 0.00071759259 | FK93: 0.00079861111 | GJ93: 0.040972222 | GK93: 0.041030093 | GL93: 0.042141204 | GM93: 0.0421875 | GN93: 0.0011111111 | GO93: 0.0012152778 | GP93: 0.042233796 | GQ93: 0.04224537 | GR93: 0.042974537 | GS93: 0.0434375 | GT93: 0.00072916667 | GU93: 0.0012037037
A94: 77 | B94: 1 | C94: 7 | D94: CID0101 | E94: CJID0093 | F94: PRID0121 | G94: 34 | H94: 0.022164352 | I94: 0.054201389 | AB94: 0.030625 | AC94: 0.047013889 | AJ94: 0.037118056 | AK94: 0.03712963 | AL94: 0.037858796 | AM94: 0.037916667 | AN94: 0.00072916667 | AO94: 0.00079861111 | AP94: 0.030833333 | AS94: 0.031180556 | AT94: 0 | AU94: 0.00034722222 | AV94: 0.031226852 | AW94: 0.031238426 | AX94: 0.031550926 | AY94: 0.03162037 | AZ94: 0.0003125 | BA94: 0.00039351852 | BB94: 0.031666667 | BC94: 0.031689815 | BD94: 0.032280093 | BE94: 0.032453704 | BF94: 0.00059027778 | BG94: 0.00078703704 | BH94: 0.038078704 | BI94: 0.038148148 | BJ94: 0.038333333 | BK94: 0.038854167 | BL94: 0.00018518519 | BM94: 0.00077546296 | BN94: 0.032511574 | BO94: 0.03287037 | BP94: 0.033263889 | BQ94: 0.033298611 | BR94: 0.00039351852 | BS94: 0.00078703704 | BT94: 0.038912037 | BU94: 0.039247685 | BV94: 0.040532407 | BW94: 0.041319444 | BX94: 0.0012847222 | BY94: 0.0024074074 | BZ94: 0.033344907 | CA94: 0.033530093 | CB94: 0.034085648 | CC94: 0.034155093 | CD94: 0.00055555556 | CE94: 0.00081018519 | CF94: 0.041377315 | CG94: 0.041435185 | CH94: 0.042546296 | CI94: 0.042592593 | CJ94: 0.0011111111 | CK94: 0.0012152778 | CL94: 0.034201389 | CM94: 0.034212963 | CN94: 0.034930556 | CO94: 0.034988426 | CP94: 0.00071759259 | CQ94: 0.00078703704 | CR94: 0.042638889 | CS94: 0.042650463 | CT94: 0.043368056 | CU94: 0.043842593 | CV94: 0.00071759259 | CW94: 0.0012037037 | CX94: 0.035046296 | CY94: 0.035069444 | CZ94: 0.035648148 | DA94: 0.035833333 | DB94: 0.0005787037 | DC94: 0.00078703704 | DD94: 0.043900463 | DE94: 0.043923611 | DF94: 0.045393519 | DG94: 0.045509259 | DH94: 0.0014699074 | DI94: 0.0016087963 | DJ94: 0.03587963 | DK94: 0.0359375 | DL94: 0.037025463 | DM94: 0.037071759 | DN94: 0.001087963 | DO94: 0.0011921296 | GD94: 0.045555556 | GE94: 0.045613426 | GF94: 0.046712963 | GG94: 0.046759259 | GH94: 0.001099537 | GI94: 0.0012037037
A95: 78 | B95: 1 | C95: 8 | D95: CID0101 | E95: CJID0093 | F95: PRID0121 | G95: 34 | H95: 0.022164352 | I95: 0.054201389 | J95: 0.035439815 | K95: 0.035474537 | L95: 0.036053241 | M95: 0.036226852 | N95: 0.0005787037 | O95: 0.00078703704 | AB95: 0.031018519 | AC95: 0.047407407 | AD95: 0.045972222 | AE95: 0.046018519 | AF95: 0.047118056 | AG95: 0.047164352 | AH95: 0.001099537 | AI95: 0.0011921296 | AP95: 0.031226852 | AS95: 0.031574074 | AT95: 0 | AU95: 0.00034722222 | AV95: 0.031631944 | AW95: 0.031643519 | AX95: 0.031956019 | AY95: 0.032013889 | AZ95: 0.0003125 | BA95: 0.00038194444 | BT95: 0.039328704 | BU95: 0.03962963 | BV95: 0.040902778 | BW95: 0.041747685 | BX95: 0.0012731481 | BY95: 0.0024189815 | DV95: 0.037523148 | DW95: 0.037523148 | DX95: 0.038252315 | DY95: 0.038321759 | DZ95: 0.00072916667 | EA95: 0.00079861111 | EB95: 0.032071759 | EC95: 0.032094907 | ED95: 0.032662037 | EE95: 0.032858796 | EF95: 0.00056712963 | EG95: 0.00078703704 | EH95: 0.038472222 | EI95: 0.038530093 | EJ95: 0.038715278 | EK95: 0.039270833 | EL95: 0.00018518519 | EM95: 0.00079861111 | EN95: 0.032905093 | EO95: 0.033263889 | EP95: 0.033668981 | EQ95: 0.03369213 | ER95: 0.00040509259 | ES95: 0.00078703704 | ET95: 0.03375 | EU95: 0.033923611 | EV95: 0.034490741 | EW95: 0.034548611 | EX95: 0.00056712963 | EY95: 0.00079861111 | EZ95: 0.041793981 | FA95: 0.041840278 | FB95: 0.042951389 | FC95: 0.042997685 | FD95: 0.0011111111 | FE95: 0.0012037037 | FF95: 0.034606481 | FG95: 0.034606481 | FH95: 0.035324074 | FI95: 0.035393519 | FJ95: 0.00071759259 | FK95: 0.00078703704 | FL95: 0.043043981 | FM95: 0.043043981 | FN95: 0.043773148 | FO95: 0.044247685 | FP95: 0.00072916667 | FQ95: 0.0012037037 | FR95: 0.044305556 | FS95: 0.044328704 | FT95: 0.045798611 | FU95: 0.045914352 | FV95: 0.0014699074 | FW95: 0.0016087963 | HB95: 0.036284722 | HC95: 0.036342593 | HD95: 0.037430556 | HE95: 0.037465278 | HF95: 0.001087963 | HG95: 0.0011805556
A96: 79 | B96: 1 | C96: 9 | D96: CID0101 | E96: CJID0093 | F96: PRID0121 | G96: 34 | H96: 0.022164352 | I96: 0.054201389 | V96: 0.036678241 | W96: 0.036736111 | X96: 0.037835648 | Y96: 0.03787037 | Z96: 0.001099537 | AA96: 0.0011921296 | AB96: 0.031412037 | AC96: 0.0478125 | AJ96: 0.037928241 | AK96: 0.037928241 | AL96: 0.038657407 | AM96: 0.038726852 | AN96: 0.00072916667 | AO96: 0.00079861111 | AP96: 0.03162037 | AS96: 0.031979167 | AT96: 0 | AU96: 0.0003587963 | AV96: 0.032025463 | AW96: 0.032037037 | AX96: 0.032349537 | AY96: 0.032407407 | AZ96: 0.0003125 | BA96: 0.00038194444 | BB96: 0.032465278 | BC96: 0.0325 | BD96: 0.033078704 | BE96: 0.033252315 | BF96: 0.0005787037 | BG96: 0.00078703704 | BH96: 0.038865741 | BI96: 0.038935185 | BJ96: 0.039108796 | BK96: 0.039675926 | BL96: 0.00017361111 | BM96: 0.00081018519 | BN96: 0.033310185 | BO96: 0.033657407 | BP96: 0.0340625 | BQ96: 0.034108796 | BR96: 0.00040509259 | BS96: 0.00079861111 | BT96: 0.039722222 | BU96: 0.040034722 | BV96: 0.041273148 | BW96: 0.042141204 | BX96: 0.0012384259 | BY96: 0.0024189815 | BZ96: 0.034166667 | CA96: 0.034340278 | CB96: 0.034907407 | CC96: 0.034953704 | CD96: 0.00056712963 | CE96: 0.00078703704 | CL96: 0.035 | CM96: 0.035011574 | CN96: 0.035729167 | CO96: 0.035787037 | CP96: 0.00071759259 | CQ96: 0.00078703704 | CX96: 0.035844907 | CY96: 0.035868056 | CZ96: 0.036446759 | DA96: 0.036631944 | DB96: 0.0005787037 | DC96: 0.00078703704 | DP96: 0.046365741 | DQ96: 0.046423611 | DR96: 0.047534722 | DS96: 0.04755787 | DT96: 0.0011111111 | DU96: 0.0011921296 | GJ96: 0.042199074 | GK96: 0.042256944 | GL96: 0.043356481 | GM96: 0.043402778 | GN96: 0.001099537 | GO96: 0.0012037037 | GP96: 0.043449074 | GQ96: 0.043460648 | GR96: 0.044178241 | GS96: 0.044664352 | GT96: 0.00071759259 | GU96: 0.0012152778 | GV96: 0.044710648 | GW96: 0.044733796 | GX96: 0.046226852 | GY96: 0.046319444 | GZ96: 0.0014930556 | HA96: 0.0016087963
A97: 80 | B97: 1 | C97: 10 | D97: CID0101 | E97: CJID0093 | F97: PRID0121 | G97: 34 | H97: 0.022164352 | I97: 0.054201389 | J97: 0.036238426 | K97: 0.036273148 | L97: 0.036875 | M97: 0.037025463 | N97: 0.00060185185 | O97: 0.00078703704 | P97: 0.045115741 | Q97: 0.045138889 | R97: 0.04662037 | S97: 0.046712963 | T97: 0.0014814815 | U97: 0.0015972222 | AB97: 0.03181713 | AC97: 0.048217593 | AP97: 0.032025463 | AS97: 0.032372685 | AT97: 0 | AU97: 0.00034722222 | AV97: 0.032418981 | AW97: 0.032430556 | AX97: 0.03275463 | AY97: 0.0328125 | AZ97: 0.00032407407 | BA97: 0.00039351852 | BT97: 0.040115741 | BU97: 0.040428241 | BV97: 0.041712963 | BW97: 0.042546296 | BX97: 0.0012847222 | BY97: 0.0024305556 | CF97: 0.042604167 | CG97: 0.042662037 | CH97: 0.043761574 | CI97: 0.04380787 | CJ97: 0.001099537 | CK97: 0.0012037037 | CR97: 0.043854167 | CS97: 0.043854167 | CT97: 0.044583333 | CU97: 0.04505787 | CV97: 0.00072916667 | CW97: 0.0012037037 | DJ97: 0.037083333 | DK97: 0.037141204 | DL97: 0.038229167 | DM97: 0.038263889 | DN97: 0.001087963 | DO97: 0.0011805556 | DV97: 0.038321759 | DW97: 0.038333333 | DX97: 0.0390625 | DY97: 0.03912037 | DZ97: 0.00072916667 | EA97: 0.00079861111 | EB97: 0.032858796 | EC97: 0.032893519 | ED97: 0.033460648 | EE97: 0.033645833 | EF97: 0.00056712963 | EG97: 0.00078703704 | EH97: 0.039282407 | EI97: 0.039351852 | EJ97: 0.039537037 | EK97: 0.040069444 | EL97: 0.00018518519 | EM97: 0.00078703704 | EN97: 0.033703704 | EO97: 0.034050926 | EP97: 0.034456019 | EQ97: 0.034513889 | ER97: 0.00040509259 | ES97: 0.00081018519 | ET97: 0.034560185 | EU97: 0.034733796 | EV97: 0.0353125 | EW97: 0.035347222 | EX97: 0.0005787037 | EY97: 0.00078703704 | FF97: 0.035405093 | FG97: 0.035405093 | FH97: 0.036122685 | FI97: 0.03619213 | FJ97: 0.00071759259 | FK97: 0.00078703704 | GD97: 0.046770833 | GE97: 0.046828704 | GF97: 0.047928241 | GG97: 0.047962963 | GH97: 0.001099537 | GI97: 0.0011921296
A98: 81 | B98: 1 | C98: 11 | D98: CID0101 | E98: CJID0093 | F98: PRID0121 | G98: 34 | H98: 0.022164352 | I98: 0.054201389 | AB98: 0.032210648 | AC98: 0.048611111 | AD98: 0.047175926 | AE98: 0.047222222 | AF98: 0.048321759 | AG98: 0.04837963 | AH98: 0.001099537 | AI98: 0.0012037037 | AJ98: 0.038738426 | AK98: 0.038738426 | AL98: 0.039467593 | AM98: 0.039525463 | AN98: 0.00072916667 | AO98: 0.00078703704 | AP98: 0.032418981 | AS98: 0.032766204 | AT98: 0 | AU98: 0.00034722222 | AV98: 0.032824074 | AW98: 0.032835648 | AX98: 0.033148148 | AY98: 0.033206019 | AZ98: 0.0003125 | BA98: 0.00038194444 | BB98: 0.033263889 | BC98: 0.033287037 | BD98: 0.033877315 | BE98: 0.0340625 | BF98: 0.00059027778 | BG98: 0.00079861111 | BH98: 0.0396875 | BI98: 0.03974537 | BJ98: 0.039930556 | BK98: 0.040474537 | BL98: 0.00018518519 | BM98: 0.00078703704 | BN98: 0.03412037 | BO98: 0.034479167 | BP98: 0.034872685 | BQ98: 0.034907407 | BR98: 0.00039351852 | BS98: 0.00078703704 | BT98: 0.040520833 | BU98: 0.040833333 | BV98: 0.042083333 | BW98: 0.042951389 | BX98: 0.00125 | BY98: 0.0024305556 | BZ98: 0.034965278 | CA98: 0.035138889 | CB98: 0.035706019 | CC98: 0.035752315 | CD98: 0.00056712963 | CE98: 0.00078703704 | CL98: 0.035798611 | CM98: 0.035798611 | CN98: 0.036527778 | CO98: 0.036585648 | CP98: 0.00072916667 | CQ98: 0.00078703704 | CX98: 0.036631944 | CY98: 0.036666667 | CZ98: 0.03724537 | DA98: 0.037418981 | DB98: 0.0005787037 | DC98: 0.00078703704 | DD98: 0.045520833 | DE98: 0.045543981 | DF98: 0.047002315 | DG98: 0.047118056 | DH98: 0.0014583333 | DI98: 0.0015972222 | EZ98: 0.043009259 | FA98: 0.043055556 | FB98: 0.044166667 | FC98: 0.044212963 | FD98: 0.0011111111 | FE98: 0.0012037037 | FL98: 0.044259259 | FM98: 0.044270833 | FN98: 0.044988426 | FO98: 0.045462963 | FP98: 0.00071759259 | FQ98: 0.0012037037 | HB98: 0.037476852 | HC98: 0.037534722 | HD98: 0.038634259 | HE98: 0.038680556 | HF98: 0.001099537 | HG98: 0.0012037037
A99: 82 | B99: 1 | C99: 12 | D99: CID0101 | E99: CJID0093 | F99: PRID0121 | G99: 34 | H99: 0.022164352 | I99: 0.054201389 | J99: 0.037037037 | K99: 0.037071759 | L99: 0.037650463 | M99: 0.037835648 | N99: 0.0005787037 | O99: 0.00079861111 | V99: 0.037881944 | W99: 0.037939815 | X99: 0.039050926 | Y99: 0.039074074 | Z99: 0.0011111111 | AA99: 0.0011921296 | AB99: 0.032615741 | AC99: 0.04900463 | AP99: 0.032824074 | AS99: 0.033171296 | AT99: 0 | AU99: 0.00034722222 | AV99: 0.033217593 | AW99: 0.033229167 | AX99: 0.033553241 | AY99: 0.033611111 | AZ99: 0.00032407407 | BA99: 0.00039351852 | BT99: 0.040925926 | BU99: 0.041238426 | BV99: 0.042523148 | BW99: 0.043356481 | BX99: 0.0012847222 | BY99: 0.0024305556 | DP99: 0.047569444 | DQ99: 0.047627315 | DR99: 0.048726852 | DS99: 0.048761574 | DT99: 0.001099537 | DU99: 0.0011921296 | DV99: 0.039131944 | DW99: 0.039131944 | DX99: 0.039861111 | DY99: 0.039918981 | DZ99: 0.00072916667 | EA99: 0.00078703704 | EB99: 0.033657407 | EC99: 0.03369213 | ED99: 0.034259259 | EE99: 0.034467593 | EF99: 0.00056712963 | EG99: 0.00081018519 | EH99: 0.040081019 | EI99: 0.040138889 | EJ99: 0.040324074 | EK99: 0.04087963 | EL99: 0.00018518519 | EM99: 0.00079861111 | EN99: 0.034525463 | EO99: 0.034872685 | EP99: 0.035277778 | EQ99: 0.0353125 | ER99: 0.00040509259 | ES99: 0.00078703704 | ET99: 0.035358796 | EU99: 0.035532407 | EV99: 0.036111111 | EW99: 0.036145833 | EX99: 0.0005787037 | EY99: 0.00078703704 | FF99: 0.03619213 | FG99: 0.036203704 | FH99: 0.036921296 | FI99: 0.036990741 | FJ99: 0.00071759259 | FK99: 0.00079861111 | FR99: 0.045925926 | FS99: 0.045949074 | FT99: 0.047418981 | FU99: 0.047523148 | FV99: 0.0014699074 | FW99: 0.0015972222 | GJ99: 0.043414352 | GK99: 0.043472222 | GL99: 0.044571759 | GM99: 0.044618056 | GN99: 0.001099537 | GO99: 0.0012037037 | GP99: 0.044675926 | GQ99: 0.044675926 | GR99: 0.045405093 | GS99: 0.045868056 | GT99: 0.00072916667 | GU99: 0.0011921296
A100: 83 | B100: 1 | C100: 13 | D100: CID0101 | E100: CJID0093 | F100: PRID0121 | G100: 34 | H100: 0.022164352 | I100: 0.054201389 | AB100: 0.033009259 | AC100: 0.049398148 | AJ100: 0.039537037 | AK100: 0.039548611 | AL100: 0.040266204 | AM100: 0.040324074 | AN100: 0.00071759259 | AO100: 0.00078703704 | AP100: 0.033217593 | AS100: 0.033564815 | AT100: 0 | AU100: 0.00034722222 | AV100: 0.033622685 | AW100: 0.033634259 | AX100: 0.033946759 | AY100: 0.034027778 | AZ100: 0.0003125 | BA100: 0.00040509259 | BB100: 0.034074074 | BC100: 0.034108796 | BD100: 0.0346875 | BE100: 0.034861111 | BF100: 0.0005787037 | BG100: 0.00078703704 | BH100: 0.040486111 | BI100: 0.040555556 | BJ100: 0.040729167 | BK100: 0.041261574 | BL100: 0.00017361111 | BM100: 0.00077546296 | BN100: 0.034918981 | BO100: 0.035277778 | BP100: 0.035671296 | BQ100: 0.035706019 | BR100: 0.00039351852 | BS100: 0.00078703704 | BT100: 0.041331019 | BU100: 0.041643519 | BV100: 0.042893519 | BW100: 0.043761574 | BX100: 0.00125 | BY100: 0.0024305556 | BZ100: 0.035763889 | CA100: 0.0359375 | CB100: 0.03650463 | CC100: 0.036539352 | CD100: 0.00056712963 | CE100: 0.00077546296 | CF100: 0.043819444 | CG100: 0.043865741 | CH100: 0.044976852 | CI100: 0.045023148 | CJ100: 0.0011111111 | CK100: 0.0012037037 | CL100: 0.036597222 | CM100: 0.036597222 | CN100: 0.037326389 | CO100: 0.037384259 | CP100: 0.00072916667 | CQ100: 0.00078703704 | CR100: 0.045069444 | CS100: 0.045081019 | CT100: 0.045810185 | CU100: 0.046273148 | CV100: 0.00072916667 | CW100: 0.0012037037 | CX100: 0.037430556 | CY100: 0.037465278 | CZ100: 0.038043981 | DA100: 0.038217593 | DB100: 0.0005787037 | DC100: 0.00078703704 | DJ100: 0.038287037 | DK100: 0.038344907 | DL100: 0.039456019 | DM100: 0.039490741 | DN100: 0.0011111111 | DO100: 0.0012037037 | GD100: 0.047974537 | GE100: 0.048032407 | GF100: 0.049143519 | GG100: 0.049166667 | GH100: 0.0011111111 | GI100: 0.0011921296 | GV100: 0.046331019 | GW100: 0.046354167 | GX100: 0.047847222 | GY100: 0.047928241 | GZ100: 0.0014930556 | HA100: 0.0015972222
A101: 84 | B101: 1 | C101: 14 | D101: CID0101 | E101: CJID0093 | F101: PRID0121 | G101: 34 | H101: 0.022164352 | I101: 0.054201389 | J101: 0.037847222 | K101: 0.03787037 | L101: 0.038460648 | M101: 0.038622685 | N101: 0.00059027778 | O101: 0.00077546296 | P101: 0.046724537 | Q101: 0.046759259 | R101: 0.048229167 | S101: 0.048321759 | T101: 0.0014699074 | U101: 0.0015972222 | AB101: 0.033391204 | AC101: 0.049814815 | AD101: 0.048391204 | AE101: 0.0484375 | AF101: 0.049537037 | AG101: 0.049560185 | AH101: 0.001099537 | AI101: 0.0011689815 | AP101: 0.033622685 | AS101: 0.033981481 | AT101: 0 | AU101: 0.0003587963 | AV101: 0.034039352 | AW101: 0.034050926 | AX101: 0.034375 | AY101: 0.03443287 | AZ101: 0.00032407407 | BA101: 0.00039351852 | BT101: 0.041747685 | BU101: 0.042060185 | BV101: 0.043321759 | BW101: 0.044166667 | BX101: 0.0012615741 | BY101: 0.0024189815 | DV101: 0.039930556 | DW101: 0.039930556 | DX101: 0.040659722 | DY101: 0.040717593 | DZ101: 0.00072916667 | EA101: 0.00078703704 | EB101: 0.034479167 | EC101: 0.034502315 | ED101: 0.035069444 | EE101: 0.035277778 | EF101: 0.00056712963 | EG101: 0.00079861111 | EH101: 0.040891204 | EI101: 0.040960648 | EJ101: 0.041134259 | EK101: 0.041666667 | EL101: 0.00017361111 | EM101: 0.00077546296 | EN101: 0.0353125 | EO101: 0.035671296 | EP101: 0.036064815 | EQ101: 0.036111111 | ER101: 0.00039351852 | ES101: 0.00079861111 | ET101: 0.036157407 | EU101: 0.036331019 | EV101: 0.036909722 | EW101: 0.036944444 | EX101: 0.0005787037 | EY101: 0.00078703704 | EZ101: 0.044224537 | FA101: 0.044282407 | FB101: 0.045381944 | FC101: 0.045428241 | FD101: 0.001099537 | FE101: 0.0012037037 | FF101: 0.036990741 | FG101: 0.037002315 | FH101: 0.037719907 | FI101: 0.037789352 | FJ101: 0.00071759259 | FK101: 0.00079861111 | FL101: 0.045474537 | FM101: 0.045486111 | FN101: 0.046203704 | FO101: 0.046678241 | FP101: 0.00071759259 | FQ101: 0.0012037037 | HB101: 0.038680556 | HC101: 0.038738426 | HD101: 0.039826389 | HE101: 0.039872685 | HF101: 0.001087963 | HG101: 0.0011921296
A102: 85 | B102: 1 | C102: 15 | D102: CID0101 | E102: CJID0093 | F102: PRID0121 | G102: 34 | H102: 0.022164352 | I102: 0.054201389 | V102: 0.039085648 | W102: 0.039143519 | X102: 0.040243056 | Y102: 0.040289352 | Z102: 0.001099537 | AA102: 0.0012037037 | AB102: 0.033842593 | AC102: 0.050231481 | AJ102: 0.040335648 | AK102: 0.040335648 | AL102: 0.041064815 | AM102: 0.041122685 | AN102: 0.00072916667 | AO102: 0.00078703704 | AP102: 0.034039352 | AS102: 0.034386574 | AT102: 0 | AU102: 0.00034722222 | AV102: 0.034444444 | AW102: 0.034444444 | AX102: 0.034768519 | AY102: 0.034826389 | AZ102: 0.00032407407 | BA102: 0.00038194444 | BB102: 0.034872685 | BC102: 0.034907407 | BD102: 0.035486111 | BE102: 0.035671296 | BF102: 0.0005787037 | BG102: 0.00079861111 | BH102: 0.041296296 | BI102: 0.041354167 | BJ102: 0.041539352 | BK102: 0.042118056 | BL102: 0.00018518519 | BM102: 0.00082175926 | BN102: 0.035717593 | BO102: 0.036064815 | BP102: 0.036481481 | BQ102: 0.03650463 | BR102: 0.00041666667 | BS102: 0.00078703704 | BT102: 0.042152778 | BU102: 0.042465278 | BV102: 0.043738426 | BW102: 0.044571759 | BX102: 0.0012731481 | BY102: 0.0024189815 | BZ102: 0.036550926 | CA102: 0.036736111 | CB102: 0.037303241 | CC102: 0.037337963 | CD102: 0.00056712963 | CE102: 0.00078703704 | CL102: 0.037395833 | CM102: 0.037395833 | CN102: 0.038113426 | CO102: 0.03818287 | CP102: 0.00071759259 | CQ102: 0.00078703704 | CX102: 0.038229167 | CY102: 0.038263889 | CZ102: 0.038842593 | DA102: 0.039016204 | DB102: 0.0005787037 | DC102: 0.00078703704 | DD102: 0.04712963 | DE102: 0.047152778 | DF102: 0.048622685 | DG102: 0.048703704 | DH102: 0.0014699074 | DI102: 0.0015740741 | DP102: 0.048761574 | DQ102: 0.048819444 | DR102: 0.049918981 | DS102: 0.049976852 | DT102: 0.001099537 | DU102: 0.0012152778 | GJ102: 0.04462963 | GK102: 0.0446875 | GL102: 0.045787037 | GM102: 0.045833333 | GN102: 0.001099537 | GO102: 0.0012037037 | GP102: 0.04587963 | GQ102: 0.045891204 | GR102: 0.04662037 | GS102: 0.047083333 | GT102: 0.00072916667 | GU102: 0.0012037037
A103: 86 | B103: 1 | C103: 16 | D103: CID0101 | E103: CJID0093 | F103: PRID0121 | G103: 34 | H103: 0.022164352 | I103: 0.054201389 | J103: 0.038634259 | K103: 0.038680556 | L103: 0.039247685 | M103: 0.039444444 | N103: 0.00056712963 | O103: 0.00081018519 | AB103: 0.034224537 | AC103: 0.050636574 | AP103: 0.034444444 | AS103: 0.034780093 | AT103: 0 | AU103: 0.00033564815 | AV103: 0.034837963 | AW103: 0.034849537 | AX103: 0.035162037 | AY103: 0.035231481 | AZ103: 0.0003125 | BA103: 0.00039351852 | BT103: 0.04255787 | BU103: 0.04287037 | BV103: 0.044143519 | BW103: 0.044976852 | BX103: 0.0012731481 | BY103: 0.0024189815 | CF103: 0.045034722 | CG103: 0.045092593 | CH103: 0.04619213 | CI103: 0.046238426 | CJ103: 0.001099537 | CK103: 0.0012037037 | CR103: 0.046284722 | CS103: 0.046296296 | CT103: 0.047025463 | CU103: 0.047476852 | CV103: 0.00072916667 | CW103: 0.0011921296 | DJ103: 0.039502315 | DK103: 0.039560185 | DL103: 0.040659722 | DM103: 0.04068287 | DN103: 0.001099537 | DO103: 0.0011805556 | DV103: 0.040729167 | DW103: 0.040740741 | DX103: 0.041458333 | DY103: 0.041516204 | DZ103: 0.00071759259 | EA103: 0.00078703704 | EB103: 0.035277778 | EC103: 0.035300926 | ED103: 0.035868056 | EE103: 0.036064815 | EF103: 0.00056712963 | EG103: 0.00078703704 | EH103: 0.041712963 | EI103: 0.041770833 | EJ103: 0.041956019 | EK103: 0.042523148 | EL103: 0.00018518519 | EM103: 0.00081018519 | EN103: 0.036122685 | EO103: 0.036481481 | EP103: 0.036875 | EQ103: 0.036898148 | ER103: 0.00039351852 | ES103: 0.00077546296 | ET103: 0.036956019 | EU103: 0.03712963 | EV103: 0.037708333 | EW103: 0.03775463 | EX103: 0.0005787037 | EY103: 0.00079861111 | FF103: 0.037800926 | FG103: 0.0378125 | FH103: 0.038518519 | FI103: 0.038576389 | FJ103: 0.00070601852 | FK103: 0.00077546296 | FR103: 0.047534722 | FS103: 0.04755787 | FT103: 0.049027778 | FU103: 0.049108796 | FV103: 0.0014699074 | FW103: 0.0015740741 | GD103: 0.049178241 | GE103: 0.049236111 | GF103: 0.050335648 | GG103: 0.05037037 | GH103: 0.001099537 | GI103: 0.0011921296
...

Sheet Classified as UnClassified

Sheet xl_DCF_History
A1: CLINAME | B1: DATETIME | C1: DONEBY | D1: IPADDRESS | E1: APPVER | F1: RANDOM | G1: CHECKSUM
A2: ཡེཏླྀ཭ཿཿཱཱཱིུུ཰ | B2: ཁ༻༽༼༻༾༼༽ཀ༬༬༽༼ཆ༾ཁཌྷཙ༬༴ནཙའ༷༾ཆ༼༵ | C2: ཟའཨཐ཭ཱཱེུླྀ༬ཱིཾཱུཹ཭ཱྀ཰ | D2: ཞཛཡ༼ཀ༾ཅ༽ | E2: ཀ༺༼༺༾༺༼ | F2: 12 | G2: ཀགྷངང
