Workbook

Sheet Pre-Datas
A1: DATE_PROC | B1: DATE_TIME | C1: LOT_ID | D1: SLOT_ID | E1: EQUIPMENT | F1: CHAMBER | G1: laisser Vide | H1: laisser Vide | I1: laisser Vide | J1: laisser Vide | K1: RECIPE
A2: 41768 | B2: ='v2'!#REF! -> #REF! | C2: ='v2'!#REF! -> #REF! | D2: ='v2'!#REF! -> #REF! | F2: ='v2'!J14 -> U29 | G2: laisser Vide | H2: laisser Vide | I2: laisser Vide | J2: laisser Vide | K2: ='v2'!#REF! -> #REF!
A3: 41768 | B3: ='v2'!#REF! -> #REF! | C3: ='v2'!#REF! -> #REF! | D3: 1 | F3: ='v2'!AB14 -> 0 | G3: laisser Vide | H3: laisser Vide | I3: laisser Vide | J3: laisser Vide | K3: ='v2'!#REF! -> #REF!
A4: 41768 | B4: ='v2'!#REF! -> #REF! | C4: ='v2'!#REF! -> #REF! | D4: 1 | F4: ='v2'!AP14 -> U34 | G4: laisser Vide | H4: laisser Vide | I4: laisser Vide | J4: laisser Vide | K4: ='v2'!#REF! -> #REF!
A5: 41768 | B5: ='v2'!#REF! -> #REF! | C5: ='v2'!#REF! -> #REF! | D5: 1 | F5: ='v2'!AV14 -> U3 | G5: laisser Vide | H5: laisser Vide | I5: laisser Vide | J5: laisser Vide | K5: ='v2'!#REF! -> #REF!
A6: 41768 | B6: ='v2'!#REF! -> #REF! | C6: ='v2'!#REF! -> #REF! | D6: 1 | F6: ='v2'!BT14 -> 21:IF-A(U21) | G6: laisser Vide | H6: laisser Vide | I6: laisser Vide | J6: laisser Vide | K6: ='v2'!#REF! -> #REF!
A7: 41768 | B7: ='v2'!#REF! -> #REF! | C7: ='v2'!#REF! -> #REF! | D7: 1 | F7: ='v2'!DP14 -> U31 | G7: laisser Vide | H7: laisser Vide | I7: laisser Vide | J7: laisser Vide | K7: ='v2'!#REF! -> #REF!
A8: 41768 | B8: ='v2'!#REF! -> #REF! | C8: ='v2'!#REF! -> #REF! | D8: 1 | F8: ='v2'!DV14 -> U6 | G8: laisser Vide | H8: laisser Vide | I8: laisser Vide | J8: laisser Vide | K8: ='v2'!#REF! -> #REF!
A9: 41768 | B9: ='v2'!#REF! -> #REF! | C9: ='v2'!#REF! -> #REF! | D9: 1 | F9: ='v2'!EB14 -> U24 | G9: laisser Vide | H9: laisser Vide | I9: laisser Vide | J9: laisser Vide | K9: ='v2'!#REF! -> #REF!
A10: 41768 | B10: ='v2'!#REF! -> #REF! | C10: ='v2'!#REF! -> #REF! | D10: 1 | F10: ='v2'!EH14 -> U15 | G10: laisser Vide | H10: laisser Vide | I10: laisser Vide | J10: laisser Vide | K10: ='v2'!#REF! -> #REF!
A11: 41768 | B11: ='v2'!#REF! -> #REF! | C11: ='v2'!#REF! -> #REF! | D11: 1 | F11: ='v2'!EN14 -> U30 | G11: laisser Vide | H11: laisser Vide | I11: laisser Vide | J11: laisser Vide | K11: ='v2'!#REF! -> #REF!
A12: 41768 | B12: 0.010844907 | C12: CID0100 | D12: 1 | F12: ='v2'!ET14 -> U17 | G12: laisser Vide | H12: laisser Vide | I12: laisser Vide | J12: laisser Vide | K12: ='v2'!#REF! -> #REF!
A13: 41768 | B13: 0.010844907 | C13: CID0100 | D13: 1 | F13: ='v2'!FF14 -> U8 | G13: laisser Vide | H13: laisser Vide | I13: laisser Vide | J13: laisser Vide | K13: ='v2'!#REF! -> #REF!
A14: 41768 | B14: 0.010844907 | C14: CID0100 | D14: 1 | F14: ='v2'!FR14 -> U4 | G14: laisser Vide | H14: laisser Vide | I14: laisser Vide | J14: laisser Vide | K14: ='v2'!#REF! -> #REF!
A15: 41768 | B15: 0.010844907 | C15: CID0100 | D15: 1 | F15: ='v2'!FX14 -> U12 | G15: laisser Vide | H15: laisser Vide | I15: laisser Vide | J15: laisser Vide | K15: ='v2'!#REF! -> #REF!
A16: 41768 | B16: 0.010844907 | C16: CID0100 | D16: 1 | F16: ='v2'!GJ14 -> U39 | G16: laisser Vide | H16: laisser Vide | I16: laisser Vide | J16: laisser Vide | K16: ='v2'!#REF! -> #REF!
A17: 41768 | B17: 0.010844907 | C17: CID0100 | D17: 1 | F17: ='v2'!GP14 -> U5 | G17: laisser Vide | H17: laisser Vide | I17: laisser Vide | J17: laisser Vide | K17: ='v2'!#REF! -> #REF!
A18: 41768 | B18: 0.052511574 | C18: CID0100 | D18: 2 | F18: U4 | G18: laisser Vide | H18: laisser Vide | I18: laisser Vide | J18: laisser Vide | K18: ='v2'!#REF! -> #REF!
A19: 41768 | B19: 0.094178241 | C19: CID0100 | D19: 2 | F19: U44 | G19: laisser Vide | H19: laisser Vide | I19: laisser Vide | J19: laisser Vide | K19: ='v2'!#REF! -> #REF!
F20: Etc…. | G20: laisser Vide | H20: laisser Vide | I20: laisser Vide | J20: laisser Vide
A21: ►Changement de Date Proc change SLA! A2252 non fixe tjrs encadré par ###### xx/xx/xxxx#######
A22: ►Date Time évolue à chaque changement de LOT_ID

Sheet v2
A1: *** Wafer History Report ***
A3: ** Report Period **
B4: 2015/03/30_02:48:15 - 2015/04/11_14:22:44
A6: ** System Model Information **
B7: Equipment Name
B8: Model Name | C8: SK-2000
B9: Serial Number | C9: 63700-1510
B10: DNS Version | C10: SK2000 B33D000
B11: Created Date | C11: 39199
A13: ** Wafer History **
A14: No | B14: Stage | C14: Slot | D14: Carrier Id | E14: ControlJob Id | F14: ProcessJob Id | J14: U29 | P14: 22:IF-B(U22) | V14: 1:ID(U1) | X14: U33 | AD14: U9 | AJ14: U11 | AP14: U34 | AV14: U3 | BB14: U25 | BH14: U18 | BN14: U44 | BT14: 21:IF-A(U21) | BZ14: U28 | CF14: U10 | CL14: U27 | CR14: U35 | CX14: U13 | DD14: U36 | DJ14: U7 | DP14: U31 | DV14: U6 | EB14: U24 | EH14: U15 | EN14: U30 | ET14: U17 | EZ14: U26 | FF14: U8 | FL14: U14 | FR14: U4 | FX14: U12 | GD14: U43 | GJ14: U39 | GP14: U5 | GV14: U42 | HB14: U20 | HH14: U16 | HN14: U19 | HT14: U37 | HZ14: U38 | IF14: U45 | IL14: U46 | IR14: U47
G15: Flow | H15: Start time | I15: End time | J15: Time when the unit received the wafer | K15: Time when the unit started prcessing of a wafer | L15: Time when the unit completed processing of a wafer | M15: Time when the unit took out the wafer | N15: Processing time | O15: Time when the unit maintained the wafer | P15: Time when the unit received the wafer | Q15: Time when the unit started prcessing of a wafer | R15: Time when the unit completed processing of a wafer | S15: Time when the unit took out the wafer | T15: Processing time | U15: Time when the unit maintained the wafer | V15: Start time | W15: End time | X15: Time when the unit received the wafer | Y15: Time when the unit started prcessing of a wafer | Z15: Time when the unit completed processing of a wafer | AA15: Time when the unit took out the wafer | AB15: Processing time | AC15: Time when the unit maintained the wafer | AD15: Time when the unit received the wafer | AE15: Time when the unit started prcessing of a wafer | AF15: Time when the unit completed processing of a wafer | AG15: Time when the unit took out the wafer | AH15: Processing time | AI15: Time when the unit maintained the wafer | AJ15: Time when the unit received the wafer | AK15: Time when the unit started prcessing of a wafer | AL15: Time when the unit completed processing of a wafer | AM15: Time when the unit took out the wafer | AN15: Processing time | AO15: Time when the unit maintained the wafer | AP15: Time when the unit received the wafer | AQ15: Time when the unit started prcessing of a wafer | AR15: Time when the unit completed processing of a wafer | AS15: Time when the unit took out the wafer | AT15: Processing time | AU15: Time when the unit maintained the wafer | AV15: Time when the unit received the wafer | AW15: Time when the unit started prcessing of a wafer | AX15: Time when the unit completed processing of a wafer | AY15: Time when the unit took out the wafer | AZ15: Processing time | BA15: Time when the unit maintained the wafer | BB15: Time when the unit received the wafer | BC15: Time when the unit started prcessing of a wafer | BD15: Time when the unit completed processing of a wafer | BE15: Time when the unit took out the wafer | BF15: Processing time | BG15: Time when the unit maintained the wafer | BH15: Time when the unit received the wafer | BI15: Time when the unit started prcessing of a wafer | BJ15: Time when the unit completed processing of a wafer | BK15: Time when the unit took out the wafer | BL15: Processing time | BM15: Time when the unit maintained the wafer | BN15: Time when the unit received the wafer | BO15: Time when the unit started prcessing of a wafer | BP15: Time when the unit completed processing of a wafer | BQ15: Time when the unit took out the wafer | BR15: Processing time | BS15: Time when the unit maintained the wafer | BT15: Time when the unit received the wafer | BU15: Time when the unit started prcessing of a wafer | BV15: Time when the unit completed processing of a wafer | BW15: Time when the unit took out the wafer | BX15: Processing time | BY15: Time when the unit maintained the wafer | BZ15: Time when the unit received the wafer | CA15: Time when the unit started prcessing of a wafer | CB15: Time when the unit completed processing of a wafer | CC15: Time when the unit took out the wafer | CD15: Processing time | CE15: Time when the unit maintained the wafer | CF15: Time when the unit received the wafer | CG15: Time when the unit started prcessing of a wafer | CH15: Time when the unit completed processing of a wafer | CI15: Time when the unit took out the wafer | CJ15: Processing time | CK15: Time when the unit maintained the wafer | CL15: Time when the unit received the wafer | CM15: Time when the unit started prcessing of a wafer | CN15: Time when the unit completed processing of a wafer | CO15: Time when the unit took out the wafer | CP15: Processing time | CQ15: Time when the unit maintained the wafer | CR15: Time when the unit received the wafer | CS15: Time when the unit started prcessing of a wafer | CT15: Time when the unit completed processing of a wafer | CU15: Time when the unit took out the wafer | CV15: Processing time | CW15: Time when the unit maintained the wafer | CX15: Time when the unit received the wafer | CY15: Time when the unit started prcessing of a wafer | CZ15: Time when the unit completed processing of a wafer | DA15: Time when the unit took out the wafer | DB15: Processing time | DC15: Time when the unit maintained the wafer | DD15: Time when the unit received the wafer | DE15: Time when the unit started prcessing of a wafer | DF15: Time when the unit completed processing of a wafer | DG15: Time when the unit took out the wafer | DH15: Processing time | DI15: Time when the unit maintained the wafer | DJ15: Time when the unit received the wafer | DK15: Time when the unit started prcessing of a wafer | DL15: Time when the unit completed processing of a wafer | DM15: Time when the unit took out the wafer | DN15: Processing time | DO15: Time when the unit maintained the wafer | DP15: Time when the unit received the wafer | DQ15: Time when the unit started prcessing of a wafer | DR15: Time when the unit completed processing of a wafer | DS15: Time when the unit took out the wafer | DT15: Processing time | DU15: Time when the unit maintained the wafer | DV15: Time when the unit received the wafer | DW15: Time when the unit started prcessing of a wafer | DX15: Time when the unit completed processing of a wafer | DY15: Time when the unit took out the wafer | DZ15: Processing time | EA15: Time when the unit maintained the wafer | EB15: Time when the unit received the wafer | EC15: Time when the unit started prcessing of a wafer | ED15: Time when the unit completed processing of a wafer | EE15: Time when the unit took out the wafer | EF15: Processing time | EG15: Time when the unit maintained the wafer | EH15: Time when the unit received the wafer | EI15: Time when the unit started prcessing of a wafer | EJ15: Time when the unit completed processing of a wafer | EK15: Time when the unit took out the wafer | EL15: Processing time | EM15: Time when the unit maintained the wafer | EN15: Time when the unit received the wafer | EO15: Time when the unit started prcessing of a wafer | EP15: Time when the unit completed processing of a wafer | EQ15: Time when the unit took out the wafer | ER15: Processing time | ES15: Time when the unit maintained the wafer | ET15: Time when the unit received the wafer | EU15: Time when the unit started prcessing of a wafer | EV15: Time when the unit completed processing of a wafer | EW15: Time when the unit took out the wafer | EX15: Processing time | EY15: Time when the unit maintained the wafer | EZ15: Time when the unit received the wafer | FA15: Time when the unit started prcessing of a wafer | FB15: Time when the unit completed processing of a wafer | FC15: Time when the unit took out the wafer | FD15: Processing time | FE15: Time when the unit maintained the wafer | FF15: Time when the unit received the wafer | FG15: Time when the unit started prcessing of a wafer | FH15: Time when the unit completed processing of a wafer | FI15: Time when the unit took out the wafer | FJ15: Processing time | FK15: Time when the unit maintained the wafer | FL15: Time when the unit received the wafer | FM15: Time when the unit started prcessing of a wafer | FN15: Time when the unit completed processing of a wafer | FO15: Time when the unit took out the wafer | FP15: Processing time | FQ15: Time when the unit maintained the wafer | FR15: Time when the unit received the wafer | FS15: Time when the unit started prcessing of a wafer | FT15: Time when the unit completed processing of a wafer | FU15: Time when the unit took out the wafer | FV15: Processing time | FW15: Time when the unit maintained the wafer | FX15: Time when the unit received the wafer | FY15: Time when the unit started prcessing of a wafer | FZ15: Time when the unit completed processing of a wafer | GA15: Time when the unit took out the wafer | GB15: Processing time | GC15: Time when the unit maintained the wafer | GD15: Time when the unit received the wafer | GE15: Time when the unit started prcessing of a wafer | GF15: Time when the unit completed processing of a wafer | GG15: Time when the unit took out the wafer | GH15: Processing time | GI15: Time when the unit maintained the wafer | GJ15: Time when the unit received the wafer | GK15: Time when the unit started prcessing of a wafer | GL15: Time when the unit completed processing of a wafer | GM15: Time when the unit took out the wafer | GN15: Processing time | GO15: Time when the unit maintained the wafer | GP15: Time when the unit received the wafer | GQ15: Time when the unit started prcessing of a wafer | GR15: Time when the unit completed processing of a wafer | GS15: Time when the unit took out the wafer | GT15: Processing time | GU15: Time when the unit maintained the wafer | GV15: Time when the unit received the wafer | GW15: Time when the unit started prcessing of a wafer | GX15: Time when the unit completed processing of a wafer | GY15: Time when the unit took out the wafer | GZ15: Processing time | HA15: Time when the unit maintained the wafer | HB15: Time when the unit received the wafer | HC15: Time when the unit started prcessing of a wafer | HD15: Time when the unit completed processing of a wafer | HE15: Time when the unit took out the wafer | HF15: Processing time | HG15: Time when the unit maintained the wafer | HH15: Time when the unit received the wafer | HI15: Time when the unit started prcessing of a wafer | HJ15: Time when the unit completed processing of a wafer | HK15: Time when the unit took out the wafer | HL15: Processing time | HM15: Time when the unit maintained the wafer | HN15: Time when the unit received the wafer | HO15: Time when the unit started prcessing of a wafer | HP15: Time when the unit completed processing of a wafer | HQ15: Time when the unit took out the wafer | HR15: Processing time | HS15: Time when the unit maintained the wafer | HT15: Time when the unit received the wafer | HU15: Time when the unit started prcessing of a wafer | HV15: Time when the unit completed processing of a wafer | HW15: Time when the unit took out the wafer | HX15: Processing time | HY15: Time when the unit maintained the wafer | HZ15: Time when the unit received the wafer | IA15: Time when the unit started prcessing of a wafer | IB15: Time when the unit completed processing of a wafer | IC15: Time when the unit took out the wafer | ID15: Processing time | IE15: Time when the unit maintained the wafer | IF15: Time when the unit received the wafer | IG15: Time when the unit started prcessing of a wafer | IH15: Time when the unit completed processing of a wafer | II15: Time when the unit took out the wafer | IJ15: Processing time | IK15: Time when the unit maintained the wafer | IL15: Time when the unit received the wafer | IM15: Time when the unit started prcessing of a wafer | IN15: Time when the unit completed processing of a wafer | IO15: Time when the unit took out the wafer | IP15: Processing time | IQ15: Time when the unit maintained the wafer | IR15: Time when the unit received the wafer | IS15: Time when the unit started prcessing of a wafer | IT15: Time when the unit completed processing of a wafer | IU15: Time when the unit took out the wafer | IV15: Processing time | IW15: Time when the unit maintained the wafer
A16: ###########################2015/04/10###########################
A17: 19615 | B17: 2 | C17: 2 | D17: CID0190 | E17: CJID0184 | F17: PRID0220 | G17: 48 | H17: 0.99493056 | I17: 0.030451389 | J17: 0.0020138889 | K17: 0.002025463 | L17: 0.0024305556 | M17: 0.0027893519 | N17: 0.00040509259 | O17: 0.00077546296 | P17: 0.0083680556 | Q17: 0.012002315 | R17: 0.01443287 | S17: 0.015555556 | T17: 0.0024305556 | U17: 0.0071875 | V17: 0.00015046296 | W17: 0.021157407 | X17: 0.0028356481 | Y17: 0.0028472222 | Z17: 0.0034143519 | AA17: 0.0036342593 | AB17: 0.00056712963 | AC17: 0.00079861111 | AP17: 0.0036921296 | AQ17: 0.0036921296 | AR17: 0.0044212963 | AS17: 0.0044675926 | AT17: 0.00072916667 | AU17: 0.00077546296 | BT17: 0.00032407407 | BW17: 0.00069444444 | BX17: 0 | BY17: 0.00037037037 | BZ17: 0.00075231481 | CA17: 0.00075231481 | CB17: 0.0010763889 | CC17: 0.0011342593 | CD17: 0.00032407407 | CE17: 0.00038194444 | CL17: 0.0011805556 | CM17: 0.0012037037 | CN17: 0.0017824074 | CO17: 0.0019675926 | CP17: 0.0005787037 | CQ17: 0.00078703704 | DJ17: 0.016863426 | DK17: 0.016863426 | DL17: 0.017592593 | DM17: 0.018020833 | DN17: 0.00072916667 | DO17: 0.0011574074 | EB17: 0.004525463 | EC17: 0.0045601852 | ED17: 0.0051388889 | EE17: 0.0053009259 | EF17: 0.0005787037 | EG17: 0.00077546296 | ET17: 0.0075231481 | EU17: 0.0075810185 | EV17: 0.0077662037 | EW17: 0.0083101852 | EX17: 0.00018518519 | EY17: 0.00078703704 | FR17: 0.018078704 | FS17: 0.018101852 | FT17: 0.019571759 | FU17: 0.019664352 | FV17: 0.0014699074 | FW17: 0.0015856481 | FX17: 0.019710648 | FY17: 0.019722222 | FZ17: 0.020821759 | GA17: 0.020949074 | GB17: 0.001099537 | GC17: 0.0012384259 | GV17: 0.0065972222 | GW17: 0.0066087963 | GX17: 0.0073263889 | GY17: 0.0073842593 | GZ17: 0.00071759259 | HA17: 0.00078703704 | HN17: 0.015625 | HO17: 0.015636574 | HP17: 0.016724537 | HQ17: 0.016793981 | HR17: 0.001087963 | HS17: 0.0011689815 | IR17: 0.0053587963 | IS17: 0.0053703704 | IT17: 0.0064583333 | IU17: 0.0065509259 | IV17: 0.001087963 | IW17: 0.0011921296
A18: 19616 | B18: 2 | C18: 3 | D18: CID0190 | E18: CJID0184 | F18: PRID0220 | G18: 48 | H18: 0.99493056 | I18: 0.030451389 | P18: 0.0087847222 | Q18: 0.012372685 | R18: 0.014733796 | S18: 0.015960648 | T18: 0.0023611111 | U18: 0.0071759259 | V18: 0.00052083333 | W18: 0.021597222 | AV18: 0.01849537 | AW18: 0.018518519 | AX18: 0.019988426 | AY18: 0.020081019 | AZ18: 0.0014699074 | BA18: 0.0015856481 | BB18: 0.0049305556 | BC18: 0.0049537037 | BD18: 0.0055324074 | BE18: 0.0057060185 | BF18: 0.0005787037 | BG18: 0.00077546296 | BH18: 0.020150463 | BI18: 0.020150463 | BJ18: 0.02125 | BK18: 0.02130787 | BL18: 0.001099537 | BM18: 0.0011574074 | BN18: 0.0057638889 | BO18: 0.0057638889 | BP18: 0.0068634259 | BQ18: 0.0069444444 | BR18: 0.001099537 | BS18: 0.0011805556 | BT18: 0.00075231481 | BW18: 0.0010648148 | BX18: 0 | BY18: 0.0003125 | BZ18: 0.0011458333 | CA18: 0.0011458333 | CB18: 0.0014583333 | CC18: 0.0015277778 | CD18: 0.0003125 | CE18: 0.00038194444 | CF18: 0.0079398148 | CG18: 0.0080092593 | CH18: 0.0081944444 | CI18: 0.0087384259 | CJ18: 0.00018518519 | CK18: 0.00079861111 | CR18: 0.0024189815 | CS18: 0.0024189815 | CT18: 0.0028240741 | CU18: 0.0031944444 | CV18: 0.00040509259 | CW18: 0.00077546296 | DD18: 0.0032523148 | DE18: 0.0032638889 | DF18: 0.0038310185 | DG18: 0.0040277778 | DH18: 0.00056712963 | DI18: 0.00077546296 | DP18: 0.0040856481 | DQ18: 0.0040856481 | DR18: 0.0048148148 | DS18: 0.0048726852 | DT18: 0.00072916667 | DU18: 0.00078703704 | EZ18: 0.0015856481 | FA18: 0.0016087963 | FB18: 0.0021875 | FC18: 0.0023611111 | FD18: 0.0005787037 | FE18: 0.00077546296 | FL18: 0.01724537 | FM18: 0.017256944 | FN18: 0.017974537 | FO18: 0.0184375 | FP18: 0.00071759259 | FQ18: 0.0011921296 | GJ18: 0.007025463 | GK18: 0.007025463 | GL18: 0.0077546296 | GM18: 0.0078125 | GN18: 0.00072916667 | GO18: 0.00078703704 | HH18: 0.016018519 | HI18: 0.016018519 | HJ18: 0.017118056 | HK18: 0.0171875 | HL18: 0.001099537 | HM18: 0.0011689815
A19: 19617 | B19: 2 | C19: 4 | D19: CID0190 | E19: CJID0184 | F19: PRID0220 | G19: 48 | H19: 0.99493056 | I19: 0.030451389 | J19: 0.0028009259 | K19: 0.0028009259 | L19: 0.0032060185 | M19: 0.003587963 | N19: 0.00040509259 | O19: 0.00078703704 | P19: 0.0091550926 | Q19: 0.01275463 | R19: 0.015034722 | S19: 0.016365741 | T19: 0.0022800926 | U19: 0.0072106481 | V19: 0.00094907407 | W19: 0.021990741 | X19: 0.0036458333 | Y19: 0.0036458333 | Z19: 0.004224537 | AA19: 0.0044212963 | AB19: 0.0005787037 | AC19: 0.00077546296 | AJ19: 0.017662037 | AK19: 0.017662037 | AL19: 0.018391204 | AM19: 0.01880787 | AN19: 0.00072916667 | AO19: 0.0011458333 | AP19: 0.0044907407 | AQ19: 0.0045023148 | AR19: 0.0052083333 | AS19: 0.0052662037 | AT19: 0.00070601852 | AU19: 0.00077546296 | BT19: 0.0011226852 | BW19: 0.0014930556 | BX19: 0 | BY19: 0.00037037037 | BZ19: 0.0015393519 | CA19: 0.0015509259 | CB19: 0.001875 | CC19: 0.0019212963 | CD19: 0.00032407407 | CE19: 0.00038194444 | CL19: 0.0019791667 | CM19: 0.0020023148 | CN19: 0.0025694444 | CO19: 0.0027430556 | CP19: 0.00056712963 | CQ19: 0.00076388889 | EB19: 0.0053125 | EC19: 0.0053356481 | ED19: 0.0059143519 | EE19: 0.006087963 | EF19: 0.0005787037 | EG19: 0.00077546296 | EH19: 0.020520833 | EI19: 0.020532407 | EJ19: 0.021643519 | EK19: 0.021747685 | EL19: 0.0011111111 | EM19: 0.0012268519 | ET19: 0.0083217593 | EU19: 0.0083912037 | EV19: 0.0085763889 | EW19: 0.0091087963 | EX19: 0.00018518519 | EY19: 0.00078703704 | GD19: 0.0061458333 | GE19: 0.0061458333 | GF19: 0.0072453704 | GG19: 0.007349537 | GH19: 0.001099537 | GI19: 0.0012037037 | GP19: 0.018865741 | GQ19: 0.018888889 | GR19: 0.020381944 | GS19: 0.020474537 | GT19: 0.0014930556 | GU19: 0.0016087963 | GV19: 0.0073958333 | GW19: 0.0074074074 | GX19: 0.008125 | GY19: 0.0081828704 | GZ19: 0.00071759259 | HA19: 0.00078703704 | HB19: 0.016423611 | HC19: 0.016423611 | HD19: 0.017523148 | HE19: 0.017615741 | HF19: 0.001099537 | HG19: 0.0011921296
A20: ###########################2015/04/11###########################
A21: 21825 | B21: 2 | C21: 3 | D21: CID0282 | E21: CJID0276 | F21: PRID0318 | G21: 156 | H21: 0.99040509 | I21: 0.028900463 | P21: 0.0086226852 | Q21: 0.010162037 | R21: 0.011770833 | S21: 0.013831019 | T21: 0.0016087963 | U21: 0.0052083333 | V21: 0.00032407407 | W21: 0.019328704 | X21: 0.0031134259 | Y21: 0.0031134259 | Z21: 0.0036921296 | AA21: 0.0038425926 | AB21: 0.0005787037 | AC21: 0.00072916667 | AJ21: 0.015069444 | AK21: 0.015081019 | AL21: 0.015810185 | AM21: 0.016284722 | AN21: 0.00072916667 | AO21: 0.0012152778 | AV21: 0.016331019 | AW21: 0.016354167 | AX21: 0.017824074 | AY21: 0.01787037 | AZ21: 0.0014699074 | BA21: 0.0015393519 | BB21: 0.0047685185 | BC21: 0.0047800926 | BD21: 0.0053703704 | BE21: 0.0055439815 | BF21: 0.00059027778 | BG21: 0.00077546296 | BN21: 0.0056018519 | BO21: 0.0056134259 | BP21: 0.0067013889 | BQ21: 0.0068171296 | BR21: 0.001087963 | BS21: 0.0012152778 | BT21: 0.00052083333 | BW21: 0.00087962963 | BX21: 0 | BY21: 0.0003587963 | BZ21: 0.00092592593 | CA21: 0.00092592593 | CB21: 0.00125 | CC21: 0.0013194444 | CD21: 0.00032407407 | CE21: 0.00039351852 | CR21: 0.0021990741 | CS21: 0.0021990741 | CT21: 0.0026041667 | CU21: 0.0030324074 | CV21: 0.00040509259 | CW21: 0.00083333333 | DP21: 0.0039351852 | DQ21: 0.0039467593 | DR21: 0.0046643519 | DS21: 0.0047222222 | DT21: 0.00071759259 | DU21: 0.00078703704 | EH21: 0.017916667 | EI21: 0.017928241 | EJ21: 0.019016204 | EK21: 0.019108796 | EL21: 0.001087963 | EM21: 0.0011921296 | ET21: 0.0077777778 | EU21: 0.0078472222 | EV21: 0.0080324074 | EW21: 0.0085763889 | EX21: 0.00018518519 | EY21: 0.00079861111 | EZ21: 0.0013657407 | FA21: 0.001400463 | FB21: 0.0019907407 | FC21: 0.0021527778 | FD21: 0.00059027778 | FE21: 0.00078703704 | GV21: 0.0068634259 | GW21: 0.0068634259 | GX21: 0.0075925926 | GY21: 0.0076388889 | GZ21: 0.00072916667 | HA21: 0.00077546296 | HN21: 0.013877315 | HO21: 0.013877315 | HP21: 0.014965278 | HQ21: 0.015023148 | HR21: 0.001087963 | HS21: 0.0011458333
A22: 21826 | B22: 2 | C22: 4 | D22: CID0282 | E22: CJID0276 | F22: PRID0318 | G22: 156 | H22: 0.99040509 | I22: 0.028900463 | J22: 0.0026157407 | K22: 0.0026157407 | L22: 0.0030439815 | M22: 0.0034143519 | N22: 0.00042824074 | O22: 0.00079861111 | P22: 0.0090509259 | Q22: 0.010451389 | R22: 0.012083333 | S22: 0.014212963 | T22: 0.0016319444 | U22: 0.005162037 | V22: 0.00072916667 | W22: 0.019733796 | AP22: 0.0043171296 | AQ22: 0.0043171296 | AR22: 0.0050462963 | AS22: 0.0051157407 | AT22: 0.00072916667 | AU22: 0.00079861111 | BH22: 0.018298611 | BI22: 0.018310185 | BJ22: 0.019398148 | BK22: 0.019456019 | BL22: 0.001087963 | BM22: 0.0011574074 | BT22: 0.00092592593 | BW22: 0.0012731481 | BX22: 0 | BY22: 0.00034722222 | BZ22: 0.0013310185 | CA22: 0.0013310185 | CB22: 0.0016550926 | CC22: 0.001712963 | CD22: 0.00032407407 | CE22: 0.00038194444 | CF22: 0.0082060185 | CG22: 0.0082638889 | CH22: 0.0084606481 | CI22: 0.0090046296 | CJ22: 0.00019675926 | CK22: 0.00079861111 | CL22: 0.0017708333 | CM22: 0.0017939815 | CN22: 0.0023726852 | CO22: 0.0025578704 | CP22: 0.0005787037 | CQ22: 0.00078703704 | DD22: 0.0034722222 | DE22: 0.0034722222 | DF22: 0.0040393519 | DG22: 0.0042708333 | DH22: 0.00056712963 | DI22: 0.00079861111 | EB22: 0.005162037 | EC22: 0.0051967593 | ED22: 0.005787037 | EE22: 0.0059722222 | EF22: 0.00059027778 | EG22: 0.00081018519 | FL22: 0.015509259 | FM22: 0.015509259 | FN22: 0.016238426 | FO22: 0.016655093 | FP22: 0.00072916667 | FQ22: 0.0011458333 | FR22: 0.016712963 | FS22: 0.016736111 | FT22: 0.018206019 | FU22: 0.018252315 | FV22: 0.0014699074 | FW22: 0.0015393519 | GD22: 0.0060185185 | GE22: 0.0060300926 | GF22: 0.0071296296 | GG22: 0.0071990741 | GH22: 0.001099537 | GI22: 0.0011805556 | GJ22: 0.0072800926 | GK22: 0.0072800926 | GL22: 0.0080092593 | GM22: 0.0080671296 | GN22: 0.00072916667 | GO22: 0.00078703704 | HH22: 0.014270833 | HI22: 0.014270833 | HJ22: 0.015358796 | HK22: 0.015462963 | HL22: 0.001087963 | HM22: 0.0011921296

Sheet Classified as UnClassified

Sheet xl_DCF_History
A1: CLINAME | B1: DATETIME | C1: DONEBY | D1: IPADDRESS | E1: APPVER | F1: RANDOM | G1: CHECKSUM
A2: ཡེཏླྀ཭ཿཿཱཱཱིུུ཰ | B2: ཁ༻༽༼༻༾༼༽ཀ༬༬༽༼ཆ༾ཁཌྷཙ༬༴ནཙའ༷༾ཆ༼༵ | C2: ཟའཨཐ཭ཱཱེུླྀ༬ཱིཾཱུཹ཭ཱྀ཰ | D2: ཞཛཡ༼ཀ༾ཅ༽ | E2: ཀ༺༼༺༾༺༼ | F2: 12 | G2: ཀགྷངང

Sheet v1
B1: No. | C1: Stage | D1: Slot | E1: Lot | I1: ID(U1) | K1: U3 | Q1: U4 | W1: U5 | AC1: U6 | AI1: U7 | AO1: U8 | AU1: U9 | BA1: U10 | BG1: U11 | BM1: U12 | BS1: U13 | BY1: U14 | CE1: U15 | CK1: U16 | CQ1: U17 | CW1: U18 | DC1: U19 | DI1: U20 | DO1: U21 | DU1: U25 | EA1: U26 | EG1: U27 | EM1: U28 | ES1: U29 | EY1: U30 | FE1: U31 | FK1: U32 | FQ1: U33 | FW1: U34 | GC1: U35 | GI1: U36 | GO1: U37 | GU1: U38 | HA1: U39 | HG1: U40 | HM1: U41 | HS1: U42 | HY1: U43 | IE1: U44 | IK1: U45 | IQ1: IF-B(U23) | IS1: IF-A(U22)
E2: ID | F2: Flow | G2: Start time | H2: End time | I2: Start time | J2: End time | K2: Time when the unit received the wafer | L2: Time when the unit started prcessing of a wafer | M2: Time when the unit completed processing of a wafer | N2: Time when the unit took out the wafer | O2: Processing time | P2: Time when the unit maintained the wafer | Q2: Time when the unit received the wafer | R2: Time when the unit started prcessing of a wafer | S2: Time when the unit completed processing of a wafer | T2: Time when the unit took out the wafer | U2: Processing time | V2: Time when the unit maintained the wafer | W2: Time when the unit received the wafer | X2: Time when the unit started prcessing of a wafer | Y2: Time when the unit completed processing of a wafer | Z2: Time when the unit took out the wafer | AA2: Processing time | AB2: Time when the unit maintained the wafer | AC2: Time when the unit received the wafer | AD2: Time when the unit started prcessing of a wafer | AE2: Time when the unit completed processing of a wafer | AF2: Time when the unit took out the wafer | AG2: Processing time | AH2: Time when the unit maintained the wafer | AI2: Time when the unit received the wafer | AJ2: Time when the unit started prcessing of a wafer | AK2: Time when the unit completed processing of a wafer | AL2: Time when the unit took out the wafer | AM2: Processing time | AN2: Time when the unit maintained the wafer | AO2: Time when the unit received the wafer | AP2: Time when the unit started prcessing of a wafer | AQ2: Time when the unit completed processing of a wafer | AR2: Time when the unit took out the wafer | AS2: Processing time | AT2: Time when the unit maintained the wafer | AU2: Time when the unit received the wafer | AV2: Time when the unit started prcessing of a wafer | AW2: Time when the unit completed processing of a wafer | AX2: Time when the unit took out the wafer | AY2: Processing time | AZ2: Time when the unit maintained the wafer | BA2: Time when the unit received the wafer | BB2: Time when the unit started prcessing of a wafer | BC2: Time when the unit completed processing of a wafer | BD2: Time when the unit took out the wafer | BE2: Processing time | BF2: Time when the unit maintained the wafer | BG2: Time when the unit received the wafer | BH2: Time when the unit started prcessing of a wafer | BI2: Time when the unit completed processing of a wafer | BJ2: Time when the unit took out the wafer | BK2: Processing time | BL2: Time when the unit maintained the wafer | BM2: Time when the unit received the wafer | BN2: Time when the unit started prcessing of a wafer | BO2: Time when the unit completed processing of a wafer | BP2: Time when the unit took out the wafer | BQ2: Processing time | BR2: Time when the unit maintained the wafer | BS2: Time when the unit received the wafer | BT2: Time when the unit started prcessing of a wafer | BU2: Time when the unit completed processing of a wafer | BV2: Time when the unit took out the wafer | BW2: Processing time | BX2: Time when the unit maintained the wafer | BY2: Time when the unit received the wafer | BZ2: Time when the unit started prcessing of a wafer | CA2: Time when the unit completed processing of a wafer | CB2: Time when the unit took out the wafer | CC2: Processing time | CD2: Time when the unit maintained the wafer | CE2: Time when the unit received the wafer | CF2: Time when the unit started prcessing of a wafer | CG2: Time when the unit completed processing of a wafer | CH2: Time when the unit took out the wafer | CI2: Processing time | CJ2: Time when the unit maintained the wafer | CK2: Time when the unit received the wafer | CL2: Time when the unit started prcessing of a wafer | CM2: Time when the unit completed processing of a wafer | CN2: Time when the unit took out the wafer | CO2: Processing time | CP2: Time when the unit maintained the wafer | CQ2: Time when the unit received the wafer | CR2: Time when the unit started prcessing of a wafer | CS2: Time when the unit completed processing of a wafer | CT2: Time when the unit took out the wafer | CU2: Processing time | CV2: Time when the unit maintained the wafer | CW2: Time when the unit received the wafer | CX2: Time when the unit started prcessing of a wafer | CY2: Time when the unit completed processing of a wafer | CZ2: Time when the unit took out the wafer | DA2: Processing time | DB2: Time when the unit maintained the wafer | DC2: Time when the unit received the wafer | DD2: Time when the unit started prcessing of a wafer | DE2: Time when the unit completed processing of a wafer | DF2: Time when the unit took out the wafer | DG2: Processing time | DH2: Time when the unit maintained the wafer | DI2: Time when the unit received the wafer | DJ2: Time when the unit started prcessing of a wafer | DK2: Time when the unit completed processing of a wafer | DL2: Time when the unit took out the wafer | DM2: Processing time | DN2: Time when the unit maintained the wafer | DO2: Time when the unit received the wafer | DP2: Time when the unit started prcessing of a wafer | DQ2: Time when the unit completed processing of a wafer | DR2: Time when the unit took out the wafer | DS2: Processing time | DT2: Time when the unit maintained the wafer | DU2: Time when the unit received the wafer | DV2: Time when the unit started prcessing of a wafer | DW2: Time when the unit completed processing of a wafer | DX2: Time when the unit took out the wafer | DY2: Processing time | DZ2: Time when the unit maintained the wafer | EA2: Time when the unit received the wafer | EB2: Time when the unit started prcessing of a wafer | EC2: Time when the unit completed processing of a wafer | ED2: Time when the unit took out the wafer | EE2: Processing time | EF2: Time when the unit maintained the wafer | EG2: Time when the unit received the wafer | EH2: Time when the unit started prcessing of a wafer | EI2: Time when the unit completed processing of a wafer | EJ2: Time when the unit took out the wafer | EK2: Processing time | EL2: Time when the unit maintained the wafer | EM2: Time when the unit received the wafer | EN2: Time when the unit started prcessing of a wafer | EO2: Time when the unit completed processing of a wafer | EP2: Time when the unit took out the wafer | EQ2: Processing time | ER2: Time when the unit maintained the wafer | ES2: Time when the unit received the wafer | ET2: Time when the unit started prcessing of a wafer | EU2: Time when the unit completed processing of a wafer | EV2: Time when the unit took out the wafer | EW2: Processing time | EX2: Time when the unit maintained the wafer | EY2: Time when the unit received the wafer | EZ2: Time when the unit started prcessing of a wafer | FA2: Time when the unit completed processing of a wafer | FB2: Time when the unit took out the wafer | FC2: Processing time | FD2: Time when the unit maintained the wafer | FE2: Time when the unit received the wafer | FF2: Time when the unit started prcessing of a wafer | FG2: Time when the unit completed processing of a wafer | FH2: Time when the unit took out the wafer | FI2: Processing time | FJ2: Time when the unit maintained the wafer | FK2: Time when the unit received the wafer | FL2: Time when the unit started prcessing of a wafer | FM2: Time when the unit completed processing of a wafer | FN2: Time when the unit took out the wafer | FO2: Processing time | FP2: Time when the unit maintained the wafer | FQ2: Time when the unit received the wafer | FR2: Time when the unit started prcessing of a wafer | FS2: Time when the unit completed processing of a wafer | FT2: Time when the unit took out the wafer | FU2: Processing time | FV2: Time when the unit maintained the wafer | FW2: Time when the unit received the wafer | FX2: Time when the unit started prcessing of a wafer | FY2: Time when the unit completed processing of a wafer | FZ2: Time when the unit took out the wafer | GA2: Processing time | GB2: Time when the unit maintained the wafer | GC2: Time when the unit received the wafer | GD2: Time when the unit started prcessing of a wafer | GE2: Time when the unit completed processing of a wafer | GF2: Time when the unit took out the wafer | GG2: Processing time | GH2: Time when the unit maintained the wafer | GI2: Time when the unit received the wafer | GJ2: Time when the unit started prcessing of a wafer | GK2: Time when the unit completed processing of a wafer | GL2: Time when the unit took out the wafer | GM2: Processing time | GN2: Time when the unit maintained the wafer | GO2: Time when the unit received the wafer | GP2: Time when the unit started prcessing of a wafer | GQ2: Time when the unit completed processing of a wafer | GR2: Time when the unit took out the wafer | GS2: Processing time | GT2: Time when the unit maintained the wafer | GU2: Time when the unit received the wafer | GV2: Time when the unit started prcessing of a wafer | GW2: Time when the unit completed processing of a wafer | GX2: Time when the unit took out the wafer | GY2: Processing time | GZ2: Time when the unit maintained the wafer | HA2: Time when the unit received the wafer | HB2: Time when the unit started prcessing of a wafer | HC2: Time when the unit completed processing of a wafer | HD2: Time when the unit took out the wafer | HE2: Processing time | HF2: Time when the unit maintained the wafer | HG2: Time when the unit received the wafer | HH2: Time when the unit started prcessing of a wafer | HI2: Time when the unit completed processing of a wafer | HJ2: Time when the unit took out the wafer | HK2: Processing time | HL2: Time when the unit maintained the wafer | HM2: Time when the unit received the wafer | HN2: Time when the unit started prcessing of a wafer | HO2: Time when the unit completed processing of a wafer | HP2: Time when the unit took out the wafer | HQ2: Processing time | HR2: Time when the unit maintained the wafer | HS2: Time when the unit received the wafer | HT2: Time when the unit started prcessing of a wafer | HU2: Time when the unit completed processing of a wafer | HV2: Time when the unit took out the wafer | HW2: Processing time | HX2: Time when the unit maintained the wafer | HY2: Time when the unit received the wafer | HZ2: Time when the unit started prcessing of a wafer | IA2: Time when the unit completed processing of a wafer | IB2: Time when the unit took out the wafer | IC2: Processing time | ID2: Time when the unit maintained the wafer | IE2: Time when the unit received the wafer | IF2: Time when the unit started prcessing of a wafer | IG2: Time when the unit completed processing of a wafer | IH2: Time when the unit took out the wafer | II2: Processing time | IJ2: Time when the unit maintained the wafer | IK2: Time when the unit received the wafer | IL2: Time when the unit started prcessing of a wafer | IM2: Time when the unit completed processing of a wafer | IN2: Time when the unit took out the wafer | IO2: Processing time | IP2: Time when the unit maintained the wafer | IQ2: Time when IF-B send out then wafer to the exposure machine | IR2: Time when IF-B received the wafer from the exposure machine | IS2: 1->2 | IU2: 2->1
B3: 2 | C3: 3 | D3: 1 | F3: 156 | H3: 0.9609838 | I3: 0.9246875 | J3: 0.9469213 | W3: 0.94319444 | X3: 0.94321759 | Y3: 0.94472222 | Z3: 0.94482639 | AA3: 0.0015046296 | AB3: 0.0016319444 | AU3: 0.93475694 | AV3: 0.93482639 | AW3: 0.93501157 | AX3: 0.93525463 | AY3: 0.00018518519 | AZ3: 0.00049768519 | BM3: 0.93982639 | BN3: 0.9402662 | BO3: 0.94136574 | BP3: 0.94138889 | BQ3: 0.001099537 | BR3: 0.0015625 | CK3: 0.94144676 | CL3: 0.94144676 | CM3: 0.94216435 | CN3: 0.94313657 | CO3: 0.00071759259 | CP3: 0.0016898148 | DO3: 0.94486111 | DP3: 0.94530093 | DQ3: 0.94638889 | DR3: 0.94648148 | DS3: 0.001087963 | DT3: 0.0016203704 | DU3: 0.93020833 | DV3: 0.93023148 | DW3: 0.93084491 | DX3: 0.93127315 | DY3: 0.00061342593 | DZ3: 0.0010648148 | EM3: 0.925625 | EN3: 0.92565972 | EO3: 0.92625 | EP3: 0.92670139 | EQ3: 0.00059027778 | ER3: 0.0010763889 | ES3: 0.9290162 | ET3: 0.92928241 | EU3: 0.93002315 | EV3: 0.93015046 | EW3: 0.00074074074 | EX3: 0.0011342593 | EY3: 0.92675926 | EZ3: 0.92736111 | FA3: 0.9277662 | FB3: 0.92787037 | FC3: 0.00040509259 | FD3: 0.0011111111 | FE3: 0.92791667 | FF3: 0.92835648 | FG3: 0.92893519 | FH3: 0.92896991 | FI3: 0.0005787037 | FJ3: 0.0010532407 | GO3: 0.9250463 | GP3: 0.92518519 | GQ3: 0.92550926 | GR3: 0.9255787 | GS3: 0.00032407407 | GT3: 0.00053240741 | HA3: 0.93133102 | HB3: 0.93177083 | HC3: 0.9328588 | HD3: 0.93292824 | HE3: 0.001087963 | HF3: 0.0015972222 | HG3: 0.93298611 | HH3: 0.93298611 | HI3: 0.93371528 | HJ3: 0.93407407 | HK3: 0.00072916667 | HL3: 0.001087963 | IQ3: 0.93587963 | IR3: 0.93804398 | IS3: 0.92493056 | IT3: 0.92501157 | IU3: 0.93427083 | IV3: 0.93471065
B4: 3 | C4: 3 | D4: 2 | F4: 156 | H4: 0.9609838 | I4: 0.92521991 | J4: 0.94746528 | Q4: 0.94371528 | R4: 0.94375 | S4: 0.94528935 | T4: 0.9453588 | U4: 0.0015393519 | V4: 0.0016435185 | AU4: 0.9352662 | AV4: 0.93532407 | AW4: 0.93550926 | AX4: 0.9358912 | AY4: 0.00018518519 | AZ4: 0.000625 | BA4: 0.9403588 | BB4: 0.94079861 | BC4: 0.94189815 | BD4: 0.9419213 | BE4: 0.001099537 | BF4: 0.0015625 | CW4: 0.94540509 | CX4: 0.94584491 | CY4: 0.94693287 | CZ4: 0.94709491 | DA4: 0.001087963 | DB4: 0.0016898148 | DC4: 0.94197917 | DD4: 0.94197917 | DE4: 0.94270833 | DF4: 0.94365741 | DG4: 0.00072916667 | DH4: 0.0016782407 | EA4: 0.93076389 | EB4: 0.93078704 | EC4: 0.93136574 | ED4: 0.93179398 | EE4: 0.0005787037 | EF4: 0.0010300926 | EG4: 0.92615741 | EH4: 0.92618056 | EI4: 0.92678241 | EJ4: 0.92730324 | EK4: 0.00060185185 | EL4: 0.0011458333 | FK4: 0.92961806 | FL4: 0.92987269 | FM4: 0.93060185 | FN4: 0.93070602 | FO4: 0.00072916667 | FP4: 0.001087963 | FQ4: 0.92732639 | FR4: 0.92793981 | FS4: 0.92833333 | FT4: 0.9283912 | FU4: 0.00039351852 | FV4: 0.0010648148 | FW4: 0.9284375 | FX4: 0.92887731 | FY4: 0.92944444 | FZ4: 0.92957176 | GA4: 0.00056712963 | GB4: 0.0011342593 | GO4: 0.92559028 | GP4: 0.92572917 | GQ4: 0.92605324 | GR4: 0.92609954 | GS4: 0.00032407407 | GT4: 0.00050925926 | HS4: 0.93185185 | HT4: 0.93229167 | HU4: 0.93337963 | HV4: 0.93347222 | HW4: 0.001087963 | HX4: 0.0016203704 | HY4: 0.93353009 | HZ4: 0.93353009 | IA4: 0.93427083 | IB4: 0.93459491 | IC4: 0.00074074074 | ID4: 0.0010648148 | IQ4: 0.93645833 | IR4: 0.93837963 | IS4: 0.92549769 | IT4: 0.92553241 | IU4: 0.93476852 | IV4: 0.93520833
B5: 4 | C5: 3 | D5: 3 | F5: 156 | H5: 0.9609838 | I5: 0.92575231 | J5: 0.94802083 | K5: 0.94424769 | L5: 0.94427083 | M5: 0.94577546 | N5: 0.94591435 | O5: 0.0015046296 | P5: 0.0016666667 | AU5: 0.93590278 | AV5: 0.93596065 | AW5: 0.93614583 | AX5: 0.93643519 | AY5: 0.00018518519 | AZ5: 0.00053240741 | BG5: 0.94087963 | BH5: 0.94131944 | BI5: 0.94241898 | BJ5: 0.9425463 | BK5: 0.001099537 | BL5: 0.0016666667 | BS5: 0.94259259 | BT5: 0.94260417 | BU5: 0.94332176 | BV5: 0.94418981 | BW5: 0.00071759259 | BX5: 0.0015972222 | CE5: 0.94597222 | CF5: 0.94641204 | CG5: 0.9475463 | CH5: 0.94761574 | CI5: 0.0011342593 | CJ5: 0.0016435185 | DU5: 0.93128472 | DV5: 0.9312963 | DW5: 0.931875 | DX5: 0.93237269 | DY5: 0.0005787037 | DZ5: 0.001087963 | EM5: 0.92671296 | EN5: 0.92673611 | EO5: 0.92732639 | EP5: 0.92782407 | EQ5: 0.00059027778 | ER5: 0.0011111111 | ES5: 0.93017361 | ET5: 0.93042824 | EU5: 0.93115741 | EV5: 0.93122685 | EW5: 0.00072916667 | EX5: 0.0010532407 | EY5: 0.92788194 | EZ5: 0.9284838 | FA5: 0.92888889 | FB5: 0.92892361 | FC5: 0.00040509259 | FD5: 0.0010416667 | FE5: 0.92898148 | FF5: 0.9294213 | FG5: 0.9300463 | FH5: 0.93011574 | FI5: 0.000625 | FJ5: 0.0011342593 | GO5: 0.92611111 | GP5: 0.92625 | GQ5: 0.92657407 | GR5: 0.92665509 | GS5: 0.00032407407 | GT5: 0.00054398148 | HG5: 0.93408565 | HH5: 0.93409722 | HI5: 0.93481481 | HJ5: 0.93510417 | HK5: 0.00071759259 | HL5: 0.0010185185 | IK5: 0.93243056 | IL5: 0.93287037 | IM5: 0.93396991 | IN5: 0.93400463 | IO5: 0.001099537 | IP5: 0.0015740741 | IQ5: 0.9375463 | IR5: 0.93884259 | IS5: 0.92600694 | IT5: 0.92604167 | IU5: 0.9352662 | IV5: 0.93584491
B6: ########################### 2014/07/11 ###########################
B7: 59 | C7: 2 | D7: 8 | E7: G426522 | F7: 156 | G7: 0.93416667 | H7: 0.9878125 | I7: 0.95680556 | J7: 0.97813657 | Q7: 0.97451389 | R7: 0.97453704 | S7: 0.97604167 | T7: 0.97609954 | U7: 0.0015046296 | V7: 0.0015856481 | AU7: 0.96666667 | AV7: 0.96672454 | AW7: 0.9669213 | AX7: 0.9671412 | AY7: 0.00019675926 | AZ7: 0.00047453704 | BA7: 0.9712037 | BB7: 0.97165509 | BC7: 0.97274306 | BD7: 0.97277778 | BE7: 0.001087963 | BF7: 0.0015740741 | CW7: 0.97615741 | CX7: 0.97659722 | CY7: 0.97768519 | CZ7: 0.9777662 | DA7: 0.001087963 | DB7: 0.0016087963 | DC7: 0.97283565 | DD7: 0.97283565 | DE7: 0.97355324 | DF7: 0.9744213 | DG7: 0.00071759259 | DH7: 0.0015856481 | EA7: 0.96221065 | EB7: 0.96222222 | EC7: 0.9628125 | ED7: 0.96324074 | EE7: 0.00059027778 | EF7: 0.0010300926 | EG7: 0.95769676 | EH7: 0.95771991 | EI7: 0.95833333 | EJ7: 0.95880787 | EK7: 0.00061342593 | EL7: 0.0011111111 | FK7: 0.96106481 | FL7: 0.96133102 | FM7: 0.96204861 | FN7: 0.96211806 | FO7: 0.00071759259 | FP7: 0.0010532407 | FQ7: 0.95886574 | FR7: 0.95947917 | FS7: 0.95987269 | FT7: 0.95990741 | FU7: 0.00039351852 | FV7: 0.0010416667 | FW7: 0.9599537 | FX7: 0.96039352 | FY7: 0.96096065 | FZ7: 0.96101852 | GA7: 0.00056712963 | GB7: 0.0010648148 | GO7: 0.9571412 | GP7: 0.95728009 | GQ7: 0.95759259 | GR7: 0.95765046 | GS7: 0.0003125 | GT7: 0.00050925926 | HY7: 0.96501157 | HZ7: 0.96501157 | IA7: 0.96572917 | IB7: 0.96600694 | IC7: 0.00071759259 | ID7: 0.00099537037 | IK7: 0.96334491 | IL7: 0.96378472 | IM7: 0.96488426 | IN7: 0.96490741 | IO7: 0.001099537 | IP7: 0.0015625 | IQ7: 0.96748843 | IR7: 0.96915509 | IS7: 0.95704861 | IT7: 0.95708333 | IU7: 0.96621528 | IV7: 0.96663194
B8: 60 | C8: 2 | D8: 9 | E8: G426522 | F8: 156 | G8: 0.93416667 | H8: 0.9878125 | I8: 0.95730324 | J8: 0.97868056 | K8: 0.97502315 | L8: 0.9750463 | M8: 0.9765625 | N8: 0.9766088 | O8: 0.0015162037 | P8: 0.0015856481 | AU8: 0.96715278 | AV8: 0.96721065 | AW8: 0.96740741 | AX8: 0.96766204 | AY8: 0.00019675926 | AZ8: 0.00050925926 | BG8: 0.97173611 | BH8: 0.97217593 | BI8: 0.97327546 | BJ8: 0.97332176 | BK8: 0.001099537 | BL8: 0.0015856481 | BS8: 0.97336806 | BT8: 0.97337963 | BU8: 0.97409722 | BV8: 0.97497685 | BW8: 0.00071759259 | BX8: 0.0016087963 | CE8: 0.97666667 | CF8: 0.97710648 | CG8: 0.97819444 | CH8: 0.97831019 | CI8: 0.001087963 | CJ8: 0.0016435185 | DU8: 0.96274306 | DV8: 0.9627662 | DW8: 0.96334491 | DX8: 0.96378472 | DY8: 0.0005787037 | DZ8: 0.0010416667 | EM8: 0.95822917 | EN8: 0.95825231 | EO8: 0.95884259 | EP8: 0.95934028 | EQ8: 0.00059027778 | ER8: 0.0011111111 | ES8: 0.96159722 | ET8: 0.96185185 | EU8: 0.96258102 | EV8: 0.96268519 | EW8: 0.00072916667 | EX8: 0.001087963 | EY8: 0.95939815 | EZ8: 0.96 | FA8: 0.96040509 | FB8: 0.96043981 | FC8: 0.00040509259 | FD8: 0.0010416667 | FE8: 0.96048611 | FF8: 0.96092593 | FG8: 0.96150463 | FH8: 0.96153935 | FI8: 0.0005787037 | FJ8: 0.0010532407 | GO8: 0.95766204 | GP8: 0.95780093 | GQ8: 0.95811343 | GR8: 0.9581713 | GS8: 0.0003125 | GT8: 0.00050925926 | HA8: 0.96385417 | HB8: 0.96428241 | HC8: 0.96542824 | HD8: 0.96546296 | HE8: 0.0011458333 | HF8: 0.0016087963 | HG8: 0.96550926 | HH8: 0.96552083 | HI8: 0.96623843 | HJ8: 0.96657407 | HK8: 0.00071759259 | HL8: 0.0010648148 | IQ8: 0.96810185 | IR8: 0.96956019 | IS8: 0.95755787 | IT8: 0.95759259 | IU8: 0.96666667 | IV8: 0.96711806
B9: ########################### 2014/07/12 ###########################
B10: 199 | C10: 4 | D10: 23 | E10: G425179 | F10: 47 | G10: 0.0014467593 | H10: 0.053738426 | I10: 0.035740741 | J10: 0.052175926 | K10: 0.048819444 | L10: 0.048842593 | M10: 0.05005787 | N10: 0.050289352 | O10: 0.0012152778 | P10: 0.0014699074 | AI10: 0.045763889 | AJ10: 0.046018519 | AK10: 0.047118056 | AL10: 0.047222222 | AM10: 0.001099537 | AN10: 0.0014583333 | AU10: 0.042743056 | AV10: 0.042800926 | AW10: 0.043055556 | AX10: 0.043217593 | AY10: 0.00025462963 | AZ10: 0.00047453704 | CE10: 0.050347222 | CF10: 0.050601852 | CG10: 0.051689815 | CH10: 0.05181713 | CI10: 0.001087963 | CJ10: 0.0014699074 | CK10: 0.047280093 | CL10: 0.047280093 | CM10: 0.048009259 | CN10: 0.048761574 | CO10: 0.00072916667 | CP10: 0.0014814815 | EA10: 0.038287037 | EB10: 0.038310185 | EC10: 0.03900463 | ED10: 0.039328704 | EE10: 0.00069444444 | EF10: 0.0010416667 | FK10: 0.037164352 | FL10: 0.037303241 | FM10: 0.038043981 | FN10: 0.038240741 | FO10: 0.00074074074 | FP10: 0.0010763889 | GI10: 0.036087963 | GJ10: 0.036226852 | GK10: 0.036990741 | GL10: 0.037106481 | GM10: 0.00076388889 | GN10: 0.0010185185 | GU10: 0.039386574 | GV10: 0.039641204 | GW10: 0.040729167 | GX10: 0.040949074 | GY10: 0.001087963 | GZ10: 0.0015625 | HY10: 0.041006944 | HZ10: 0.041018519 | IA10: 0.041736111 | IB10: 0.041990741 | IC10: 0.00071759259 | ID10: 0.0009837963 | IQ10: 0.043564815 | IR10: 0.045046296 | IS10: 0.03599537 | IT10: 0.036030093 | IU10: 0.042268519 | IV10: 0.042685185
B11: 200 | C11: 4 | D11: 24 | E11: G425179 | F11: 47 | G11: 0.0014467593 | H11: 0.053738426 | I11: 0.036215278 | J11: 0.052673611 | W11: 0.04931713 | X11: 0.049340278 | Y11: 0.050543981 | Z11: 0.050787037 | AA11: 0.0012037037 | AB11: 0.0014699074 | AO11: 0.04625 | AP11: 0.046493056 | AQ11: 0.047604167 | AR11: 0.047719907 | AS11: 0.0011111111 | AT11: 0.0014699074 | AU11: 0.043229167 | AV11: 0.043287037 | AW11: 0.043553241 | AX11: 0.043715278 | AY11: 0.0002662037 | AZ11: 0.00048611111 | DC11: 0.047777778 | DD11: 0.047777778 | DE11: 0.048506944 | DF11: 0.049259259 | DG11: 0.00072916667 | DH11: 0.0014814815 | DO11: 0.050844907 | DP11: 0.051087963 | DQ11: 0.0521875 | DR11: 0.052314815 | DS11: 0.001099537 | DT11: 0.0014699074 | DU11: 0.038796296 | DV11: 0.03880787 | DW11: 0.039490741 | DX11: 0.039849537 | DY11: 0.00068287037 | DZ11: 0.0010532407 | ES11: 0.037719907 | ET11: 0.037847222 | EU11: 0.038576389 | EV11: 0.038738426 | EW11: 0.00072916667 | EX11: 0.0010185185 | GC11: 0.0365625 | GD11: 0.036701389 | GE11: 0.037465278 | GF11: 0.037662037 | GG11: 0.00076388889 | GH11: 0.001099537 | HG11: 0.041527778 | HH11: 0.041527778 | HI11: 0.042256944 | HJ11: 0.042465278 | HK11: 0.00072916667 | HL11: 0.0009375 | HM11: 0.039907407 | HN11: 0.040162037 | HO11: 0.041261574 | HP11: 0.041481481 | HQ11: 0.001099537 | HR11: 0.0015740741 | IQ11: 0.044050926 | IR11: 0.045497685 | IS11: 0.036469907 | IT11: 0.03650463 | IU11: 0.04275463 | IV11: 0.043171296
B12: ########################### 2014/07/13 ###########################
B13: 1959 | C13: 4 | D13: 1 | E13: G425157 | F13: 47 | G13: 0.0068518519 | H13: 0.052013889 | I13: 0.02056713 | J13: 0.039513889 | Q13: 0.036319444 | R13: 0.036342593 | S13: 0.037523148 | T13: 0.037731481 | U13: 0.0011805556 | V13: 0.001412037 | AC13: 0.033368056 | AD13: 0.033611111 | AE13: 0.034710648 | AF13: 0.034733796 | AG13: 0.001099537 | AH13: 0.0013657407 | AU13: 0.027141204 | AV13: 0.027199074 | AW13: 0.027465278 | AX13: 0.027546296 | AY13: 0.0002662037 | AZ13: 0.00040509259 | BS13: 0.034826389 | BT13: 0.034837963 | BU13: 0.035555556 | BV13: 0.036261574 | BW13: 0.00071759259 | BX13: 0.0014351852 | CW13: 0.037777778 | CX13: 0.038032407 | CY13: 0.039108796 | CZ13: 0.039201389 | DA13: 0.0010763889 | DB13: 0.0014236111 | DU13: 0.022962963 | DV13: 0.022974537 | DW13: 0.023657407 | DX13: 0.023923611 | DY13: 0.00068287037 | DZ13: 0.00096064815 | ES13: 0.021944444 | ET13: 0.022071759 | EU13: 0.022800926 | EV13: 0.022905093 | EW13: 0.00072916667 | EX13: 0.00096064815 | GI13: 0.020949074 | GJ13: 0.021087963 | GK13: 0.021840278 | GL13: 0.021886574 | GM13: 0.00075231481 | GN13: 0.0009375 | HG13: 0.025474537 | HH13: 0.025486111 | HI13: 0.026203704 | HJ13: 0.026400463 | HK13: 0.00071759259 | HL13: 0.00092592593 | IE13: 0.023981481 | IF13: 0.024224537 | IG13: 0.025324074 | IH13: 0.025428241 | II13: 0.001099537 | IJ13: 0.0014467593 | IQ13: 0.029895833 | IR13: 0.03224537 | IS13: 0.020844907 | IT13: 0.020868056 | IU13: 0.026666667 | IV13: 0.027083333

Sheet v0
I1: IDE : U1 | K1: SC : U6 | N1: SC : U7 | Q1: SDP : U8 | T1: SDP : U9 | W1: SDP : U10 | Z1: 2PCP : U11 | AE1: 2PCP : U12 | AJ1: 2PCP : U13 | AO1: 2PCP : U14 | AT1: 2PCP : U15 | AY1: CP : U16 | BB1: CP : U17 | BE1: AH : U18 | BH1: AH : U19 | BK1: HP : U20 | BN1: HP : U21 | BQ1: HP : U22 | BT1: HP : U23 | BW1: HP : U24 | BZ1: HP : U25 | CC1: HP : U26 | CF1: HP : U27 | CI1: HP : U28 | CL1: HP : U29 | CO1: HP : U30 | CR1: HP : U31 | CU1: HP : U32 | CX1: HP : U33 | DA1: IFD : U34 | DE1: EEW : U35 | DH1: EEW : U36 | DK1: IFB : U37 | DN1: EXP : U99
A2: STAGE No | B2: SLOT No | C2: RCP No | D2: DATE | E2: CAS IN | F2: CAS START | G2: CAS END | H2: CAS OUT | I2: START TIME | J2: END TIME | K2: WAFER IN | L2: WAFER OUT | M2: PROC TIME | N2: WAFER IN | O2: WAFER OUT | P2: PROC TIME | Q2: WAFER IN | R2: WAFER OUT | S2: PROC TIME | T2: WAFER IN | U2: WAFER OUT | V2: PROC TIME | W2: WAFER IN | X2: WAFER OUT | Y2: PROC TIME | Z2: WAFER IN | AA2: WAFER OUT | AB2: PROC TIME | AC2: TR2 IN | AD2: TR1 OUT | AE2: WAFER IN | AF2: WAFER OUT | AG2: PROC TIME | AH2: TR2 IN | AI2: TR1 OUT | AJ2: WAFER IN | AK2: WAFER OUT | AL2: PROC TIME | AM2: TR2 IN | AN2: TR1 OUT | AO2: WAFER IN | AP2: WAFER OUT | AQ2: PROC TIME | AR2: TR2 IN | AS2: TR1 OUT | AT2: WAFER IN | AU2: WAFER OUT | AV2: PROC TIME | AW2: TR2 IN | AX2: TR1 OUT | AY2: WAFER IN | AZ2: WAFER OUT | BA2: PROC TIME | BB2: WAFER IN | BC2: WAFER OUT | BD2: PROC TIME | BE2: WAFER IN | BF2: WAFER OUT | BG2: PROC TIME | BH2: WAFER IN | BI2: WAFER OUT | BJ2: PROC TIME | BK2: WAFER IN | BL2: WAFER OUT | BM2: PROC TIME | BN2: WAFER IN | BO2: WAFER OUT | BP2: PROC TIME | BQ2: WAFER IN | BR2: WAFER OUT | BS2: PROC TIME | BT2: WAFER IN | BU2: WAFER OUT | BV2: PROC TIME | BW2: WAFER IN | BX2: WAFER OUT | BY2: PROC TIME | BZ2: WAFER IN | CA2: WAFER OUT | CB2: PROC TIME | CC2: WAFER IN | CD2: WAFER OUT | CE2: PROC TIME | CF2: WAFER IN | CG2: WAFER OUT | CH2: PROC TIME | CI2: WAFER IN | CJ2: WAFER OUT | CK2: PROC TIME | CL2: WAFER IN | CM2: WAFER OUT | CN2: PROC TIME | CO2: WAFER IN | CP2: WAFER OUT | CQ2: PROC TIME | CR2: WAFER IN | CS2: WAFER OUT | CT2: PROC TIME | CU2: WAFER IN | CV2: WAFER OUT | CW2: PROC TIME | CX2: WAFER IN | CY2: WAFER OUT | CZ2: PROC TIME | DA2: TR1-1 IN | DB2: TR1-2 OUT | DC2: TR1-2 IN | DD2: TR1-1 OUT | DE2: WAFER IN | DF2: WAFER OUT | DG2: PROC TIME | DH2: WAFER IN | DI2: WAFER OUT | DJ2: PROC TIME | DK2: WAFER IN | DL2: WAFER OUT | DM2: PROC TIME | DN2: EXP IN | DO2: EXP OUT | DP2: EXP TIME
A3: 3 | B3: 1 | C3: 73 | D3: 40545 | E3: 0.13924769 | F3: 0.13947917 | G3: 0.175 | H3: 0.17577546 | I3: 0.14008102 | J3: 0.15734954 | K3: 0.14261574 | L3: 0.14378472 | M3: 101 | Q3: 0.1540162 | R3: 0.15575231 | S3: 150 | Z3: 0.14152778 | AA3: 0.14261574 | AB3: 94 | AC3: 0.14378472 | AD3: 0.14384259 | AJ3: 0.15237269 | AK3: 0.1540162 | AL3: 142 | AM3: 0.15575231 | AN3: 0.15581019 | AY3: 0.14565972 | AZ3: 0.1468287 | BA3: 101 | BE3: 0.14033565 | BF3: 0.14149306 | BG3: 100 | BK3: 0.15119213 | BL3: 0.15232639 | BM3: 98 | BQ3: 0.15584491 | BR3: 0.15697917 | BS3: 98 | CI3: 0.14387731 | CJ3: 0.145625 | CK3: 151 | DA3: 0.1402662 | DB3: 0.14028935 | DC3: 0.14710648 | DD3: 0.14763889 | DE3: 0.14768519 | DF3: 0.14881944 | DG3: 98 | DK3: 0.14886574 | DL3: 0.15114583 | DM3: 197 | DN3: 0.14915509 | DO3: 0.15076389 | DP3: 139
A4: 3 | B4: 2 | C4: 73 | D4: 40545 | E4: 0.13924769 | F4: 0.13947917 | G4: 0.175 | H4: 0.17577546 | I4: 0.14061343 | J4: 0.15791667 | N4: 0.1431713 | O4: 0.14431713 | P4: 99 | T4: 0.15459491 | U4: 0.1562963 | V4: 147 | AE4: 0.14209491 | AF4: 0.1431713 | AG4: 93 | AH4: 0.14431713 | AI4: 0.144375 | AO4: 0.15293981 | AP4: 0.15459491 | AQ4: 143 | AR4: 0.1562963 | AS4: 0.15635417 | BB4: 0.14623843 | BC4: 0.14740741 | BD4: 101 | BH4: 0.14090278 | BI4: 0.14204861 | BJ4: 99 | BT4: 0.15175926 | BU4: 0.15289352 | BV4: 98 | BW4: 0.15638889 | BX4: 0.15752315 | BY4: 98 | CL4: 0.14440972 | CM4: 0.14619213 | CN4: 154 | DA4: 0.14083333 | DB4: 0.14085648 | DC4: 0.14767361 | DD4: 0.14820602 | DH4: 0.14825231 | DI4: 0.14938657 | DJ4: 98 | DK4: 0.14944444 | DL4: 0.15171296 | DM4: 196 | DN4: 0.1497338 | DO4: 0.15133102 | DP4: 138
A5: 3 | B5: 6 | C5: 71 | D5: 40545 | E5: 0.18082176 | F5: 0.18108796 | I5: 0.18481481 | BH5: 0.185625 | DA5: 0.18505787 | DB5: 0.18556713
A6: 3 | B6: 7 | C6: 71 | D6: 40545 | E6: 0.18082176 | F6: 0.18108796 | I6: 0.18538194 | DA6: 0.185625
A7: 4 | B7: 4 | C7: 84 | G7: 0.45335648 | H7: 0.45386574 | I7: 0.3616088 | J7: 0.41673611 | K7: 0.36590278 | L7: 0.36765046 | M7: 151 | Q7: 0.41186343 | R7: 0.41358796 | S7: 149 | Z7: 0.36422454 | AA7: 0.36590278 | AB7: 145 | AC7: 0.36765046 | AD7: 0.36769676 | AJ7: 0.41018519 | AK7: 0.41186343 | AL7: 145 | AM7: 0.41358796 | AN7: 0.41364583 | BB7: 0.36950231 | BC7: 0.37125 | BD7: 151 | BE7: 0.36243056 | BF7: 0.36416667 | BG7: 150 | BN7: 0.41368056 | BO7: 0.41540509 | BP7: 149 | CC7: 0.40841435 | CD7: 0.41013889 | CE7: 149 | CR7: 0.36773148 | CS7: 0.36946759 | CT7: 150 | DA7: 0.36181713 | DB7: 0.36233796 | DC7: 0.37261574 | DD7: 0.37381944 | DE7: 0.37386574 | DF7: 0.3755787 | DG7: 148 | DK7: 0.37568287 | DL7: 0.40825231 | DM7: 2814 | DN7: 0.38368056 | DO7: 0.38609954 | DP7: 209
A8: 4 | B8: 5 | C8: 84 | G8: 0.45335648 | H8: 0.45386574 | I8: 0.36331019 | J8: 0.41844907 | K8: 0.36765046 | L8: 0.36938657 | M8: 150 | Q8: 0.41358796 | R8: 0.4153125 | S8: 149 | Z8: 0.36596065 | AA8: 0.36765046 | AB8: 146 | AC8: 0.36938657 | AD8: 0.36943287 | AJ8: 0.4119213 | AK8: 0.41358796 | AL8: 144 | AM8: 0.4153125 | AN8: 0.41537037 | BB8: 0.37125 | BC8: 0.37298611 | BD8: 150 | BE8: 0.36416667 | BF8: 0.36590278 | BG8: 150 | BN8: 0.41540509 | BO8: 0.41712963 | BP8: 149 | CC8: 0.41013889 | CD8: 0.41186343 | CE8: 149 | CR8: 0.36946759 | CS8: 0.3712037 | CT8: 150 | DA8: 0.36354167 | DB8: 0.36405093 | DC8: 0.3743287 | DD8: 0.37553241 | DE8: 0.3755787 | DF8: 0.37729167 | DG8: 148 | DK8: 0.37739583 | DL8: 0.4099537 | DM8: 2813 | DN8: 0.38454861 | DO8: 0.38666667 | DP8: 183
A9: 3 | B9: 2 | C9: 84 | D9: 40546 | E9: 0.42048611 | F9: 0.42074074 | G9: 0.49440972 | H9: 0.49474537 | I9: 0.42157407 | J9: 0.45444444 | K9: 0.42581019 | L9: 0.42756944 | M9: 152 | Q9: 0.44982639 | R9: 0.45155093 | S9: 149 | Z9: 0.42414352 | AA9: 0.42581019 | AB9: 144 | AC9: 0.42756944 | AD9: 0.42761574 | AJ9: 0.44815972 | AK9: 0.44982639 | AL9: 144 | AM9: 0.45155093 | AN9: 0.4516088 | BB9: 0.4294213 | BC9: 0.43115741 | BD9: 150 | BE9: 0.42237269 | BF9: 0.4241088 | BG9: 150 | BN9: 0.45164352 | BO9: 0.45336806 | BP9: 149 | CC9: 0.44626157 | CD9: 0.44798611 | CE9: 149 | CR9: 0.42763889 | CS9: 0.429375 | CT9: 150 | DA9: 0.42181713 | DB9: 0.42231481 | DC9: 0.43260417 | DD9: 0.43380787 | DE9: 0.43384259 | DF9: 0.43556713 | DG9: 149 | DK9: 0.43565972 | DL9: 0.44594907 | DM9: 889 | DN9: 0.43594907 | DO9: 0.4374537 | DP9: 130
A10: 3 | B10: 3 | C10: 84 | D10: 40546 | E10: 0.42048611 | F10: 0.42074074 | G10: 0.49440972 | H10: 0.49474537 | I10: 0.42327546 | J10: 0.45615741 | K10: 0.42756944 | L10: 0.42929398 | M10: 149 | Q10: 0.45155093 | R10: 0.45327546 | S10: 149 | Z10: 0.42587963 | AA10: 0.42756944 | AB10: 146 | AC10: 0.42929398 | AD10: 0.42934028 | AJ10: 0.44988426 | AK10: 0.45155093 | AL10: 144 | AM10: 0.45327546 | AN10: 0.45333333 | BB10: 0.43115741 | BC10: 0.43289352 | BD10: 150 | BE10: 0.4241088 | BF10: 0.42584491 | BG10: 150 | BN10: 0.45336806 | BO10: 0.45509259 | BP10: 149 | CC10: 0.44798611 | CD10: 0.44969907 | CE10: 148 | CR10: 0.429375 | CS10: 0.43111111 | CT10: 150 | DA10: 0.42353009 | DB10: 0.42403935 | DC10: 0.43431713 | DD10: 0.43552083 | DE10: 0.43556713 | DF10: 0.43728009 | DG10: 148 | DK10: 0.43737269 | DL10: 0.44766204 | DM10: 889 | DN10: 0.43767361 | DO10: 0.4390625 | DP10: 120
A11: 1 | B11: 18 | C11: 65 | D11: 40546 | E11: 0.469375 | F11: 0.4696412 | I11: 0.49653935 | BH11: 0.51494213 | DA11: 0.51436343 | DB11: 0.51489583
A12: 1 | B12: 19 | C12: 65 | D12: 40546 | E12: 0.469375 | F12: 0.4696412 | I12: 0.49712963 | DA12: 0.51491898
A13: 1 | B13: 20 | C13: 65 | D13: 40546 | E13: 0.469375 | F13: 0.4696412 | I13: 0.51487269
