Workbook

Sheet Sommaire
B3: Doudous | D3: Couvertures
B5: Attaches tétines | D5: Bavoirs
B7: Mini bavoirs | D7: Bavettes et Lingettes
B9: Bouillottes | D9: Coussins
B11: Guirlande | D11: Mobile
B13: Affiches | D13: Accessoires
B15: Stickers | D15: Set de table
B17: TOTAL

Sheet Doudous
A1: BON DE COMMANDE CAROTTE & CIE
G2: Grands doudous | J2: Petits doudous
A3: Référence | B3: Description de l'article | C3: Motif | D3: Quantité | E3: Prix unitaire | F3: Total | G3: Quantités | H3: Prix unitaire | I3: % | J3: Quantités | K3: Prix unitaire | L3: %
A4: DOU001 | B4: Doudou | C4: Grenouille | E4: =VLOOKUP(D27,J4:K8,2) -> 26 | F4: =D4*E4 -> 0 | G4: 0 | H4: 28 | I4: 0 | J4: 0 | K4: 26 | L4: 0
A5: DOU002 | B5: Doudou | C5: Cigogne | E5: =VLOOKUP(D27,G4:H8,2) -> 28 | F5: =D5*E5 -> 0 | G5: 5 | H5: 27 | I5: 0.04 | J5: 5 | K5: 25 | L5: 0.04
A6: DOU003 | B6: Doudou | C6: Girafe | E6: =VLOOKUP(D27,G4:H8,2) -> 28 | F6: =D6*E6 -> 0 | G6: 10 | H6: 25.5 | I6: 0.09 | J6: 10 | K6: 23.6 | L6: 0.09
A7: DOU004 | B7: Doudou | C7: Crocodile | E7: =VLOOKUP(D27,G4:H8,2) -> 28 | F7: =D7*E7 -> 0 | G7: 30 | H7: 24.7 | I7: 0.12 | J7: 30 | K7: 23 | L7: 0.12
A8: DOU005 | B8: Doudou | C8: Renne chocolat | E8: =VLOOKUP(D27,G4:H8,2) -> 28 | F8: =D8*E8 -> 0 | G8: 60 | H8: 24 | I8: 0.14 | J8: 60 | K8: 22.4 | L8: 0.14
A9: DOU006 | B9: Doudou | C9: Renne rouge | E9: =VLOOKUP(D27,G4:H8,2) -> 28 | F9: =D9*E9 -> 0
A10: DOU007 | B10: Doudou | C10: Cochon | E10: =VLOOKUP(D27,J4:K8,2) -> 26 | F10: =D10*E10 -> 0
A11: DOU008 | B11: Doudou | C11: Souris beige | E11: =VLOOKUP(D27,G4:H8,2) -> 28 | F11: =D11*E11 -> 0
A12: DOU009 | B12: Doudou | C12: Souris grise | E12: =VLOOKUP(D27,G4:H8,2) -> 28 | F12: =D12*E12 -> 0
A13: DOU010 | B13: Doudou | C13: Dragon | E13: =VLOOKUP(D27,G4:H8,2) -> 28 | F13: =D13*E13 -> 0
A14: DOU011 | B14: Doudou | C14: Lama | E14: =VLOOKUP(D27,G4:H8,2) -> 28 | F14: =D14*E14 -> 0
A15: DOU012 | B15: Doudou | C15: Mouton | E15: =VLOOKUP(D27,G4:H8,2) -> 28 | F15: =D15*E15 -> 0
A16: DOU013 | B16: Doudou | C16: Singe | E16: =VLOOKUP(D27,G4:H8,2) -> 28 | F16: =D16*E16 -> 0
A17: DOU014 | B17: Doudou | C17: Eléphant | E17: =VLOOKUP(D27,G4:H8,2) -> 28 | F17: =D17*E17 -> 0
A18: DOU015 | B18: Doudou | C18: Cheval | E18: =VLOOKUP(D27,G4:H8,2) -> 28 | F18: =D18*E18 -> 0
A19: DOU016 | B19: Doudou | C19: Jaguar | E19: =VLOOKUP(D27,G4:H8,2) -> 28 | F19: =D19*E19 -> 0
A20: DOU017 | B20: Doudou | C20: Pingouin | E20: =VLOOKUP(D27,J4:K8,2) -> 26 | F20: =D20*E20 -> 0
A21: DOU018 | B21: Doudou | C21: Serpent | E21: =VLOOKUP(D27,J4:K8,2) -> 26 | F21: =D21*E21 -> 0
A22: DOU019 | B22: Doudou | C22: Zèbre | E22: =VLOOKUP(D27,J4:K8,2) -> 26 | F22: =D22*E22 -> 0
A23: DOU020 | B23: Doudou | C23: Vache | E23: =VLOOKUP(D27,G4:H8,2) -> 28 | F23: =D23*E23 -> 0
A24: DOU021 | B24: Doudou | C24: Panthère | E24: =VLOOKUP(D27,G4:H8,2) -> 28 | F24: =D24*E24 -> 0
A25: DOU022 | B25: Doudou | C25: Dinosaure | E25: =VLOOKUP(D27,G4:H8,2) -> 28 | F25: =D25*E25 -> 0
A26: DOU023 | B26: Doudou | C26: Lion | E26: =VLOOKUP(D27,G4:H8,2) -> 28 | F26: =D26*E26 -> 0
D27: =SUM(D4:D26) -> 0 | F27: =SUM(F4:F26) -> 0

Sheet Couvertures
A1: BON DE COMMANDE CAROTTE & CIE
A3: Référence | B3: Description de l'article | C3: Motif | D3: Quantité | E3: Prix unitaire | F3: Total | G3: Quantités | H3: Prix unitaire | I3: %
A4: COUV001 | B4: Couverture nomade 4 en 1 | C4: Bolt | E4: =VLOOKUP(D26,G4:H8,2) -> 23.5 | F4: =D4*E4 -> 0 | G4: 0 | H4: 23.5 | I4: 0
A5: COUV002 | B5: Couverture nomade 4 en 1 | C5: Bolt2 | E5: =VLOOKUP(D26,G4:H8,2) -> 23.5 | F5: =D5*E5 -> 0 | G5: 6 | H5: 22.5 | I5: 0.043
A6: COUV003 | B6: Couverture nomade 4 en 1 | C6: Oiseaux | E6: =VLOOKUP(D26,G4:H8,2) -> 23.5 | F6: =D6*E6 -> 0 | G6: 10 | H6: 21 | I6: 0.1
A7: COUV004 | B7: Couverture nomade 4 en 1 | C7: Fruits | E7: =VLOOKUP(D26,G4:H8,2) -> 23.5 | F7: =D7*E7 -> 0 | G7: 24 | H7: 20 | I7: 0.15
A8: COUV005 | B8: Couverture nomade 4 en 1 | C8: Dinos | E8: =VLOOKUP(D26,G4:H8,2) -> 23.5 | F8: =D8*E8 -> 0 | G8: 50 | H8: 19.3 | I8: 0.18
A9: COUV006 | B9: Couverture nomade 4 en 1 | C9: Géomérique2 | E9: =VLOOKUP(D26,G4:H8,2) -> 23.5 | F9: =D9*E9 -> 0
A10: COUV007 | B10: Couverture nomade 4 en 1 | C10: Ecailles2 | E10: =VLOOKUP(D26,G4:H8,2) -> 23.5 | F10: =D10*E10 -> 0
A11: COUV008 | B11: Couverture nomade 4 en 1 | C11: Faons | E11: =VLOOKUP(D26,G4:H8,2) -> 23.5 | F11: =D11*E11 -> 0
A12: COUV009 | B12: Couverture nomade 4 en 1 | C12: Pastilles | E12: =VLOOKUP(D26,G4:H8,2) -> 23.5 | F12: =D12*E12 -> 0
A13: COUV010 | B13: Couverture nomade 4 en 1 | C13: Fleurs vintages | E13: =VLOOKUP(D26,G4:H8,2) -> 23.5 | F13: =D13*E13 -> 0
A14: COUV012 | B14: Couverture nomade 4 en 1 | C14: Animaux | E14: =VLOOKUP(D26,G4:H8,2) -> 23.5 | F14: =D14*E14 -> 0
A15: COUV013 | B15: Couverture nomade 4 en 1 | C15: Arlequin | E15: =VLOOKUP(D26,G4:H8,2) -> 23.5 | F15: =D15*E15 -> 0
A16: COUV014 | B16: Couverture nomade 4 en 1 | C16: Super héro | E16: =VLOOKUP(D26,G4:H8,2) -> 23.5 | F16: =D16*E16 -> 0
A17: COUV015 | B17: Couverture nomade 4 en 1 | C17: Pois multicolores | E17: =VLOOKUP(D26,G4:H8,2) -> 23.5 | F17: =D17*E17 -> 0
A18: COUV016 | B18: Couverture nomade 4 en 1 | C18: Etoiles fond bleu foncé | E18: =VLOOKUP(D26,G4:H8,2) -> 23.5 | F18: =D18*E18 -> 0
A19: COUV017 | B19: Couverture nomade 4 en 1 | C19: Chats | E19: =VLOOKUP(D26,G4:H8,2) -> 23.5 | F19: =D19*E19 -> 0
A20: COUV018 | B20: Couverture nomade 4 en 1 | C20: Nœuds | E20: =VLOOKUP(D26,G4:H8,2) -> 23.5 | F20: =D20*E20 -> 0
A21: COUV019 | B21: Couverture nomade 4 en 1 | C21: Renards | E21: =VLOOKUP(D26,G4:H8,2) -> 23.5 | F21: =D21*E21 -> 0
A22: COUV020 | B22: Couverture nomade 4 en 1 | C22: Brisures oranges | E22: =VLOOKUP(D26,G4:H8,2) -> 23.5 | F22: =D22*E22 -> 0
A23: COUV021 | B23: Couverture nomade 4 en 1 | C23: Flamants roses | E23: =VLOOKUP(D26,G4:H8,2) -> 23.5 | F23: =D23*E23 -> 0
A24: COUV022 | B24: Couverture nomade 4 en 1 | C24: Cornets de glace | E24: =VLOOKUP(D26,G4:H8,2) -> 23.5 | F24: =D24*E24 -> 0
A25: COUV023 | B25: Couverture nomade 4 en 1 | C25: Combi WV | E25: =VLOOKUP(D26,G4:H8,2) -> 23.5 | F25: =D25*E25 -> 0
D26: =SUM(D4:D25) -> 0 | F26: =SUM(F4:F25) -> 0

Sheet Attaches tétines
A1: BON DE COMMANDE CAROTTE & CIE
A3: Référence | B3: Description de l'article | C3: Motif | D3: Quantité | E3: Prix unitaire | F3: Total | G3: Quantités | H3: Prix unitaire | I3: %
A4: AT001 | B4: Attache tétine | C4: Bolt | E4: =VLOOKUP(D27,G4:H8,2) -> 6.2 | F4: =D4*E4 -> 0 | G4: 0 | H4: 6.2 | I4: 0
A5: AT002 | B5: Attache tétine | C5: Bolt2 | E5: =VLOOKUP(D27,G4:H8,2) -> 6.2 | F5: =D5*E5 -> 0 | G5: 10 | H5: 5.9 | I5: 0.05
A6: AT005 | B6: Attache tétine | C6: Oiseaux | E6: =VLOOKUP(D27,G4:H8,2) -> 6.2 | F6: =D6*E6 -> 0 | G6: 20 | H6: 5.6 | I6: 0.1
A7: AT006 | B7: Attache tétine | C7: Pois violet | E7: =VLOOKUP(D27,G4:H8,2) -> 6.2 | F7: =D7*E7 -> 0 | G7: 50 | H7: 5.3 | I7: 0.15
A8: AT008 | B8: Attache tétine | C8: Chevrons2 | E8: =VLOOKUP(D27,G4:H8,2) -> 6.2 | F8: =D8*E8 -> 0 | G8: 100 | H8: 5.1 | I8: 0.18
A9: AT009 | B9: Attache tétine | C9: Dinos | E9: =VLOOKUP(D27,G4:H8,2) -> 6.2 | F9: =D9*E9 -> 0
A10: AT010 | B10: Attache tétine | C10: Ecailles2 | E10: =VLOOKUP(D27,G4:H8,2) -> 6.2 | F10: =D10*E10 -> 0
A11: AT011 | B11: Attache tétine | C11: Géométrique2 | E11: =VLOOKUP(D27,G4:H8,2) -> 6.2 | F11: =D11*E11 -> 0
A12: AT012 | B12: Attache tétine | C12: Faons | E12: =VLOOKUP(D27,G4:H8,2) -> 6.2 | F12: =D12*E12 -> 0
A13: AT013 | B13: Attache tétine | C13: Pastilles | E13: =VLOOKUP(D27,G4:H8,2) -> 6.2 | F13: =D13*E13 -> 0
A14: AT014 | B14: Attache tétine | C14: Fleurs vintages | E14: =VLOOKUP(D27,G4:H8,2) -> 6.2 | F14: =D14*E14 -> 0
A15: AT015 | B15: Attache tétine | C15: Animaux de cirque | E15: =VLOOKUP(D27,G4:H8,2) -> 6.2 | F15: =D15*E15 -> 0
A16: AT016 | B16: Attache tétine | C16: Arlequin | E16: =VLOOKUP(D27,G4:H8,2) -> 6.2 | F16: =D16*E16 -> 0
A17: AT018 | B17: Attache tétine | C17: Super Héro | E17: =VLOOKUP(D27,G4:H8,2) -> 6.2 | F17: =D17*E17 -> 0
A18: AT019 | B18: Attache tétine | C18: Pois multicolores | E18: =VLOOKUP(D27,G4:H8,2) -> 6.2 | F18: =D18*E18 -> 0
A19: AT020 | B19: Attache tétine | C19: Etoiles fond bleu foncé | E19: =VLOOKUP(D27,G4:H8,2) -> 6.2 | F19: =D19*E19 -> 0
A20: AT021 | B20: Attache tétine | C20: Chats | E20: =VLOOKUP(D27,G4:H8,2) -> 6.2 | F20: =D20*E20 -> 0
A21: AT022 | B21: Attache tétine | C21: Nœuds | E21: =VLOOKUP(D27,G4:H8,2) -> 6.2 | F21: =D21*E21 -> 0
A22: AT023 | B22: Attache tétine | C22: Renards | E22: =VLOOKUP(D27,G4:H8,2) -> 6.2 | F22: =D22*E22 -> 0
A23: AT024 | B23: Attache tétine | C23: Brisures oranges | E23: =VLOOKUP(D27,G4:H8,2) -> 6.2 | F23: =D23*E23 -> 0
A24: AT025 | B24: Attache tétine | C24: Flamands roses | E24: =VLOOKUP(D27,G4:H8,2) -> 6.2 | F24: =D24*E24 -> 0
A25: AT026 | B25: Attache tétine | C25: Cornets de glaces | E25: =VLOOKUP(D27,G4:H8,2) -> 6.2 | F25: =D25*E25 -> 0
A26: AT027 | B26: Attache tétine | C26: Combi WV | E26: =VLOOKUP(D27,G4:H8,2) -> 6.2 | F26: =D26*E26 -> 0
D27: =SUM(D4:D26) -> 0 | F27: =SUM(F4:F26) -> 0

Sheet Bavoirs
A1: BON DE COMMANDE CAROTTE & CIE
A3: Référence | B3: Description de l'article | C3: Motif | D3: Quantité | E3: Prix unitaire | F3: Total | G3: Quantités | H3: Prix unitaire | I3: %
A4: BAVCLA001 | B4: Grand bavoir classique éponge | C4: Bolt | E4: =VLOOKUP(D50,G4:H9,2) -> 8.5 | F4: =D4*E4 -> 0 | G4: 0 | H4: 8.5 | I4: 0
A5: BAVCLA002 | B5: Grand bavoir classique éponge | C5: Bolt2 | E5: =VLOOKUP(D50,G4:H9,2) -> 8.5 | F5: =D5*E5 -> 0 | G5: 15 | H5: 8 | I5: 0.05
A6: BAVCLA005 | B6: Grand bavoir classique éponge | C6: Oiseaux | E6: =VLOOKUP(D50,G4:H9,2) -> 8.5 | F6: =D6*E6 -> 0 | G6: 30 | H6: 7.6 | I6: 0.1
A7: BAVCLA006 | B7: Grand bavoir classique éponge | C7: Pois violet | E7: =VLOOKUP(D50,G4:H9,2) -> 8.5 | F7: =D7*E7 -> 0 | G7: 50 | H7: 7.2 | I7: 0.15
A8: BAVCLA007 | B8: Grand bavoir classique éponge | C8: Fruits | E8: =VLOOKUP(D50,G4:H9,2) -> 8.5 | F8: =D8*E8 -> 0 | G8: 100 | H8: 7 | I8: 0.18
A9: BAVCLA008 | B9: Grand bavoir classique éponge | C9: Chevrons2 | E9: =VLOOKUP(D50,G4:H9,2) -> 8.5 | F9: =D9*E9 -> 0 | G9: 300 | H9: 6.7 | I9: 0.212
A10: BAVCLA009 | B10: Grand bavoir classique éponge | C10: Dinos | E10: =VLOOKUP(D50,G4:H9,2) -> 8.5 | F10: =D10*E10 -> 0
A11: BAVCLA010 | B11: Grand bavoir classique éponge | C11: Ecailles2 | E11: =VLOOKUP(D50,G4:H9,2) -> 8.5 | F11: =D11*E11 -> 0
A12: BAVCLA011 | B12: Grand bavoir classique éponge | C12: Géométrique2 | E12: =VLOOKUP(D50,G4:H9,2) -> 8.5 | F12: =D12*E12 -> 0
A13: BAVCLA012 | B13: Grand bavoir classique éponge | C13: Faons | E13: =VLOOKUP(D50,G4:H9,2) -> 8.5 | F13: =D13*E13 -> 0
A14: BAVCLA013 | B14: Grand bavoir classique éponge | C14: Pastilles | E14: =VLOOKUP(D50,G4:H9,2) -> 8.5 | F14: =D14*E14 -> 0
A15: BAVCLA014 | B15: Grand bavoir classique éponge | C15: Fleurs vintages | E15: =VLOOKUP(D50,G4:H9,2) -> 8.5 | F15: =D15*E15 -> 0
A16: BAVCLA015 | B16: Grand bavoir classique éponge | C16: Animaux de cirque | E16: =VLOOKUP(D50,G4:H9,2) -> 8.5 | F16: =D16*E16 -> 0
A17: BAVCLA016 | B17: Grand bavoir classique éponge | C17: Arlequin | E17: =VLOOKUP(D50,G4:H9,2) -> 8.5 | F17: =D17*E17 -> 0
A18: BAVCLA019 | B18: Grand bavoir classique éponge | C18: Super Héro | E18: =VLOOKUP(D50,G4:H9,2) -> 8.5 | F18: =D18*E18 -> 0
A19: BAVCLA020 | B19: Grand bavoir classique éponge | C19: Pois multicolores | E19: =VLOOKUP(D50,G4:H9,2) -> 8.5 | F19: =D19*E19 -> 0
A20: BAVCLA021 | B20: Grand bavoir classique éponge | C20: Etoiles fond bleu foncé | E20: =VLOOKUP(D50,G4:H9,2) -> 8.5 | F20: =D20*E20 -> 0
A21: BAVCLA022 | B21: Grand bavoir classique éponge | C21: Chats | E21: =VLOOKUP(D50,G4:H9,2) -> 8.5 | F21: =D21*E21 -> 0
A22: BAVCLA023 | B22: Grand bavoir classique éponge | C22: Nœuds | E22: =VLOOKUP(D50,G4:H9,2) -> 8.5 | F22: =D22*E22 -> 0
A23: BAVCLA024 | B23: Grand bavoir classique éponge | C23: Renards | E23: =VLOOKUP(D50,G4:H9,2) -> 8.5 | F23: =D23*E23 -> 0
A24: BAVCLA025 | B24: Grand bavoir classique éponge | C24: Brisures oranges | E24: =VLOOKUP(D50,G4:H9,2) -> 8.5 | F24: =D24*E24 -> 0
A25: BAVCLA026 | B25: Grand bavoir classique éponge | C25: Flamands roses | E25: =VLOOKUP(D50,G4:H9,2) -> 8.5 | F25: =D25*E25 -> 0
A26: BAVCLA027 | B26: Grand bavoir classique éponge | C26: Cornets de glaces | E26: =VLOOKUP(D50,G4:H9,2) -> 8.5 | F26: =D26*E26 -> 0
A27: BAVCLA028 | B27: Grand bavoir classique éponge | C27: Combi WV | E27: =VLOOKUP(D50,G4:H9,2) -> 8.5 | F27: =D27*E27 -> 0
A28: BAVBAN001 | B28: Grand bavoir bandana | C28: Bolt | E28: =VLOOKUP(D50,G4:H9,2) -> 8.5 | F28: =D28*E28 -> 0
A29: BAVBAN002 | B29: Grand bavoir bandana | C29: Bolt2 | E29: =VLOOKUP(D50,G4:H9,2) -> 8.5 | F29: =D29*E29 -> 0
A30: BAVBAN003 | B30: Grand bavoir bandana | C30: Chevrons2 | E30: =VLOOKUP(D50,G4:H9,2) -> 8.5 | F30: =D30*E30 -> 0
A31: BAVBAN004 | B31: Grand bavoir bandana | C31: Dinos | E31: =VLOOKUP(D50,G4:H9,2) -> 8.5 | F31: =D31*E31 -> 0
A32: BAVBAN005 | B32: Grand bavoir bandana | C32: Ecailles2 | E32: =VLOOKUP(D50,G4:H9,2) -> 8.5 | F32: =D32*E32 -> 0
A33: BAVBAN006 | B33: Grand bavoir bandana | C33: Géométrique2 | E33: =VLOOKUP(D50,G4:H9,2) -> 8.5 | F33: =D33*E33 -> 0
A34: BAVBAN007 | B34: Grand bavoir bandana | C34: Arlequin | E34: =VLOOKUP(D50,G4:H9,2) -> 8.5 | F34: =D34*E34 -> 0
A35: BAVBAN008 | B35: Grand bavoir bandana | C35: Super Héro | E35: =VLOOKUP(D50,G4:H9,2) -> 8.5 | F35: =D35*E35 -> 0
A36: BAVBAN009 | B36: Grand bavoir bandana | C36: Pois multicolores | E36: =VLOOKUP(D50,G4:H9,2) -> 8.5 | F36: =D36*E36 -> 0
A37: BAVBAN010 | B37: Grand bavoir bandana | C37: Etoiles fond bleu foncé | E37: =VLOOKUP(D50,G4:H9,2) -> 8.5 | F37: =D37*E37 -> 0
A38: BAVBAN011 | B38: Grand bavoir bandana | C38: Renards | E38: =VLOOKUP(D50,G4:H9,2) -> 8.5 | F38: =D38*E38 -> 0
A39: BAVBAN012 | B39: Grand bavoir bandana | C39: Brisures oranges | E39: =VLOOKUP(D50,G4:H9,2) -> 8.5 | F39: =D39*E39 -> 0
A40: BAVBAN013 | B40: Grand bavoir bandana | C40: Combi WV | E40: =VLOOKUP(D50,G4:H9,2) -> 8.5 | F40: =D40*E40 -> 0
A41: BAVFLE003 | B41: Grand bavoir fleur | C41: Oiseaux | E41: =VLOOKUP(D50,G4:H9,2) -> 8.5 | F41: =D41*E41 -> 0
A42: BAVFLE004 | B42: Grand bavoir fleur | C42: Pois violet | E42: =VLOOKUP(D50,G4:H9,2) -> 8.5 | F42: =D42*E42 -> 0
A43: BAVFLE006 | B43: Grand bavoir fleur | C43: Faons | E43: =VLOOKUP(D50,G4:H9,2) -> 8.5 | F43: =D43*E43 -> 0
A44: BAVFLE007 | B44: Grand bavoir fleur | C44: Pastilles | E44: =VLOOKUP(D50,G4:H9,2) -> 8.5 | F44: =D44*E44 -> 0
A45: BAVFLE008 | B45: Grand bavoir fleur | C45: Fleurs vintages | E45: =VLOOKUP(D50,G4:H9,2) -> 8.5 | F45: =D45*E45 -> 0
A46: BAVFLE009 | B46: Grand bavoir fleur | C46: Etoiles fond bleu foncé | E46: =VLOOKUP(D50,G4:H9,2) -> 8.5 | F46: =D46*E46 -> 0
A47: BAVFLE010 | B47: Grand bavoir fleur | C47: Chats | E47: =VLOOKUP(D50,G4:H9,2) -> 8.5 | F47: =D47*E47 -> 0
A48: BAVFLE011 | B48: Grand bavoir fleur | C48: Nœuds | E48: =VLOOKUP(D50,G4:H9,2) -> 8.5 | F48: =D48*E48 -> 0
A49: BAVFLE012 | B49: Grand bavoir fleur | C49: Flamands roses | E49: =VLOOKUP(D50,G4:H9,2) -> 8.5 | F49: =D49*E49 -> 0
D50: =SUM(D4:D49) -> 0 | F50: =SUM(F4:F49) -> 0

Sheet Mini bavoirs
A1: BON DE COMMANDE CAROTTE & CIE
A3: Référence | B3: Description de l'article | C3: Motif | D3: Quantité | E3: Prix unitaire | F3: Total | G3: Quantités | H3: Prix unitaire | I3: %
A4: MINBAV001 | B4: Mini bavoir bandana | C4: Bolt | E4: =VLOOKUP($D$28,$G$4:$H$9,2) -> 7.4 | F4: =D4*E4 -> 0 | G4: 0 | H4: 7.4 | I4: 0
A5: MINBAV002 | B5: Mini bavoir bandana | C5: Bolt2 | E5: =VLOOKUP($D$28,$G$4:$H$9,2) -> 7.4 | F5: =D5*E5 -> 0 | G5: 15 | H5: 7 | I5: 0.05
A6: MINBAV005 | B6: Mini bavoir bandana | C6: Oiseaux | E6: =VLOOKUP($D$28,$G$4:$H$9,2) -> 7.4 | F6: =D6*E6 -> 0 | G6: 30 | H6: 6.7 | I6: 0.1
A7: MINBAV006 | B7: Mini bavoir bandana | C7: Pois violet | E7: =VLOOKUP($D$28,$G$4:$H$9,2) -> 7.4 | F7: =D7*E7 -> 0 | G7: 50 | H7: 6.3 | I7: 0.15
A8: MINBAV007 | B8: Mini bavoir bandana | C8: Fruits | E8: =VLOOKUP($D$28,$G$4:$H$9,2) -> 7.4 | F8: =D8*E8 -> 0 | G8: 100 | H8: 6.15 | I8: 0.18
A9: MINBAV008 | B9: Mini bavoir bandana | C9: Chevrons2 | E9: =VLOOKUP($D$28,$G$4:$H$9,2) -> 7.4 | F9: =D9*E9 -> 0 | G9: 300 | H9: 5.8 | I9: 0.212
A10: MINBAV009 | B10: Mini bavoir bandana | C10: Dinos | E10: =VLOOKUP($D$28,$G$4:$H$9,2) -> 7.4 | F10: =D10*E10 -> 0
A11: MINBAV010 | B11: Mini bavoir bandana | C11: Ecailles2 | E11: =VLOOKUP($D$28,$G$4:$H$9,2) -> 7.4 | F11: =D11*E11 -> 0
A12: MINBAV011 | B12: Mini bavoir bandana | C12: Géométrique2 | E12: =VLOOKUP($D$28,$G$4:$H$9,2) -> 7.4 | F12: =D12*E12 -> 0
A13: MINBAV012 | B13: Mini bavoir bandana | C13: Faons | E13: =VLOOKUP($D$28,$G$4:$H$9,2) -> 7.4 | F13: =D13*E13 -> 0
A14: MINBAV013 | B14: Mini bavoir bandana | C14: Pastilles | E14: =VLOOKUP($D$28,$G$4:$H$9,2) -> 7.4 | F14: =D14*E14 -> 0
A15: MINBAV014 | B15: Mini bavoir bandana | C15: Fleurs vintages | E15: =VLOOKUP($D$28,$G$4:$H$9,2) -> 7.4 | F15: =D15*E15 -> 0
A16: MINBAV015 | B16: Mini bavoir bandana | C16: Animaux de cirque | E16: =VLOOKUP($D$28,$G$4:$H$9,2) -> 7.4 | F16: =D16*E16 -> 0
A17: MINBAV016 | B17: Mini bavoir bandana | C17: Arlequin | E17: =VLOOKUP($D$28,$G$4:$H$9,2) -> 7.4 | F17: =D17*E17 -> 0
A18: MINBAV019 | B18: Mini bavoir bandana | C18: Super Héro | E18: =VLOOKUP($D$28,$G$4:$H$9,2) -> 7.4 | F18: =D18*E18 -> 0
A19: MINBAV020 | B19: Mini bavoir bandana | C19: Pois multicolores | E19: =VLOOKUP($D$28,$G$4:$H$9,2) -> 7.4 | F19: =D19*E19 -> 0
A20: MINBAV021 | B20: Mini bavoir bandana | C20: Etoiles fond bleu foncé | E20: =VLOOKUP($D$28,$G$4:$H$9,2) -> 7.4 | F20: =D20*E20 -> 0
A21: MINBAV022 | B21: Mini bavoir bandana | C21: Chats | E21: =VLOOKUP($D$28,$G$4:$H$9,2) -> 7.4 | F21: =D21*E21 -> 0
... A27: MINBAV028 | B27: Mini bavoir bandana | C27: Combi WV | E27: =VLOOKUP($D$28,$G$4:$H$9,2) -> 7.4 | F27: =D27*E27 -> 0
D28: =SUM(D4:D27) -> 0 | F28: =SUM(F4:F27) -> 0

Sheet Bavettes et Lingettes
A1: BON DE COMMANDE CAROTTE & CIE
A3: Référence | B3: Description de l'article | C3: Motif | D3: Quantité | E3: Prix unitaire | F3: Total | G3: Quantités | H3: Prix unitaire | I3: %
A4: BAV001 | B4: Bavette d'épaule | C4: Bolt | E4: =VLOOKUP(D32,G4:H8,2) -> 8.5 | F4: =D4*E4 -> 0 | G4: 0 | H4: 8.5 | I4: 0
A5: BAV002 | B5: Bavette d'épaule | C5: Bolt2 | E5: =VLOOKUP(D32,G4:H8,2) -> 8.5 | F5: =D5*E5 -> 0 | G5: 10 | H5: 8 | I5: 0.05
A6: BAV003 | B6: Bavette d'épaule | C6: Pois violet | E6: =VLOOKUP(D32,G4:H8,2) -> 8.5 | F6: =D6*E6 -> 0 | G6: 20 | H6: 7.6 | I6: 0.1
A7: BAV004 | B7: Bavette d'épaule | C7: Fruits | E7: =VLOOKUP(D32,G4:H8,2) -> 8.5 | F7: =D7*E7 -> 0 | G7: 50 | H7: 7.2 | I7: 0.15
A8: BAV005 | B8: Bavette d'épaule | C8: Dinos | E8: =VLOOKUP(D32,G4:H8,2) -> 8.5 | F8: =D8*E8 -> 0 | G8: 100 | H8: 7 | I8: 0.18
A9: BAV006 | B9: Bavette d'épaule | C9: Géométrique2 | E9: =VLOOKUP(D32,G4:H8,2) -> 8.5 | F9: =D9*E9 -> 0
A10: BAV007 | B10: Bavette d'épaule | C10: Faons | E10: =VLOOKUP(D32,G4:H8,2) -> 8.5 | F10: =D10*E10 -> 0
A11: BAV008 | B11: Bavette d'épaule | C11: Pastilles | E11: =VLOOKUP(D32,G4:H8,2) -> 8.5 | F11: =D11*E11 -> 0
A12: BAV009 | B12: Bavette d'épaule | C12: Fleurs vintages | E12: =VLOOKUP(D32,G4:H8,2) -> 8.5 | F12: =D12*E12 -> 0
A13: BAV010 | B13: Bavette d'épaule | C13: Animaux de cirque | E13: =VLOOKUP(D32,G4:H8,2) -> 8.5 | F13: =D13*E13 -> 0
A14: BAV011 | B14: Bavette d'épaule | C14: Arlequin | E14: =VLOOKUP(D32,G4:H8,2) -> 8.5 | F14: =D14*E14 -> 0
A15: BAV013 | B15: Bavette d'épaule | C15: Super Héro | E15: =VLOOKUP(D32,G4:H8,2) -> 8.5 | F15: =D15*E15 -> 0
A16: BAV014 | B16: Bavette d'épaule | C16: Pois multicolores | E16: =VLOOKUP(D32,G4:H8,2) -> 8.5 | F16: =D16*E16 -> 0
A17: BAV015 | B17: Bavette d'épaule | C17: Etoiles fond bleu marine | E17: =VLOOKUP(D32,G4:H8,2) -> 8.5 | F17: =D17*E17 -> 0
A18: BAV016 | B18: Bavette d'épaule | C18: Chats | E18: =VLOOKUP(D32,G4:H8,2) -> 8.5 | F18: =D18*E18 -> 0
A19: BAV017 | B19: Bavette d'épaule | C19: Nœuds | E19: =VLOOKUP(D32,G4:H8,2) -> 8.5 | F19: =D19*E19 -> 0
A20: BAV018 | B20: Bavette d'épaule | C20: Renards | E20: =VLOOKUP(D32,G4:H8,2) -> 8.5 | F20: =D20*E20 -> 0
A21: BAV019 | B21: Bavette d'épaule | C21: Brisures oranges | E21: =VLOOKUP(D32,G4:H8,2) -> 8.5 | F21: =D21*E21 -> 0
A22: BAV020 | B22: Bavette d'épaule | C22: Flamands roses | E22: =VLOOKUP(D32,G4:H8,2) -> 8.5 | F22: =D22*E22 -> 0
A23: BAV021 | B23: Bavette d'épaule | C23: Cornets de glace | E23: =VLOOKUP(D32,G4:H8,2) -> 8.5 | F23: =D23*E23 -> 0
A24: LIN004 | B24: Lot de 10 lingettes lavables | C24: Jurassic Safari | E24: =VLOOKUP(D32,G4:H8,2) -> 8.5 | F24: =D24*E24 -> 0
A25: LIN005 | B25: Lot de 10 lingettes lavables | C25: Géométrique2 | E25: =VLOOKUP(D32,G4:H8,2) -> 8.5 | F25: =D25*E25 -> 0
A26: LIN006 | B26: Lot de 10 lingettes lavables | C26: Fairy Scandinavia | E26: =VLOOKUP(D32,G4:H8,2) -> 8.5 | F26: =D26*E26 -> 0
A27: LIN007 | B27: Lot de 10 lingettes lavables | C27: Circus | E27: =VLOOKUP(D32,G4:H8,2) -> 8.5 | F27: =D27*E27 -> 0
A28: LIN009 | B28: Lot de 10 lingettes lavables | C28: Super Teddy | E28: =VLOOKUP(D32,G4:H8,2) -> 8.5 | F28: =D28*E28 -> 0
A29: LIN010 | B29: Lot de 10 lingettes lavables | C29: Arty Cats | E29: =VLOOKUP(D32,G4:H8,2) -> 8.5 | F29: =D29*E29 -> 0
A30: LIN011 | B30: Lot de 10 lingettes lavables | C30: Little Fox | E30: =VLOOKUP(D32,G4:H8,2) -> 8.5 | F30: =D30*E30 -> 0
A31: LIN012 | B31: Lot de 10 lingettes lavables | C31: California Dreamin' | E31: =VLOOKUP(D32,G4:H8,2) -> 8.5 | F31: =D31*E31 -> 0
D32: =SUM(D4:D31) -> 0 | F32: =SUM(F4:F31) -> 0

Sheet Bouillottes
A1: BON DE COMMANDE CAROTTE & CIE
G2: Pour les bouillottes à 20€ | J2: Pour les bouillottes à 25€ | M2: Pour les bouillottes à 30€
A3: Référence | B3: Description de l'article | C3: Motif | D3: Quantité | E3: Prix unitaire | F3: Total | G3: Quantités | H3: Prix unitaire | I3: % | J3: Quantités | K3: Prix unitaire | L3: % | M3: Quantités | N3: Prix unitaire | O3: %
A4: BOU003 | B4: Bouillotte sèche avec liens | C4: Home sweet home (oiseaux) | E4: =VLOOKUP(D28,M4:N8,2) -> 12.6 | F4: =D4*E4 -> 0 | G4: 0 | H4: 8.4 | I4: 0 | J4: 0 | K4: 10.5 | L4: 0 | M4: 0 | N4: 12.6 | O4: 0
A5: BOU004 | B5: Bouillotte sèche avec liens | C5: Jurassic Safari | E5: =VLOOKUP(D28,M4:N8,2) -> 12.6 | F5: =D5*E5 -> 0 | G5: 10 | H5: 8 | I5: 0.05 | J5: 10 | K5: 10 | L5: 0.05 | M5: 10 | N5: 12 | O5: 0.05
A6: BOU005 | B6: Bouillotte sèche avec liens | C6: Géométrique2 | E6: =VLOOKUP(D28,M4:N8,2) -> 12.6 | F6: =D6*E6 -> 0 | G6: 20 | H6: 7.6 | I6: 0.1 | J6: 20 | K6: 9.5 | L6: 0.1 | M6: 20 | N6: 11.5 | O6: 0.1
A7: BOU006 | B7: Bouillotte sèche avec liens | C7: Fairy Scandinavia (Faons) | E7: =VLOOKUP(D28,M4:N8,2) -> 12.6 | F7: =D7*E7 -> 0 | G7: 30 | H7: 7.2 | I7: 0.15 | J7: 30 | K7: 9 | L7: 0.15 | M7: 30 | N7: 10.7 | O7: 0.15
A8: BOU007 | B8: Bouillotte sèche avec liens | C8: Fairy Scandinavia2 (fleurs) | E8: =VLOOKUP(D28,M4:N8,2) -> 12.6 | F8: =D8*E8 -> 0 | G8: 50 | H8: 6.9 | I8: 0.18 | J8: 50 | K8: 8.6 | L8: 0.18 | M8: 50 | N8: 10.4 | O8: 0.18
A9: BOU009 | B9: Bouillotte sèche avec liens | C9: Circus | E9: =VLOOKUP(D28,M4:N8,2) -> 12.6 | F9: =D9*E9 -> 0
A10: BOU010 | B10: Bouillotte sèche avec liens | C10: Super Teddy | E10: =VLOOKUP(D28,M4:N8,2) -> 12.6 | F10: =D10*E10 -> 0
A11: BOU011 | B11: Bouillotte sèche avec liens | C11: Arty Cats | E11: =VLOOKUP(D28,M4:N8,2) -> 12.6 | F11: =D11*E11 -> 0
A12: BOU012 | B12: Bouillotte sèche avec liens | C12: Little Fox | E12: =VLOOKUP(D28,M4:N8,2) -> 12.6 | F12: =D12*E12 -> 0
A13: BOU013 | B13: Bouillotte sèche avec liens | C13: California Dreamin' | E13: =VLOOKUP(D28,M4:N8,2) -> 12.6 | F13: =D13*E13 -> 0
A14: BOUDI | B14: Bouillotte sèche illustrée | C14: Dinosaure | E14: =VLOOKUP(D28,J4:K8,2) -> 10.5 | F14: =D14*E14 -> 0
A15: BOUFA | B15: Bouillotte sèche illustrée | C15: Faon | E15: =VLOOKUP(D28,G4:H8,2) -> 8.4 | F15: =D15*E15 -> 0
A16: BOUPO | B16: Bouillotte sèche illustrée | C16: Poire | E16: =VLOOKUP(D28,G4:H8,2) -> 8.4 | F16: =D16*E16 -> 0
A17: BOUTED | B17: Bouillotte sèche illustrée | C17: Super Teddy | E17: =VLOOKUP(D28,G4:H8,2) -> 8.4 | F17: =D17*E17 -> 0
A18: BOUCHA | B18: Bouillotte sèche illustrée | C18: Chat | E18: =VLOOKUP(D28,G4:H8,2) -> 8.4 | F18: =D18*E18 -> 0
A19: BOUPAT | B19: Bouillotte sèche illustrée | C19: Patte de renard | E19: =VLOOKUP(D28,G4:H8,2) -> 8.4 | F19: =D19*E19 -> 0
A20: BOUCOR | B20: Bouillotte sèche illustrée | C20: Cornet de glace | E20: =VLOOKUP(D28,J4:K8,2) -> 10.5 | F20: =D20*E20 -> 0
A21: BOUSI1 | B21: Bouillotte sèche illustrée | C21: Usine orange | E21: =VLOOKUP(D28,G4:H8,2) -> 8.4 | F21: =D21*E21 -> 0
A22: BOUSI2 | B22: Bouillotte sèche illustrée | C22: Usine bleue | E22: =VLOOKUP(D28,G4:H8,2) -> 8.4 | F22: =D22*E22 -> 0
A23: BOUSI3 | B23: Bouillotte sèche illustrée | C23: Usine bordeaux | E23: =VLOOKUP(D28,G4:H8,2) -> 8.4 | F23: =D23*E23 -> 0
A24: BOGOU1 | B24: Bouillotte sèche illustrée | C24: Goutte jaune | E24: =VLOOKUP(D28,J4:K8,2) -> 10.5 | F24: =D24*E24 -> 0
A25: BOGOU2 | B25: Bouillotte sèche illustrée | C25: Goutte rose | E25: =VLOOKUP(D28,J4:K8,2) -> 10.5 | F25: =D25*E25 -> 0
A26: BOCAM | B26: Bouillotte sèche illustrée | C26: Camion | E26: =VLOOKUP(D28,J4:K8,2) -> 10.5 | F26: =D26*E26 -> 0
A27: BOZOZ | B27: Bouillotte sèche illustrée | C27: Zozio | E27: =VLOOKUP(D28,G4:H8,2) -> 8.4 | F27: =D27*E27 -> 0
D28: =SUM(D4:D27) -> 0 | F28: =SUM(F4:F27) -> 0

Sheet Coussins
A1: BON DE COMMANDE CAROTTE & CIE
G2: Pour les petits coussins illustrés et fin de série - 28€ | J2: Pour les coussins ronds - 30€
A3: Référence | B3: Description de l'article | C3: Motif | D3: Quantité | E3: Prix unitaire | F3: Total | G3: Quantités | H3: Prix unitaire | I3: % | J3: Quantités | K3: Prix unitaire | L3: %
A4: COUCAM | B4: Coussin illustré - fin de série | C4: Camion | E4: =VLOOKUP(D45,G4:H8,2) -> 11.6 | F4: =D4*E4 -> 0 | G4: 0 | H4: 11.6 | I4: 0 | J4: 0 | K4: 12.5 | L4: 0
A5: COUDIN | B5: Grand coussin illustré | C5: Dinosaure | E5: =VLOOKUP(D45,G12:H16,2) -> 16 | F5: =D5*E5 -> 0 | G5: 5 | H5: 11 | I5: 0.05 | J5: 5 | K5: 11.9 | L5: 0.05
A6: COUCHO | B6: Grand coussin illustré | C6: Chouette | E6: =VLOOKUP(D45,G12:H16,2) -> 16 | F6: =D6*E6 -> 0 | G6: 10 | H6: 10.5 | I6: 0.1 | J6: 10 | K6: 11.3 | L6: 0.1
A7: COUGIR | B7: Grand coussin illustré | C7: Girafe | E7: =VLOOKUP(D45,G12:H16,2) -> 16 | F7: =D7*E7 -> 0 | G7: 20 | H7: 9.9 | I7: 0.15 | J7: 20 | K7: 10.6 | L7: 0.15
A8: COUPOW | B8: Coussin illustré | C8: POW | E8: =VLOOKUP(D45,J12:K16,2) -> 14 | F8: =D8*E8 -> 0 | G8: 50 | H8: 9.3 | I8: 0.2 | J8: 50 | K8: 10 | L8: 0.2
A9: COUCHA | B9: Coussin illustré | C9: Chat | E9: =VLOOKUP(D45,J12:K16,2) -> 14 | F9: =D9*E9 -> 0
A10: COUREN | B10: Coussin illustré | C10: Renard | E10: =VLOOKUP(D45,J12:K16,2) -> 14 | F10: =D10*E10 -> 0 | G10: Pour les coussins longs et grands coussins illustrés | J10: Pour les coussins illustrés - 35€
A11: COUFLA | B11: Petit coussin illustré | C11: Flamand rose | E11: =VLOOKUP(D45,G4:H8,2) -> 11.6 | F11: =D11*E11 -> 0 | G11: Quantités | H11: Prix unitaire | I11: % | J11: Quantités | K11: Prix unitaire | L11: %
A12: COUCOMB | B12: Grand coussin illustré | C12: Combi WV | E12: =VLOOKUP(D45,G12:H16,2) -> 16 | F12: =D12*E12 -> 0 | G12: 0 | H12: 16 | I12: 0 | J12: 0 | K12: 14 | L12: 0
A13: BAMDIN | B13: Boite à musique | C13: Dinosaure | E13: =VLOOKUP(D45,J20:K23,2) -> 22 | F13: =D13*E13 -> 0 | G13: 5 | H13: 15.2 | I13: 0.05 | J13: 5 | K13: 13.3 | L13: 0.05
A14: BAMCHO | B14: Boite à musique | C14: Chouette | E14: =VLOOKUP(D45,J20:K23,2) -> 22 | F14: =D14*E14 -> 0 | G14: 10 | H14: 14.4 | I14: 0.1 | J14: 10 | K14: 12.6 | L14: 0.1
A15: BAMGIR | B15: Boite à musique | C15: Girafe | E15: =VLOOKUP(D45,J20:K23,2) -> 22 | F15: =D15*E15 -> 0 | G15: 20 | H15: 13.6 | I15: 0.15 | J15: 20 | K15: 11.9 | L15: 0.15
A16: BAMPOW | B16: Boite à musique | C16: POW | E16: =VLOOKUP(D45,G20:H23,2) -> 16 | F16: =D16*E16 -> 0 | G16: 50 | H16: 12.8 | I16: 0.2 | J16: 50 | K16: 11.2 | L16: 0.2
A17: BAMCHA | B17: Boite à musique | C17: Chat | E17: =VLOOKUP(D45,G20:H23,2) -> 16 | F17: =D17*E17 -> 0
A18: BAMREN | B18: Boite à musique | C18: Renard | E18: =VLOOKUP(D45,G20:H23,2) -> 16 | F18: =D18*E18 -> 0 | G18: Pour les petites BAM - 39€ | J18: Pour les grandes boites à musiques - 49 €
A19: BAMCOMB | B19: Boite à musique | C19: Combi WV | E19: =VLOOKUP(D45,J20:K23,2) -> 22 | F19: =D19*E19 -> 0 | G19: Quantités | H19: Prix unitaire | I19: % | J19: Quantités | K19: Prix unitaire | L19: %
A20: CL001 | B20: Coussin long | C20: Bolt | E20: =VLOOKUP(D45,G12:H16,2) -> 16 | F20: =D20*E20 -> 0 | G20: 0 | H20: 16 | I20: 0 | J20: 0 | K20: 22 | L20: 0
A21: CL002 | B21: Coussin long | C21: Pois violet | E21: =VLOOKUP(D45,G12:H16,2) -> 16 | F21: =D21*E21 -> 0 | G21: 5 | H21: 15.2 | I21: 0.05 | J21: 5 | K21: 21 | L21: 0.05
A22: CL003 | B22: Coussin long | C22: Chevrons2 | E22: =VLOOKUP(D45,G12:H16,2) -> 16 | F22: =D22*E22 -> 0 | G22: 10 | H22: 14.4 | I22: 0.09 | J22: 10 | K22: 20 | L22: 0.09
A23: CL004 | B23: Coussin long | C23: Géométrique2 | E23: =VLOOKUP(D45,G12:H16,2) -> 16 | F23: =D23*E23 -> 0 | G23: 20 | H23: 13.6 | I23: 0.114 | J23: 20 | K23: 19.5 | L23: 0.114
A24: CL005 | B24: Coussin long | C24: Arlequin | E24: =VLOOKUP(D45,G12:H16,2) -> 16 | F24: =D24*E24 -> 0
A25: CL006 | B25: Coussin long | C25: Pois multicolores | E25: =VLOOKUP(D45,G12:H16,2) -> 16 | F25: =D25*E25 -> 0
A26: CL007 | B26: Coussin long | C26: Etoiles fond bleu foncé | E26: =VLOOKUP(D45,G12:H16,2) -> 16 | F26: =D26*E26 -> 0
A27: CL008 | B27: Coussin long | C27: Nœuds | E27: =VLOOKUP(D45,G12:H16,2) -> 16 | F27: =D27*E27 -> 0
A28: CL009 | B28: Coussin long | C28: Brisures oranges | E28: =VLOOKUP(D45,G12:H16,2) -> 16 | F28: =D28*E28 -> 0
A29: CL010 | B29: Coussin long | C29: Cornets de glaces | E29: =VLOOKUP(D45,G12:H16,2) -> 16 | F29: =D29*E29 -> 0
A30: CL011 | B30: Coussin long | C30: Fleurs vintages | E30: =VLOOKUP(D45,G12:H16,2) -> 16 | F30: =D30*E30 -> 0
A31: CR003 | B31: Coussin rond | C31: Bolt2 | E31: =VLOOKUP(D45,J4:K8,2) -> 12.5 | F31: =D31*E31 -> 0
A32: CR004 | B32: Coussin rond | C32: Oiseaux | E32: =VLOOKUP(D45,J4:K8,2) -> 12.5 | F32: =D32*E32 -> 0
A33: CR005 | B33: Coussin rond | C33: Fruits | E33: =VLOOKUP(D45,J4:K8,2) -> 12.5 | F33: =D33*E33 -> 0
A34: CR006 | B34: Coussin rond | C34: Dinos | E34: =VLOOKUP(D45,J4:K8,2) -> 12.5 | F34: =D34*E34 -> 0
A35: CR007 | B35: Coussin rond | C35: Ecailles2 | E35: =VLOOKUP(D45,J4:K8,2) -> 12.5 | F35: =D35*E35 -> 0
A36: CR008 | B36: Coussin rond | C36: Faons | E36: =VLOOKUP(D45,J4:K8,2) -> 12.5 | F36: =D36*E36 -> 0
A37: CR009 | B37: Coussin rond | C37: Pastilles | E37: =VLOOKUP(D45,J4:K8,2) -> 12.5 | F37: =D37*E37 -> 0
A38: CR010 | B38: Coussin rond | C38: Animaux de cirque | E38: =VLOOKUP(D45,J4:K8,2) -> 12.5 | F38: =D38*E38 -> 0
A39: CR012 | B39: Coussin rond | C39: Pois multicolores | E39: =VLOOKUP(D45,J4:K8,2) -> 12.5 | F39: =D39*E39 -> 0
A40: CR013 | B40: Coussin rond | C40: Etoiles fond bleu foncé | E40: =VLOOKUP(D45,J4:K8,2) -> 12.5 | F40: =D40*E40 -> 0
A41: CR014 | B41: Coussin rond | C41: Chats | E41: =VLOOKUP(D45,J4:K8,2) -> 12.5 | F41: =D41*E41 -> 0
A42: CR015 | B42: Coussin rond | C42: Renards | E42: =VLOOKUP(D45,J4:K8,2) -> 12.5 | F42: =D42*E42 -> 0
A43: CR016 | B43: Coussin rond | C43: Flamants roses | E43: =VLOOKUP(D45,J4:K8,2) -> 12.5 | F43: =D43*E43 -> 0
A44: CR017 | B44: Coussin rond | C44: Combi WV | E44: =VLOOKUP(D45,J4:K8,2) -> 12.5 | F44: =D44*E44 -> 0
D45: =SUM(D4:D44) -> 0 | F45: =SUM(F4:F44) -> 0

Sheet Guirlande
A1: BON DE COMMANDE CAROTTE & CIE
A3: Référence | B3: Description de l'article | C3: Motif | D3: Quantité | E3: Prix unitaire | F3: Total | G3: Quantités | H3: Prix unitaire | I3: %
A4: GUI001 | B4: Guirlande de 9 fanions | C4: Pluie | E4: =VLOOKUP(D14,G4:H8,2) -> 9.5 | F4: =D4*E4 -> 0 | G4: 0 | H4: 9.5 | I4: 0
A5: GUI002 | B5: Guirlande de 9 fanions | C5: Men at Work | E5: =VLOOKUP(D14,G4:H8,2) -> 9.5 | F5: =D5*E5 -> 0 | G5: 10 | H5: 9 | I5: 0.05
A6: GUI003 | B6: Guirlande de 9 fanions | C6: Home sweet home | E6: =VLOOKUP(D14,G4:H8,2) -> 9.5 | F6: =D6*E6 -> 0 | G6: 20 | H6: 8.55 | I6: 0.1
A7: GUI004 | B7: Guirlande de 9 fanions | C7: Jurassic Safari | E7: =VLOOKUP(D14,G4:H8,2) -> 9.5 | F7: =D7*E7 -> 0 | G7: 50 | H7: 8 | I7: 0.15
A8: GUI005 | B8: Guirlande de 9 fanions | C8: Fairy Scandinavia | E8: =VLOOKUP(D14,G4:H8,2) -> 9.5 | F8: =D8*E8 -> 0 | G8: 100 | H8: 7.8 | I8: 0.18
A9: GUI006 | B9: Guirlande de 9 fanions | C9: Circus | E9: =VLOOKUP(D14,G4:H8,2) -> 9.5 | F9: =D9*E9 -> 0
A10: GUI008 | B10: Guirlande de 9 fanions | C10: Super Teddy | E10: =VLOOKUP(D14,G4:H8,2) -> 9.5 | F10: =D10*E10 -> 0
A11: GUI009 | B11: Guirlande de 9 fanions | C11: Arty Cats | E11: =VLOOKUP(D14,G4:H8,2) -> 9.5 | F11: =D11*E11 -> 0
A12: GUI010 | B12: Guirlande de 9 fanions | C12: Little Fox | E12: =VLOOKUP(D14,G4:H8,2) -> 9.5 | F12: =D12*E12 -> 0
A13: GUI011 | B13: Guirlande de 9 fanions | C13: California Dreamin' | E13: =VLOOKUP(D14,G4:H8,2) -> 9.5 | F13: =D13*E13 -> 0
D14: =SUM(D4:D13) -> 0 | F14: =SUM(F4:F13) -> 0

Sheet Mobile
A1: BON DE COMMANDE CAROTTE & CIE
A3: Référence | B3: Description de l'article | C3: Motif | D3: Quantité | E3: Prix unitaire | F3: Total | G3: Quantités | H3: Prix unitaire | I3: %
A4: MOB001 | B4: Grand mobile | C4: Camions | E4: =VLOOKUP(D8,G4:H8,2) -> 18 | F4: =D4*E4 -> 0 | G4: 0 | H4: 18 | I4: 0
A5: MOB003 | B5: Grand mobile | C5: Pluie | E5: =VLOOKUP(D8,G4:H8,2) -> 18 | F5: =D5*E5 -> 0 | G5: 5 | H5: 17 | I5: 0.05
A6: MOB004 | B6: Grand mobile | C6: Dinosaures | E6: =VLOOKUP(D8,G4:H8,2) -> 18 | F6: =D6*E6 -> 0 | G6: 15 | H6: 16.2 | I6: 0.1
A7: MOB005 | B7: Grand mobile | C7: Chats | E7: =VLOOKUP(D8,G4:H8,2) -> 18 | F7: =D7*E7 -> 0 | G7: 30 | H7: 15.8 | I7: 0.12
D8: =SUM(D4:D7) -> 0 | F8: =SUM(F4:F7) -> 0 | G8: 50 | H8: 15.3 | I8: 0.15

Sheet Affiches
A1: BON DE COMMANDE CAROTTE & CIE
A3: Référence | B3: Description de l'article | C3: Motif | D3: Quantité | E3: Prix unitaire | F3: Total | G3: Quantités | H3: Prix unitaire | I3: %
A4: AFF001 | B4: Affiche illustrée A3 | C4: NORD | E4: =VLOOKUP(D7,G4:H8,2) -> 5.3 | F4: =D4*E4 -> 0 | G4: 0 | H4: 5.3 | I4: 0
A5: AFF002 | B5: Affiche illustrée A3 | C5: ABC | E5: =VLOOKUP(D7,G4:H8,2) -> 5.3 | F5: =D5*E5 -> 0 | G5: 10 | H5: 5 | I5: 0.05
A6: AFF003 | B6: Affiche illustrée A3 | C6: Chiffres | E6: =VLOOKUP(D7,G4:H8,2) -> 5.3 | F6: =D6*E6 -> 0 | G6: 20 | H6: 4.8 | I6: 0.1
D7: =SUM(D4:D6) -> 0 | F7: =SUM(F4:F6) -> 0 | G7: 50 | H7: 4.5 | I7: 0.15
G8: 100 | H8: 4.3 | I8: 0.18

Sheet Accessoires
A1: BON DE COMMANDE CAROTTE & CIE
G2: Pour les badges | J2: Pour les magnets
A3: Référence | B3: Description de l'article | C3: Motif | D3: Quantité | E3: Prix unitaire | F3: Total | G3: Quantités | H3: Prix unitaire | I3: % | J3: Quantités | K3: Prix unitaire | L3: %
A4: BAD001 | B4: Badges 50mm | C4: 1 | E4: =VLOOKUP($D$250,$G$4:$H$8,2) -> 2 | F4: =D4*E4 -> 0 | G4: 0 | H4: 2 | I4: 0 | J4: 0 | K4: 2.4 | L4: 0
A5: BAD002 | B5: Badges 50mm | C5: 2 | E5: =VLOOKUP($D$250,$G$4:$H$8,2) -> 2 | F5: =D5*E5 -> 0 | G5: 10 | H5: 1.9 | I5: 0.05 | J5: 10 | K5: 2.3 | L5: 0.05
A6: BAD003 | B6: Badges 50mm | C6: 3 | E6: =VLOOKUP($D$250,$G$4:$H$8,2) -> 2 | F6: =D6*E6 -> 0 | G6: 50 | H6: 1.8 | I6: 0.1 | J6: 50 | K6: 2.15 | L6: 0.1
A7: BAD004 | B7: Badges 50mm | C7: 4 | E7: =VLOOKUP($D$250,$G$4:$H$8,2) -> 2 | F7: =D7*E7 -> 0 | G7: 100 | H7: 1.7 | I7: 0.15 | J7: 100 | K7: 2 | L7: 0.15
A8: BAD005 | B8: Badges 50mm | C8: 5 | E8: =VLOOKUP($D$250,$G$4:$H$8,2) -> 2 | F8: =D8*E8 -> 0 | G8: 200 | H8: 1.6 | I8: 0.2 | J8: 200 | K8: 1.9 | L8: 0.2
A9: BAD006 | B9: Badges 50mm | C9: 6 | E9: =VLOOKUP($D$250,$G$4:$H$8,2) -> 2 | F9: =D9*E9 -> 0
A10: BAD007 | B10: Badges 50mm | C10: 7 | E10: =VLOOKUP($D$250,$G$4:$H$8,2) -> 2 | F10: =D10*E10 -> 0 | G10: Pour les miroirs | J10: Pour les porte-clefs décapsuleurs
A11: BAD008 | B11: Badges 50mm | C11: 8 | E11: =VLOOKUP($D$250,$G$4:$H$8,2) -> 2 | F11: =D11*E11 -> 0 | G11: Quantités | H11: Prix unitaire | I11: % | J11: Quantités | K11: Prix unitaire | L11: %
A12: BAD009 | B12: Badges 50mm | C12: 9 | E12: =VLOOKUP($D$250,$G$4:$H$8,2) -> 2 | F12: =D12*E12 -> 0 | G12: 0 | H12: 2.8 | I12: 0 | J12: 0 | K12: 3.5 | L12: 0
A13: BAD010 | B13: Badges 50mm | C13: 10 | E13: =VLOOKUP($D$250,$G$4:$H$8,2) -> 2 | F13: =D13*E13 -> 0 | G13: 10 | H13: 2.7 | I13: 0.05 | J13: 10 | K13: 3.3 | L13: 0.05
A14: BAD011 | B14: Badges 50mm | C14: 11 | E14: =VLOOKUP($D$250,$G$4:$H$8,2) -> 2 | F14: =D14*E14 -> 0 | G14: 50 | H14: 2.5 | I14: 0.1 | J14: 50 | K14: 3.15 | L14: 0.1
A15: BAD012 | B15: Badges 50mm | C15: 12 | E15: =VLOOKUP($D$250,$G$4:$H$8,2) -> 2 | F15: =D15*E15 -> 0 | G15: 100 | H15: 2.4 | I15: 0.15 | J15: 100 | K15: 3 | L15: 0.15
A16: BAD013 | B16: Badges 50mm | C16: 13 | E16: =VLOOKUP($D$250,$G$4:$H$8,2) -> 2 | F16: =D16*E16 -> 0 | G16: 200 | H16: 2.25 | I16: 0.2 | J16: 200 | K16: 2.8 | L16: 0.2
A17: BAD014 | B17: Badges 50mm | C17: 14 | E17: =VLOOKUP($D$250,$G$4:$H$8,2) -> 2 | F17: =D17*E17 -> 0
A18: BAD015 | B18: Badges 50mm | C18: 15 | E18: =VLOOKUP($D$250,$G$4:$H$8,2) -> 2 | F18: =D18*E18 -> 0 | G18: Pour les totebags
A19: BAD016 | B19: Badges 50mm | C19: 16 | E19: =VLOOKUP($D$250,$G$4:$H$8,2) -> 2 | F19: =D19*E19 -> 0 | G19: Quantités | H19: Prix unitaire | I19: %
A20: BAD017 | B20: Badges 50mm | C20: 17 | E20: =VLOOKUP($D$250,$G$4:$H$8,2) -> 2 | F20: =D20*E20 -> 0 | G20: 0 | H20: 6 | I20: 0
A21: BAD018 | B21: Badges 50mm | C21: 18 | E21: =VLOOKUP($D$250,$G$4:$H$8,2) -> 2 | F21: =D21*E21 -> 0 | G21: 20 | H21: 5.7 | I21: 0.05
A22: BAD019 | B22: Badges 50mm | C22: 19 | E22: =VLOOKUP($D$250,$G$4:$H$8,2) -> 2 | F22: =D22*E22 -> 0 | G22: 40 | H22: 5.4 | I22: 0.1
A23: BAD020 | B23: Badges 50mm | C23: 20 | E23: =VLOOKUP($D$250,$G$4:$H$8,2) -> 2 | F23: =D23*E23 -> 0
A24: BAD021 | B24: Badges 50mm | C24: 21 | E24: =VLOOKUP($D$250,$G$4:$H$8,2) -> 2 | F24: =D24*E24 -> 0
A25: BAD022 | B25: Badges 50mm | C25: 22 | E25: =VLOOKUP($D$250,$G$4:$H$8,2) -> 2 | F25: =D25*E25 -> 0
A26: BAD023 | B26: Badges 50mm | C26: 23 | E26: =VLOOKUP($D$250,$G$4:$H$8,2) -> 2 | F26: =D26*E26 -> 0
A27: BAD024 | B27: Badges 50mm | C27: 24 | E27: =VLOOKUP($D$250,$G$4:$H$8,2) -> 2 | F27: =D27*E27 -> 0
A28: BAD025 | B28: Badges 50mm | C28: 25 | E28: =VLOOKUP($D$250,$G$4:$H$8,2) -> 2 | F28: =D28*E28 -> 0
A29: BAD026 | B29: Badges 50mm | C29: 26 | E29: =VLOOKUP($D$250,$G$4:$H$8,2) -> 2 | F29: =D29*E29 -> 0
A30: BAD027 | B30: Badges 50mm | C30: 27 | E30: =VLOOKUP($D$250,$G$4:$H$8,2) -> 2 | F30: =D30*E30 -> 0
A31: BAD028 | B31: Badges 50mm | C31: 28 | E31: =VLOOKUP($D$250,$G$4:$H$8,2) -> 2 | F31: =D31*E31 -> 0
A32: BAD029 | B32: Badges 50mm | C32: 29 | E32: =VLOOKUP($D$250,$G$4:$H$8,2) -> 2 | F32: =D32*E32 -> 0
A33: BAD030 | B33: Badges 50mm | C33: 30 | E33: =VLOOKUP($D$250,$G$4:$H$8,2) -> 2 | F33: =D33*E33 -> 0
A34: BAD031 | B34: Badges 50mm | C34: 31 | E34: =VLOOKUP($D$250,$G$4:$H$8,2) -> 2 | F34: =D34*E34 -> 0
... A64: BAD061 | B64: Badges 50mm | C64: 61 | E64: =VLOOKUP($D$250,$G$4:$H$8,2) -> 2 | F64: =D64*E64 -> 0
A65: MAG001 | B65: Magnet 50mm | C65: 1 | E65: =VLOOKUP($D$250,$J$4:$K$8,2) -> 2.4 | F65: =D65*E65 -> 0
A66: LAG002 | B66: Magnet 50mm | C66: 2 | E66: =VLOOKUP($D$250,$J$4:$K$8,2) -> 2.4 | F66: =D66*E66 -> 0
A67: MAG003 | B67: Magnet 50mm | C67: 3 | E67: =VLOOKUP($D$250,$J$4:$K$8,2) -> 2.4 | F67: =D67*E67 -> 0
A68: MAG004 | B68: Magnet 50mm | C68: 4 | E68: =VLOOKUP($D$250,$J$4:$K$8,2) -> 2.4 | F68: =D68*E68 -> 0
A69: MAG005 | B69: Magnet 50mm | C69: 5 | E69: =VLOOKUP($D$250,$J$4:$K$8,2) -> 2.4 | F69: =D69*E69 -> 0
A70: MAG006 | B70: Magnet 50mm | C70: 6 | E70: =VLOOKUP($D$250,$J$4:$K$8,2) -> 2.4 | F70: =D70*E70 -> 0
A71: MAG007 | B71: Magnet 50mm | C71: 7 | E71: =VLOOKUP($D$250,$J$4:$K$8,2) -> 2.4 | F71: =D71*E71 -> 0
A72: MAG008 | B72: Magnet 50mm | C72: 8 | E72: =VLOOKUP($D$250,$J$4:$K$8,2) -> 2.4 | F72: =D72*E72 -> 0
A73: MAG009 | B73: Magnet 50mm | C73: 9 | E73: =VLOOKUP($D$250,$J$4:$K$8,2) -> 2.4 | F73: =D73*E73 -> 0
A74: MAG010 | B74: Magnet 50mm | C74: 10 | E74: =VLOOKUP($D$250,$J$4:$K$8,2) -> 2.4 | F74: =D74*E74 -> 0
A75: MAG011 | B75: Magnet 50mm | C75: 11 | E75: =VLOOKUP($D$250,$J$4:$K$8,2) -> 2.4 | F75: =D75*E75 -> 0
A76: MAG012 | B76: Magnet 50mm | C76: 12 | E76: =VLOOKUP($D$250,$J$4:$K$8,2) -> 2.4 | F76: =D76*E76 -> 0
... A125: MAG061 | B125: Magnet 50mm | C125: 61 | E125: =VLOOKUP($D$250,$J$4:$K$8,2) -> 2.4 | F125: =D125*E125 -> 0
A126: MIR001 | B126: Miroir 50mm | C126: 1 | E126: =VLOOKUP($D$250,$G$12:$H$16,2) -> 2.8 | F126: =D126*E126 -> 0
A127: MIR002 | B127: Miroir 50mm | C127: 2 | E127: =VLOOKUP($D$250,$G$12:$H$16,2) -> 2.8 | F127: =D127*E127 -> 0
A128: MIR003 | B128: Miroir 50mm | C128: 3 | E128: =VLOOKUP($D$250,$G$12:$H$16,2) -> 2.8 | F128: =D128*E128 -> 0
A129: MIR004 | B129: Miroir 50mm | C129: 4 | E129: =VLOOKUP($D$250,$G$12:$H$16,2) -> 2.8 | F129: =D129*E129 -> 0
A130: MIR005 | B130: Miroir 50mm | C130: 5 | E130: =VLOOKUP($D$250,$G$12:$H$16,2) -> 2.8 | F130: =D130*E130 -> 0
A131: MIR006 | B131: Miroir 50mm | C131: 6 | E131: =VLOOKUP($D$250,$G$12:$H$16,2) -> 2.8 | F131: =D131*E131 -> 0
A132: MIR007 | B132: Miroir 50mm | C132: 7 | E132: =VLOOKUP($D$250,$G$12:$H$16,2) -> 2.8 | F132: =D132*E132 -> 0
A133: MIR008 | B133: Miroir 50mm | C133: 8 | E133: =VLOOKUP($D$250,$G$12:$H$16,2) -> 2.8 | F133: =D133*E133 -> 0
A134: MIR009 | B134: Miroir 50mm | C134: 9 | E134: =VLOOKUP($D$250,$G$12:$H$16,2) -> 2.8 | F134: =D134*E134 -> 0
A135: MIR010 | B135: Miroir 50mm | C135: 10 | E135: =VLOOKUP($D$250,$G$12:$H$16,2) -> 2.8 | F135: =D135*E135 -> 0
A136: MIR011 | B136: Miroir 50mm | C136: 11 | E136: =VLOOKUP($D$250,$G$12:$H$16,2) -> 2.8 | F136: =D136*E136 -> 0
A137: MIR012 | B137: Miroir 50mm | C137: 12 | E137: =VLOOKUP($D$250,$G$12:$H$16,2) -> 2.8 | F137: =D137*E137 -> 0
... A186: MIR061 | B186: Miroir 50mm | C186: 61 | E186: =VLOOKUP($D$250,$G$12:$H$16,2) -> 2.8 | F186: =D186*E186 -> 0
A187: PC001 | B187: Porte clefs décapsuleur 50mm | C187: 1 | E187: =VLOOKUP($D$250,$J$12:$K$16,2) -> 3.5 | F187: =D187*E187 -> 0
A188: PC002 | B188: Porte clefs décapsuleur 50mm | C188: 2 | E188: =VLOOKUP($D$250,$J$12:$K$16,2) -> 3.5 | F188: =D188*E188 -> 0
A189: PC003 | B189: Porte clefs décapsuleur 50mm | C189: 3 | E189: =VLOOKUP($D$250,$J$12:$K$16,2) -> 3.5 | F189: =D189*E189 -> 0
A190: PC004 | B190: Porte clefs décapsuleur 50mm | C190: 4 | E190: =VLOOKUP($D$250,$J$12:$K$16,2) -> 3.5 | F190: =D190*E190 -> 0
A191: PC005 | B191: Porte clefs décapsuleur 50mm | C191: 5 | E191: =VLOOKUP($D$250,$J$12:$K$16,2) -> 3.5 | F191: =D191*E191 -> 0
A192: PC006 | B192: Porte clefs décapsuleur 50mm | C192: 6 | E192: =VLOOKUP($D$250,$J$12:$K$16,2) -> 3.5 | F192: =D192*E192 -> 0
A193: PC007 | B193: Porte clefs décapsuleur 50mm | C193: 7 | E193: =VLOOKUP($D$250,$J$12:$K$16,2) -> 3.5 | F193: =D193*E193 -> 0
A194: PC008 | B194: Porte clefs décapsuleur 50mm | C194: 8 | E194: =VLOOKUP($D$250,$J$12:$K$16,2) -> 3.5 | F194: =D194*E194 -> 0
A195: PC009 | B195: Porte clefs décapsuleur 50mm | C195: 9 | E195: =VLOOKUP($D$250,$J$12:$K$16,2) -> 3.5 | F195: =D195*E195 -> 0
A196: PC010 | B196: Porte clefs décapsuleur 50mm | C196: 10 | E196: =VLOOKUP($D$250,$J$12:$K$16,2) -> 3.5 | F196: =D196*E196 -> 0
A197: PC011 | B197: Porte clefs décapsuleur 50mm | C197: 11 | E197: =VLOOKUP($D$250,$J$12:$K$16,2) -> 3.5 | F197: =D197*E197 -> 0
A198: PC012 | B198: Porte clefs décapsuleur 50mm | C198: 12 | E198: =VLOOKUP($D$250,$J$12:$K$16,2) -> 3.5 | F198: =D198*E198 -> 0
... A247: PC061 | B247: Porte clefs décapsuleur 50mm | C247: 61 | E247: =VLOOKUP($D$250,$J$12:$K$16,2) -> 3.5 | F247: =D247*E247 -> 0
A248: TOT001 | B248: Totebag | C248: Pluie | E248: =VLOOKUP($D$250,$G$20:$H$22,2) -> 6 | F248: =D248*E248 -> 0
A249: TOT002 | B249: Totebag | C249: Montagnes | E249: =VLOOKUP($D$250,$G$20:$H$22,2) -> 6 | F249: =D249*E249 -> 0
D250: =SUM(D4:D249) -> 0 | F250: =SUM(F4:F249) -> 0

Sheet Stickers
A1: BON DE COMMANDE CAROTTE & CIE
G2: Petits stickers
A3: Référence | B3: Description de l'article | C3: Motif | D3: Quantité | E3: Prix unitaire | F3: Total | G3: Quantités | H3: Prix unitaire | I3: %
A4: FLEX001 | B4: Flex thermocollant coudières | C4: Noires paillettes | E4: =VLOOKUP(D55,G20:H24,2) -> 4.3 | F4: =D4*E4 -> 0 | G4: 0 | H4: 2 | I4: 0
A5: FLEX002 | B5: Flex thermocollant coudières | C5: Argent paillettes | E5: =VLOOKUP(D55,G20:H24,2) -> 4.3 | F5: =D5*E5 -> 0 | G5: 20 | H5: 1.9 | I5: 0.05
A6: FLEX003 | B6: Flex thermocollant coudières | C6: Dorées paillettes | E6: =VLOOKUP(D55,G20:H24,2) -> 4.3 | F6: =D6*E6 -> 0 | G6: 50 | H6: 1.8 | I6: 0.1
A7: FLEX004 | B7: Flex thermocollant coudières | C7: Bronze irisé | E7: =VLOOKUP(D55,G20:H24,2) -> 4.3 | F7: =D7*E7 -> 0 | G7: 100 | H7: 1.7 | I7: 0.15
A8: FLEX005 | B8: Flex thermocollant coudières | C8: Fluo rose | E8: =VLOOKUP(D55,G20:H24,2) -> 4.3 | F8: =D8*E8 -> 0 | G8: 150 | H8: 1.6 | I8: 0.2
A9: FLEX006 | B9: Flex thermocollant grande étoile | C9: Noires paillettes | E9: =VLOOKUP(D55,G12:H20,2) -> 2.5 | F9: =D9*E9 -> 0
A10: FLEX007 | B10: Flex thermocollant grande étoile | C10: Argent paillettes | E10: =VLOOKUP(D55,G12:H20,2) -> 2.5 | F10: =D10*E10 -> 0 | G10: Grands stickers
A11: FLEX008 | B11: Flex thermocollant grande étoile | C11: Dorées paillettes | E11: =VLOOKUP(D55,G12:H20,2) -> 2.5 | F11: =D11*E11 -> 0 | G11: Quantités | H11: Prix unitaire | I11: %
A12: FLEX009 | B12: Flex thermocollant grande étoile | C12: Bronze irisé | E12: =VLOOKUP(D55,G12:H20,2) -> 2.5 | F12: =D12*E12 -> 0 | G12: 0 | H12: 2.5 | I12: 0
A13: FLEX010 | B13: Flex thermocollant grande étoile | C13: Fluo rose | E13: =VLOOKUP(D55,G12:H20,2) -> 2.5 | F13: =D13*E13 -> 0 | G13: 20 | H13: 2.4 | I13: 0.05
A14: FLEX011 | B14: Flex thermocollant grande étoile | C14: Fluo jaune | E14: =VLOOKUP(D55,G12:H20,2) -> 2.5 | F14: =D14*E14 -> 0 | G14: 50 | H14: 2.25 | I14: 0.1
A15: FLEX012 | B15: Flex thermocollant nuages | C15: Noires paillettes | E15: =VLOOKUP(D55,G12:H20,2) -> 2.5 | F15: =D15*E15 -> 0 | G15: 100 | H15: 2.12 | I15: 0.15
A16: FLEX014 | B16: Flex thermocollant nuages | C16: Argent paillettes | E16: =VLOOKUP(D55,G12:H20,2) -> 2.5 | F16: =D16*E16 -> 0 | G16: 150 | H16: 2 | I16: 0.2
A17: FLEX015 | B17: Flex thermocollant nuages | C17: Dorées paillettes | E17: =VLOOKUP(D55,G12:H20,2) -> 2.5 | F17: =D17*E17 -> 0
A18: FLEX017 | B18: Flex thermocollant nuages | C18: Fluo rose | E18: =VLOOKUP(D55,G12:H20,2) -> 2.5 | F18: =D18*E18 -> 0 | G18: Coudières
A19: FLEX018 | B19: Flex thermocollant nuages | C19: Fluo jaune | E19: =VLOOKUP(D55,G12:H20,2) -> 2.5 | F19: =D19*E19 -> 0 | G19: Quantités | H19: Prix unitaire | I19: %
A20: FLEX019 | B20: Flex thermocollant papillon | C20: Noires paillettes | E20: =VLOOKUP(D55,G12:H20,2) -> 2.5 | F20: =D20*E20 -> 0 | G20: 0 | H20: 4.3 | I20: 0
A21: FLEX020 | B21: Flex thermocollant papillon | C21: Argent paillettes | E21: =VLOOKUP(D55,G12:H20,2) -> 2.5 | F21: =D21*E21 -> 0 | G21: 20 | H21: 4 | I21: 0.05
A22: FLEX021 | B22: Flex thermocollant papillon | C22: Dorées paillettes | E22: =VLOOKUP(D55,G12:H20,2) -> 2.5 | F22: =D22*E22 -> 0 | G22: 50 | H22: 3.9 | I22: 0.1
A23: FLEX022 | B23: Flex thermocollant papillon | C23: Fluo rose | E23: =VLOOKUP(D55,G12:H20,2) -> 2.5 | F23: =D23*E23 -> 0 | G23: 100 | H23: 3.65 | I23: 0.15
A24: FLEX023 | B24: Flex thermocollant lapin | C24: Noires paillettes | E24: =VLOOKUP(D55,G12:H20,2) -> 2.5 | F24: =D24*E24 -> 0 | G24: 150 | H24: 3.45 | I24: 0.2
A25: FLEX024 | B25: Flex thermocollant lapin | C25: Argent paillettes | E25: =VLOOKUP(D55,G12:H20,2) -> 2.5 | F25: =D25*E25 -> 0
A26: FLEX025 | B26: Flex thermocollant lapin | C26: Dorées paillettes | E26: =VLOOKUP(D55,G12:H20,2) -> 2.5 | F26: =D26*E26 -> 0
A27: FLEX026 | B27: Flex thermocollant lapin | C27: Fluo rose | E27: =VLOOKUP(D55,G12:H20,2) -> 2.5 | F27: =D27*E27 -> 0
A28: FLEX027 | B28: Flex thermocollant lots triangles | C28: Noires paillettes | E28: =VLOOKUP(D55,G12:H20,2) -> 2.5 | F28: =D28*E28 -> 0
A29: FLEX028 | B29: Flex thermocollant lots triangles | C29: Argent paillettes | E29: =VLOOKUP(D55,G12:H20,2) -> 2.5 | F29: =D29*E29 -> 0
A30: FLEX029 | B30: Flex thermocollant lots triangles | C30: Dorées paillettes | E30: =VLOOKUP(D55,G12:H20,2) -> 2.5 | F30: =D30*E30 -> 0
A31: FLEX030 | B31: Flex thermocollant lots triangles | C31: Bronze irisé | E31: =VLOOKUP(D55,G12:H20,2) -> 2.5 | F31: =D31*E31 -> 0
A32: FLEX031 | B32: Flex thermocollant lots triangles | C32: Fluo rose | E32: =VLOOKUP(D55,G12:H20,2) -> 2.5 | F32: =D32*E32 -> 0
A33: FLEX032 | B33: Flex thermocollant lots triangles | C33: Fluo jaune | E33: =VLOOKUP(D55,G12:H20,2) -> 2.5 | F33: =D33*E33 -> 0
A34: FLEX033 | B34: Flex thermocollant lots étoiles | C34: Noires paillettes | E34: =VLOOKUP(D55,G12:H20,2) -> 2.5 | F34: =D34*E34 -> 0
A35: FLEX034 | B35: Flex thermocollant lots étoiles | C35: Argent paillettes | E35: =VLOOKUP(D55,G12:H20,2) -> 2.5 | F35: =D35*E35 -> 0
A36: FLEX035 | B36: Flex thermocollant lots étoiles | C36: Dorées paillettes | E36: =VLOOKUP(D55,G12:H20,2) -> 2.5 | F36: =D36*E36 -> 0
A37: FLEX036 | B37: Flex thermocollant lots étoiles | C37: Fluo rose | E37: =VLOOKUP(D55,G12:H20,2) -> 2.5 | F37: =D37*E37 -> 0
A38: FLEX037 | B38: Flex moustache | C38: Noires paillettes | E38: =VLOOKUP(D55,G4:H8,2) -> 2 | F38: =D38*E38 -> 0
A39: FLEX038 | B39: Flex moustache | C39: Argent paillettes | E39: =VLOOKUP(D55,G4:H8,2) -> 2 | F39: =D39*E39 -> 0
A40: FLEX039 | B40: Flex moustache | C40: Dorées paillettes | E40: =VLOOKUP(D55,G4:H8,2) -> 2 | F40: =D40*E40 -> 0
A41: FLEX040 | B41: Flex moustache | C41: Fluo rose | E41: =VLOOKUP(D55,G4:H8,2) -> 2 | F41: =D41*E41 -> 0
A42: FLEX041 | B42: Flex Bulle BD | C42: Noires paillettes | E42: =VLOOKUP(D55,G12:H20,2) -> 2.5 | F42: =D42*E42 -> 0
A43: FLEX042 | B43: Flex Bulle BD | C43: Argent paillettes | E43: =VLOOKUP(D55,G12:H20,2) -> 2.5 | F43: =D43*E43 -> 0
A44: FLEX043 | B44: Flex Bulle BD | C44: Dorées paillettes | E44: =VLOOKUP(D55,G12:H20,2) -> 2.5 | F44: =D44*E44 -> 0
A45: FLEX044 | B45: Flex Bulle BD | C45: Fluo rose | E45: =VLOOKUP(D55,G12:H20,2) -> 2.5 | F45: =D45*E45 -> 0
A46: FLEX045 | B46: Flex Bulle BD | C46: Fluo jaune | E46: =VLOOKUP(D55,G12:H20,2) -> 2.5 | F46: =D46*E46 -> 0
A47: FLEX046 | B47: Flex Masque de super héro | C47: Noires paillettes | E47: =VLOOKUP(D55,G12:H20,2) -> 2.5 | F47: =D47*E47 -> 0
A48: FLEX047 | B48: Flex Masque de super héro | C48: Argent paillettes | E48: =VLOOKUP(D55,G12:H20,2) -> 2.5 | F48: =D48*E48 -> 0
A49: FLEX048 | B49: Flex Masque de super héro | C49: Dorées paillettes | E49: =VLOOKUP(D55,G12:H20,2) -> 2.5 | F49: =D49*E49 -> 0
A50: FLEX050 | B50: Flex Masque de super héro | C50: Fluo jaune | E50: =VLOOKUP(D55,G12:H20,2) -> 2.5 | F50: =D50*E50 -> 0
A51: FLEX051 | B51: Flex Tête de chat | C51: Noires paillettes | E51: =VLOOKUP(D55,G12:H20,2) -> 2.5 | F51: =D51*E51 -> 0
A52: FLEX052 | B52: Flex Tête de chat | C52: Argent paillettes | E52: =VLOOKUP(D55,G12:H20,2) -> 2.5 | F52: =D52*E52 -> 0
A53: FLEX053 | B53: Flex Tête de chat | C53: Dorées paillettes | E53: =VLOOKUP(D55,G12:H20,2) -> 2.5 | F53: =D53*E53 -> 0
A54: FLEX054 | B54: Flex Tête de chat | C54: Fluo rose | E54: =VLOOKUP(D55,G12:H20,2) -> 2.5 | F54: =D54*E54 -> 0
D55: =SUM(D4:D11) -> 0 | F55: =SUM(F4:F11) -> 0

Sheet sets de table
A1: BON DE COMMANDE CAROTTE & CIE
A3: Référence | B3: Description de l'article | C3: Motif | D3: Quantité | E3: Prix unitaire | F3: Total | G3: Quantités | H3: Prix unitaire | I3: %
A4: SET005 | B4: Set de table recto verso | C4: Dinosaure | E4: =VLOOKUP(D12,G4:H8,2) -> 3.5 | F4: =D4*E4 -> 0 | G4: 0 | H4: 3.5 | I4: 0
A5: SET006 | B5: Set de table recto verso | C5: Chouette | E5: =VLOOKUP(D12,G4:H8,2) -> 3.5 | F5: =D5*E5 -> 0 | G5: 15 | H5: 3.3 | I5: 0.05
A6: SET007 | B6: Set de table recto verso | C6: Eléphant | E6: =VLOOKUP(D12,G4:H8,2) -> 3.5 | F6: =D6*E6 -> 0 | G6: 30 | H6: 3.15 | I6: 0.1
A7: SET008 | B7: Set de table recto verso | C7: Super héro | E7: =VLOOKUP(D12,G4:H8,2) -> 3.5 | F7: =D7*E7 -> 0 | G7: 50 | H7: 3 | I7: 0.15
A8: SET009 | B8: Set de table recto verso | C8: Chat | E8: =VLOOKUP(D12,G4:H8,2) -> 3.5 | F8: =D8*E8 -> 0 | G8: 100 | H8: 2.8 | I8: 0.2
A9: SET010 | B9: Set de table recto verso | C9: Renard | E9: =VLOOKUP(D12,G4:H8,2) -> 3.5 | F9: =D9*E9 -> 0
A10: SET013 | B10: Set de table recto verso | C10: Flaments roses | E10: =VLOOKUP(D12,G4:H8,2) -> 3.5 | F10: =D10*E10 -> 0
A11: SET015 | B11: Set de table recto verso | C11: Combi WV | E11: =VLOOKUP(D12,G4:H8,2) -> 3.5 | F11: =D11*E11 -> 0
D12: =SUM(D4:D11) -> 0 | F12: =SUM(F4:F11) -> 0

Sheet Total
A1: TOTAL COMMANDE
A3: Produit | B3: Quantité | C3: Total
A4: Doudous | B4: =SUM(Doudous!D27) -> 0 | C4: =SUM(Doudous!F27) -> 0
A5: Couvertures | B5: =SUM(Couvertures!D26) -> 0 | C5: =SUM(Couvertures!F26) -> 0
A6: Attaches Tétines | B6: =SUM('Attaches tétines'!D27) -> 0 | C6: =SUM('Attaches tétines'!F27) -> 0
A7: Bavoirs | B7: =SUM(Bavoirs!D50) -> 0 | C7: =SUM(Bavoirs!F50) -> 0
A8: Mini bavoirs | B8: =SUM('Mini bavoirs'!D28) -> 0 | C8: =SUM('Mini bavoirs'!F28) -> 0
A9: Bavettes et Lingettes | B9: =SUM('Bavettes et Lingettes'!D32) -> 0 | C9: =SUM('Bavettes et Lingettes'!F32) -> 0
A10: Bouillottes | B10: =SUM(Bouillottes!D28) -> 0 | C10: =SUM(Bouillottes!F28) -> 0
A11: Coussins | B11: =SUM(Coussins!D45) -> 0 | C11: =SUM(Coussins!F45) -> 0
A12: Guirlande | B12: =SUM(Guirlande!D14) -> 0 | C12: =SUM(Guirlande!F14) -> 0
A13: Mobile | B13: =SUM(Mobile!D8) -> 0 | C13: =SUM(Mobile!F8) -> 0
A14: Affiches | B14: =SUM(Affiches!D7) -> 0 | C14: =SUM(Affiches!F7) -> 0
A15: Accessoires | B15: =SUM(Accessoires!D250) -> 0 | C15: =SUM(Accessoires!F250) -> 0
A16: Stickers | B16: =SUM(Stickers!D55) -> 0 | C16: =SUM(Stickers!F55) -> 0
A17: Sets de table | B17: =SUM('sets de table'!D12) -> 0 | C17: =SUM('sets de table'!F12) -> 0
B19: =SUM(B4:B18) -> 0 | C19: =SUM(C4:C18) -> 0

Sheet Bon de Commande
A3: Nom de la société :
A4: Adresse :
A5: Code postal et Ville :
A7: Facture numéro :
A10: Déscription : | B10: Quantité : | C10: Prix Unitaire HT : | D10: Total HT :
A35: Date de règlement : | C35: Prix Global (en euros) :
A36: Mode de Règlement : | C36: Frais de Port
C37: TOTAL :
