Workbook
Name _via1: [1]Feuil1!$M$84:$M$133
Name _via23: [1]Feuil1!$M$134:$M$182
Name abat: '[2]Scolaire plan'!$M$62:$M$175
Name Achillebertrand: #REF!
Name boeuf: '[2]Scolaire plan'!$L$62:$L$175
Name charc: [1]Feuil1!$I$113:$I$159
Name code: #REF!
Name code2: #REF!
Name col: #REF!
Name colonA: [3]Stock!#REF!
Name colonB: [3]Stock!#REF!
Name colonH: [3]Stock!#REF!
Name colonnef: [3]Stock!#REF!
Name colonnes: #REF!
Name colontoutes: [3]Stock!#REF!
Name convives: #REF!
Name cruD: [1]Feuil1!$C$134:$C$181
Name cruE: [1]Feuil1!$C$83:$C$133
Name cuiA: [1]Feuil1!$Q$83:$Q$152
Name cuiD: [1]Feuil1!$Q$153:$Q$182
Name cuiE: [1]Feuil1!$E$83:$E$168
Name date: #REF!
Name Dcrudité: '[2]Scolaire plan'!$AA$64:$AA$176
Name Dcuidité: '[2]Scolaire plan'!$AB$64:$AB$176
Name dessertsucré: '[2]Scolaire plan'!$Z$62:$Z$176
Name E15lipide: '[2]Scolaire menus'!#REF!
Name Ecrudité: '[2]Scolaire plan'!$A$62:$A$175
Name Ecuidité: '[2]Scolaire plan'!$D$62:$D$175
Name Eféculent: '[2]Scolaire plan'!$C$62:$C$175
Name Elipide: '[2]Scolaire plan'!$B$62:$B$175
Name entrées: #REF!
Name entrées2: #REF!
Name Epoisson: '[2]Scolaire plan'!$F$62:$F$175
Name Evpo: '[2]P A plan'!#REF!
Name Factdec: #REF!
Name Factfev: #REF!
Name Factjanv: #REF!
Name Factjuin: #REF!
Name Factmars: #REF!
Name Factnov: #REF!
Name Factoct: #REF!
Name Factsept: #REF!
Name Familleproduit: #REF!
Name fécuA: [1]Feuil1!$S$83:$S$137
Name fécuD: [1]Feuil1!$W$83:$W$182
Name fécuE: [1]Feuil1!$G$83:$G$148
Name féculentlsec: '[2]Scolaire plan'!$S$62:$S$175
Name féculentpdeterre: '[2]Scolaire plan'!$T$62:$T$175
Name Fériés: #REF!
Name fournisseurs: #REF!
Name fromage1: '[2]Scolaire plan'!$V$63:$V$175
Name fromage2: '[2]Scolaire plan'!$W$63:$W$176
Name gratoeuf: [1]Feuil1!$M$183:$M$290
Name jardin: #REF!
Name jour: #REF!
Name Listeft: #REF!
Name LMD: #REF!
Name mpanimale: '[2]Scolaire plan'!$Q$62:$Q$175
Name Numéro: #REF!
Name patisserie: '[2]Scolaire plan'!$Y$62:$Y$176

Sheet Stock
A1: Stock de Founitures | D1: Gestion des stocks | I1: Réapprovisionnement
A3: Désignation | C3: Tarif | D3: Stock Début | E3: Entrée | F3: Sortie | G3: Stock Fin | H3: Valeur Stock | I3: Stock Mini | J3: Alerte
A4: doudou girafe | C4: 45 | D4: 1 | G4: =D4+E4-F4 -> 1 | H4: =IF(G4="","",C4*G4) -> 45 | I4: 1 | J4: =IF(I4="","",IF(G4<I4,"commande",""))
A5: doudou crocodile | C5: 45 | D5: 1 | G5: =D5+E5-F5 -> 1 | H5: =IF(G5="","",C5*G5) -> 45 | I5: 1 | J5: =IF(I5="","",IF(G5<I5,"commande",""))
G6: =D6+E6-F6 -> 0 | H6: =IF(G6="","",C6*G6) -> 0 | J6: =IF(I6="","",IF(G6<I6,"commande",""))
G7: =D7+E7-F7 -> 0 | H7: =IF(G7="","",C7*G7) -> 0 | J7: =IF(I7="","",IF(G7<I7,"commande",""))
G8: =D8+E8-F8 -> 0 | H8: =IF(G8="","",C8*G8) -> 0 | J8: =IF(I8="","",IF(G8<I8,"commande",""))
G9: =D9+E9-F9 -> 0 | H9: =IF(G9="","",C9*G9) -> 0 | J9: =IF(I9="","",IF(G9<I9,"commande",""))
G10: =D10+E10-F10 -> 0 | H10: =IF(G10="","",C10*G10) -> 0 | J10: =IF(I10="","",IF(G10<I10,"commande",""))
G11: =D11+E11-F11 -> 0 | H11: =IF(G11="","",C11*G11) -> 0 | J11: =IF(I11="","",IF(G11<I11,"commande",""))
G12: =D12+E12-F12 -> 0 | H12: =IF(G12="","",C12*G12) -> 0 | J12: =IF(I12="","",IF(G12<I12,"commande",""))
G13: =D13+E13-F13 -> 0 | H13: =IF(G13="","",C13*G13) -> 0 | J13: =IF(I13="","",IF(G13<I13,"commande",""))
G14: =D14+E14-F14 -> 0 | H14: =IF(G14="","",C14*G14) -> 0 | J14: =IF(I14="","",IF(G14<I14,"commande",""))
G15: =D15+E15-F15 -> 0 | H15: =IF(G15="","",C15*G15) -> 0 | J15: =IF(I15="","",IF(G15<I15,"commande",""))
G16: =D16+E16-F16 -> 0 | H16: =IF(G16="","",C16*G16) -> 0 | J16: =IF(I16="","",IF(G16<I16,"commande",""))
G17: =D17+E17-F17 -> 0 | H17: =IF(G17="","",C17*G17) -> 0 | J17: =IF(I17="","",IF(G17<I17,"commande",""))
... G500: =D500+E500-F500 -> 0 | H500: =IF(G500="","",C500*G500) -> 0 | J500: =IF(I500="","",IF(G500<I500,"commande",""))

Sheet Entrée
A1: Entrée de Stock
A3: Désignation | B3: Quantité | C3: Tarif Unitaire | D3: Montant | E3: Date
C4: =IF(ISNA(VLOOKUP(A4,Stock!$A:$C,3,0)),"",VLOOKUP(A4,Stock!$A:$C,3,0)) | D4: =IF(B4="","",B4*C4)
C5: =IF(ISNA(VLOOKUP(A5,Stock!$A:$C,3,0)),"",VLOOKUP(A5,Stock!$A:$C,3,0)) | D5: =IF(B5="","",B5*C5)
C6: =IF(ISNA(VLOOKUP(A6,Stock!$A:$C,3,0)),"",VLOOKUP(A6,Stock!$A:$C,3,0)) | D6: =IF(B6="","",B6*C6)
C7: =IF(ISNA(VLOOKUP(A7,Stock!$A:$C,3,0)),"",VLOOKUP(A7,Stock!$A:$C,3,0)) | D7: =IF(B7="","",B7*C7)
C8: =IF(ISNA(VLOOKUP(A8,Stock!$A:$C,3,0)),"",VLOOKUP(A8,Stock!$A:$C,3,0)) | D8: =IF(B8="","",B8*C8)
C9: =IF(ISNA(VLOOKUP(A9,Stock!$A:$C,3,0)),"",VLOOKUP(A9,Stock!$A:$C,3,0)) | D9: =IF(B9="","",B9*C9)
C10: =IF(ISNA(VLOOKUP(A10,Stock!$A:$C,3,0)),"",VLOOKUP(A10,Stock!$A:$C,3,0)) | D10: =IF(B10="","",B10*C10)
C11: =IF(ISNA(VLOOKUP(A11,Stock!$A:$C,3,0)),"",VLOOKUP(A11,Stock!$A:$C,3,0)) | D11: =IF(B11="","",B11*C11)
C12: =IF(ISNA(VLOOKUP(A12,Stock!$A:$C,3,0)),"",VLOOKUP(A12,Stock!$A:$C,3,0)) | D12: =IF(B12="","",B12*C12)
C13: =IF(ISNA(VLOOKUP(A13,Stock!$A:$C,3,0)),"",VLOOKUP(A13,Stock!$A:$C,3,0)) | D13: =IF(B13="","",B13*C13)
C14: =IF(ISNA(VLOOKUP(A14,Stock!$A:$C,3,0)),"",VLOOKUP(A14,Stock!$A:$C,3,0)) | D14: =IF(B14="","",B14*C14)
C15: =IF(ISNA(VLOOKUP(A15,Stock!$A:$C,3,0)),"",VLOOKUP(A15,Stock!$A:$C,3,0)) | D15: =IF(B15="","",B15*C15)
... C100: =IF(ISNA(VLOOKUP(A100,Stock!$A:$C,3,0)),"",VLOOKUP(A100,Stock!$A:$C,3,0)) | D100: =IF(B100="","",B100*C100)

Sheet Sortie
A1: Sortie de Stock
A3: Désignation | B3: Quantité | C3: Tarif Unitaire | D3: Montant | E3: Date
C4: =IF(ISNA(VLOOKUP(A4,Stock!$A:$C,3,0)),"",VLOOKUP(A4,Stock!$A:$C,3,0)) | D4: =IF(B4="","",B4*C4)
C5: =IF(ISNA(VLOOKUP(A5,Stock!$A:$C,3,0)),"",VLOOKUP(A5,Stock!$A:$C,3,0)) | D5: =IF(B5="","",B5*C5)
C6: =IF(ISNA(VLOOKUP(A6,Stock!$A:$C,3,0)),"",VLOOKUP(A6,Stock!$A:$C,3,0)) | D6: =IF(B6="","",B6*C6)
C7: =IF(ISNA(VLOOKUP(A7,Stock!$A:$C,3,0)),"",VLOOKUP(A7,Stock!$A:$C,3,0)) | D7: =IF(B7="","",B7*C7)
C8: =IF(ISNA(VLOOKUP(A8,Stock!$A:$C,3,0)),"",VLOOKUP(A8,Stock!$A:$C,3,0)) | D8: =IF(B8="","",B8*C8)
C9: =IF(ISNA(VLOOKUP(A9,Stock!$A:$C,3,0)),"",VLOOKUP(A9,Stock!$A:$C,3,0)) | D9: =IF(B9="","",B9*C9)
C10: =IF(ISNA(VLOOKUP(A10,Stock!$A:$C,3,0)),"",VLOOKUP(A10,Stock!$A:$C,3,0)) | D10: =IF(B10="","",B10*C10)
C11: =IF(ISNA(VLOOKUP(A11,Stock!$A:$C,3,0)),"",VLOOKUP(A11,Stock!$A:$C,3,0)) | D11: =IF(B11="","",B11*C11)
C12: =IF(ISNA(VLOOKUP(A12,Stock!$A:$C,3,0)),"",VLOOKUP(A12,Stock!$A:$C,3,0)) | D12: =IF(B12="","",B12*C12)
C13: =IF(ISNA(VLOOKUP(A13,Stock!$A:$C,3,0)),"",VLOOKUP(A13,Stock!$A:$C,3,0)) | D13: =IF(B13="","",B13*C13)
C14: =IF(ISNA(VLOOKUP(A14,Stock!$A:$C,3,0)),"",VLOOKUP(A14,Stock!$A:$C,3,0)) | D14: =IF(B14="","",B14*C14)
C15: =IF(ISNA(VLOOKUP(A15,Stock!$A:$C,3,0)),"",VLOOKUP(A15,Stock!$A:$C,3,0)) | D15: =IF(B15="","",B15*C15)
... C100: =IF(ISNA(VLOOKUP(A100,Stock!$A:$C,3,0)),"",VLOOKUP(A100,Stock!$A:$C,3,0)) | D100: =IF(B100="","",B100*C100)

Sheet Journal de bord
A1: Journal de Bord
A3: Entrée/Sortie | B3: Désignation | C3: Quantité | D3: Tarif Unitaire | E3: Montant
D4: =IF(ISNA(VLOOKUP(A4,Stock!$A:$C,3,0)),"",VLOOKUP(A4,Stock!$A:$C,3,0)) | E4: =IF(C4="","",C4*D4)
D5: =IF(ISNA(VLOOKUP(A5,Stock!$A:$C,3,0)),"",VLOOKUP(A5,Stock!$A:$C,3,0)) | E5: =IF(C5="","",C5*D5)
D6: =IF(ISNA(VLOOKUP(A6,Stock!$A:$C,3,0)),"",VLOOKUP(A6,Stock!$A:$C,3,0)) | E6: =IF(C6="","",C6*D6)
D7: =IF(ISNA(VLOOKUP(A7,Stock!$A:$C,3,0)),"",VLOOKUP(A7,Stock!$A:$C,3,0)) | E7: =IF(C7="","",C7*D7)
D8: =IF(ISNA(VLOOKUP(A8,Stock!$A:$C,3,0)),"",VLOOKUP(A8,Stock!$A:$C,3,0)) | E8: =IF(C8="","",C8*D8)
D9: =IF(ISNA(VLOOKUP(A9,Stock!$A:$C,3,0)),"",VLOOKUP(A9,Stock!$A:$C,3,0)) | E9: =IF(C9="","",C9*D9)
D10: =IF(ISNA(VLOOKUP(A10,Stock!$A:$C,3,0)),"",VLOOKUP(A10,Stock!$A:$C,3,0)) | E10: =IF(C10="","",C10*D10)
D11: =IF(ISNA(VLOOKUP(A11,Stock!$A:$C,3,0)),"",VLOOKUP(A11,Stock!$A:$C,3,0)) | E11: =IF(C11="","",C11*D11)
D12: =IF(ISNA(VLOOKUP(A12,Stock!$A:$C,3,0)),"",VLOOKUP(A12,Stock!$A:$C,3,0)) | E12: =IF(C12="","",C12*D12)
D13: =IF(ISNA(VLOOKUP(A13,Stock!$A:$C,3,0)),"",VLOOKUP(A13,Stock!$A:$C,3,0)) | E13: =IF(C13="","",C13*D13)
D14: =IF(ISNA(VLOOKUP(A14,Stock!$A:$C,3,0)),"",VLOOKUP(A14,Stock!$A:$C,3,0)) | E14: =IF(C14="","",C14*D14)
D15: =IF(ISNA(VLOOKUP(A15,Stock!$A:$C,3,0)),"",VLOOKUP(A15,Stock!$A:$C,3,0)) | E15: =IF(C15="","",C15*D15)
... D600: =IF(ISNA(VLOOKUP(A600,Stock!$A:$C,3,0)),"",VLOOKUP(A600,Stock!$A:$C,3,0)) | E600: =IF(C600="","",C600*D600)
