Workbook
Name ANNEE_2014: #REF!

Sheet Feuil2
C1: pers1 | H1: pers4 | M1: pers7 | R1: PERS 11 | W1: PERS14 | AB1: fermeture
C2: pers2 | H2: pers 5 | M2: pers8 | R2: PERS12 | W2: PERS15 | AB2: férié
C3: pers3 | H3: pers 6 | M3: pers9 | R3: PERS13 | W3: PERS 16 | AH3: BASE DE DONNEES
AH4: N° chambre | AI4: couleur correspond | AJ4: nom prenom | AL4: janvier | AP4: février | AS4: mars | AV4: avril | AY4: mai | BB4: juin | BE4: juillet | BH4: août | BK4: septembre | BN4: octobre | BQ4: novembre | BT4: décembre
A5: semaines | B5: SEMAINE | E5: =WEEKNUM(B7,1) -> 1 | G5: SEMAINE | K5: =WEEKNUM(G7,1) -> 2 | N5: SEMAINE | R5: =WEEKNUM(N7,1) -> 3 | U5: SEMAINE | Y5: =WEEKNUM(U7,1) -> 4 | AB5: SEMAINE | AE5: =WEEKNUM(AB7,1) -> 5 | AI5: à une pers | AK5: Date de l'année | AL5: N° chambre | AM5: entrée 1 | AN5: nuitée 1 | AO5: sortie 1 | AP5: entrée 2 | AQ5: nuitée 2 | AR5: sortie 2 | AS5: entrée 3 | AT5: nuitée 3 | AU5: sortie 3 | AV5: entrée 4 | AW5: nuitée 4 | AX5: sortie 4 | AY5: entrée 5 | AZ5: nuitée 5 | BA5: sortie 5 | BB5: entrée 6 | BC5: nuitée 6 | BD5: sortie 6 | BE5: entrée 7 | BF5: nuitée 7 | BG5: sortie 7 | BH5: entrée 8 | BI5: nuitée 8 | BJ5: sortie 8 | BK5: entrée 9 | BL5: nuitée 9 | BM5: sortie 9 | BN5: entrée 10 | BO5: nuitée 10 | BP5: sortie 10 | BQ5: entrée 11 | BR5: nuitée 11 | BS5: sortie 11 | BT5: entrée 12 | BU5: nuitée 12 | BV5: sortie 12
A6: Jours | B6: MER | C6: JEU | D6: VEN | E6: SAM | F6: DIM | G6: LUN | H6: MAR | I6: MER | J6: JEU | K6: VEN | L6: SAM | M6: DIM | N6: LUN | O6: MAR | P6: MER | Q6: JEU | R6: VEN | S6: SAM | T6: DIM | U6: LUN | V6: MAR | W6: MER | X6: JEU | Y6: VEN | Z6: SAM | AA6: DIM | AB6: LUN | AC6: MAR | AD6: MER | AE6: JEU | AF6: VEN | AH6: 1 | AI6: 1 | AJ6: PERSONNE 1 | AK6: =Feuil2!$B$7+ROWS(Feuil2!$B$7:AW8)-1 -> 41641 | AM6: 41645 | AN6: =AM6+3 -> 41648 | AO6: =AN6+1 -> 41649
B7: 41640 | C7: 41641 | D7: 41642 | E7: 41643 | F7: 41644 | G7: 41645 | H7: 41646 | I7: 41647 | J7: 41648 | K7: 41649 | L7: 41650 | M7: 41651 | N7: 41652 | O7: 41653 | P7: 41654 | Q7: 41655 | R7: 41656 | S7: 41657 | T7: 41658 | U7: 41659 | V7: 41660 | W7: 41661 | X7: 41662 | Y7: 41663 | Z7: 41664 | AA7: 41665 | AB7: 41666 | AC7: 41667 | AD7: 41668 | AE7: 41669 | AF7: 41670 | AH7: 2 | AI7: 2 | AJ7: PERSONNE 2 | AK7: =Feuil2!$B$7+ROWS(Feuil2!$B$7:AW10)-1 -> 41643 | AM7: 41645 | AN7: =AM7+3 -> 41648 | AO7: =AN7+1 -> 41649
A8: chambre 1 | G8: DE | H8: NUITES | AI8: 3 | AJ8: PERSONNE 3 | AK8: =Feuil2!$B$7+ROWS(Feuil2!$B$7:AW11)-1 -> 41644
A9: entrées | AI9: 4 | AJ9: PERSONNE 4 | AK9: =Feuil2!$B$7+ROWS(Feuil2!$B$7:AW12)-1 -> 41645
A10: sorties | AI10: 5 | AJ10: PERSONNE 5 | AK10: =Feuil2!$B$7+ROWS(Feuil2!$B$7:AW13)-1 -> 41646
A11: chambre 2 | K11: DS | AI11: 6 | AJ11: PERSONNE 6 | AK11: =Feuil2!$B$7+ROWS(Feuil2!$B$7:AW14)-1 -> 41647
A12: entrées | AI12: 7 | AJ12: PERSONNE 7 | AK12: =Feuil2!$B$7+ROWS(Feuil2!$B$7:AW15)-1 -> 41648
A13: sorties | AI13: 8 | AJ13: PERSONNE 8 | AK13: =Feuil2!$B$7+ROWS(Feuil2!$B$7:AW16)-1 -> 41649
AI14: 9 | AJ14: PERSONNE 9 | AK14: =Feuil2!$B$7+ROWS(Feuil2!$B$7:AW17)-1 -> 41650
A15: semaines | E15: SEMAINE | H15: =WEEKNUM(E17,1) -> 6 | L15: SEMAINE | O15: =WEEKNUM(K17,1) -> 7 | S15: SEMAINE | V15: =WEEKNUM(R17,1) -> 8 | Z15: SEMAINE | AB15: =WEEKNUM(Y17,1) -> 9 | AI15: 10 | AJ15: PERSONNE 10 | AK15: =Feuil2!$B$7+ROWS(Feuil2!$B$7:AW18)-1 -> 41651
A16: Jours | B16: SAM | C16: DIM | D16: LUN | E16: MAR | F16: MER | G16: JEU | H16: VEN | I16: SAM | J16: DIM | K16: LUN | L16: MAR | M16: MER | N16: JEU | O16: VEN | P16: SAM | Q16: DIM | R16: LUN | S16: MAR | T16: MER | U16: JEU | V16: VEN | W16: SAM | X16: DIM | Y16: LUN | Z16: MAR | AA16: MER | AB16: JEU | AC16: VEN | AI16: 11 | AJ16: PERSONNE 11 | AK16: =Feuil2!$B$7+ROWS(Feuil2!$B$7:AW19)-1 -> 41652
B17: 41671 | C17: 41672 | D17: 41673 | E17: 41674 | F17: 41675 | G17: 41676 | H17: 41677 | I17: 41678 | J17: 41679 | K17: 41680 | L17: 41681 | M17: 41682 | N17: 41683 | O17: 41684 | P17: 41685 | Q17: 41686 | R17: 41687 | S17: 41688 | T17: 41689 | U17: 41690 | V17: 41691 | W17: 41692 | X17: 41693 | Y17: 41694 | Z17: 41695 | AA17: 41696 | AB17: 41697 | AC17: 41698 | AI17: 12 | AJ17: PERSONNE 12 | AK17: =Feuil2!$B$7+ROWS(Feuil2!$B$7:AW20)-1 -> 41653
A18: chambre 1 | AI18: 13 | AJ18: PERSONNE 13 | AK18: =Feuil2!$B$7+ROWS(Feuil2!$B$7:AW21)-1 -> 41654
A19: entrées | AI19: 14 | AJ19: PERSONNE 14 | AK19: =Feuil2!$B$7+ROWS(Feuil2!$B$7:AW22)-1 -> 41655
A20: sorties | AI20: 15 | AJ20: PERSONNE 15 | AK20: =Feuil2!$B$7+ROWS(Feuil2!$B$7:AW23)-1 -> 41656
A21: chambre 2 | AI21: 16 | AJ21: PERSONNE 16 | AK21: =Feuil2!$B$7+ROWS(Feuil2!$B$7:AW24)-1 -> 41657
A22: entrées | AK22: =Feuil2!$B$7+ROWS(Feuil2!$B$7:AW25)-1 -> 41658
A23: sorties | AK23: =Feuil2!$B$7+ROWS(Feuil2!$B$7:AW26)-1 -> 41659
A25: semaines | E25: SEMAINE | H25: =WEEKNUM(D27,1) -> 10 | L25: SEMAINE | O25: =WEEKNUM(K27,1) -> 11 | S25: SEMAINE | V25: =WEEKNUM(R27,1) -> 12 | AA25: SEMAINE | AC25: =WEEKNUM(AB27,1) -> 13
A26: Jours | B26: SAM | C26: DIM | D26: LUN | E26: MAR | F26: MER | G26: JEU | H26: VEN | I26: SAM | J26: DIM | K26: LUN | L26: MAR | M26: MER | N26: JEU | O26: VEN | P26: SAM | Q26: DIM | R26: LUN | S26: MAR | T26: MER | U26: JEU | V26: VEN | W26: SAM | X26: DIM | Y26: LUN | Z26: MAR | AA26: MER | AB26: JEU | AC26: VEN | AD26: SAM | AE26: DIM | AF26: LUN
B27: 41699 | C27: 41700 | D27: 41701 | E27: 41702 | F27: 41703 | G27: 41704 | H27: 41705 | I27: 41706 | J27: 41707 | K27: 41708 | L27: 41709 | M27: 41710 | N27: 41711 | O27: 41712 | P27: 41713 | Q27: 41714 | R27: 41715 | S27: 41716 | T27: 41717 | U27: 41718 | V27: 41719 | W27: 41720 | X27: 41721 | Y27: 41722 | Z27: 41723 | AA27: 41724 | AB27: 41725 | AC27: 41726 | AD27: 41727 | AE27: 41728 | AF27: 41729
A28: chambre 1
A29: entrées
A30: sorties
A31: chambre 2
A32: entrées
A33: sorties
A35: semaines | B35: SEMAINE | F35: =WEEKNUM(B37,1) -> 14 | H35: SEMAINE | L35: =WEEKNUM(G37,1) -> 15 | O35: SEMAINE | S35: =WEEKNUM(N37,1) -> 16 | V35: SEMAINE | Z35: =WEEKNUM(U37,1) -> 17 | AC35: SEMAINE | AF35: =WEEKNUM(AB37,1) -> 18
A36: Jours | B36: MAR | C36: MER | D36: JEU | E36: VEN | F36: SAM | G36: DIM | H36: LUN | I36: MAR | J36: MER | K36: JEU | L36: VEN | M36: SAM | N36: DIM | O36: LUN | P36: MAR | Q36: MER | R36: JEU | S36: VEN | T36: SAM | U36: DIM | V36: LUN | W36: MAR | X36: MER | Y36: JEU | Z36: VEN | AA36: SAM | AB36: DIM | AC36: LUN | AD36: MAR | AE36: MER
B37: 41730 | C37: 41731 | D37: 41732 | E37: 41733 | F37: 41734 | G37: 41735 | H37: 41736 | I37: 41737 | J37: 41738 | K37: 41739 | L37: 41740 | M37: 41741 | N37: 41742 | O37: 41743 | P37: 41744 | Q37: 41745 | R37: 41746 | S37: 41747 | T37: 41748 | U37: 41749 | V37: 41750 | W37: 41751 | X37: 41752 | Y37: 41753 | Z37: 41754 | AA37: 41755 | AB37: 41756 | AC37: 41757 | AD37: 41758 | AE37: 41759
A38: chambre 1
A39: entrées
A40: sorties
A41: chambre 2
A42: entrées
...
