Workbook
Name ANNEE_2014: #REF!

Sheet Feuil2
C1: pers1 | H1: pers4 | M1: pers7 | R1: PERS 11 | W1: PERS14 | AB1: fermeture
C2: pers2 | H2: pers 5 | M2: pers8 | R2: PERS12 | W2: PERS15 | AB2: férié
C3: pers3 | H3: pers 6 | M3: pers9 | R3: PERS13 | W3: PERS 16 | AH3: BASE DE DONNEES
AH4: N° chambre | AI4: couleur correspond | AJ4: nom prenom | AL4: janvier | AP4: février | AS4: mars | AV4: avril | AY4: mai | BB4: juin | BE4: juillet | BH4: août | BK4: septembre | BN4: octobre | BQ4: novembre | BT4: décembre
A5: semaines | B5: SEMAINE | E5: =WEEKNUM(B7,1) -> 1 | G5: SEMAINE | K5: =WEEKNUM(G7,1) -> 2 | N5: SEMAINE | R5: =WEEKNUM(N7,1) -> 3 | U5: SEMAINE | Y5: =WEEKNUM(U7,1) -> 4 | AB5: SEMAINE | AE5: =WEEKNUM(AB7,1) -> 5 | AI5: à une pers | AK5: Date de l'année | AL5: N° chambre | AM5: entrée 1 | AN5: nuitée 1 | AO5: sortie 1 | AP5: entrée 2 | AQ5: nuitée 2 | AR5: sortie 2 | AS5: entrée 3 | AT5: nuitée 3 | AU5: sortie 3 | AV5: entrée 4 | AW5: nuitée 4 | AX5: sortie 4 | AY5: entrée 5 | AZ5: nuitée 5 | BA5: sortie 5 | BB5: entrée 6 | BC5: nuitée 6 | BD5: sortie 6 | BE5: entrée 7 | BF5: nuitée 7 | BG5: sortie 7 | BH5: entrée 8 | BI5: nuitée 8 | BJ5: sortie 8 | BK5: entrée 9 | BL5: nuitée 9 | BM5: sortie 9 | BN5: entrée 10 | BO5: nuitée 10 | BP5: sortie 10 | BQ5: entrée 11 | BR5: nuitée 11 | BS5: sortie 11 | BT5: entrée 12 | BU5: nuitée 12 | BV5: sortie 12
A6: Jours | B6: MER | C6: JEU | D6: VEN | E6: SAM | F6: DIM | G6: LUN | H6: MAR | I6: MER | J6: JEU | K6: VEN | L6: SAM | M6: DIM | N6: LUN | O6: MAR | P6: MER | Q6: JEU | R6: VEN | S6: SAM | T6: DIM | U6: LUN | V6: MAR | W6: MER | X6: JEU | Y6: VEN | Z6: SAM | AA6: DIM | AB6: LUN | AC6: MAR | AD6: MER | AE6: JEU | AF6: VEN | AH6: 1 | AI6: 1 | AJ6: PERSONNE 1 | AK6: =Feuil2!$B$7+ROWS(Feuil2!$B$7:AW8)-1 -> 41641 | AM6: 41645 | AN6: =AM6+3 -> 41648 | AO6: =AN6+1 -> 41649
B7: 41640 | C7: 41641 | D7: 41642 | E7: 41643 | F7: 41644 | G7: 41645 | H7: 41646 | I7: 41647 | J7: 41648 | K7: 41649 | L7: 41650 | M7: 41651 | N7: 41652 | O7: 41653 | P7: 41654 | Q7: 41655 | R7: 41656 | S7: 41657 | T7: 41658 | U7: 41659 | V7: 41660 | W7: 41661 | X7: 41662 | Y7: 41663 | Z7: 41664 | AA7: 41665 | AB7: 41666 | AC7: 41667 | AD7: 41668 | AE7: 41669 | AF7: 41670 | AH7: 2 | AI7: 2 | AJ7: PERSONNE 2 | AK7: =Feuil2!$B$7+ROWS(Feuil2!$B$7:AW10)-1 -> 41643 | AM7: 41645 | AN7: =AM7+3 -> 41648 | AO7: =AN7+1 -> 41649
A8: chambre 1 | G8: DE | H8: NUITES | AI8: 3 | AJ8: PERSONNE 3 | AK8: =Feuil2!$B$7+ROWS(Feuil2!$B$7:AW11)-1 -> 41644
A9: entrées | AI9: 4 | AJ9: PERSONNE 4 | AK9: =Feuil2!$B$7+ROWS(Feuil2!$B$7:AW12)-1 -> 41645
A10: sorties | AI10: 5 | AJ10: PERSONNE 5 | AK10: =Feuil2!$B$7+ROWS(Feuil2!$B$7:AW13)-1 -> 41646
A11: chambre 2 | K11: DS | AI11: 6 | AJ11: PERSONNE 6 | AK11: =Feuil2!$B$7+ROWS(Feuil2!$B$7:AW14)-1 -> 41647
A12: entrées | AI12: 7 | AJ12: PERSONNE 7 | AK12: =Feuil2!$B$7+ROWS(Feuil2!$B$7:AW15)-1 -> 41648
A13: sorties | AI13: 8 | AJ13: PERSONNE 8 | AK13: =Feuil2!$B$7+ROWS(Feuil2!$B$7:AW16)-1 -> 41649
AI14: 9 | AJ14: PERSONNE 9 | AK14: =Feuil2!$B$7+ROWS(Feuil2!$B$7:AW17)-1 -> 41650
A15: semaines | E15: SEMAINE | H15: =WEEKNUM(E17,1) -> 6 | L15: SEMAINE | O15: =WEEKNUM(K17,1) -> 7 | S15: SEMAINE | V15: =WEEKNUM(R17,1) -> 8 | Z15: SEMAINE | AB15: =WEEKNUM(Y17,1) -> 9 | AI15: 10 | AJ15: PERSONNE 10 | AK15: =Feuil2!$B$7+ROWS(Feuil2!$B$7:AW18)-1 -> 41651
A16: Jours | B16: SAM | C16: DIM | D16: LUN | E16: MAR | F16: MER | G16: JEU | H16: VEN | I16: SAM | J16: DIM | K16: LUN | L16: MAR | M16: MER | N16: JEU | O16: VEN | P16: SAM | Q16: DIM | R16: LUN | S16: MAR | T16: MER | U16: JEU | V16: VEN | W16: SAM | X16: DIM | Y16: LUN | Z16: MAR | AA16: MER | AB16: JEU | AC16: VEN | AI16: 11 | AJ16: PERSONNE 11 | AK16: =Feuil2!$B$7+ROWS(Feuil2!$B$7:AW19)-1 -> 41652
B17: 41671 | C17: 41672 | D17: 41673 | E17: 41674 | F17: 41675 | G17: 41676 | H17: 41677 | I17: 41678 | J17: 41679 | K17: 41680 | L17: 41681 | M17: 41682 | N17: 41683 | O17: 41684 | P17: 41685 | Q17: 41686 | R17: 41687 | S17: 41688 | T17: 41689 | U17: 41690 | V17: 41691 | W17: 41692 | X17: 41693 | Y17: 41694 | Z17: 41695 | AA17: 41696 | AB17: 41697 | AC17: 41698 | AI17: 12 | AJ17: PERSONNE 12 | AK17: =Feuil2!$B$7+ROWS(Feuil2!$B$7:AW20)-1 -> 41653
A18: chambre 1 | AI18: 13 | AJ18: PERSONNE 13 | AK18: =Feuil2!$B$7+ROWS(Feuil2!$B$7:AW21)-1 -> 41654
A19: entrées | AI19: 14 | AJ19: PERSONNE 14 | AK19: =Feuil2!$B$7+ROWS(Feuil2!$B$7:AW22)-1 -> 41655
A20: sorties | AI20: 15 | AJ20: PERSONNE 15 | AK20: =Feuil2!$B$7+ROWS(Feuil2!$B$7:AW23)-1 -> 41656
A21: chambre 2 | AI21: 16 | AJ21: PERSONNE 16 | AK21: =Feuil2!$B$7+ROWS(Feuil2!$B$7:AW24)-1 -> 41657
A22: entrées | AK22: =Feuil2!$B$7+ROWS(Feuil2!$B$7:AW25)-1 -> 41658
A23: sorties | AK23: =Feuil2!$B$7+ROWS(Feuil2!$B$7:AW26)-1 -> 41659
A25: semaines | E25: SEMAINE | H25: =WEEKNUM(D27,1) -> 10 | L25: SEMAINE | O25: =WEEKNUM(K27,1) -> 11 | S25: SEMAINE | V25: =WEEKNUM(R27,1) -> 12 | AA25: SEMAINE | AC25: =WEEKNUM(AB27,1) -> 13
A26: Jours | B26: SAM | C26: DIM | D26: LUN | E26: MAR | F26: MER | G26: JEU | H26: VEN | I26: SAM | J26: DIM | K26: LUN | L26: MAR | M26: MER | N26: JEU | O26: VEN | P26: SAM | Q26: DIM | R26: LUN | S26: MAR | T26: MER | U26: JEU | V26: VEN | W26: SAM | X26: DIM | Y26: LUN | Z26: MAR | AA26: MER | AB26: JEU | AC26: VEN | AD26: SAM | AE26: DIM | AF26: LUN
B27: 41699 | C27: 41700 | D27: 41701 | E27: 41702 | F27: 41703 | G27: 41704 | H27: 41705 | I27: 41706 | J27: 41707 | K27: 41708 | L27: 41709 | M27: 41710 | N27: 41711 | O27: 41712 | P27: 41713 | Q27: 41714 | R27: 41715 | S27: 41716 | T27: 41717 | U27: 41718 | V27: 41719 | W27: 41720 | X27: 41721 | Y27: 41722 | Z27: 41723 | AA27: 41724 | AB27: 41725 | AC27: 41726 | AD27: 41727 | AE27: 41728 | AF27: 41729
A28: chambre 1
A29: entrées
A30: sorties
A31: chambre 2
A32: entrées
A33: sorties
A35: semaines | B35: SEMAINE | F35: =WEEKNUM(B37,1) -> 14 | H35: SEMAINE | L35: =WEEKNUM(G37,1) -> 15 | O35: SEMAINE | S35: =WEEKNUM(N37,1) -> 16 | V35: SEMAINE | Z35: =WEEKNUM(U37,1) -> 17 | AC35: SEMAINE | AF35: =WEEKNUM(AB37,1) -> 18
A36: Jours | B36: MAR | C36: MER | D36: JEU | E36: VEN | F36: SAM | G36: DIM | H36: LUN | I36: MAR | J36: MER | K36: JEU | L36: VEN | M36: SAM | N36: DIM | O36: LUN | P36: MAR | Q36: MER | R36: JEU | S36: VEN | T36: SAM | U36: DIM | V36: LUN | W36: MAR | X36: MER | Y36: JEU | Z36: VEN | AA36: SAM | AB36: DIM | AC36: LUN | AD36: MAR | AE36: MER
B37: 41730 | C37: 41731 | D37: 41732 | E37: 41733 | F37: 41734 | G37: 41735 | H37: 41736 | I37: 41737 | J37: 41738 | K37: 41739 | L37: 41740 | M37: 41741 | N37: 41742 | O37: 41743 | P37: 41744 | Q37: 41745 | R37: 41746 | S37: 41747 | T37: 41748 | U37: 41749 | V37: 41750 | W37: 41751 | X37: 41752 | Y37: 41753 | Z37: 41754 | AA37: 41755 | AB37: 41756 | AC37: 41757 | AD37: 41758 | AE37: 41759
A38: chambre 1
A39: entrées
A40: sorties
A41: chambre 2
A42: entrées
A43: sorties
A46: semaines | B46: SEMAINE | D46: =WEEKNUM(B48,1) -> 18 | F46: SEMAINE | J46: =WEEKNUM(G48,1) -> 19 | N46: SEMAINE | R46: =WEEKNUM(N48,1) -> 20 | T46: SEMAINE | X46: =WEEKNUM(U48,1) -> 21 | AB46: SEMAINE | AE46: =WEEKNUM(AB48,1) -> 22
A47: Jours | B47: JEU | C47: VEN | D47: SAM | E47: DIM | F47: LUN | G47: MAR | H47: MER | I47: JEU | J47: VEN | K47: SAM | L47: DIM | M47: LUN | N47: MAR | O47: MER | P47: JEU | Q47: VEN | R47: SAM | S47: DIM | T47: LUN | U47: MAR | V47: MER | W47: JEU | X47: VEN | Y47: SAM | Z47: DIM | AA47: LUN | AB47: MAR | AC47: MER | AD47: JEU | AE47: VEN | AF47: SAM
B48: 41760 | C48: 41761 | D48: 41762 | E48: 41763 | F48: 41764 | G48: 41765 | H48: 41766 | I48: 41767 | J48: 41768 | K48: 41769 | L48: 41770 | M48: 41771 | N48: 41772 | O48: 41773 | P48: 41774 | Q48: 41775 | R48: 41776 | S48: 41777 | T48: 41778 | U48: 41779 | V48: 41780 | W48: 41781 | X48: 41782 | Y48: 41783 | Z48: 41784 | AA48: 41785 | AB48: 41786 | AC48: 41787 | AD48: 41788 | AE48: 41789 | AF48: 41790
A49: chambre 1
A50: entrées
A51: sorties
A52: chambre 2
A53: entrées
A54: sorties
A56: semaines | E56: SEMAINE | H56: =WEEKNUM(E58,1) -> 23 | L56: SEMAINE | O56: =WEEKNUM(K58,1) -> 24 | S56: SEMAINE | V56: =WEEKNUM(R58,1) -> 25 | Z56: SEMAINE | AB56: =WEEKNUM(Y58,1) -> 26
A57: Jours | B57: DIM | C57: LUN | D57: MAR | E57: MER | F57: JEU | G57: VEN | H57: SAM | I57: DIM | J57: LUN | K57: MAR | L57: MER | M57: JEU | N57: VEN | O57: SAM | P57: DIM | Q57: LUN | R57: MAR | S57: MER | T57: JEU | U57: VEN | V57: SAM | W57: DIM | X57: LUN | Y57: MAR | Z57: MER | AA57: JEU | AB57: VEN | AC57: SAM | AD57: DIM | AE57: LUN
B58: 41791 | C58: 41792 | D58: 41793 | E58: 41794 | F58: 41795 | G58: 41796 | H58: 41797 | I58: 41798 | J58: 41799 | K58: 41800 | L58: 41801 | M58: 41802 | N58: 41803 | O58: 41804 | P58: 41805 | Q58: 41806 | R58: 41807 | S58: 41808 | T58: 41809 | U58: 41810 | V58: 41811 | W58: 41812 | X58: 41813 | Y58: 41814 | Z58: 41815 | AA58: 41816 | AB58: 41817 | AC58: 41818 | AD58: 41819 | AE58: 41820
A59: chambre 1
A60: entrées
A61: sorties
A62: chambre 2
A63: entrées
A64: sorties
A66: semaines | B66: SEMAINE | F66: =WEEKNUM(D68,1) -> 27 | H66: SEMAINE | L66: =WEEKNUM(K68,1) -> 28 | O66: SEMAINE | S66: =WEEKNUM(R68,1) -> 29 | V66: SEMAINE | Z66: =WEEKNUM(V68,1) -> 30 | AC66: SEMAINE | AE66: =WEEKNUM(AC68,1) -> 31
A67: Jours | B67: MAR | C67: MER | D67: JEU | E67: VEN | F67: SAM | G67: DIM | H67: LUN | I67: MAR | J67: MER | K67: JEU | L67: VEN | M67: SAM | N67: DIM | O67: LUN | P67: MAR | Q67: MER | R67: JEU | S67: VEN | T67: SAM | U67: DIM | V67: LUN | W67: MAR | X67: MER | Y67: JEU | Z67: VEN | AA67: SAM | AB67: DIM | AC67: LUN | AD67: MAR | AE67: MER | AF67: JEU
B68: 41821 | C68: 41822 | D68: 41823 | E68: 41824 | F68: 41825 | G68: 41826 | H68: 41827 | I68: 41828 | J68: 41829 | K68: 41830 | L68: 41831 | M68: 41832 | N68: 41833 | O68: 41834 | P68: 41835 | Q68: 41836 | R68: 41837 | S68: 41838 | T68: 41839 | U68: 41840 | V68: 41841 | W68: 41842 | X68: 41843 | Y68: 41844 | Z68: 41845 | AA68: 41846 | AB68: 41847 | AC68: 41848 | AD68: 41849 | AE68: 41850 | AF68: 41851
A69: chambre 1
A70: entrées
A71: sorties
A72: chambre 2
A73: entrées
A74: sorties
A76: semaines | E76: SEMAINE | I76: =WEEKNUM(E78,1) -> 32 | L76: SEMAINE | P76: =WEEKNUM(L78,1) -> 33 | S76: SEMAINE | W76: =WEEKNUM(U78,1) -> 34 | Z76: SEMAINE | AD76: =WEEKNUM(AB78,1) -> 35
A77: Jours | B77: VEN | C77: SAM | D77: DIM | E77: LUN | F77: MAR | G77: MER | H77: JEU | I77: VEN | J77: SAM | K77: DIM | L77: LUN | M77: MAR | N77: MER | O77: JEU | P77: VEN | Q77: SAM | R77: DIM | S77: LUN | T77: MAR | U77: MER | V77: JEU | W77: VEN | X77: SAM | Y77: DIM | Z77: LUN | AA77: MAR | AB77: MER | AC77: JEU | AD77: VEN | AE77: SAM | AF77: DIM
B78: 41852 | C78: 41853 | D78: 41854 | E78: 41855 | F78: 41856 | G78: 41857 | H78: 41858 | I78: 41859 | J78: 41860 | K78: 41861 | L78: 41862 | M78: 41863 | N78: 41864 | O78: 41865 | P78: 41866 | Q78: 41867 | R78: 41868 | S78: 41869 | T78: 41870 | U78: 41871 | V78: 41872 | W78: 41873 | X78: 41874 | Y78: 41875 | Z78: 41876 | AA78: 41877 | AB78: 41878 | AC78: 41879 | AD78: 41880 | AE78: 41881 | AF78: 41882
A79: chambre 1
A80: entrées
A81: sorties
A82: chambre 2
A83: entrées
A84: sorties
A87: semaines | B87: SEMAINE | F87: =WEEKNUM(B89,1) -> 36 | I87: SEMAINE | M87: =WEEKNUM(I89,1) -> 37 | P87: SEMAINE | T87: =WEEKNUM(P89,1) -> 38 | W87: SEMAINE | AA87: =WEEKNUM(W89,1) -> 39 | AD87: SEMAINE
A88: Jours | B88: LUN | C88: MAR | D88: MER | E88: JEU | F88: VEN | G88: SAM | H88: DIM | I88: LUN | J88: MAR | K88: MER | L88: JEU | M88: VEN | N88: SAM | O88: DIM | P88: LUN | Q88: MAR | R88: MER | S88: JEU | T88: VEN | U88: SAM | V88: DIM | W88: LUN | X88: MAR | Y88: MER | Z88: JEU | AA88: VEN | AB88: SAM | AC88: DIM | AD88: LUN | AE88: MAR
B89: 41883 | C89: 41884 | D89: 41885 | E89: 41886 | F89: 41887 | G89: 41888 | H89: 41889 | I89: 41890 | J89: 41891 | K89: 41892 | L89: 41893 | M89: 41894 | N89: 41895 | O89: 41896 | P89: 41897 | Q89: 41898 | R89: 41899 | S89: 41900 | T89: 41901 | U89: 41902 | V89: 41903 | W89: 41904 | X89: 41905 | Y89: 41906 | Z89: 41907 | AA89: 41908 | AB89: 41909 | AC89: 41910 | AD89: 41911 | AE89: 41912
A90: chambre 1
A91: entrées
A92: sorties
A93: chambre 2
A94: entrées
A95: sorties
A97: semaines | C97: =WEEKNUM(AD89,1) -> 40 | G97: SEMAINE | K97: =WEEKNUM(G99,1) -> 41 | N97: SEMAINE | R97: =WEEKNUM(N99,1) -> 42 | U97: SEMAINE | Y97: =WEEKNUM(U99,1) -> 43 | AB97: SEMAINE | AF97: =WEEKNUM(AB99,1) -> 44
A98: Jours | B98: MER | C98: JEU | D98: VEN | E98: SAM | F98: DIM | G98: LUN | H98: MAR | I98: MER | J98: JEU | K98: VEN | L98: SAM | M98: DIM | N98: LUN | O98: MAR | P98: MER | Q98: JEU | R98: VEN | S98: SAM | T98: DIM | U98: LUN | V98: MAR | W98: MER | X98: JEU | Y98: VEN | Z98: SAM | AA98: DIM | AB98: LUN | AC98: MAR | AD98: MER | AE98: JEU | AF98: VEN
B99: 41913 | C99: 41914 | D99: 41915 | E99: 41916 | F99: 41917 | G99: 41918 | H99: 41919 | I99: 41920 | J99: 41921 | K99: 41922 | L99: 41923 | M99: 41924 | N99: 41925 | O99: 41926 | P99: 41927 | Q99: 41928 | R99: 41929 | S99: 41930 | T99: 41931 | U99: 41932 | V99: 41933 | W99: 41934 | X99: 41935 | Y99: 41936 | Z99: 41937 | AA99: 41938 | AB99: 41939 | AC99: 41940 | AD99: 41941 | AE99: 41942 | AF99: 41943
A100: chambre 1
A101: entrées
A102: sorties
A103: chambre 2
A104: entrées
A105: sorties
A107: semaines | E107: SEMAINE | H107: =WEEKNUM(D109,1) -> 45 | L107: SEMAINE | O107: =WEEKNUM(K109,1) -> 46 | S107: SEMAINE | V107: =WEEKNUM(R109,1) -> 47 | AA107: SEMAINE | AC107: =WEEKNUM(Y109,1) -> 48
A108: Jours | B108: SAM | C108: DIM | D108: LUN | E108: MAR | F108: MER | G108: JEU | H108: VEN | I108: SAM | J108: DIM | K108: LUN | L108: MAR | M108: MER | N108: JEU | O108: VEN | P108: SAM | Q108: DIM | R108: LUN | S108: MAR | T108: MER | U108: JEU | V108: VEN | W108: SAM | X108: DIM | Y108: LUN | Z108: MAR | AA108: MER | AB108: JEU | AC108: VEN | AD108: SAM | AE108: DIM
B109: 41944 | C109: 41945 | D109: 41946 | E109: 41947 | F109: 41948 | G109: 41949 | H109: 41950 | I109: 41951 | J109: 41952 | K109: 41953 | L109: 41954 | M109: 41955 | N109: 41956 | O109: 41957 | P109: 41958 | Q109: 41959 | R109: 41960 | S109: 41961 | T109: 41962 | U109: 41963 | V109: 41964 | W109: 41965 | X109: 41966 | Y109: 41967 | Z109: 41968 | AA109: 41969 | AB109: 41970 | AC109: 41971 | AD109: 41972 | AE109: 41973
A110: chambre 1
A111: entrées
...
