Workbook
Name ListeBovins: animaux!$AC:$AC
Name ListeBovins: #REF!
Name ListeCanards: #REF!
Name ListeCaprins: #REF!
Name ListeCatégorie: #REF!
Name ListeChevauxSelle: #REF!
Name ListeChevauxTrait: #REF!
Name ListeCultures: #REF!
Name ListeDivers: BDD!$BE:$BE
Name ListeDivers: #REF!
Name ListeMatériels: BDD!$A:$A
Name ListeMatériels: #REF!
Name ListeModèles: #REF!
Name ListeOies: #REF!
Name ListeOvins: #REF!
Name ListePays: animaux!$AD$3:$AH$3
Name ListePays: #REF!
Name ListePoneys: #REF!
Name ListePorcins: #REF!
Name ListePoules: #REF!
Name ListeRegions: #REF!
Name TêteListe: BDD!$1:$1
Name TêteListe: #REF!

Sheet BDD
M2: OUI
M3: NON | P3: Blé | Q3: Orge | R3: Orge de printemps | S3: Avoine | T3: Avoine de printemps | U3: Triticale | V3: Seigle | W3: Maïs grain | X3: Maïs ensilé | Y3: Betterave | Z3: Canola | AA3: Tournesol | AB3: Pois | AC3: Féverole | AD3: Soja | AE3: Lin | AF3: Pomme de terre | AG3: Chanvre Industriel | AI3: Epinard | AJ3: Haricot vert | AK3: Lentille | AL3: Sorgho ensilé | AM3: Coton | AN3: Tabac
M5: Liste pays
M6: France
M7: Belgique
M8: Suisse | AQ8: spécificité 1 | AR8: RATIONS :
M9: Canada | AQ9: =IF(animaux!D4="","","Blé") -> Blé | AR9: =IF(animaux!D4="","",AQ18) -> Foin + maïs ensilé
M10: Etats-Unis | AQ10: =IF(animaux!D4="","","Orge") -> Orge | AR10: =IF(animaux!D4="","",AQ32) -> Foin + maïs ensilé + sorgho ensilé + ensilage d'herbe
AQ11: =IF(animaux!D4="","","Orge de printemps") -> Orge de printemps
AQ12: =IF(animaux!D4="","","Triticale") -> Triticale
AQ14: Spécificité 2
AQ15: =IF(animaux!D4="","",IF(OR(animaux!D4=M6,animaux!D4=M7,animaux!D4=M8),"Colza","Canola")) -> Colza
AQ16: =IF(animaux!D4="","","Soja") -> Soja
AP18: 1 | AQ18: Foin + maïs ensilé | AY18: =AP18 -> 1
AP19: =AP18+1 -> 2 | AQ19: Ration complète | AR19: 169 | AY19: =AP19 -> 2
AP20: =AP19+1 -> 3 | AQ20: Foin | AR20: 72 | AY20: =AP20 -> 3
AP21: =AP20+1 -> 4 | AQ21: Maïs ensilé | AR21: 84 | AY21: =AP21 -> 4
AP22: =AP21+1 -> 5 | AQ22: Orge | AR22: 7.2 | AY22: =AP22 -> 5
AP23: =AP22+1 -> 6 | AQ23: Blé | AR23: 7.2 | AY23: =AP23 -> 6
AP24: =AP23+1 -> 7 | AQ24: Triticale | AR24: 7.2 | AY24: =AP24 -> 7
AP25: =AP24+1 -> 8 | AQ25: Tourteau colza | AR25: 4.8 | AY25: =AP25 -> 8
AP26: =AP25+1 -> 9 | AQ26: =AQ15 -> Colza | AR26: 4.8 | AY26: =AP26 -> 9
AP27: =AP26+1 -> 10 | AQ27: Soja | AR27: 4.8 | AY27: =AP27 -> 10
AP28: =AP27+1 -> 11 | AQ28: Minéraux et vitamines | AR28: 1 | AY28: =AP28 -> 11
AP29: =AP28+1 -> 12 | AQ29: Concentré jeune bovin | AR29: 0 | AY29: =AP29 -> 12
AP30: =AP29+1 -> 13 | AQ30: Eau | AR30: 200 | AY30: =AP30 -> 13
AP31: =AP30+1 -> 14 | AY31: =AP31 -> 14
P32: =P3 -> Blé | Q32: =Q3 -> Orge | R32: =R3 -> Orge de printemps | S32: =S3 -> Avoine | T32: =T3 -> Avoine de printemps | U32: =U3 -> Triticale | V32: =W3 -> Maïs grain | W32: =X3 -> Maïs ensilé | X32: =Y3 -> Betterave | Y32: Colza | Z32: =AA3 -> Tournesol | AA32: =AB3 -> Pois | AB32: =AC3 -> Féverole | AC32: =AD3 -> Soja | AD32: =AE3 -> Lin | AE32: =AF3 -> Pomme de terre | AF32: =AG3 -> Chanvre Industriel | AH32: =AI3 -> Epinard | AI32: =AJ3 -> Haricot vert | AJ32: =AK3 -> Lentille | AK32: =AL3 -> Sorgho ensilé | AL32: =AN3 -> Tabac | AP32: =AP31+1 -> 15 | AQ32: Foin + maïs ensilé + sorgho ensilé + ensilage d'herbe | AY32: =AP32 -> 15
AP33: =AP32+1 -> 16 | AQ33: Ration complète | AR33: 0 | AY33: =AP33 -> 16
AP34: =AP33+1 -> 17 | AQ34: Foin | AR34: 56 | AY34: =AP34 -> 17
AP35: =AP34+1 -> 18 | AQ35: Maïs ensilé | AR35: 24 | AY35: =AP35 -> 18
AP36: =AP35+1 -> 19 | AQ36: Sorgho ensilé | AR36: 24 | AY36: =AP36 -> 19
AP37: =AP36+1 -> 20 | AQ37: Ensilage d'herbe | AR37: 28 | AY37: =AP37 -> 20
AP38: =AP37+1 -> 21 | AQ38: Orge | AR38: 7.2 | AY38: =AP38 -> 21
AP39: =AP38+1 -> 22 | AQ39: Blé | AR39: 7.2 | AY39: =AP39 -> 22
AP40: =AP39+1 -> 23 | AQ40: Triticale | AR40: 7.2 | AY40: =AP40 -> 23
AP41: =AP40+1 -> 24 | AQ41: Tourteau colza | AR41: 4.8 | AY41: =AP41 -> 24
AP42: =AP41+1 -> 25 | AQ42: =AQ15 -> Colza | AR42: 4.8 | AY42: =AP42 -> 25
AP43: =AP42+1 -> 26 | AQ43: Soja | AR43: 4.8 | AY43: =AP43 -> 26 | AZ43: Choix de la ration :
AP44: =AP43+1 -> 27 | AQ44: Minéraux et vitamines | AR44: 1 | AY44: =AP44 -> 27 | AZ44: Foin + maïs ensilé
AP45: =AP44+1 -> 28 | AQ45: Concentré jeune bovin | AR45: 0 | AY45: =AP45 -> 28
AP46: =AP45+1 -> 29 | AQ46: Eau | AR46: 200 | AY46: =AP46 -> 29
AQ47: Ration utilisée dans la ferme | AZ47: - Taureaux et vaches plus de 3 ans :
AR48: - Taureaux et vaches plus de 3 ans : | AZ48: 5
AP49: =IF(AQ49="","",VLOOKUP(AQ49,$AQ$18:$AY$46,9,FALSE)) -> 1 | AQ49: =AZ44 -> Foin + maïs ensilé
AP50: =IF(AP49="","",AP49+1) -> 2 | AQ50: =IF(AP50="","",IF(VLOOKUP($AP50,$AP$18:$AX$46,2,FALSE)="","",VLOOKUP($AP50,$AP$18:$AX$46,2,FALSE))) -> Ration complète | AR50: ici doit apparaitre pour la ration ci-dessus (foin + maïs ensilé) la quantité de "ration complète" multiplié par le nombre de taureaux, soit dans le cas présent : AR19*AZ48 | AZ50: Spécificité :
AP51: =IF(AP50="","",AP50+1) -> 3 | AQ51: =IF(OR(AP51="",AQ50="Eau",AQ50=""),"",IF(VLOOKUP($AP51,$AP$18:$AX$46,2,FALSE)="","",VLOOKUP($AP51,$AP$18:$AX$46,2,FALSE))) -> Foin | AR51: ici doit apparaitre pour la ration ci-dessus (foin + maïs ensilé) la quantité de "foin" multiplié par le nombre de taureaux, soit dans le cas présent : AR20*AZ48 | AZ51: Orge
AP52: =IF(AP51="","",AP51+1) -> 4 | AQ52: =IF(OR(AP52="",AQ51="Eau",AQ51=""),"",IF(VLOOKUP($AP52,$AP$18:$AX$46,2,FALSE)="","",VLOOKUP($AP52,$AP$18:$AX$46,2,FALSE))) -> Maïs ensilé | AR52: ici doit apparaitre pour la ration ci-dessus (foin + maïs ensilé) la quantité de "maïs ensilé" multiplié par le nombre de taureaux, soit dans le cas présent : AR21*AZ48 | AZ52: Colza
AP53: =IF(AP52="","",AP52+1) -> 5 | AQ53: =IF(OR(AP53="",AQ52="Eau",AQ52=""),"",IF(VLOOKUP($AP53,$AP$18:$AX$46,2,FALSE)="","",VLOOKUP($AP53,$AP$18:$AX$46,2,FALSE))) -> Orge | AR53: ici, si(ou(AZ51=AQ10;AZ51=AQ11) doit apparaitre pour la ration ci-dessus (foin + maïs ensilé) la quantité de "orge" multiplié par le nombre de taureaux (donc si le joueur a choisi de l'orge ou orge de printemps), donc AR22*AZ48. S'il a choisi autre chose, alors on met 0
AP54: =IF(AP53="","",AP53+1) -> 6 | AQ54: =IF(OR(AP54="",AQ53="Eau",AQ53=""),"",IF(VLOOKUP($AP54,$AP$18:$AX$46,2,FALSE)="","",VLOOKUP($AP54,$AP$18:$AX$46,2,FALSE))) -> Blé | AR54: ici, si(AZ51=AQ9 doit apparaitre pour la ration ci-dessus (foin + maïs ensilé) la quantité de "blé" multiplié par le nombre de taureaux (donc si le joueur a choisi du blé), donc AR23*AZ48. S'il a choisi autre chose, alors on met 0
AP55: =IF(AP54="","",AP54+1) -> 7 | AQ55: =IF(OR(AP55="",AQ54="Eau",AQ54=""),"",IF(VLOOKUP($AP55,$AP$18:$AX$46,2,FALSE)="","",VLOOKUP($AP55,$AP$18:$AX$46,2,FALSE))) -> Triticale | AR55: ici, si(AZ51=AQ12 doit apparaitre pour la ration ci-dessus (foin + maïs ensilé) la quantité de "triticale" multiplié par le nombre de taureaux (donc si le joueur a choisi du triticale), donc AR24*AZ48. S'il a choisi autre chose, alors on met 0
AP56: =IF(AP55="","",AP55+1) -> 8 | AQ56: =IF(OR(AP56="",AQ55="Eau",AQ55=""),"",IF(VLOOKUP($AP56,$AP$18:$AX$46,2,FALSE)="","",VLOOKUP($AP56,$AP$18:$AX$46,2,FALSE))) -> Tourteau colza | AR56: ici doit apparaitre pour la ration ci-dessus (foin + maïs ensilé) la quantité de "tourteau colza" multiplié par le nombre de taureaux, soit dans le cas présent : AR25*AZ48
AP57: =IF(AP56="","",AP56+1) -> 9 | AQ57: =IF(OR(AP57="",AQ56="Eau",AQ56=""),"",IF(VLOOKUP($AP57,$AP$18:$AX$46,2,FALSE)="","",VLOOKUP($AP57,$AP$18:$AX$46,2,FALSE))) -> Colza | AR57: ici, si(AZ52=AQ15 doit apparaitre pour la ration ci-dessus (foin + maïs ensilé) la quantité de "colza" multiplié par le nombre de taureaux (donc si le joueur a choisi du colza), donc AR26*AZ48. S'il a choisi autre chose, alors on met 0
AP58: =IF(AP57="","",AP57+1) -> 10 | AQ58: =IF(OR(AP58="",AQ57="Eau",AQ57=""),"",IF(VLOOKUP($AP58,$AP$18:$AX$46,2,FALSE)="","",VLOOKUP($AP58,$AP$18:$AX$46,2,FALSE))) -> Soja | AR58: ici, si(AZ52=AQ16 doit apparaitre pour la ration ci-dessus (foin + maïs ensilé) la quantité de "soja" multiplié par le nombre de taureaux (donc si le joueur a choisi du soja), donc AR27*AZ48. S'il a choisi autre chose, alors on met 0
M59: Soufre (S) | AP59: =IF(AP58="","",AP58+1) -> 11 | AQ59: =IF(OR(AP59="",AQ58="Eau",AQ58=""),"",IF(VLOOKUP($AP59,$AP$18:$AX$46,2,FALSE)="","",VLOOKUP($AP59,$AP$18:$AX$46,2,FALSE))) -> Minéraux et vitamines | AR59: ici doit apparaitre pour la ration ci-dessus (foin + maïs ensilé) la quantité de "minéraux et vitamines" multiplié par le nombre de taureaux, soit dans le cas présent : AR28*AZ48
AP60: =IF(AP59="","",AP59+1) -> 12 | AQ60: =IF(OR(AP60="",AQ59="Eau",AQ59=""),"",IF(VLOOKUP($AP60,$AP$18:$AX$46,2,FALSE)="","",VLOOKUP($AP60,$AP$18:$AX$46,2,FALSE))) -> Concentré jeune bovin | AR60: ici doit apparaitre pour la ration ci-dessus (foin + maïs ensilé) la quantité de "concentré jeune bovin" multiplié par le nombre de taureaux, soit dans le cas présent : AR29*AZ48
M61: 0 | AP61: =IF(AP60="","",AP60+1) -> 13 | AQ61: =IF(OR(AP61="",AQ60="Eau",AQ60=""),"",IF(VLOOKUP($AP61,$AP$18:$AX$46,2,FALSE)="","",VLOOKUP($AP61,$AP$18:$AX$46,2,FALSE))) -> Eau | AR61: ici doit apparaitre pour la ration ci-dessus (foin + maïs ensilé) la quantité de "eau" multiplié par le nombre de taureaux, soit dans le cas présent : AR30*AZ48
M62: 0 | AP62: =IF(AP61="","",AP61+1) -> 14 | AQ62: =IF(OR(AP62="",AQ61="Eau",AQ61=""),"",IF(VLOOKUP($AP62,$AP$18:$AX$46,2,FALSE)="","",VLOOKUP($AP62,$AP$18:$AX$46,2,FALSE)))
M63: 0 | AP63: =IF(AP62="","",AP62+1) -> 15 | AQ63: =IF(OR(AP63="",AQ62="Eau",AQ62=""),"",IF(VLOOKUP($AP63,$AP$18:$AX$46,2,FALSE)="","",VLOOKUP($AP63,$AP$18:$AX$46,2,FALSE)))
M64: 0 | AP64: =IF(AP63="","",AP63+1) -> 16 | AQ64: =IF(OR(AP64="",AQ63="Eau",AQ63=""),"",IF(VLOOKUP($AP64,$AP$18:$AX$46,2,FALSE)="","",VLOOKUP($AP64,$AP$18:$AX$46,2,FALSE))) | AR64: le problème c'est que selon la ration choisie, les aliments ne sont pas toujours à la même place…et c'est là que je coince car je n'arrive pas à trouver une formule générique…
M65: 0 | AP65: =IF(AP64="","",AP64+1) -> 17 | AQ65: =IF(OR(AP65="",AQ64="Eau",AQ64=""),"",IF(VLOOKUP($AP65,$AP$18:$AX$46,2,FALSE)="","",VLOOKUP($AP65,$AP$18:$AX$46,2,FALSE)))
M66: 0
AQ70: mon souhait | AR70: si AQ70 ("mon souhait") correspond à AZ51 (spécificité1) alors afficher ici la quantité correspondant l"aliment en spécificité1; si AQ70 correspond à AZ51 (spécificité2) alors afficher ici la quantité correspondant l(aliment en spécificité2; siAQ70 ne correspond pas à AZ51 mais qu'il correspond à un des choix de spécificité1, alors afficher 0; siAQ70 ne correspond pas à AZ52 mais qu'il correspond à un des choix de spécificité2, alors afficher 0; sinonafficher ici la quantité correspondant à AQ70
AQ72: par ex
AQ73: aliment recherché : foin. Spécificité1 : blé. Spécificité 2 : colza
AQ74: foin | AR74: si(foin=blé;quantité de blé*nombre de taureaux;si(foin=colza;quantité de colza*nombre de taureaux;si(et(foin<>blé;ou(foin=orge;foin=orge de printemps;foin=triticale));0;si(et(foin<>colza;foin=soja));0;quantité de foin*nbre de tauraux)

Sheet animaux
B1: RETOUR AU SOMMAIRE | C1: Cliques → ICI ←
D3: Pays :
D4: France
A6: BOVINS
C7: nombre total | D7: races laitières | E7: races allaitantes | F7: nombre dans pré | H7: Mode d'élevage : | K7: bovins allaitants au pré en hiver?
B8: veau mâle 0-3 mois | C8: =D8+E8 -> 2 | D8: 1 | E8: 1 | F8: =#REF! -> #REF!
B9: veau femelle 0-3 mois | C9: =D9+E9 -> 2 | D9: 1 | E9: 1 | F9: =#REF! -> #REF!
B10: veau mâle 3-6 mois | C10: =D10+E10 -> 2 | D10: 1 | E10: 1 | F10: =#REF! -> #REF! | H10: Choix de la ration :
B11: veau femelle 3-6 mois | C11: =D11+E11 -> 2 | D11: 1 | E11: 1 | F11: =#REF! -> #REF! | H11: Foin + maïs ensilé
B12: veau mâle 6-12 mois | C12: =D12+E12 -> 2 | D12: 1 | E12: 1 | F12: =#REF! -> #REF!
B13: veau femelle 6-12 mois | C13: =D13+E13 -> 2 | D13: 1 | E13: 1 | F13: =#REF! -> #REF! | H13: Ration complète?
B14: taurillon 12-18 mois | C14: =D14+E14 -> 2 | D14: 1 | E14: 1 | F14: =#REF! -> #REF!
B15: génisse 12-18 mois | C15: =D15+E15 -> 2 | D15: 1 | E15: 1 | F15: =#REF! -> #REF!
B16: taurillon 18-24 mois | C16: =D16+E16 -> 2 | D16: 1 | E16: 1 | F16: =#REF! -> #REF! | H16: Spécificité :
B17: génisse 18-24 mois | C17: =D17+E17 -> 2 | D17: 1 | E17: 1 | F17: =#REF! -> #REF! | H17: Orge
B18: taurillon 24-36 mois | C18: =D18+E18 -> 2 | D18: 1 | E18: 1 | F18: =#REF! -> #REF! | H18: Canola
B19: génisse 24-36 mois | C19: =D19+E19 -> 2 | D19: 1 | E19: 1 | F19: =#REF! -> #REF!
B20: taureau | C20: =D20+E20 -> 2 | D20: 1 | E20: 1 | F20: =#REF! -> #REF! | H20: Est-ce que tu pailles? | J20: =IF(I20="","",IF(I20=BDD!M3,"coût : 0€/an",IF(I20=BDD!M2,"coût : "&#REF!*84*SUM(C8:C21)/1000&"€/an (si pas de mise au pré, sinon "&(IF(K8=BDD!M2,(SUM(animaux!D8:D21)*#REF!*(84-49))/1000,(#REF!*(84-49)*SUM(C8:C21))/1000)&"€/an)"))))
B21: vache | C21: =D21+E21 -> 2 | D21: 1 | E21: 1 | F21: =#REF! -> #REF! | H21: Est-ce que tu vaccines? | J21: =IF(I21=BDD!M2,"coût : " &SUM(C8:C21)*10 &"€/an","")

Sheet coût
B1: RETOUR AU SOMMAIRE | C1: Cliques → ICI ←
B3: ALIMENTS A COMMANDER
B5: Tu veux stocker pour combien de jours?
B6: 3 jours
C8: Aliments nécessaire | D8: Aliments à commander | F8: prix unitaire | G8: montant de la commande
B9: =IF(C9="invalide","","orge (t)") -> #N/A | C9: =IF(B6="","invalide",(VLOOKUP(BDD!Q3,BDD!AQ50:AY65,9,FALSE)*SUM(BDD!Q76:Q100)+VLOOKUP(BDD!Q3,BDD!AQ86:AY96,9,FALSE)*SUM(BDD!Q76:Q100)+VLOOKUP(BDD!Q3,BDD!BA26:BI37,9,FALSE)*SUM(BDD!R76:R100)+VLOOKUP(BDD!Q3,BDD!BK89:BP98,6,FALSE)*SUM(BDD!S76:S100)+VLOOKUP(BDD!Q3,BDD!BR35:BX47,7,FALSE)*SUM(BDD!P76:P100)+VLOOKUP(BDD!Q3,BDD!BZ41:CD53,5,FALSE)*SUM(BDD!P76:P100)+VLOOKUP(BDD!Q3,BDD!CS134:CX144,6,FALSE)*SUM(BDD!T76:T100)+VLOOKUP(BDD!Q3,BDD!CS163:CX172,6,FALSE)*SUM(BDD!T76:T100)+VLOOKUP(BDD!Q3,BDD!CZ27:DH37,9,FALSE)*SUM(BDD!R76:R100)+VLOOKUP(BDD!Q3,BDD!DV51:EA58,6,FALSE)*SUM(BDD!U76:U100)+VLOOKUP(BDD!Q3,BDD!DV73:EA79,6,FALSE)*SUM(BDD!U76:U100)+VLOOKUP(BDD!Q3,BDD!EC45:EH52,6,FALSE)*SUM(BDD!U76:U100)+VLOOKUP(BDD!Q3,BDD!EC68:EH74,6,FALSE)*SUM(BDD!U76:U100)+VLOOKUP(BDD!Q3,BDD!EJ44:EO51,6,FALSE)*SUM(BDD!U76:U100)+VLOOKUP(BDD!Q3,BDD!EJ66:EO72,6,FALSE)*SUM(BDD!U76:U100))/1000) -> #N/A | D9: =IF(B6="",0,IF(C9-#REF!<0,0,C9-#REF!)) -> #N/A | G9: =F9*D9 -> #N/A
B10: =IF(C10="invalide","","blé (t)") -> #N/A | C10: =IF(B6="","invalide",(VLOOKUP(BDD!P3,BDD!AQ50:AY65,9,FALSE)*SUM(BDD!Q76:Q100)+VLOOKUP(BDD!P3,BDD!AQ86:AY96,9,FALSE)*SUM(BDD!Q76:Q100)+VLOOKUP(BDD!P3,BDD!BA26:BI37,9,FALSE)*SUM(BDD!R76:R100)+VLOOKUP(BDD!P3,BDD!BK89:BP98,6,FALSE)*SUM(BDD!S76:S100)+VLOOKUP(BDD!P3,BDD!BR35:BX47,7,FALSE)*SUM(BDD!P76:P100)+VLOOKUP(BDD!P3,BDD!BZ41:CD53,5,FALSE)*SUM(BDD!P76:P100)+VLOOKUP(BDD!P3,BDD!CG30:CK37,5,FALSE)*SUM(BDD!P76:P100)+VLOOKUP(BDD!P3,BDD!CM25:CQ32,5,FALSE)*SUM(BDD!P76:P100)+VLOOKUP(BDD!P3,BDD!CS134:CX144,6,FALSE)*SUM(BDD!T76:T100)+VLOOKUP(BDD!P3,BDD!CS163:CX172,6,FALSE)*SUM(BDD!T76:T100)+VLOOKUP(BDD!P3,BDD!CZ27:DH37,9,FALSE)*SUM(BDD!R76:R100)+VLOOKUP(BDD!P3,BDD!DJ32:DN39,5,FALSE)*SUM(BDD!P76:P100)+VLOOKUP(BDD!P3,BDD!DP32:DT41,5,FALSE)*SUM(BDD!P76:P100))/1000) -> #N/A | D10: =IF(B6="",0,IF(C10-#REF!<0,0,C10-#REF!)) -> #N/A | G10: =F10*D10 -> #N/A
B11: =IF(C11="invalide","","triticale (t)") -> #N/A | C11: =IF(B6="","invalide",(VLOOKUP(BDD!U3,BDD!AQ50:AY65,9)*SUM(BDD!Q76:Q100)+VLOOKUP(BDD!U3,BDD!AQ86:AY96,9)*SUM(BDD!Q76:Q100)+VLOOKUP(BDD!U3,BDD!BA26:BI37,9)*SUM(BDD!R76:R100)+VLOOKUP(BDD!U3,BDD!BK89:BP98,6)*SUM(BDD!S76:S100)+VLOOKUP(BDD!U3,BDD!BR35:BX47,7)*SUM(BDD!P76:P100)+VLOOKUP(BDD!U3,BDD!BZ41:CD53,5)*SUM(BDD!P76:P100)+VLOOKUP(BDD!U3,BDD!CG30:CK37,5)*SUM(BDD!P76:P100)+VLOOKUP(BDD!U3,BDD!CM25:CQ32,5)*SUM(BDD!P76:P100)+VLOOKUP(BDD!U3,BDD!CS134:CX144,6)*SUM(BDD!T76:T100)+VLOOKUP(BDD!U3,BDD!CS163:CX172,6)*SUM(BDD!T76:T100)+VLOOKUP(BDD!U3,BDD!CZ27:DH37,9)*SUM(BDD!R76:R100)+VLOOKUP(BDD!U3,BDD!DJ32:DN39,5)*SUM(BDD!P76:P100)+VLOOKUP(BDD!U3,BDD!DP32:DT41,5)*SUM(BDD!P76:P100)+VLOOKUP(BDD!U3,BDD!DV51:EA58,6)*SUM(BDD!U76:U100)+VLOOKUP(BDD!U3,BDD!DV73:EA79,6)*SUM(BDD!U76:U100)+VLOOKUP(BDD!U3,BDD!EC45:EH52,6)*SUM(BDD!U76:U100)+VLOOKUP(BDD!U3,BDD!EC68:EH74,6)*SUM(BDD!U76:U100)+VLOOKUP(BDD!U3,BDD!EJ44:EO51,6)*SUM(BDD!U76:U100)+VLOOKUP(BDD!U3,BDD!EJ66:EO72,6)*SUM(BDD!U76:U100)+VLOOKUP(BDD!U3,BDD!EQ40:EU47,5)*7+VLOOKUP(BDD!U3,BDD!EQ73:EU79,5)*7)/1000) -> #N/A | D11: =IF(B6="",0,IF(C11-#REF!<0,0,C11-#REF!)) -> #N/A | G11: =F11*D11 -> #N/A
B12: =IF(C12="invalide","","seigle (t)") -> #N/A | C12: =IF(B6="","invalide",(VLOOKUP(BDD!V3,BDD!BR19:BX31,7)*SUM(BDD!P76:P100))/1000) -> #N/A | D12: =IF(B6="",0,IF(C12-#REF!<0,0,C12-#REF!)) -> #N/A | G12: =F12*D12 -> #N/A
B13: =IF(C13="invalide","",IF(OR(animaux!D4=BDD!M6,animaux!D4=BDD!M7,animaux!D4=BDD!M8),"Colza (t)","canola (t)")) -> #N/A | C13: =IF(B6="","invalide",IF(COUNTIF(BDD!AQ1:EU1000,BDD!Z3)>=1,(VLOOKUP(BDD!Z3,BDD!AQ50:AY65,9)*SUM(BDD!Q76:Q100)+VLOOKUP(BDD!Z3,BDD!AQ86:AY96,9)*SUM(BDD!Q76:Q100)+VLOOKUP(BDD!Z3,BDD!BA26:BI37,9)*SUM(BDD!R76:R100)+VLOOKUP(BDD!Z3,BDD!BR19:BX31,7)*SUM(BDD!P76:P100)+VLOOKUP(BDD!Z3,BDD!CS134:CX144,6)*SUM(BDD!T76:T100)+VLOOKUP(BDD!Z3,BDD!CS149:CX158,6)*SUM(BDD!T76:T100)+VLOOKUP(BDD!Z3,BDD!DP32:DT41,5)*SUM(BDD!P76:P100))/1000,(VLOOKUP(BDD!Y32,BDD!AQ50:AY65,9)*SUM(BDD!Q76:Q100)+VLOOKUP(BDD!Y32,BDD!AQ86:AY96,9)*SUM(BDD!Q76:Q100)+VLOOKUP(BDD!Y32,BDD!BA26:BI37,9)*SUM(BDD!R76:R100)+VLOOKUP(BDD!Y32,BDD!BR19:BX31,7)*SUM(BDD!P76:P100)+VLOOKUP(BDD!Y32,BDD!CS134:CX144,6)*SUM(BDD!T76:T100)+VLOOKUP(BDD!Y32,BDD!CS149:CX158,6)*SUM(BDD!T76:T100)+VLOOKUP(BDD!Y32,BDD!DP32:DT41,5)*SUM(BDD!P76:P100))/1000)) -> #N/A | D13: =IF(B6="",0,IF(C13="","",IF(C13-#REF!<0,0,C13-#REF!))) -> #N/A | G13: =F13*D13 -> #N/A
B14: =IF(C14="invalide","","fèverole (t)") -> #REF! | C14: =IF(B6="","invalide",(#REF!*SUM(Q2:Q26))/1000) -> #REF! | D14: =IF(B6="",0,IF(C14-#REF!<0,0,C14-#REF!)) -> #REF! | G14: =F14*D14 -> #REF!
B15: =IF(C15="invalide","","soja (t)") -> #REF! | C15: =IF(B6="","invalide",(#REF!*SUM(R2:R26)+#REF!*SUM(S2:S26)+(#REF!)*SUM(Q2:Q26)+#REF!*SUM(S2:S26))/1000) -> #REF! | D15: =IF(B6="",0,IF(C15-#REF!<0,0,C15-#REF!)) -> #REF! | G15: =F15*D15 -> #REF!
B16: =IF(C16="invalide","","tourteau de colza (t)") -> #REF! | C16: =IF(B6="","invalide",(#REF!*SUM(R2:R26)+(#REF!+#REF!)*SUM(U2:U26)+#REF!*SUM(Q2:Q26)+#REF!*SUM(S2:S26))/1000) -> #REF! | D16: =IF(B6="",0,IF(C16-#REF!<0,0,C16-#REF!)) -> #REF! | G16: =F16*D16 -> #REF!
B17: =IF(C17="invalide","","foin (t)") -> #REF! | C17: =IF(B6="","invalide",(#REF!*SUM(R2:R26)+#REF!*SUM(S2:S26)+#REF!*SUM(T2:T26)+(#REF!+#REF!)*SUM(U2:U26)+#REF!*SUM(Q2:Q26)+#REF!*SUM(S2:S26)+(#REF!+#REF!+#REF!+#REF!+#REF!+#REF!)*SUM(coût!V2:V26))/1000) -> #REF! | D17: =IF(B6="",0,IF(C17-(#REF!+#REF!+#REF!)<0,0,C17-(#REF!+#REF!+#REF!))) -> #REF! | G17: =F17*D17 -> #REF!
B18: =IF(C18="invalide","","minéraux & vitamines (kg)") -> #REF! | C18: =IF(B6="","invalide",(#REF!*SUM(R2:R26)+#REF!*SUM(S2:S26)+#REF!*SUM(T2:T26)+(#REF!+#REF!)*SUM(U2:U26)+(#REF!+#REF!+#REF!+#REF!+#REF!)*SUM(Q2:Q26)+#REF!*SUM(S2:S26))+SUM(#REF!)+(#REF!+#REF!+#REF!)*SUM(coût!V2:V26)) -> #REF! | D18: =IF(B6="",0,IF(C18-(#REF!+#REF!)<0,0,C18-(#REF!+#REF!))) -> #REF! | F18: 1.38 | G18: =F18*D18 -> #REF!
B19: =IF(C19="invalide","","maïs ensilé (t)") -> #REF! | C19: =IF(B6="","invalide",(#REF!*SUM(R2:R26)+#REF!*SUM(T2:T26)+#REF!*SUM(U2:U26))/1000) -> #REF! | D19: =IF(B6="",0,IF(C19-#REF!<0,0,C19-#REF!)) -> #REF! | G19: =F19*D19 -> #REF!
B20: =IF(C20="invalide","","concentré bovin (kg)") -> #REF! | C20: =IF(B6="","invalide",#REF!*(SUM(R2:R26))) -> #REF! | D20: =IF(B6="",0,IF(C20-(#REF!+#REF!)<0,0,C20-(#REF!+#REF!))) -> #REF! | F20: 1.07 | G20: =F20*D20 -> #REF!
B21: =IF(C21="invalide","","eau (l)") -> #REF! | C21: =IF(B6="","invalide",(#REF!+#REF!/42+#REF!+#REF!+#REF!+#REF!+#REF!+#REF!+#REF!+#REF!+#REF!+#REF!+#REF!+#REF!+#REF!+#REF!)*SUM(Q2:Q26)+SUM(#REF!)) -> #REF! | D21: =IF(B6="",0,IF(C21-#REF!<0,0,C21-#REF!)) -> #REF! | F21: 0.0026 | G21: =F21*D21 -> #REF!
B22: =IF(C22="invalide","","avoine (t)") -> #REF! | C22: =IF(B6="","invalide",(#REF!*SUM(S2:S26)+(#REF!+#REF!+#REF!+#REF!+#REF!)*SUM(Q2:Q26)+#REF!*SUM(S2:S26)+(#REF!+#REF!+#REF!)*SUM(coût!V2:V26))/1000+SUM(#REF!)) -> #REF! | D22: =IF(B6="",0,IF(C22-#REF!<0,0,C22-#REF!)) -> #REF! | G22: =F22*D22 -> #REF!
B23: =IF(C23="invalide","","maïs grain (t)") -> #REF! | C23: =IF(B6="","invalide",((#REF!+#REF!+#REF!+#REF!+#REF!)*SUM(Q2:Q26)+(#REF!+#REF!+#REF!)*SUM(coût!V2:V26))/1000+SUM(#REF!)) -> #REF! | D23: =IF(B6="",0,IF(C23-#REF!<0,0,C23-#REF!)) -> #REF! | G23: =F23*D23 -> #REF!
B24: =IF(C24="invalide","","concentré lapins (kg)") -> #REF! | C24: =IF(B6="","invalide",#REF!*SUM(Q2:Q26)) -> #REF! | D24: =IF(B6="",0,IF(C24-(#REF!+#REF!)<0,0,C24-(#REF!+#REF!))) -> #REF! | F24: 1.12 | G24: =F24*D24 -> #REF!
B25: =IF(C25="invalide","","pois (t)") -> #REF! | C25: =IF(B6="","invalide",#REF!*SUM(Q2:Q26)/1000) -> #REF! | D25: =IF(B6="",0,IF(C25-#REF!<0,0,C25-#REF!)) -> #REF! | G25: =F25*D25 -> #REF!
B26: =IF(C26="invalide","","tourteau de tournesol (t)") -> #REF! | C26: =IF(B6="","invalide",#REF!*SUM(Q2:Q26)/1000) -> #REF! | D26: =IF(B6="",0,IF(C26-#REF!<0,0,C26-#REF!)) -> #REF! | G26: =F26*D26 -> #REF!
B27: =IF(C27="invalide","","betterave (t)") -> #REF! | C27: =IF(B6="","invalide",(#REF!*SUM(R2:R26)+#REF!*SUM(T2:T26)+#REF!*SUM(U2:U26)+#REF!*SUM(Q2:Q26))/1000) -> #REF! | D27: =IF(B6="",0,IF(C27-#REF!<0,0,C27-#REF!)) -> #REF! | G27: =F27*D27 -> #REF!
B28: =IF(C28="invalide","","herbe ensilée (t)") -> #REF! | C28: =IF(B6="","invalide",(#REF!*SUM(R2:R26)+#REF!*SUM(T2:T26)+#REF!*SUM(U2:U26))/1000) -> #REF! | D28: =IF(B6="",0,IF(C28-#REF!<0,0,C28-#REF!)) -> #REF! | G28: =F28*D28 -> #REF!
B29: =IF(C29="invalide","","paille (t)") -> #REF! | C29: =IF(B6="","invalide",IF(B6=P26,(#REF!+#REF!+#REF!+#REF!+#REF!+#REF!)*SUM(Q2:Q7)/1000+(A46+A49+A52+A55+A58+A61)+#REF!/1000,(#REF!*SUM(R2:R26)+#REF!*SUM(T2:T26)+#REF!*SUM(U2:U26)+(#REF!+#REF!+#REF!+#REF!+#REF!+#REF!)*SUM(Q2:Q26)+(#REF!+#REF!+#REF!+#REF!+#REF!+#REF!)*SUM(coût!V2:V26))/1000)) -> #REF! | D29: =IF(B6="",0,IF(C29-(#REF!+#REF!)<0,0,C29-(#REF!+#REF!))) -> #REF! | G29: =F29*D29 -> #REF! | H29: ="en vaccin tu payes "&#REF!*10+#REF!*20+#REF!*10+#REF!*10+#REF!*1.5+#REF!*1.5+#REF!*10+#REF!*1.5+#REF!*1.5+#REF!*10+#REF!*85+#REF!*85+#REF!*85&"€/an" -> #REF!
B30: =IF(C30="invalide","","concentré porcin (kg)") -> #REF! | C30: =IF(B6="","invalide",#REF!*SUM(Q2:Q26)) -> #REF! | D30: =IF(B6="",0,IF(C30-(#REF!+#REF!)<0,0,C30-(#REF!+#REF!))) -> #REF! | F30: 1.13 | G30: =F30*D30 -> #REF!
B31: =IF(C31="invalide","","bouchons de luzerne (t)") -> #REF! | C31: =IF(B6="","invalide",(#REF!+#REF!)/1000*SUM(Q2:Q26)) -> #REF! | D31: =IF(B6="",0,IF(C31-(#REF!)<0,0,C31-(#REF!))) -> #REF! | G31: =F31*D31 -> #REF!
B32: =IF(C32="invalide","","ration bisons (t)") -> #REF! | C32: =IF(B6="","invalide",#REF!/42*42) -> #REF! | D32: =IF(B6="",0,IF(C32-(#REF!)<0,0,C32-(#REF!))) -> #REF! | G32: =F32*D32 -> #REF!
B33: =IF(C33="invalide","","ration daims (t)") -> #REF! | C33: =IF(B6="","invalide",#REF!/42*42) -> #REF! | D33: =IF(B6="",0,IF(C33-(#REF!)<0,0,C33-(#REF!))) -> #REF! | G33: =F33*D33 -> #REF!
B34: =IF(C34="invalide","","ration hivernale bovins (t)") -> #REF! | C34: =IF(B6="","invalide",IF(SUM(#REF!)=0,0,#REF!/35*35)) -> #REF! | D34: =IF(B9="",0,IF(C34-(#REF!)<0,0,C34-(#REF!))) -> #N/A | G34: =F34*D34 -> #N/A
B35: =IF(C35="invalide","","ration hivernale ovins (t)") -> #REF! | C35: =IF(B6="","invalide",IF(SUM(#REF!)=0,0,#REF!/35*35)) -> #REF! | D35: =IF(B10="",0,IF(C35-(#REF!)<0,0,C35-(#REF!))) -> #N/A | G35: =F35*D35 -> #N/A
B36: =IF(C36="invalide","","ration hivernale chevaux de selle (t)") -> #REF! | C36: =IF(B6="","invalide",IF(SUM(#REF!)=0,0,#REF!/21*21)) -> #REF! | D36: =IF(B11="",0,IF(C36-(#REF!)<0,0,C36-(#REF!))) -> #N/A | G36: =F36*D36 -> #N/A
B37: =IF(C37="invalide","","ration hivernale chevaux de trait (t)") -> #REF! | C37: =IF(B6="","invalide",IF(SUM(#REF!)=0,0,#REF!/21*21)) -> #REF! | D37: =IF(B12="",0,IF(C37-(#REF!)<0,0,C37-(#REF!))) -> #N/A | G37: =F37*D37 -> #N/A
B38: =IF(C38="invalide","","ration hivernale poneys (t)") -> #REF! | C38: =IF(B6="","invalide",IF(SUM(#REF!)=0,0,#REF!/21*21)) -> #REF! | D38: =IF(B13="",0,IF(C38-(#REF!)<0,0,C38-(#REF!))) -> #N/A | G38: =F38*D38 -> #N/A
