Workbook
Name Dates: '2018'!#REF!
Name Personnes: '2018'!$A$2:$A$9

Sheet 2018
A1: Client | B1: CA
A2: DUPONT | B2: 23 | C2: =A2&B2 -> DUPONT23 | D2: =IFERROR(IF(VLOOKUP(C2,'2019'!$C$2:$C$10,1,0)=C2,1,0),"") -> 1
A3: DURANT | B3: 30 | C3: =A3&B3 -> DURANT30 | D3: =IFERROR(IF(VLOOKUP(C3,'2019'!$C$2:$C$10,1,0)=C3,1,0),"")
A4: FABIEN | B4: 32 | C4: =A4&B4 -> FABIEN 32 | D4: =IFERROR(IF(VLOOKUP(C4,'2019'!$C$2:$C$10,1,0)=C4,1,0),"")
A5: CHRISTOPHE | B5: 6 | C5: =A5&B5 -> CHRISTOPHE6 | D5: =IFERROR(IF(VLOOKUP(C5,'2019'!$C$2:$C$10,1,0)=C5,1,0),"")
A6: DAVID | B6: 12 | C6: =A6&B6 -> DAVID 12 | D6: =IFERROR(IF(VLOOKUP(C6,'2019'!$C$2:$C$10,1,0)=C6,1,0),"")
A7: JOSUE | B7: 23 | C7: =A7&B7 -> JOSUE 23 | D7: =IFERROR(IF(VLOOKUP(C7,'2019'!$C$2:$C$10,1,0)=C7,1,0),"")
A8: HERVE | B8: 18 | C8: =A8&B8 -> HERVE18 | D8: =IFERROR(IF(VLOOKUP(C8,'2019'!$C$2:$C$10,1,0)=C8,1,0),"")
A9: VERO | B9: 40 | C9: =A9&B9 -> VERO40 | D9: =IFERROR(IF(VLOOKUP(C9,'2019'!$C$2:$C$10,1,0)=C9,1,0),"")

Sheet 2019
A1: Client | B1: CA
A2: DUPONT | B2: 23 | C2: =A2&B2 -> DUPONT23 | D2: =IFERROR(IF(VLOOKUP(C2,'2018'!$C$2:$C$9,1,0)=C2,1,0),"") -> 1
A3: DURANT | B3: 25 | C3: =A3&B3 -> DURANT25 | D3: =IFERROR(IF(VLOOKUP(C3,'2018'!$C$2:$C$9,1,0)=C3,1,0),"")
A4: CHRISTOPHE | B4: 12 | C4: =A4&B4 -> CHRISTOPHE12 | D4: =IFERROR(IF(VLOOKUP(C4,'2018'!$C$2:$C$9,1,0)=C4,1,0),"")
A5: DAVID | B5: 8 | C5: =A5&B5 -> DAVID 8 | D5: =IFERROR(IF(VLOOKUP(C5,'2018'!$C$2:$C$9,1,0)=C5,1,0),"")
A6: JOSUE | B6: 19 | C6: =A6&B6 -> JOSUE 19 | D6: =IFERROR(IF(VLOOKUP(C6,'2018'!$C$2:$C$9,1,0)=C6,1,0),"")
A7: LILIAN | B7: 85 | C7: =A7&B7 -> LILIAN85 | D7: =IFERROR(IF(VLOOKUP(C7,'2018'!$C$2:$C$9,1,0)=C7,1,0),"")
A8: HERVE | B8: 37 | C8: =A8&B8 -> HERVE37 | D8: =IFERROR(IF(VLOOKUP(C8,'2018'!$C$2:$C$9,1,0)=C8,1,0),"")
A9: JOSE | B9: 51
A10: VERO | B10: 53 | C10: =A10&B10 -> VERO53 | D10: =IFERROR(IF(VLOOKUP(C10,'2018'!$C$2:$C$9,1,0)=C10,1,0),"")

Sheet Synthèse
A1: clients | B1: synthèse
A2: DUPONT | B2: =IF(COUNTIF('2019'!A$2:A$10,A2)=0,VLOOKUP(A2,'2018'!A$2:B$10,2,FALSE),IF(COUNTIF('2018'!A$2:A$10,A2)=0,VLOOKUP(A2,'2019'!A$2:B$10,2,FALSE),VLOOKUP(A2,'2019'!A$2:B$10,2,FALSE)-VLOOKUP(A2,'2018'!A$2:B$10,2,FALSE))) -> 0
A3: DURANT | B3: =IF(COUNTIF('2019'!A$2:A$10,A3)=0,VLOOKUP(A3,'2018'!A$2:B$10,2,FALSE),IF(COUNTIF('2018'!A$2:A$10,A3)=0,VLOOKUP(A3,'2019'!A$2:B$10,2,FALSE),VLOOKUP(A3,'2019'!A$2:B$10,2,FALSE)-VLOOKUP(A3,'2018'!A$2:B$10,2,FALSE))) -> -5
A4: FABIEN | B4: =IF(COUNTIF('2019'!A$2:A$10,A4)=0,VLOOKUP(A4,'2018'!A$2:B$10,2,FALSE),IF(COUNTIF('2018'!A$2:A$10,A4)=0,VLOOKUP(A4,'2019'!A$2:B$10,2,FALSE),VLOOKUP(A4,'2019'!A$2:B$10,2,FALSE)-VLOOKUP(A4,'2018'!A$2:B$10,2,FALSE))) -> 32
A5: CHRISTOPHE | B5: =IF(COUNTIF('2019'!A$2:A$10,A5)=0,VLOOKUP(A5,'2018'!A$2:B$10,2,FALSE),IF(COUNTIF('2018'!A$2:A$10,A5)=0,VLOOKUP(A5,'2019'!A$2:B$10,2,FALSE),VLOOKUP(A5,'2019'!A$2:B$10,2,FALSE)-VLOOKUP(A5,'2018'!A$2:B$10,2,FALSE))) -> 6
A6: DAVID | B6: =IF(COUNTIF('2019'!A$2:A$10,A6)=0,VLOOKUP(A6,'2018'!A$2:B$10,2,FALSE),IF(COUNTIF('2018'!A$2:A$10,A6)=0,VLOOKUP(A6,'2019'!A$2:B$10,2,FALSE),VLOOKUP(A6,'2019'!A$2:B$10,2,FALSE)-VLOOKUP(A6,'2018'!A$2:B$10,2,FALSE))) -> -4
A7: JOSUE | B7: =IF(COUNTIF('2019'!A$2:A$10,A7)=0,VLOOKUP(A7,'2018'!A$2:B$10,2,FALSE),IF(COUNTIF('2018'!A$2:A$10,A7)=0,VLOOKUP(A7,'2019'!A$2:B$10,2,FALSE),VLOOKUP(A7,'2019'!A$2:B$10,2,FALSE)-VLOOKUP(A7,'2018'!A$2:B$10,2,FALSE))) -> -4
A8: HERVE | B8: =IF(COUNTIF('2019'!A$2:A$10,A8)=0,VLOOKUP(A8,'2018'!A$2:B$10,2,FALSE),IF(COUNTIF('2018'!A$2:A$10,A8)=0,VLOOKUP(A8,'2019'!A$2:B$10,2,FALSE),VLOOKUP(A8,'2019'!A$2:B$10,2,FALSE)-VLOOKUP(A8,'2018'!A$2:B$10,2,FALSE))) -> 19
A9: VERO | B9: =IF(COUNTIF('2019'!A$2:A$10,A9)=0,VLOOKUP(A9,'2018'!A$2:B$10,2,FALSE),IF(COUNTIF('2018'!A$2:A$10,A9)=0,VLOOKUP(A9,'2019'!A$2:B$10,2,FALSE),VLOOKUP(A9,'2019'!A$2:B$10,2,FALSE)-VLOOKUP(A9,'2018'!A$2:B$10,2,FALSE))) -> 13
A10: LILIAN | B10: =IF(COUNTIF('2019'!A$2:A$10,A10)=0,VLOOKUP(A10,'2018'!A$2:B$10,2,FALSE),IF(COUNTIF('2018'!A$2:A$10,A10)=0,VLOOKUP(A10,'2019'!A$2:B$10,2,FALSE),VLOOKUP(A10,'2019'!A$2:B$10,2,FALSE)-VLOOKUP(A10,'2018'!A$2:B$10,2,FALSE))) -> 85
A11: JOSE | B11: =IF(COUNTIF('2019'!A$2:A$10,A11)=0,VLOOKUP(A11,'2018'!A$2:B$10,2,FALSE),IF(COUNTIF('2018'!A$2:A$10,A11)=0,VLOOKUP(A11,'2019'!A$2:B$10,2,FALSE),VLOOKUP(A11,'2019'!A$2:B$10,2,FALSE)-VLOOKUP(A11,'2018'!A$2:B$10,2,FALSE))) -> 51
