Workbook

Sheet BDD
D1: 2017 | E1: 2017 | F1: 2017 | G1: 2017 | H1: 2017 | I1: 2017 | J1: 2017 | K1: 2017 | L1: 2017 | M1: 2017 | N1: 2017 | O1: 2017 | P1: 2017 | Q1: 2017 | R1: 2017 | S1: 2017 | T1: 2017 | U1: 2017 | V1: 2017 | W1: 2017 | X1: 2017 | Y1: 2017 | Z1: 2017 | AA1: 2017 | AB1: 2017 | AC1: 2017
D2: JAN | E2: FEB | F2: MAR | G2: APR | H2: MAY | I2: JUN | J2: JUL | K2: AUG | L2: SEPT | M2: OCT | N2: NOV | O2: DEC | P2: FY | Q2: JAN | R2: FEB | S2: MAR | T2: APR | U2: MAY | V2: JUN | W2: JUL | X2: AUG | Y2: SEPT | Z2: OCT | AA2: NOV | AB2: DEC | AC2: FY
A3: ENTITY | B3: BU | C3: Produit | D3: VOLUMES | E3: VOLUMES | F3: VOLUMES | G3: VOLUMES | H3: VOLUMES | I3: VOLUMES | J3: VOLUMES | K3: VOLUMES | L3: VOLUMES | M3: VOLUMES | N3: VOLUMES | O3: VOLUMES | P3: VOLUMES | Q3: SALES | R3: SALES | S3: SALES | T3: SALES | U3: SALES | V3: SALES | W3: SALES | X3: SALES | Y3: SALES | Z3: SALES | AA3: SALES | AB3: SALES | AC3: SALES
A4: A | B4: BU 1 | C4: Produit 1 | D4: 257895.71 | E4: 197026.63 | F4: 247191.34 | G4: 227484.41 | H4: 237289.69 | I4: 240523.16 | J4: 237884.43 | K4: 167294.56 | L4: 229071.9 | M4: 262750.7 | N4: 252007.65 | O4: 278478.35 | P4: =SUM(D4:O4) -> 2834898.5 | Q4: =D4*2 -> 515791.43 | R4: =E4*2 -> 394053.26 | S4: =F4*2 -> 494382.69 | T4: =G4*2 -> 454968.82 | U4: =H4*2 -> 474579.37 | V4: =I4*2 -> 481046.33 | W4: =J4*2 -> 475768.87 | X4: =K4*2 -> 334589.11 | ... AB4: =O4*2 -> 556956.7 | AC4: =SUM(Q4:AB4) -> 5669797.1
A5: A | B5: BU 1 | C5: Produit 2 | D5: 225351.57 | E5: 161989.82 | F5: 215128.17 | G5: 202104.84 | H5: 205489.66 | I5: 221537.41 | J5: 205990.47 | K5: 163363.41 | L5: 211171.87 | M5: 238817.5 | N5: 217307.23 | O5: 206504.36 | P5: =SUM(D5:O5) -> 2474756.3 | Q5: =D5*2.2 -> 495773.45 | R5: =E5*2.2 -> 356377.6 | S5: =F5*2.2 -> 473281.97 | T5: =G5*2.2 -> 444630.66 | U5: =H5*2.2 -> 452077.25 | V5: =I5*2.2 -> 487382.31 | W5: =J5*2.2 -> 453179.04 | X5: =K5*2.2 -> 359399.51 | ... AB5: =O5*2.2 -> 454309.6 | AC5: =SUM(Q5:AB5) -> 5444463.9
A6: A | B6: BU 2 | C6: Produit 3 | D6: 121440.91 | E6: 96802.045 | F6: 121979.11 | G6: 116088.73 | H6: 113440.51 | I6: 127440.15 | J6: 119866.22 | K6: 84952.007 | L6: 113969.86 | M6: 132004.58 | N6: 108672.4 | O6: 134642.05 | P6: =SUM(D6:O6) -> 1391298.6 | Q6: =D6*1.5 -> 182161.36 | R6: =E6*1.5 -> 145203.07 | S6: =F6*1.5 -> 182968.67 | T6: =G6*1.5 -> 174133.09 | U6: =H6*1.5 -> 170160.77 | V6: =I6*1.5 -> 191160.22 | W6: =J6*1.5 -> 179799.33 | X6: =K6*1.5 -> 127428.01 | ... AB6: =O6*1.5 -> 201963.07 | AC6: =SUM(Q6:AB6) -> 2086947.8
A7: A | B7: BU 1 | C7: Produit 4 | D7: 116521.83 | E7: 102114.09 | F7: 123270.06 | G7: 107643.43 | H7: 112180.35 | I7: 121909.01 | J7: 115160.81 | K7: 107748.85 | L7: 113801.81 | M7: 118077.53 | N7: 117015.41 | O7: 125255.77 | P7: =SUM(D7:O7) -> 1380699 | Q7: =D7*1.33 -> 154974.04 | R7: =E7*1.33 -> 135811.74 | S7: =F7*1.33 -> 163949.18 | T7: =G7*1.33 -> 143165.76 | U7: =H7*1.33 -> 149199.86 | V7: =I7*1.33 -> 162138.99 | W7: =J7*1.33 -> 153163.87 | X7: =K7*1.33 -> 143305.97 | ... AB7: =O7*1.33 -> 166590.17 | AC7: =SUM(Q7:AB7) -> 1836329.6
A8: B | B8: BU 1 | C8: Produit 5 | D8: 0 | E8: 92810.388 | F8: 45624.903 | G8: 52627.072 | H8: 52762.824 | I8: 60980.522 | J8: 55383.615 | K8: 30191.304 | L8: 38427.744 | M8: 38603.217 | N8: 34048.418 | O8: 30767.871 | P8: =SUM(D8:O8) -> 532227.88 | Q8: =D8*2.56 -> 0 | R8: =E8*2.56 -> 237594.59 | S8: =F8*2.56 -> 116799.75 | T8: =G8*2.56 -> 134725.31 | U8: =H8*2.56 -> 135072.83 | V8: =I8*2.56 -> 156110.14 | W8: =J8*2.56 -> 141782.05 | X8: =K8*2.56 -> 77289.738 | ... AB8: =O8*2.56 -> 78765.749 | AC8: =SUM(Q8:AB8) -> 1362503.4
A9: B | B9: BU 2 | C9: Produit 6 | D9: 37992.363 | E9: 31040.8 | F9: 39173.32 | G9: 31300.011 | H9: 28285.914 | I9: 29130.491 | J9: 27179.911 | K9: 20387.883 | L9: 25348.436 | M9: 27514.873 | N9: 24762.947 | O9: 28406.169 | P9: =SUM(D9:O9) -> 350523.12 | Q9: =D9*1.28 -> 48630.224 | R9: =E9*1.28 -> 39732.224 | S9: =F9*1.28 -> 50141.849 | T9: =G9*1.28 -> 40064.014 | U9: =H9*1.28 -> 36205.97 | V9: =I9*1.28 -> 37287.029 | W9: =J9*1.28 -> 34790.287 | X9: =K9*1.28 -> 26096.491 | ... AB9: =O9*1.28 -> 36359.896 | AC9: =SUM(Q9:AB9) -> 448669.59
A10: B | B10: BU 2 | C10: Produit 7 | D10: 21780.254 | E10: 18994.362 | F10: 25009.571 | G10: 22922.952 | H10: 22391.05 | I10: 26471.986 | J10: 25175.504 | K10: 16629.307 | L10: 25286.475 | M10: 27286.343 | N10: 25899.384 | O10: 24978.936 | P10: =SUM(D10:O10) -> 282826.12 | Q10: =D10*1.98 -> 43124.903 | R10: =E10*1.98 -> 37608.836 | S10: =F10*1.98 -> 49518.95 | T10: =G10*1.98 -> 45387.445 | U10: =H10*1.98 -> 44334.278 | V10: =I10*1.98 -> 52414.532 | W10: =J10*1.98 -> 49847.499 | X10: =K10*1.98 -> 32926.028 | ... AB10: =O10*1.98 -> 49458.293 | AC10: =SUM(Q10:AB10) -> 559995.73
A11: B | B11: BU 2 | C11: Produit 8 | D11: 17495.528 | E11: 15684.25 | F11: 19945.256 | G11: 18306.335 | H11: 18487.68 | I11: 20025.337 | J11: 18668.138 | K11: 14054.762 | L11: 18222.034 | M11: 19042.846 | N11: 19256.459 | O11: 20798.212 | P11: =SUM(D11:O11) -> 219986.84 | Q11: =D11*2.36 -> 41289.445 | R11: =E11*2.36 -> 37014.829 | S11: =F11*2.36 -> 47070.804 | T11: =G11*2.36 -> 43202.95 | U11: =H11*2.36 -> 43630.925 | V11: =I11*2.36 -> 47259.794 | W11: =J11*2.36 -> 44056.807 | X11: =K11*2.36 -> 33169.238 | ... AB11: =O11*2.36 -> 49083.781 | AC11: =SUM(Q11:AB11) -> 519168.93
A12: B | B12: BU 1 | C12: Produit 9 | D12: 12863.244 | E12: 11176.646 | F12: 12699.668 | G12: 12540.022 | H12: 12912.494 | I12: 14241.472 | J12: 13261.663 | K12: 8383.3776 | L12: 14047.083 | M12: 13491.61 | N12: 12682.76 | O12: 14239.827 | P12: =SUM(D12:O12) -> 152539.87 | Q12: =D12*1.89 -> 24311.531 | R12: =E12*1.89 -> 21123.862 | S12: =F12*1.89 -> 24002.372 | T12: =G12*1.89 -> 23700.642 | U12: =H12*1.89 -> 24404.613 | V12: =I12*1.89 -> 26916.382 | W12: =J12*1.89 -> 25064.544 | X12: =K12*1.89 -> 15844.584 | ... AB12: =O12*1.89 -> 26913.272 | AC12: =SUM(Q12:AB12) -> 288300.35
A13: B | B13: BU 1 | C13: Produit 10 | D13: 16989.524 | E13: 12931.052 | F13: 18034.49 | G13: 16085.372 | H13: 16051.883 | I13: 16902.569 | J13: 17847.761 | K13: 13275.715 | L13: 17497.283 | M13: 18441.288 | N13: 16854.607 | O13: 17625.621 | P13: =SUM(D13:O13) -> 198537.17 | Q13: =D13*2.89 -> 49099.724 | R13: =E13*2.89 -> 37370.74 | S13: =F13*2.89 -> 52119.675 | T13: =G13*2.89 -> 46486.726 | U13: =H13*2.89 -> 46389.941 | V13: =I13*2.89 -> 48848.424 | W13: =J13*2.89 -> 51580.03 | X13: =K13*2.89 -> 38366.816 | ... AB13: =O13*2.89 -> 50938.046 | AC13: =SUM(Q13:AB13) -> 573772.41

Sheet Synthèse
A1: Récap | B1: MAR
A3: Entité | B3: BU | C3: VOLUMES | D3: SALES
A4: A | B4: BU 1 | C4: =SUMIFS(BDD!$F:$F,BDD!$A:$A,Synthèse!$A4,BDD!$B:$B,Synthèse!$B4) -> 585589.57 | D4: =SUMIFS(BDD!$S:$S,BDD!$A:$A,Synthèse!$A4,BDD!$B:$B,Synthèse!$B4) -> 1131613.8 | F4: =SUMPRODUCT((BDD!$D$2:$AC$2=Synthèse!$B$1)*(BDD!$A$4:$A$13=Synthèse!$A4)*(BDD!$B$4:$B$13=Synthèse!$B4)*(BDD!$D$3:$AC$3=Synthèse!$C$3)*(BDD!$D$4:$AC$13*1)) -> 585589.57 | G4: =SUMPRODUCT((BDD!$D$2:$AC$2=Synthèse!$B$1)*(BDD!$A$4:$A$13=Synthèse!$A4)*(BDD!$B$4:$B$13=Synthèse!$B4)*(BDD!$D$3:$AC$3=Synthèse!$D$3)*(BDD!$D$4:$AC$13*1)) -> 1131613.8
A5: A | B5: BU 2 | C5: =SUMIFS(BDD!$F:$F,BDD!$A:$A,Synthèse!$A5,BDD!$B:$B,Synthèse!$B5) -> 121979.11 | D5: =SUMIFS(BDD!$S:$S,BDD!$A:$A,Synthèse!$A5,BDD!$B:$B,Synthèse!$B5) -> 182968.67 | F5: =SUMPRODUCT((BDD!$D$2:$AC$2=Synthèse!$B$1)*(BDD!$A$4:$A$13=Synthèse!$A5)*(BDD!$B$4:$B$13=Synthèse!$B5)*(BDD!$D$3:$AC$3=Synthèse!$C$3)*(BDD!$D$4:$AC$13*1)) -> 121979.11 | G5: =SUMPRODUCT((BDD!$D$2:$AC$2=Synthèse!$B$1)*(BDD!$A$4:$A$13=Synthèse!$A5)*(BDD!$B$4:$B$13=Synthèse!$B5)*(BDD!$D$3:$AC$3=Synthèse!$D$3)*(BDD!$D$4:$AC$13*1)) -> 182968.67
A6: B | B6: BU 1 | C6: =SUMIFS(BDD!$F:$F,BDD!$A:$A,Synthèse!$A6,BDD!$B:$B,Synthèse!$B6) -> 76359.061 | D6: =SUMIFS(BDD!$S:$S,BDD!$A:$A,Synthèse!$A6,BDD!$B:$B,Synthèse!$B6) -> 192921.8 | F6: =SUMPRODUCT((BDD!$D$2:$AC$2=Synthèse!$B$1)*(BDD!$A$4:$A$13=Synthèse!$A6)*(BDD!$B$4:$B$13=Synthèse!$B6)*(BDD!$D$3:$AC$3=Synthèse!$C$3)*(BDD!$D$4:$AC$13*1)) -> 76359.061 | G6: =SUMPRODUCT((BDD!$D$2:$AC$2=Synthèse!$B$1)*(BDD!$A$4:$A$13=Synthèse!$A6)*(BDD!$B$4:$B$13=Synthèse!$B6)*(BDD!$D$3:$AC$3=Synthèse!$D$3)*(BDD!$D$4:$AC$13*1)) -> 192921.8
A7: B | B7: BU 2 | C7: =SUMIFS(BDD!$F:$F,BDD!$A:$A,Synthèse!$A7,BDD!$B:$B,Synthèse!$B7) -> 84128.146 | D7: =SUMIFS(BDD!$S:$S,BDD!$A:$A,Synthèse!$A7,BDD!$B:$B,Synthèse!$B7) -> 146731.6 | F7: =SUMPRODUCT((BDD!$D$2:$AC$2=Synthèse!$B$1)*(BDD!$A$4:$A$13=Synthèse!$A7)*(BDD!$B$4:$B$13=Synthèse!$B7)*(BDD!$D$3:$AC$3=Synthèse!$C$3)*(BDD!$D$4:$AC$13*1)) -> 84128.146 | G7: =SUMPRODUCT((BDD!$D$2:$AC$2=Synthèse!$B$1)*(BDD!$A$4:$A$13=Synthèse!$A7)*(BDD!$B$4:$B$13=Synthèse!$B7)*(BDD!$D$3:$AC$3=Synthèse!$D$3)*(BDD!$D$4:$AC$13*1)) -> 146731.6
A8: total | C8: =SUM(C4:C7) -> 868055.89 | D8: =SUM(D4:D7) -> 1654235.9
