Workbook
Name An: PARAM!$B$1
Name COM: PARAM!$R$11:$R$21
Name Paques: PARAM!$B$4
Name Services: PARAM!$A$11:$A$210
Name TYPE: PARAM!$T$11:$T$12

Sheet PARAM
A1: PARAMETRES | AA1: Nouvel An | AB1: =DATE(B3,1,1) -> 42370
AA2: L. Pâques | AB2: =IF(MOD(19*MOD(B3,19)+24,30)+MOD(2*MOD(B3,4)+4*MOD(B3,7)+6* MOD(19*MOD(B3,19)+24,30)+5,7)-9<=0,DATE(B3,3,22+MOD(19*MOD(B3, 19)+24,30)+MOD(2*MOD(B3,4)+4*MOD(B3,7)+6*MOD(19*MOD(B3,19)+24, 30)+5,7)),DATE(B3,4,MOD(19*MOD(B3,19)+24,30)+MOD(2*MOD(B3,4)+4* MOD(B3,7)+6*MOD(19*MOD(B3,19)+24,30)+5,7)-9))+1 -> 42457
A3: ANNEE | B3: 2016 | AA3: F. Travail | AB3: =DATE(B3,5,1) -> 42491
AA4: Ascension | AB4: =AB2+38 -> 42495
D5: 0.57986111 | E5: 0.23819444 | F5: =D5-E5 -> 0.34166667 | AA5: L. Pentecôte | AB5: =AB2+49 -> 42506
AA6: F. Nationale | AB6: =DATE(B3,7,21) -> 42572
A7: 1 | B7: 2 | C7: 3 | D7: 4 | E7: 5 | F7: 6 | G7: 7 | H7: 8 | I7: 9 | J7: 10 | K7: 11 | L7: 12 | M7: 13 | N7: 14 | O7: 15 | P7: 16 | AA7: Assomption | AB7: =DATE(B3,8,15) -> 42597
A8: GRILLE DES HORAIRES PAR SERVICES / JOURS | K8: GRILLE DES HORAIRES PAR SERVICES / JOURS - CONGES | AA8: Toussaint | AB8: =DATE(B3,11,1) -> 42675
A9: JOURS | B9: Lundi-Mardi-Jeudi-Vendredi | D9: Mercredi | F9: Samedi | H9: Dimanche | K9: Lundi-Mardi-Mercredi-Jeudi-Vendredi | M9: Samedi | O9: Dimanche | AA9: Armistice | AB9: =DATE(B3,11,11) -> 42685
A10: SERVICE | B10: DEBUT | C10: FIN | D10: DEBUT | E10: FIN | F10: DEBUT | G10: FIN | H10: DEBUT | I10: FIN | K10: DEBUT | L10: FIN | M10: DEBUT | N10: FIN | O10: DEBUT | P10: FIN | R10: Commentaires | T10: TYPE | AA10: Noël | AB10: =DATE(B3,12,25) -> 42729
A11: CAP (Mons) | B11: 0.33333333 | C11: 0.70833333 | D11: 0.33333333 | E11: 0.70833333 | K11: 0.33333333 | L11: 0.70833333 | R11: Matin | T11: F
A12: CC | R12: Après-midi | T12: C
A13: CF | B13: 0.33333333 | C13: 0.66666667 | D13: 0.33333333 | E13: 0.66666667 | F13: 0.33333333 | G13: 0.66666667 | K13: 0.33333333 | L13: 0.66666667 | M13: 0.33333333 | N13: 0.66666667 | R13: Payé double
A14: CR | R14: Payé triple
A15: Ecolage | B15: 0.33333333 | C15: 0.66666667 | D15: 0.33333333 | E15: 0.66666667 | K15: 0.33333333 | L15: 0.66666667 | R15: Malade
A16: Férié
A17: Grève
A18: Ma
A19: SU | B19: 0.33333333 | C19: 0.66666667 | D19: 0.33333333 | E19: 0.66666667 | K19: 0.33333333 | L19: 0.66666667
A20: VA
A22: 2501 | B22: 0.23819444 | C22: 0.57986111 | D22: 0.23819444 | E22: 0.57986111 | F22: 0.26388889 | G22: 0.57986111 | H22: 0.27986111 | I22: 0.53819444 | K22: 0.20763889 | L22: 0.53819444 | M22: 0.26388889 | N22: 0.57986111 | O22: 0.27986111 | P22: 0.53819444
A23: 2502 | B23: 0.20486111 | C23: 0.54097222 | D23: 0.20486111 | E23: 0.54097222 | F23: 0.27986111 | G23: 0.53819444 | H23: 0.24930556 | I23: 0.57916667 | K23: 0.24930556 | L23: 0.58263889 | M23: 0.27986111 | N23: 0.53819444 | O23: 0.24930556 | P23: 0.57916667
A24: 2503 | B24: 0.18958333 | C24: 0.53819444 | D24: 0.18958333 | E24: 0.53819444 | F24: 0.24930556 | G24: 0.58194444 | K24: 0.23472222 | L24: 0.54097222 | M24: 0.24930556 | N24: 0.58194444
A25: 2504 | B25: 0.21736111 | C25: 0.58263889 | D25: 0.21736111 | E25: 0.58263889 | F25: 0.27986111 | G25: 0.54027778 | K25: 0.23819444 | L25: 0.57986111 | M25: 0.27986111 | N25: 0.54027778
A26: 2510 | B26: 0.18472222 | C26: 0.57916667 | D26: 0.18472222 | E26: 0.56875 | F26: 0.22430556 | G26: 0.53541667 | H26: 0.27152778 | I26: 0.57916667 | K26: 0.1875 | L26: 0.47361111 | M26: 0.22430556 | N26: 0.53541667 | O26: 0.27152778 | P26: 0.57916667
A27: 2511 | B27: 0.25347222 | C27: 0.59861111 | D27: 0.25347222 | E27: 0.58611111 | F27: 0.26597222 | G27: 0.57708333 | K27: 0.21666667 | L27: 0.59861111 | M27: 0.26597222 | N27: 0.57708333
A28: 2518 | B28: 0.17708333 | C28: 0.5125 | D28: 0.17708333 | E28: 0.5125 | K28: 0.22916667 | L28: 0.56458333
A29: 2520 | B29: 0.25763889 | C29: 0.59513889 | D29: 0.25763889 | E29: 0.59513889 | F29: 0.24097222 | G29: 0.55902778 | H29: 0.29166667 | I29: 0.61041667 | K29: 0.20833333 | L29: 0.55347222 | M29: 0.24097222 | N29: 0.55902778 | O29: 0.29166667 | P29: 0.61041667
A30: 2521 | B30: 0.18125 | C30: 0.53680556 | D30: 0.18125 | E30: 0.53680556 | F30: 0.23958333 | G30: 0.57430556 | K30: 0.18541667 | L30: 0.52847222 | M30: 0.23958333 | N30: 0.57430556
A31: 2522 | B31: 0.27986111 | C31: 0.62708333 | D31: 0.27986111 | E31: 0.62708333
A32: 2523 | B32: 0.23125 | C32: 0.58611111 | D32: 0.23125 | E32: 0.58611111 | F32: 0.26319444 | G32: 0.59375 | K32: 0.27708333 | L32: 0.59166667 | M32: 0.26319444 | N32: 0.59375
A33: 2524 | B33: 0.20486111 | C33: 0.54097222 | D33: 0.20486111 | E33: 0.54861111 | F33: 0.25625 | G33: 0.55208333 | K33: 0.23541667 | L33: 0.57013889 | M33: 0.25625 | N33: 0.55208333
A34: 2525 | B34: 0.22986111 | C34: 0.59097222 | D34: 0.22986111 | E34: 0.57013889 | K34: 0.2125 | L34: 0.57013889
A35: 2526 | B35: 0.1875 | C35: 0.50625 | D35: 0.1875 | E35: 0.53125
A36: 2530 | B36: 0.1875 | C36: 0.58263889 | D36: 0.1875 | E36: 0.55694444 | F36: 0.26388889 | G36: 0.58055556 | K36: 0.18680556 | L36: 0.54930556 | M36: 0.26388889 | N36: 0.58055556
A37: 2531 | B37: 0.2125 | C37: 0.56875 | D37: 0.2125 | E37: 0.56875 | F37: 0.28263889 | G37: 0.57916667 | H37: 0.29930556 | I37: 0.59930556 | K37: 0.21319444 | L37: 0.54444444 | M37: 0.28263889 | N37: 0.57916667 | O37: 0.29930556 | P37: 0.59930556
A38: 2532 | B38: 0.22152778 | C38: 0.54791667 | D38: 0.22152778 | E38: 0.54791667 | F38: 0.21458333 | G38: 0.57291667 | K38: 0.22638889 | L38: 0.56875 | M38: 0.21458333 | N38: 0.57291667
A39: 2533 | B39: 0.225 | C39: 0.58958333 | D39: 0.225 | E39: 0.58958333 | F39: 0.23819444 | G39: 0.56041667 | K39: 0.22777778 | L39: 0.60972222 | M39: 0.23819444 | N39: 0.56041667
A40: 2534 | B40: 0.24930556 | C40: 0.55833333 | D40: 0.24930556 | E40: 0.55833333 | K40: 0.25277778 | L40: 0.57013889
A41: 2535 | B41: 0.25625 | C41: 0.58472222 | D41: 0.25625 | E41: 0.58472222
...

Sheet 01
B1: PRESTATIONS DU MOIS DE : | D1: =DATE(PARAM!$B$3,RIGHT(CELL("nomfichier",D1),2),1) -> 42370
A2: Type | B2: Date | C2: Services | D2: H/Début | E2: H/Fin | F2: Nb heures | G2: Commentaires
B3: =DATE(PARAM!$B$3,1,1) -> 42370 | D3: =IFERROR(IF($A3="",VLOOKUP($C3,PARAM!$A$11:$I$210,CHOOSE(WEEKDAY($B3,2),2,2,4,2,2,6,8),FALSE),VLOOKUP($C3,PARAM!$A$11:$P$210,CHOOSE(WEEKDAY($B3,2),11,11,11,11,11,13,15),FALSE)),0) -> 0 | E3: =IFERROR(IF($A3="",VLOOKUP($C3,PARAM!$A$11:$I$210,CHOOSE(WEEKDAY($B3,2),3,3,5,3,3,7,9),FALSE),VLOOKUP($C3,PARAM!$A$11:$P$210,CHOOSE(WEEKDAY($B3,2),12,12,12,12,12,14,16),FALSE)),0) -> 0 | F3: =SUM(E3-D3) -> 0
B4: =B3+1 -> 42371 | D4: =IFERROR(IF($A4="",VLOOKUP($C4,PARAM!$A$11:$I$210,CHOOSE(WEEKDAY($B4,2),2,2,4,2,2,6,8),FALSE),VLOOKUP($C4,PARAM!$A$11:$P$210,CHOOSE(WEEKDAY($B4,2),11,11,11,11,11,13,15),FALSE)),0) -> 0 | E4: =IFERROR(IF($A4="",VLOOKUP($C4,PARAM!$A$11:$I$210,CHOOSE(WEEKDAY($B4,2),3,3,5,3,3,7,9),FALSE),VLOOKUP($C4,PARAM!$A$11:$P$210,CHOOSE(WEEKDAY($B4,2),12,12,12,12,12,14,16),FALSE)),0) -> 0 | F4: =SUM(E4-D4) -> 0
B5: =B4+1 -> 42372 | D5: =IFERROR(IF($A5="",VLOOKUP($C5,PARAM!$A$11:$I$210,CHOOSE(WEEKDAY($B5,2),2,2,4,2,2,6,8),FALSE),VLOOKUP($C5,PARAM!$A$11:$P$210,CHOOSE(WEEKDAY($B5,2),11,11,11,11,11,13,15),FALSE)),0) -> 0 | E5: =IFERROR(IF($A5="",VLOOKUP($C5,PARAM!$A$11:$I$210,CHOOSE(WEEKDAY($B5,2),3,3,5,3,3,7,9),FALSE),VLOOKUP($C5,PARAM!$A$11:$P$210,CHOOSE(WEEKDAY($B5,2),12,12,12,12,12,14,16),FALSE)),0) -> 0 | F5: =SUM(E5-D5) -> 0
B6: =B5+1 -> 42373 | D6: =IFERROR(IF($A6="",VLOOKUP($C6,PARAM!$A$11:$I$210,CHOOSE(WEEKDAY($B6,2),2,2,4,2,2,6,8),FALSE),VLOOKUP($C6,PARAM!$A$11:$P$210,CHOOSE(WEEKDAY($B6,2),11,11,11,11,11,13,15),FALSE)),0) -> 0 | E6: =IFERROR(IF($A6="",VLOOKUP($C6,PARAM!$A$11:$I$210,CHOOSE(WEEKDAY($B6,2),3,3,5,3,3,7,9),FALSE),VLOOKUP($C6,PARAM!$A$11:$P$210,CHOOSE(WEEKDAY($B6,2),12,12,12,12,12,14,16),FALSE)),0) -> 0 | F6: =SUM(E6-D6) -> 0
B7: =B6+1 -> 42374 | D7: =IFERROR(IF($A7="",VLOOKUP($C7,PARAM!$A$11:$I$210,CHOOSE(WEEKDAY($B7,2),2,2,4,2,2,6,8),FALSE),VLOOKUP($C7,PARAM!$A$11:$P$210,CHOOSE(WEEKDAY($B7,2),11,11,11,11,11,13,15),FALSE)),0) -> 0 | E7: =IFERROR(IF($A7="",VLOOKUP($C7,PARAM!$A$11:$I$210,CHOOSE(WEEKDAY($B7,2),3,3,5,3,3,7,9),FALSE),VLOOKUP($C7,PARAM!$A$11:$P$210,CHOOSE(WEEKDAY($B7,2),12,12,12,12,12,14,16),FALSE)),0) -> 0 | F7: =SUM(E7-D7) -> 0
B8: =B7+1 -> 42375 | D8: =IFERROR(IF($A8="",VLOOKUP($C8,PARAM!$A$11:$I$210,CHOOSE(WEEKDAY($B8,2),2,2,4,2,2,6,8),FALSE),VLOOKUP($C8,PARAM!$A$11:$P$210,CHOOSE(WEEKDAY($B8,2),11,11,11,11,11,13,15),FALSE)),0) -> 0 | E8: =IFERROR(IF($A8="",VLOOKUP($C8,PARAM!$A$11:$I$210,CHOOSE(WEEKDAY($B8,2),3,3,5,3,3,7,9),FALSE),VLOOKUP($C8,PARAM!$A$11:$P$210,CHOOSE(WEEKDAY($B8,2),12,12,12,12,12,14,16),FALSE)),0) -> 0 | F8: =SUM(E8-D8) -> 0
B9: =B8+1 -> 42376 | D9: =IFERROR(IF($A9="",VLOOKUP($C9,PARAM!$A$11:$I$210,CHOOSE(WEEKDAY($B9,2),2,2,4,2,2,6,8),FALSE),VLOOKUP($C9,PARAM!$A$11:$P$210,CHOOSE(WEEKDAY($B9,2),11,11,11,11,11,13,15),FALSE)),0) -> 0 | E9: =IFERROR(IF($A9="",VLOOKUP($C9,PARAM!$A$11:$I$210,CHOOSE(WEEKDAY($B9,2),3,3,5,3,3,7,9),FALSE),VLOOKUP($C9,PARAM!$A$11:$P$210,CHOOSE(WEEKDAY($B9,2),12,12,12,12,12,14,16),FALSE)),0) -> 0 | F9: =SUM(E9-D9) -> 0
B10: =B9+1 -> 42377 | D10: =IFERROR(IF($A10="",VLOOKUP($C10,PARAM!$A$11:$I$210,CHOOSE(WEEKDAY($B10,2),2,2,4,2,2,6,8),FALSE),VLOOKUP($C10,PARAM!$A$11:$P$210,CHOOSE(WEEKDAY($B10,2),11,11,11,11,11,13,15),FALSE)),0) -> 0 | E10: =IFERROR(IF($A10="",VLOOKUP($C10,PARAM!$A$11:$I$210,CHOOSE(WEEKDAY($B10,2),3,3,5,3,3,7,9),FALSE),VLOOKUP($C10,PARAM!$A$11:$P$210,CHOOSE(WEEKDAY($B10,2),12,12,12,12,12,14,16),FALSE)),0) -> 0 | F10: =SUM(E10-D10) -> 0
B11: =B10+1 -> 42378 | D11: =IFERROR(IF($A11="",VLOOKUP($C11,PARAM!$A$11:$I$210,CHOOSE(WEEKDAY($B11,2),2,2,4,2,2,6,8),FALSE),VLOOKUP($C11,PARAM!$A$11:$P$210,CHOOSE(WEEKDAY($B11,2),11,11,11,11,11,13,15),FALSE)),0) -> 0 | E11: =IFERROR(IF($A11="",VLOOKUP($C11,PARAM!$A$11:$I$210,CHOOSE(WEEKDAY($B11,2),3,3,5,3,3,7,9),FALSE),VLOOKUP($C11,PARAM!$A$11:$P$210,CHOOSE(WEEKDAY($B11,2),12,12,12,12,12,14,16),FALSE)),0) -> 0 | F11: =SUM(E11-D11) -> 0
B12: =B11+1 -> 42379 | D12: =IFERROR(IF($A12="",VLOOKUP($C12,PARAM!$A$11:$I$210,CHOOSE(WEEKDAY($B12,2),2,2,4,2,2,6,8),FALSE),VLOOKUP($C12,PARAM!$A$11:$P$210,CHOOSE(WEEKDAY($B12,2),11,11,11,11,11,13,15),FALSE)),0) -> 0 | E12: =IFERROR(IF($A12="",VLOOKUP($C12,PARAM!$A$11:$I$210,CHOOSE(WEEKDAY($B12,2),3,3,5,3,3,7,9),FALSE),VLOOKUP($C12,PARAM!$A$11:$P$210,CHOOSE(WEEKDAY($B12,2),12,12,12,12,12,14,16),FALSE)),0) -> 0 | F12: =SUM(E12-D12) -> 0
B13: =B12+1 -> 42380 | D13: =IFERROR(IF($A13="",VLOOKUP($C13,PARAM!$A$11:$I$210,CHOOSE(WEEKDAY($B13,2),2,2,4,2,2,6,8),FALSE),VLOOKUP($C13,PARAM!$A$11:$P$210,CHOOSE(WEEKDAY($B13,2),11,11,11,11,11,13,15),FALSE)),0) -> 0 | E13: =IFERROR(IF($A13="",VLOOKUP($C13,PARAM!$A$11:$I$210,CHOOSE(WEEKDAY($B13,2),3,3,5,3,3,7,9),FALSE),VLOOKUP($C13,PARAM!$A$11:$P$210,CHOOSE(WEEKDAY($B13,2),12,12,12,12,12,14,16),FALSE)),0) -> 0 | F13: =SUM(E13-D13) -> 0
B14: =B13+1 -> 42381 | D14: =IFERROR(IF($A14="",VLOOKUP($C14,PARAM!$A$11:$I$210,CHOOSE(WEEKDAY($B14,2),2,2,4,2,2,6,8),FALSE),VLOOKUP($C14,PARAM!$A$11:$P$210,CHOOSE(WEEKDAY($B14,2),11,11,11,11,11,13,15),FALSE)),0) -> 0 | E14: =IFERROR(IF($A14="",VLOOKUP($C14,PARAM!$A$11:$I$210,CHOOSE(WEEKDAY($B14,2),3,3,5,3,3,7,9),FALSE),VLOOKUP($C14,PARAM!$A$11:$P$210,CHOOSE(WEEKDAY($B14,2),12,12,12,12,12,14,16),FALSE)),0) -> 0 | F14: =SUM(E14-D14) -> 0
B15: =B14+1 -> 42382 | D15: =IFERROR(IF($A15="",VLOOKUP($C15,PARAM!$A$11:$I$210,CHOOSE(WEEKDAY($B15,2),2,2,4,2,2,6,8),FALSE),VLOOKUP($C15,PARAM!$A$11:$P$210,CHOOSE(WEEKDAY($B15,2),11,11,11,11,11,13,15),FALSE)),0) -> 0 | E15: =IFERROR(IF($A15="",VLOOKUP($C15,PARAM!$A$11:$I$210,CHOOSE(WEEKDAY($B15,2),3,3,5,3,3,7,9),FALSE),VLOOKUP($C15,PARAM!$A$11:$P$210,CHOOSE(WEEKDAY($B15,2),12,12,12,12,12,14,16),FALSE)),0) -> 0 | F15: =SUM(E15-D15) -> 0
... B33: =B32+1 -> 42400 | D33: =IFERROR(IF($A33="",VLOOKUP($C33,PARAM!$A$11:$I$210,CHOOSE(WEEKDAY($B33,2),2,2,4,2,2,6,8),FALSE),VLOOKUP($C33,PARAM!$A$11:$P$210,CHOOSE(WEEKDAY($B33,2),11,11,11,11,11,13,15),FALSE)),0) -> 0 | E33: =IFERROR(IF($A33="",VLOOKUP($C33,PARAM!$A$11:$I$210,CHOOSE(WEEKDAY($B33,2),3,3,5,3,3,7,9),FALSE),VLOOKUP($C33,PARAM!$A$11:$P$210,CHOOSE(WEEKDAY($B33,2),12,12,12,12,12,14,16),FALSE)),0) -> 0 | F33: =SUM(E33-D33) -> 0
B34: Total | F34: =SUM(F3:F33) -> 0
F1048576: =SUM(F34) -> 0

Sheet 02
B1: PRESTATIONS DU MOIS DE : | D1: =DATE(PARAM!$B$3,RIGHT(CELL("nomfichier",D1),2),1) -> 42401
A2: Type | B2: Date | C2: Services | D2: H/Début | E2: H/Fin | F2: Nb heures | G2: Commentaires
B3: =DATE(PARAM!$B$3,RIGHT(CELL("nomfichier",D1),2),1) -> 42401 | D3: =IFERROR(IF($A3="",VLOOKUP($C3,PARAM!$A$11:$I$210,CHOOSE(WEEKDAY($B3,2),2,2,4,2,2,6,8),FALSE),VLOOKUP($C3,PARAM!$A$11:$P$210,CHOOSE(WEEKDAY($B3,2),11,11,11,11,11,13,15),FALSE)),0) -> 0 | E3: =IFERROR(IF($A3="",VLOOKUP($C3,PARAM!$A$11:$I$210,CHOOSE(WEEKDAY($B3,2),3,3,5,3,3,7,9),FALSE),VLOOKUP($C3,PARAM!$A$11:$P$210,CHOOSE(WEEKDAY($B3,2),12,12,12,12,12,14,16),FALSE)),0) -> 0 | F3: =SUM(E3-D3) -> 0
B4: =B3+1 -> 42402 | D4: =IFERROR(IF($A4="",VLOOKUP($C4,PARAM!$A$11:$I$210,CHOOSE(WEEKDAY($B4,2),2,2,4,2,2,6,8),FALSE),VLOOKUP($C4,PARAM!$A$11:$P$210,CHOOSE(WEEKDAY($B4,2),11,11,11,11,11,13,15),FALSE)),0) -> 0 | E4: =IFERROR(IF($A4="",VLOOKUP($C4,PARAM!$A$11:$I$210,CHOOSE(WEEKDAY($B4,2),3,3,5,3,3,7,9),FALSE),VLOOKUP($C4,PARAM!$A$11:$P$210,CHOOSE(WEEKDAY($B4,2),12,12,12,12,12,14,16),FALSE)),0) -> 0 | F4: =SUM(E4-D4) -> 0
B5: =B4+1 -> 42403 | D5: =IFERROR(IF($A5="",VLOOKUP($C5,PARAM!$A$11:$I$210,CHOOSE(WEEKDAY($B5,2),2,2,4,2,2,6,8),FALSE),VLOOKUP($C5,PARAM!$A$11:$P$210,CHOOSE(WEEKDAY($B5,2),11,11,11,11,11,13,15),FALSE)),0) -> 0 | E5: =IFERROR(IF($A5="",VLOOKUP($C5,PARAM!$A$11:$I$210,CHOOSE(WEEKDAY($B5,2),3,3,5,3,3,7,9),FALSE),VLOOKUP($C5,PARAM!$A$11:$P$210,CHOOSE(WEEKDAY($B5,2),12,12,12,12,12,14,16),FALSE)),0) -> 0 | F5: =SUM(E5-D5) -> 0
B6: =B5+1 -> 42404 | D6: =IFERROR(IF($A6="",VLOOKUP($C6,PARAM!$A$11:$I$210,CHOOSE(WEEKDAY($B6,2),2,2,4,2,2,6,8),FALSE),VLOOKUP($C6,PARAM!$A$11:$P$210,CHOOSE(WEEKDAY($B6,2),11,11,11,11,11,13,15),FALSE)),0) -> 0 | E6: =IFERROR(IF($A6="",VLOOKUP($C6,PARAM!$A$11:$I$210,CHOOSE(WEEKDAY($B6,2),3,3,5,3,3,7,9),FALSE),VLOOKUP($C6,PARAM!$A$11:$P$210,CHOOSE(WEEKDAY($B6,2),12,12,12,12,12,14,16),FALSE)),0) -> 0 | F6: =SUM(E6-D6) -> 0
B7: =B6+1 -> 42405 | D7: =IFERROR(IF($A7="",VLOOKUP($C7,PARAM!$A$11:$I$210,CHOOSE(WEEKDAY($B7,2),2,2,4,2,2,6,8),FALSE),VLOOKUP($C7,PARAM!$A$11:$P$210,CHOOSE(WEEKDAY($B7,2),11,11,11,11,11,13,15),FALSE)),0) -> 0 | E7: =IFERROR(IF($A7="",VLOOKUP($C7,PARAM!$A$11:$I$210,CHOOSE(WEEKDAY($B7,2),3,3,5,3,3,7,9),FALSE),VLOOKUP($C7,PARAM!$A$11:$P$210,CHOOSE(WEEKDAY($B7,2),12,12,12,12,12,14,16),FALSE)),0) -> 0 | F7: =SUM(E7-D7) -> 0
B8: =B7+1 -> 42406 | D8: =IFERROR(IF($A8="",VLOOKUP($C8,PARAM!$A$11:$I$210,CHOOSE(WEEKDAY($B8,2),2,2,4,2,2,6,8),FALSE),VLOOKUP($C8,PARAM!$A$11:$P$210,CHOOSE(WEEKDAY($B8,2),11,11,11,11,11,13,15),FALSE)),0) -> 0 | E8: =IFERROR(IF($A8="",VLOOKUP($C8,PARAM!$A$11:$I$210,CHOOSE(WEEKDAY($B8,2),3,3,5,3,3,7,9),FALSE),VLOOKUP($C8,PARAM!$A$11:$P$210,CHOOSE(WEEKDAY($B8,2),12,12,12,12,12,14,16),FALSE)),0) -> 0 | F8: =SUM(E8-D8) -> 0
B9: =B8+1 -> 42407 | D9: =IFERROR(IF($A9="",VLOOKUP($C9,PARAM!$A$11:$I$210,CHOOSE(WEEKDAY($B9,2),2,2,4,2,2,6,8),FALSE),VLOOKUP($C9,PARAM!$A$11:$P$210,CHOOSE(WEEKDAY($B9,2),11,11,11,11,11,13,15),FALSE)),0) -> 0 | E9: =IFERROR(IF($A9="",VLOOKUP($C9,PARAM!$A$11:$I$210,CHOOSE(WEEKDAY($B9,2),3,3,5,3,3,7,9),FALSE),VLOOKUP($C9,PARAM!$A$11:$P$210,CHOOSE(WEEKDAY($B9,2),12,12,12,12,12,14,16),FALSE)),0) -> 0 | F9: =SUM(E9-D9) -> 0
B10: =B9+1 -> 42408 | D10: =IFERROR(IF($A10="",VLOOKUP($C10,PARAM!$A$11:$I$210,CHOOSE(WEEKDAY($B10,2),2,2,4,2,2,6,8),FALSE),VLOOKUP($C10,PARAM!$A$11:$P$210,CHOOSE(WEEKDAY($B10,2),11,11,11,11,11,13,15),FALSE)),0) -> 0 | E10: =IFERROR(IF($A10="",VLOOKUP($C10,PARAM!$A$11:$I$210,CHOOSE(WEEKDAY($B10,2),3,3,5,3,3,7,9),FALSE),VLOOKUP($C10,PARAM!$A$11:$P$210,CHOOSE(WEEKDAY($B10,2),12,12,12,12,12,14,16),FALSE)),0) -> 0 | F10: =SUM(E10-D10) -> 0
B11: =B10+1 -> 42409 | D11: =IFERROR(IF($A11="",VLOOKUP($C11,PARAM!$A$11:$I$210,CHOOSE(WEEKDAY($B11,2),2,2,4,2,2,6,8),FALSE),VLOOKUP($C11,PARAM!$A$11:$P$210,CHOOSE(WEEKDAY($B11,2),11,11,11,11,11,13,15),FALSE)),0) -> 0 | E11: =IFERROR(IF($A11="",VLOOKUP($C11,PARAM!$A$11:$I$210,CHOOSE(WEEKDAY($B11,2),3,3,5,3,3,7,9),FALSE),VLOOKUP($C11,PARAM!$A$11:$P$210,CHOOSE(WEEKDAY($B11,2),12,12,12,12,12,14,16),FALSE)),0) -> 0 | F11: =SUM(E11-D11) -> 0
B12: =B11+1 -> 42410 | D12: =IFERROR(IF($A12="",VLOOKUP($C12,PARAM!$A$11:$I$210,CHOOSE(WEEKDAY($B12,2),2,2,4,2,2,6,8),FALSE),VLOOKUP($C12,PARAM!$A$11:$P$210,CHOOSE(WEEKDAY($B12,2),11,11,11,11,11,13,15),FALSE)),0) -> 0 | E12: =IFERROR(IF($A12="",VLOOKUP($C12,PARAM!$A$11:$I$210,CHOOSE(WEEKDAY($B12,2),3,3,5,3,3,7,9),FALSE),VLOOKUP($C12,PARAM!$A$11:$P$210,CHOOSE(WEEKDAY($B12,2),12,12,12,12,12,14,16),FALSE)),0) -> 0 | F12: =SUM(E12-D12) -> 0
B13: =B12+1 -> 42411 | D13: =IFERROR(IF($A13="",VLOOKUP($C13,PARAM!$A$11:$I$210,CHOOSE(WEEKDAY($B13,2),2,2,4,2,2,6,8),FALSE),VLOOKUP($C13,PARAM!$A$11:$P$210,CHOOSE(WEEKDAY($B13,2),11,11,11,11,11,13,15),FALSE)),0) -> 0 | E13: =IFERROR(IF($A13="",VLOOKUP($C13,PARAM!$A$11:$I$210,CHOOSE(WEEKDAY($B13,2),3,3,5,3,3,7,9),FALSE),VLOOKUP($C13,PARAM!$A$11:$P$210,CHOOSE(WEEKDAY($B13,2),12,12,12,12,12,14,16),FALSE)),0) -> 0 | F13: =SUM(E13-D13) -> 0
B14: =B13+1 -> 42412 | D14: =IFERROR(IF($A14="",VLOOKUP($C14,PARAM!$A$11:$I$210,CHOOSE(WEEKDAY($B14,2),2,2,4,2,2,6,8),FALSE),VLOOKUP($C14,PARAM!$A$11:$P$210,CHOOSE(WEEKDAY($B14,2),11,11,11,11,11,13,15),FALSE)),0) -> 0 | E14: =IFERROR(IF($A14="",VLOOKUP($C14,PARAM!$A$11:$I$210,CHOOSE(WEEKDAY($B14,2),3,3,5,3,3,7,9),FALSE),VLOOKUP($C14,PARAM!$A$11:$P$210,CHOOSE(WEEKDAY($B14,2),12,12,12,12,12,14,16),FALSE)),0) -> 0 | F14: =SUM(E14-D14) -> 0
B15: =B14+1 -> 42413 | D15: =IFERROR(IF($A15="",VLOOKUP($C15,PARAM!$A$11:$I$210,CHOOSE(WEEKDAY($B15,2),2,2,4,2,2,6,8),FALSE),VLOOKUP($C15,PARAM!$A$11:$P$210,CHOOSE(WEEKDAY($B15,2),11,11,11,11,11,13,15),FALSE)),0) -> 0 | E15: =IFERROR(IF($A15="",VLOOKUP($C15,PARAM!$A$11:$I$210,CHOOSE(WEEKDAY($B15,2),3,3,5,3,3,7,9),FALSE),VLOOKUP($C15,PARAM!$A$11:$P$210,CHOOSE(WEEKDAY($B15,2),12,12,12,12,12,14,16),FALSE)),0) -> 0 | F15: =SUM(E15-D15) -> 0
... B33: =B32+1 -> 42431 | D33: =IFERROR(IF($A33="",VLOOKUP($C33,PARAM!$A$11:$I$210,CHOOSE(WEEKDAY($B33,2),2,2,4,2,2,6,8),FALSE),VLOOKUP($C33,PARAM!$A$11:$P$210,CHOOSE(WEEKDAY($B33,2),11,11,11,11,11,13,15),FALSE)),0) -> 0 | E33: =IFERROR(IF($A33="",VLOOKUP($C33,PARAM!$A$11:$I$210,CHOOSE(WEEKDAY($B33,2),3,3,5,3,3,7,9),FALSE),VLOOKUP($C33,PARAM!$A$11:$P$210,CHOOSE(WEEKDAY($B33,2),12,12,12,12,12,14,16),FALSE)),0) -> 0 | F33: =SUM(E33-D33) -> 0
B34: Total | F34: =SUM(F3:F33) -> 0
F1048576: =SUM(F34) -> 0

Sheet 03
B1: PRESTATIONS DU MOIS DE : | D1: =DATE(PARAM!$B$3,RIGHT(CELL("nomfichier",D1),2),1) -> 42430
A2: Type | B2: Date | C2: Services | D2: H/Début | E2: H/Fin | F2: Nb heures | G2: Commentaires
B3: =DATE(PARAM!$B$3,RIGHT(CELL("nomfichier",D1),2),1) -> 42430 | D3: =IFERROR(IF($A3="",VLOOKUP($C3,PARAM!$A$11:$I$210,CHOOSE(WEEKDAY($B3,2),2,2,4,2,2,6,8),FALSE),VLOOKUP($C3,PARAM!$A$11:$P$210,CHOOSE(WEEKDAY($B3,2),11,11,11,11,11,13,15),FALSE)),0) -> 0 | E3: =IFERROR(IF($A3="",VLOOKUP($C3,PARAM!$A$11:$I$210,CHOOSE(WEEKDAY($B3,2),3,3,5,3,3,7,9),FALSE),VLOOKUP($C3,PARAM!$A$11:$P$210,CHOOSE(WEEKDAY($B3,2),12,12,12,12,12,14,16),FALSE)),0) -> 0 | F3: =SUM(E3-D3) -> 0 | H3: ='03'!H36 -> 0
B4: =B3+1 -> 42431 | D4: =IFERROR(IF($A4="",VLOOKUP($C4,PARAM!$A$11:$I$210,CHOOSE(WEEKDAY($B4,2),2,2,4,2,2,6,8),FALSE),VLOOKUP($C4,PARAM!$A$11:$P$210,CHOOSE(WEEKDAY($B4,2),11,11,11,11,11,13,15),FALSE)),0) -> 0 | E4: =IFERROR(IF($A4="",VLOOKUP($C4,PARAM!$A$11:$I$210,CHOOSE(WEEKDAY($B4,2),3,3,5,3,3,7,9),FALSE),VLOOKUP($C4,PARAM!$A$11:$P$210,CHOOSE(WEEKDAY($B4,2),12,12,12,12,12,14,16),FALSE)),0) -> 0 | F4: =SUM(E4-D4) -> 0
B5: =B4+1 -> 42432 | D5: =IFERROR(IF($A5="",VLOOKUP($C5,PARAM!$A$11:$I$210,CHOOSE(WEEKDAY($B5,2),2,2,4,2,2,6,8),FALSE),VLOOKUP($C5,PARAM!$A$11:$P$210,CHOOSE(WEEKDAY($B5,2),11,11,11,11,11,13,15),FALSE)),0) -> 0 | E5: =IFERROR(IF($A5="",VLOOKUP($C5,PARAM!$A$11:$I$210,CHOOSE(WEEKDAY($B5,2),3,3,5,3,3,7,9),FALSE),VLOOKUP($C5,PARAM!$A$11:$P$210,CHOOSE(WEEKDAY($B5,2),12,12,12,12,12,14,16),FALSE)),0) -> 0 | F5: =SUM(E5-D5) -> 0
B6: =B5+1 -> 42433 | D6: =IFERROR(IF($A6="",VLOOKUP($C6,PARAM!$A$11:$I$210,CHOOSE(WEEKDAY($B6,2),2,2,4,2,2,6,8),FALSE),VLOOKUP($C6,PARAM!$A$11:$P$210,CHOOSE(WEEKDAY($B6,2),11,11,11,11,11,13,15),FALSE)),0) -> 0 | E6: =IFERROR(IF($A6="",VLOOKUP($C6,PARAM!$A$11:$I$210,CHOOSE(WEEKDAY($B6,2),3,3,5,3,3,7,9),FALSE),VLOOKUP($C6,PARAM!$A$11:$P$210,CHOOSE(WEEKDAY($B6,2),12,12,12,12,12,14,16),FALSE)),0) -> 0 | F6: =SUM(E6-D6) -> 0
B7: =B6+1 -> 42434 | D7: =IFERROR(IF($A7="",VLOOKUP($C7,PARAM!$A$11:$I$210,CHOOSE(WEEKDAY($B7,2),2,2,4,2,2,6,8),FALSE),VLOOKUP($C7,PARAM!$A$11:$P$210,CHOOSE(WEEKDAY($B7,2),11,11,11,11,11,13,15),FALSE)),0) -> 0 | E7: =IFERROR(IF($A7="",VLOOKUP($C7,PARAM!$A$11:$I$210,CHOOSE(WEEKDAY($B7,2),3,3,5,3,3,7,9),FALSE),VLOOKUP($C7,PARAM!$A$11:$P$210,CHOOSE(WEEKDAY($B7,2),12,12,12,12,12,14,16),FALSE)),0) -> 0 | F7: =SUM(E7-D7) -> 0
B8: =B7+1 -> 42435 | D8: =IFERROR(IF($A8="",VLOOKUP($C8,PARAM!$A$11:$I$210,CHOOSE(WEEKDAY($B8,2),2,2,4,2,2,6,8),FALSE),VLOOKUP($C8,PARAM!$A$11:$P$210,CHOOSE(WEEKDAY($B8,2),11,11,11,11,11,13,15),FALSE)),0) -> 0 | E8: =IFERROR(IF($A8="",VLOOKUP($C8,PARAM!$A$11:$I$210,CHOOSE(WEEKDAY($B8,2),3,3,5,3,3,7,9),FALSE),VLOOKUP($C8,PARAM!$A$11:$P$210,CHOOSE(WEEKDAY($B8,2),12,12,12,12,12,14,16),FALSE)),0) -> 0 | F8: =SUM(E8-D8) -> 0
B9: =B8+1 -> 42436 | C9: Ecolage | D9: =IFERROR(IF($A9="",VLOOKUP($C9,PARAM!$A$11:$I$210,CHOOSE(WEEKDAY($B9,2),2,2,4,2,2,6,8),FALSE),VLOOKUP($C9,PARAM!$A$11:$P$210,CHOOSE(WEEKDAY($B9,2),11,11,11,11,11,13,15),FALSE)),0) -> 0.33333333 | E9: =IFERROR(IF($A9="",VLOOKUP($C9,PARAM!$A$11:$I$210,CHOOSE(WEEKDAY($B9,2),3,3,5,3,3,7,9),FALSE),VLOOKUP($C9,PARAM!$A$11:$P$210,CHOOSE(WEEKDAY($B9,2),12,12,12,12,12,14,16),FALSE)),0) -> 0.66666667 | F9: =SUM(E9-D9) -> 0.33333333 | G9: Matin
B10: =B9+1 -> 42437 | C10: Ecolage | D10: =IFERROR(IF($A10="",VLOOKUP($C10,PARAM!$A$11:$I$210,CHOOSE(WEEKDAY($B10,2),2,2,4,2,2,6,8),FALSE),VLOOKUP($C10,PARAM!$A$11:$P$210,CHOOSE(WEEKDAY($B10,2),11,11,11,11,11,13,15),FALSE)),0) -> 0.33333333 | E10: =IFERROR(IF($A10="",VLOOKUP($C10,PARAM!$A$11:$I$210,CHOOSE(WEEKDAY($B10,2),3,3,5,3,3,7,9),FALSE),VLOOKUP($C10,PARAM!$A$11:$P$210,CHOOSE(WEEKDAY($B10,2),12,12,12,12,12,14,16),FALSE)),0) -> 0.66666667 | F10: =SUM(E10-D10) -> 0.33333333 | G10: Matin
B11: =B10+1 -> 42438 | C11: Ecolage | D11: =IFERROR(IF($A11="",VLOOKUP($C11,PARAM!$A$11:$I$210,CHOOSE(WEEKDAY($B11,2),2,2,4,2,2,6,8),FALSE),VLOOKUP($C11,PARAM!$A$11:$P$210,CHOOSE(WEEKDAY($B11,2),11,11,11,11,11,13,15),FALSE)),0) -> 0.33333333 | E11: =IFERROR(IF($A11="",VLOOKUP($C11,PARAM!$A$11:$I$210,CHOOSE(WEEKDAY($B11,2),3,3,5,3,3,7,9),FALSE),VLOOKUP($C11,PARAM!$A$11:$P$210,CHOOSE(WEEKDAY($B11,2),12,12,12,12,12,14,16),FALSE)),0) -> 0.66666667 | F11: =SUM(E11-D11) -> 0.33333333 | G11: Matin
B12: =B11+1 -> 42439 | C12: Ecolage | D12: =IFERROR(IF($A12="",VLOOKUP($C12,PARAM!$A$11:$I$210,CHOOSE(WEEKDAY($B12,2),2,2,4,2,2,6,8),FALSE),VLOOKUP($C12,PARAM!$A$11:$P$210,CHOOSE(WEEKDAY($B12,2),11,11,11,11,11,13,15),FALSE)),0) -> 0.33333333 | E12: =IFERROR(IF($A12="",VLOOKUP($C12,PARAM!$A$11:$I$210,CHOOSE(WEEKDAY($B12,2),3,3,5,3,3,7,9),FALSE),VLOOKUP($C12,PARAM!$A$11:$P$210,CHOOSE(WEEKDAY($B12,2),12,12,12,12,12,14,16),FALSE)),0) -> 0.66666667 | F12: =SUM(E12-D12) -> 0.33333333 | G12: Matin
B13: =B12+1 -> 42440 | C13: Ecolage | D13: =IFERROR(IF($A13="",VLOOKUP($C13,PARAM!$A$11:$I$210,CHOOSE(WEEKDAY($B13,2),2,2,4,2,2,6,8),FALSE),VLOOKUP($C13,PARAM!$A$11:$P$210,CHOOSE(WEEKDAY($B13,2),11,11,11,11,11,13,15),FALSE)),0) -> 0.33333333 | E13: =IFERROR(IF($A13="",VLOOKUP($C13,PARAM!$A$11:$I$210,CHOOSE(WEEKDAY($B13,2),3,3,5,3,3,7,9),FALSE),VLOOKUP($C13,PARAM!$A$11:$P$210,CHOOSE(WEEKDAY($B13,2),12,12,12,12,12,14,16),FALSE)),0) -> 0.66666667 | F13: =SUM(E13-D13) -> 0.33333333 | G13: Matin
B14: =B13+1 -> 42441 | C14: CC | D14: =IFERROR(IF($A14="",VLOOKUP($C14,PARAM!$A$11:$I$210,CHOOSE(WEEKDAY($B14,2),2,2,4,2,2,6,8),FALSE),VLOOKUP($C14,PARAM!$A$11:$P$210,CHOOSE(WEEKDAY($B14,2),11,11,11,11,11,13,15),FALSE)),0) -> 0 | E14: =IFERROR(IF($A14="",VLOOKUP($C14,PARAM!$A$11:$I$210,CHOOSE(WEEKDAY($B14,2),3,3,5,3,3,7,9),FALSE),VLOOKUP($C14,PARAM!$A$11:$P$210,CHOOSE(WEEKDAY($B14,2),12,12,12,12,12,14,16),FALSE)),0) -> 0 | F14: =SUM(E14-D14) -> 0
B15: =B14+1 -> 42442 | C15: CR | D15: =IFERROR(IF($A15="",VLOOKUP($C15,PARAM!$A$11:$I$210,CHOOSE(WEEKDAY($B15,2),2,2,4,2,2,6,8),FALSE),VLOOKUP($C15,PARAM!$A$11:$P$210,CHOOSE(WEEKDAY($B15,2),11,11,11,11,11,13,15),FALSE)),0) -> 0 | E15: =IFERROR(IF($A15="",VLOOKUP($C15,PARAM!$A$11:$I$210,CHOOSE(WEEKDAY($B15,2),3,3,5,3,3,7,9),FALSE),VLOOKUP($C15,PARAM!$A$11:$P$210,CHOOSE(WEEKDAY($B15,2),12,12,12,12,12,14,16),FALSE)),0) -> 0 | F15: =SUM(E15-D15) -> 0
B16: =B15+1 -> 42443 | C16: Ecolage | D16: =IFERROR(IF($A16="",VLOOKUP($C16,PARAM!$A$11:$I$210,CHOOSE(WEEKDAY($B16,2),2,2,4,2,2,6,8),FALSE),VLOOKUP($C16,PARAM!$A$11:$P$210,CHOOSE(WEEKDAY($B16,2),11,11,11,11,11,13,15),FALSE)),0) -> 0.33333333 | E16: =IFERROR(IF($A16="",VLOOKUP($C16,PARAM!$A$11:$I$210,CHOOSE(WEEKDAY($B16,2),3,3,5,3,3,7,9),FALSE),VLOOKUP($C16,PARAM!$A$11:$P$210,CHOOSE(WEEKDAY($B16,2),12,12,12,12,12,14,16),FALSE)),0) -> 0.66666667 | F16: =SUM(E16-D16) -> 0.33333333 | G16: Matin
B17: =B16+1 -> 42444 | C17: Ecolage | D17: =IFERROR(IF($A17="",VLOOKUP($C17,PARAM!$A$11:$I$210,CHOOSE(WEEKDAY($B17,2),2,2,4,2,2,6,8),FALSE),VLOOKUP($C17,PARAM!$A$11:$P$210,CHOOSE(WEEKDAY($B17,2),11,11,11,11,11,13,15),FALSE)),0) -> 0.33333333 | E17: =IFERROR(IF($A17="",VLOOKUP($C17,PARAM!$A$11:$I$210,CHOOSE(WEEKDAY($B17,2),3,3,5,3,3,7,9),FALSE),VLOOKUP($C17,PARAM!$A$11:$P$210,CHOOSE(WEEKDAY($B17,2),12,12,12,12,12,14,16),FALSE)),0) -> 0.66666667 | F17: =SUM(E17-D17) -> 0.33333333 | G17: Matin
B18: =B17+1 -> 42445 | C18: Ecolage | D18: =IFERROR(IF($A18="",VLOOKUP($C18,PARAM!$A$11:$I$210,CHOOSE(WEEKDAY($B18,2),2,2,4,2,2,6,8),FALSE),VLOOKUP($C18,PARAM!$A$11:$P$210,CHOOSE(WEEKDAY($B18,2),11,11,11,11,11,13,15),FALSE)),0) -> 0.33333333 | E18: =IFERROR(IF($A18="",VLOOKUP($C18,PARAM!$A$11:$I$210,CHOOSE(WEEKDAY($B18,2),3,3,5,3,3,7,9),FALSE),VLOOKUP($C18,PARAM!$A$11:$P$210,CHOOSE(WEEKDAY($B18,2),12,12,12,12,12,14,16),FALSE)),0) -> 0.66666667 | F18: =SUM(E18-D18) -> 0.33333333 | G18: Matin
B19: =B18+1 -> 42446 | C19: Ecolage | D19: =IFERROR(IF($A19="",VLOOKUP($C19,PARAM!$A$11:$I$210,CHOOSE(WEEKDAY($B19,2),2,2,4,2,2,6,8),FALSE),VLOOKUP($C19,PARAM!$A$11:$P$210,CHOOSE(WEEKDAY($B19,2),11,11,11,11,11,13,15),FALSE)),0) -> 0.33333333 | E19: =IFERROR(IF($A19="",VLOOKUP($C19,PARAM!$A$11:$I$210,CHOOSE(WEEKDAY($B19,2),3,3,5,3,3,7,9),FALSE),VLOOKUP($C19,PARAM!$A$11:$P$210,CHOOSE(WEEKDAY($B19,2),12,12,12,12,12,14,16),FALSE)),0) -> 0.66666667 | F19: =SUM(E19-D19) -> 0.33333333 | G19: Matin
B20: =B19+1 -> 42447 | C20: Ecolage | D20: =IFERROR(IF($A20="",VLOOKUP($C20,PARAM!$A$11:$I$210,CHOOSE(WEEKDAY($B20,2),2,2,4,2,2,6,8),FALSE),VLOOKUP($C20,PARAM!$A$11:$P$210,CHOOSE(WEEKDAY($B20,2),11,11,11,11,11,13,15),FALSE)),0) -> 0.33333333 | E20: =IFERROR(IF($A20="",VLOOKUP($C20,PARAM!$A$11:$I$210,CHOOSE(WEEKDAY($B20,2),3,3,5,3,3,7,9),FALSE),VLOOKUP($C20,PARAM!$A$11:$P$210,CHOOSE(WEEKDAY($B20,2),12,12,12,12,12,14,16),FALSE)),0) -> 0.66666667 | F20: =SUM(E20-D20) -> 0.33333333 | G20: Matin
B21: =B20+1 -> 42448 | C21: CC | D21: =IFERROR(IF($A21="",VLOOKUP($C21,PARAM!$A$11:$I$210,CHOOSE(WEEKDAY($B21,2),2,2,4,2,2,6,8),FALSE),VLOOKUP($C21,PARAM!$A$11:$P$210,CHOOSE(WEEKDAY($B21,2),11,11,11,11,11,13,15),FALSE)),0) -> 0 | E21: =IFERROR(IF($A21="",VLOOKUP($C21,PARAM!$A$11:$I$210,CHOOSE(WEEKDAY($B21,2),3,3,5,3,3,7,9),FALSE),VLOOKUP($C21,PARAM!$A$11:$P$210,CHOOSE(WEEKDAY($B21,2),12,12,12,12,12,14,16),FALSE)),0) -> 0 | F21: =SUM(E21-D21) -> 0
B22: =B21+1 -> 42449 | C22: CR | D22: =IFERROR(IF($A22="",VLOOKUP($C22,PARAM!$A$11:$I$210,CHOOSE(WEEKDAY($B22,2),2,2,4,2,2,6,8),FALSE),VLOOKUP($C22,PARAM!$A$11:$P$210,CHOOSE(WEEKDAY($B22,2),11,11,11,11,11,13,15),FALSE)),0) -> 0 | E22: =IFERROR(IF($A22="",VLOOKUP($C22,PARAM!$A$11:$I$210,CHOOSE(WEEKDAY($B22,2),3,3,5,3,3,7,9),FALSE),VLOOKUP($C22,PARAM!$A$11:$P$210,CHOOSE(WEEKDAY($B22,2),12,12,12,12,12,14,16),FALSE)),0) -> 0 | F22: =SUM(E22-D22) -> 0
B23: =B22+1 -> 42450 | C23: CC | D23: =IFERROR(IF($A23="",VLOOKUP($C23,PARAM!$A$11:$I$210,CHOOSE(WEEKDAY($B23,2),2,2,4,2,2,6,8),FALSE),VLOOKUP($C23,PARAM!$A$11:$P$210,CHOOSE(WEEKDAY($B23,2),11,11,11,11,11,13,15),FALSE)),0) -> 0 | E23: =IFERROR(IF($A23="",VLOOKUP($C23,PARAM!$A$11:$I$210,CHOOSE(WEEKDAY($B23,2),3,3,5,3,3,7,9),FALSE),VLOOKUP($C23,PARAM!$A$11:$P$210,CHOOSE(WEEKDAY($B23,2),12,12,12,12,12,14,16),FALSE)),0) -> 0 | F23: =SUM(E23-D23) -> 0
B24: =B23+1 -> 42451 | C24: CC | D24: =IFERROR(IF($A24="",VLOOKUP($C24,PARAM!$A$11:$I$210,CHOOSE(WEEKDAY($B24,2),2,2,4,2,2,6,8),FALSE),VLOOKUP($C24,PARAM!$A$11:$P$210,CHOOSE(WEEKDAY($B24,2),11,11,11,11,11,13,15),FALSE)),0) -> 0 | E24: =IFERROR(IF($A24="",VLOOKUP($C24,PARAM!$A$11:$I$210,CHOOSE(WEEKDAY($B24,2),3,3,5,3,3,7,9),FALSE),VLOOKUP($C24,PARAM!$A$11:$P$210,CHOOSE(WEEKDAY($B24,2),12,12,12,12,12,14,16),FALSE)),0) -> 0 | F24: =SUM(E24-D24) -> 0
B25: =B24+1 -> 42452 | C25: CC | D25: =IFERROR(IF($A25="",VLOOKUP($C25,PARAM!$A$11:$I$210,CHOOSE(WEEKDAY($B25,2),2,2,4,2,2,6,8),FALSE),VLOOKUP($C25,PARAM!$A$11:$P$210,CHOOSE(WEEKDAY($B25,2),11,11,11,11,11,13,15),FALSE)),0) -> 0 | E25: =IFERROR(IF($A25="",VLOOKUP($C25,PARAM!$A$11:$I$210,CHOOSE(WEEKDAY($B25,2),3,3,5,3,3,7,9),FALSE),VLOOKUP($C25,PARAM!$A$11:$P$210,CHOOSE(WEEKDAY($B25,2),12,12,12,12,12,14,16),FALSE)),0) -> 0 | F25: =SUM(E25-D25) -> 0
B26: =B25+1 -> 42453 | C26: Ecolage | D26: =IFERROR(IF($A26="",VLOOKUP($C26,PARAM!$A$11:$I$210,CHOOSE(WEEKDAY($B26,2),2,2,4,2,2,6,8),FALSE),VLOOKUP($C26,PARAM!$A$11:$P$210,CHOOSE(WEEKDAY($B26,2),11,11,11,11,11,13,15),FALSE)),0) -> 0.33333333 | E26: =IFERROR(IF($A26="",VLOOKUP($C26,PARAM!$A$11:$I$210,CHOOSE(WEEKDAY($B26,2),3,3,5,3,3,7,9),FALSE),VLOOKUP($C26,PARAM!$A$11:$P$210,CHOOSE(WEEKDAY($B26,2),12,12,12,12,12,14,16),FALSE)),0) -> 0.66666667 | F26: =SUM(E26-D26) -> 0.33333333 | G26: Matin | H26: =(HOUR(F26)*60+MINUTE(F26))/60 -> 8
B27: =B26+1 -> 42454 | C27: 2562 | D27: =IFERROR(IF($A27="",VLOOKUP($C27,PARAM!$A$11:$I$210,CHOOSE(WEEKDAY($B27,2),2,2,4,2,2,6,8),FALSE),VLOOKUP($C27,PARAM!$A$11:$P$210,CHOOSE(WEEKDAY($B27,2),11,11,11,11,11,13,15),FALSE)),0) -> 0.27152778 | E27: =IFERROR(IF($A27="",VLOOKUP($C27,PARAM!$A$11:$I$210,CHOOSE(WEEKDAY($B27,2),3,3,5,3,3,7,9),FALSE),VLOOKUP($C27,PARAM!$A$11:$P$210,CHOOSE(WEEKDAY($B27,2),12,12,12,12,12,14,16),FALSE)),0) -> 0.57222222 | F27: =SUM(E27-D27) -> 0.30069444 | G27: Matin | H27: =(HOUR(F27)*60+MINUTE(F27))/60 -> 7.2166667
B28: =B27+1 -> 42455 | C28: CC | D28: =IFERROR(IF($A28="",VLOOKUP($C28,PARAM!$A$11:$I$210,CHOOSE(WEEKDAY($B28,2),2,2,4,2,2,6,8),FALSE),VLOOKUP($C28,PARAM!$A$11:$P$210,CHOOSE(WEEKDAY($B28,2),11,11,11,11,11,13,15),FALSE)),0) -> 0 | E28: =IFERROR(IF($A28="",VLOOKUP($C28,PARAM!$A$11:$I$210,CHOOSE(WEEKDAY($B28,2),3,3,5,3,3,7,9),FALSE),VLOOKUP($C28,PARAM!$A$11:$P$210,CHOOSE(WEEKDAY($B28,2),12,12,12,12,12,14,16),FALSE)),0) -> 0 | F28: =SUM(E28-D28) -> 0 | H28: =(HOUR(F28)*60+MINUTE(F28))/60 -> 0
B29: =B28+1 -> 42456 | C29: CR | D29: =IFERROR(IF($A29="",VLOOKUP($C29,PARAM!$A$11:$I$210,CHOOSE(WEEKDAY($B29,2),2,2,4,2,2,6,8),FALSE),VLOOKUP($C29,PARAM!$A$11:$P$210,CHOOSE(WEEKDAY($B29,2),11,11,11,11,11,13,15),FALSE)),0) -> 0 | E29: =IFERROR(IF($A29="",VLOOKUP($C29,PARAM!$A$11:$I$210,CHOOSE(WEEKDAY($B29,2),3,3,5,3,3,7,9),FALSE),VLOOKUP($C29,PARAM!$A$11:$P$210,CHOOSE(WEEKDAY($B29,2),12,12,12,12,12,14,16),FALSE)),0) -> 0 | F29: =SUM(E29-D29) -> 0 | H29: =(HOUR(F29)*60+MINUTE(F29))/60 -> 0
B30: =B29+1 -> 42457 | C30: CR | D30: =IFERROR(IF($A30="",VLOOKUP($C30,PARAM!$A$11:$I$210,CHOOSE(WEEKDAY($B30,2),2,2,4,2,2,6,8),FALSE),VLOOKUP($C30,PARAM!$A$11:$P$210,CHOOSE(WEEKDAY($B30,2),11,11,11,11,11,13,15),FALSE)),0) -> 0 | E30: =IFERROR(IF($A30="",VLOOKUP($C30,PARAM!$A$11:$I$210,CHOOSE(WEEKDAY($B30,2),3,3,5,3,3,7,9),FALSE),VLOOKUP($C30,PARAM!$A$11:$P$210,CHOOSE(WEEKDAY($B30,2),12,12,12,12,12,14,16),FALSE)),0) -> 0 | F30: =SUM(E30-D30) -> 0 | H30: =(HOUR(F30)*60+MINUTE(F30))/60 -> 0
A31: C | B31: =B30+1 -> 42458 | C31: 2563 | D31: =IFERROR(IF($A31="",VLOOKUP($C31,PARAM!$A$11:$I$210,CHOOSE(WEEKDAY($B31,2),2,2,4,2,2,6,8),FALSE),VLOOKUP($C31,PARAM!$A$11:$P$210,CHOOSE(WEEKDAY($B31,2),11,11,11,11,11,13,15),FALSE)),0) -> 0.17013889 | E31: =IFERROR(IF($A31="",VLOOKUP($C31,PARAM!$A$11:$I$210,CHOOSE(WEEKDAY($B31,2),3,3,5,3,3,7,9),FALSE),VLOOKUP($C31,PARAM!$A$11:$P$210,CHOOSE(WEEKDAY($B31,2),12,12,12,12,12,14,16),FALSE)),0) -> 0.52083333 | F31: =SUM(E31-D31) -> 0.35069444 | G31: Matin | H31: =(HOUR(F31)*60+MINUTE(F31))/60 -> 8.4166667
A32: C | B32: =B31+1 -> 42459 | C32: 2560 | D32: =IFERROR(IF($A32="",VLOOKUP($C32,PARAM!$A$11:$I$210,CHOOSE(WEEKDAY($B32,2),2,2,4,2,2,6,8),FALSE),VLOOKUP($C32,PARAM!$A$11:$P$210,CHOOSE(WEEKDAY($B32,2),11,11,11,11,11,13,15),FALSE)),0) -> 0.19097222 | E32: =IFERROR(IF($A32="",VLOOKUP($C32,PARAM!$A$11:$I$210,CHOOSE(WEEKDAY($B32,2),3,3,5,3,3,7,9),FALSE),VLOOKUP($C32,PARAM!$A$11:$P$210,CHOOSE(WEEKDAY($B32,2),12,12,12,12,12,14,16),FALSE)),0) -> 0.51527778 | F32: =SUM(E32-D32) -> 0.32430556 | G32: Matin | H32: =(HOUR(F32)*60+MINUTE(F32))/60 -> 7.7833333
A33: C | B33: =B32+1 -> 42460 | C33: 2561 | D33: =IFERROR(IF($A33="",VLOOKUP($C33,PARAM!$A$11:$I$210,CHOOSE(WEEKDAY($B33,2),2,2,4,2,2,6,8),FALSE),VLOOKUP($C33,PARAM!$A$11:$P$210,CHOOSE(WEEKDAY($B33,2),11,11,11,11,11,13,15),FALSE)),0) -> 0.18680556 | E33: =IFERROR(IF($A33="",VLOOKUP($C33,PARAM!$A$11:$I$210,CHOOSE(WEEKDAY($B33,2),3,3,5,3,3,7,9),FALSE),VLOOKUP($C33,PARAM!$A$11:$P$210,CHOOSE(WEEKDAY($B33,2),12,12,12,12,12,14,16),FALSE)),0) -> 0.55694444 | F33: =SUM(E33-D33) -> 0.37013889 | G33: Matin | H33: =(HOUR(F33)*60+MINUTE(F33))/60 -> 8.8833333
B34: Total | F34: =SUM(F3:F33) -> 5.0125 | H34: =SUM(H26:H33) -> 40.3
F1048576: =SUM(F34) -> 5.0125

Sheet 04
B1: PRESTATIONS DU MOIS DE : | D1: =DATE(PARAM!$B$3,RIGHT(CELL("nomfichier",D1),2),1) -> 42461
A2: Type | B2: Date | C2: Services | D2: H/Début | E2: H/Fin | F2: Nb heures | G2: Commentaires
A3: C | B3: =DATE(PARAM!$B$3,RIGHT(CELL("nomfichier",D1),2),1) -> 42461 | C3: 2562 | D3: =IFERROR(IF($A3="",VLOOKUP($C3,PARAM!$A$11:$I$210,CHOOSE(WEEKDAY($B3,2),2,2,4,2,2,6,8),FALSE),VLOOKUP($C3,PARAM!$A$11:$P$210,CHOOSE(WEEKDAY($B3,2),11,11,11,11,11,13,15),FALSE)),0) -> 0.19930556 | E3: =IFERROR(IF($A3="",VLOOKUP($C3,PARAM!$A$11:$I$210,CHOOSE(WEEKDAY($B3,2),3,3,5,3,3,7,9),FALSE),VLOOKUP($C3,PARAM!$A$11:$P$210,CHOOSE(WEEKDAY($B3,2),12,12,12,12,12,14,16),FALSE)),0) -> 0.50972222 | F3: =SUM(E3-D3) -> 0.31041667 | G3: Matin | H3: =(HOUR(F3)*60+MINUTE(F3))/60 -> 7.45
A4: C | B4: =B3+1 -> 42462 | C4: 2562 | D4: =IFERROR(IF($A4="",VLOOKUP($C4,PARAM!$A$11:$I$210,CHOOSE(WEEKDAY($B4,2),2,2,4,2,2,6,8),FALSE),VLOOKUP($C4,PARAM!$A$11:$P$210,CHOOSE(WEEKDAY($B4,2),11,11,11,11,11,13,15),FALSE)),0) -> 0.27083333 | E4: =IFERROR(IF($A4="",VLOOKUP($C4,PARAM!$A$11:$I$210,CHOOSE(WEEKDAY($B4,2),3,3,5,3,3,7,9),FALSE),VLOOKUP($C4,PARAM!$A$11:$P$210,CHOOSE(WEEKDAY($B4,2),12,12,12,12,12,14,16),FALSE)),0) -> 0.60763889 | F4: =SUM(E4-D4) -> 0.33680556 | G4: Matin | H4: =(HOUR(F4)*60+MINUTE(F4))/60 -> 8.0833333
B5: =B4+1 -> 42463 | C5: CR | D5: =IFERROR(IF($A5="",VLOOKUP($C5,PARAM!$A$11:$I$210,CHOOSE(WEEKDAY($B5,2),2,2,4,2,2,6,8),FALSE),VLOOKUP($C5,PARAM!$A$11:$P$210,CHOOSE(WEEKDAY($B5,2),11,11,11,11,11,13,15),FALSE)),0) -> 0 | E5: =IFERROR(IF($A5="",VLOOKUP($C5,PARAM!$A$11:$I$210,CHOOSE(WEEKDAY($B5,2),3,3,5,3,3,7,9),FALSE),VLOOKUP($C5,PARAM!$A$11:$P$210,CHOOSE(WEEKDAY($B5,2),12,12,12,12,12,14,16),FALSE)),0) -> 0 | F5: =SUM(E5-D5) -> 0 | H5: =(HOUR(F5)*60+MINUTE(F5))/60 -> 0
A6: C | B6: =B5+1 -> 42464 | C6: 2640 | D6: =IFERROR(IF($A6="",VLOOKUP($C6,PARAM!$A$11:$I$210,CHOOSE(WEEKDAY($B6,2),2,2,4,2,2,6,8),FALSE),VLOOKUP($C6,PARAM!$A$11:$P$210,CHOOSE(WEEKDAY($B6,2),11,11,11,11,11,13,15),FALSE)),0) -> 0.5625 | E6: =IFERROR(IF($A6="",VLOOKUP($C6,PARAM!$A$11:$I$210,CHOOSE(WEEKDAY($B6,2),3,3,5,3,3,7,9),FALSE),VLOOKUP($C6,PARAM!$A$11:$P$210,CHOOSE(WEEKDAY($B6,2),12,12,12,12,12,14,16),FALSE)),0) -> 0.92361111 | F6: =SUM(E6-D6) -> 0.36111111 | G6: Après-midi | H6: =(HOUR(F6)*60+MINUTE(F6))/60 -> 8.6666667
A7: C | B7: =B6+1 -> 42465 | C7: CC | D7: =IFERROR(IF($A7="",VLOOKUP($C7,PARAM!$A$11:$I$210,CHOOSE(WEEKDAY($B7,2),2,2,4,2,2,6,8),FALSE),VLOOKUP($C7,PARAM!$A$11:$P$210,CHOOSE(WEEKDAY($B7,2),11,11,11,11,11,13,15),FALSE)),0) -> 0 | E7: =IFERROR(IF($A7="",VLOOKUP($C7,PARAM!$A$11:$I$210,CHOOSE(WEEKDAY($B7,2),3,3,5,3,3,7,9),FALSE),VLOOKUP($C7,PARAM!$A$11:$P$210,CHOOSE(WEEKDAY($B7,2),12,12,12,12,12,14,16),FALSE)),0) -> 0 | F7: =SUM(E7-D7) -> 0 | H7: =(HOUR(F7)*60+MINUTE(F7))/60 -> 0
A8: C | B8: =B7+1 -> 42466 | C8: 2644 | D8: =IFERROR(IF($A8="",VLOOKUP($C8,PARAM!$A$11:$I$210,CHOOSE(WEEKDAY($B8,2),2,2,4,2,2,6,8),FALSE),VLOOKUP($C8,PARAM!$A$11:$P$210,CHOOSE(WEEKDAY($B8,2),11,11,11,11,11,13,15),FALSE)),0) -> 0.46597222 | E8: =IFERROR(IF($A8="",VLOOKUP($C8,PARAM!$A$11:$I$210,CHOOSE(WEEKDAY($B8,2),3,3,5,3,3,7,9),FALSE),VLOOKUP($C8,PARAM!$A$11:$P$210,CHOOSE(WEEKDAY($B8,2),12,12,12,12,12,14,16),FALSE)),0) -> 0.75833333 | F8: =SUM(E8-D8) -> 0.29236111 | G8: Après-midi | H8: =(HOUR(F8)*60+MINUTE(F8))/60 -> 7.0166667
A9: C | B9: =B8+1 -> 42467 | C9: 2564 | D9: =IFERROR(IF($A9="",VLOOKUP($C9,PARAM!$A$11:$I$210,CHOOSE(WEEKDAY($B9,2),2,2,4,2,2,6,8),FALSE),VLOOKUP($C9,PARAM!$A$11:$P$210,CHOOSE(WEEKDAY($B9,2),11,11,11,11,11,13,15),FALSE)),0) -> 0.20416667 | E9: =IFERROR(IF($A9="",VLOOKUP($C9,PARAM!$A$11:$I$210,CHOOSE(WEEKDAY($B9,2),3,3,5,3,3,7,9),FALSE),VLOOKUP($C9,PARAM!$A$11:$P$210,CHOOSE(WEEKDAY($B9,2),12,12,12,12,12,14,16),FALSE)),0) -> 0.59305556 | F9: =SUM(E9-D9) -> 0.38888889 | G9: Matin | H9: =(HOUR(F9)*60+MINUTE(F9))/60 -> 9.3333333
A10: C | B10: =B9+1 -> 42468 | C10: 2604 | D10: =IFERROR(IF($A10="",VLOOKUP($C10,PARAM!$A$11:$I$210,CHOOSE(WEEKDAY($B10,2),2,2,4,2,2,6,8),FALSE),VLOOKUP($C10,PARAM!$A$11:$P$210,CHOOSE(WEEKDAY($B10,2),11,11,11,11,11,13,15),FALSE)),0) -> 0.57152778 | E10: =IFERROR(IF($A10="",VLOOKUP($C10,PARAM!$A$11:$I$210,CHOOSE(WEEKDAY($B10,2),3,3,5,3,3,7,9),FALSE),VLOOKUP($C10,PARAM!$A$11:$P$210,CHOOSE(WEEKDAY($B10,2),12,12,12,12,12,14,16),FALSE)),0) -> 0.91319444 | F10: =SUM(E10-D10) -> 0.34166667 | G10: Après-midi | H10: =(HOUR(F10)*60+MINUTE(F10))/60 -> 8.2
A11: C | B11: =B10+1 -> 42469 | C11: CC | D11: =IFERROR(IF($A11="",VLOOKUP($C11,PARAM!$A$11:$I$210,CHOOSE(WEEKDAY($B11,2),2,2,4,2,2,6,8),FALSE),VLOOKUP($C11,PARAM!$A$11:$P$210,CHOOSE(WEEKDAY($B11,2),11,11,11,11,11,13,15),FALSE)),0) -> 0 | E11: =IFERROR(IF($A11="",VLOOKUP($C11,PARAM!$A$11:$I$210,CHOOSE(WEEKDAY($B11,2),3,3,5,3,3,7,9),FALSE),VLOOKUP($C11,PARAM!$A$11:$P$210,CHOOSE(WEEKDAY($B11,2),12,12,12,12,12,14,16),FALSE)),0) -> 0 | F11: =SUM(E11-D11) -> 0 | H11: =(HOUR(F11)*60+MINUTE(F11))/60 -> 0
A12: C | B12: =B11+1 -> 42470 | C12: CR | D12: =IFERROR(IF($A12="",VLOOKUP($C12,PARAM!$A$11:$I$210,CHOOSE(WEEKDAY($B12,2),2,2,4,2,2,6,8),FALSE),VLOOKUP($C12,PARAM!$A$11:$P$210,CHOOSE(WEEKDAY($B12,2),11,11,11,11,11,13,15),FALSE)),0) -> 0 | E12: =IFERROR(IF($A12="",VLOOKUP($C12,PARAM!$A$11:$I$210,CHOOSE(WEEKDAY($B12,2),3,3,5,3,3,7,9),FALSE),VLOOKUP($C12,PARAM!$A$11:$P$210,CHOOSE(WEEKDAY($B12,2),12,12,12,12,12,14,16),FALSE)),0) -> 0 | F12: =SUM(E12-D12) -> 0 | H12: =(HOUR(F12)*60+MINUTE(F12))/60 -> 0
B13: =B12+1 -> 42471 | C13: 2569 | D13: =IFERROR(IF($A13="",VLOOKUP($C13,PARAM!$A$11:$I$210,CHOOSE(WEEKDAY($B13,2),2,2,4,2,2,6,8),FALSE),VLOOKUP($C13,PARAM!$A$11:$P$210,CHOOSE(WEEKDAY($B13,2),11,11,11,11,11,13,15),FALSE)),0) -> 0.22013889 | E13: =IFERROR(IF($A13="",VLOOKUP($C13,PARAM!$A$11:$I$210,CHOOSE(WEEKDAY($B13,2),3,3,5,3,3,7,9),FALSE),VLOOKUP($C13,PARAM!$A$11:$P$210,CHOOSE(WEEKDAY($B13,2),12,12,12,12,12,14,16),FALSE)),0) -> 0.60555556 | F13: =SUM(E13-D13) -> 0.38541667 | G13: Matin | H13: =(HOUR(F13)*60+MINUTE(F13))/60 -> 9.25
B14: =B13+1 -> 42472 | C14: CAP (Mons) | D14: =IFERROR(IF($A14="",VLOOKUP($C14,PARAM!$A$11:$I$210,CHOOSE(WEEKDAY($B14,2),2,2,4,2,2,6,8),FALSE),VLOOKUP($C14,PARAM!$A$11:$P$210,CHOOSE(WEEKDAY($B14,2),11,11,11,11,11,13,15),FALSE)),0) -> 0.33333333 | E14: =IFERROR(IF($A14="",VLOOKUP($C14,PARAM!$A$11:$I$210,CHOOSE(WEEKDAY($B14,2),3,3,5,3,3,7,9),FALSE),VLOOKUP($C14,PARAM!$A$11:$P$210,CHOOSE(WEEKDAY($B14,2),12,12,12,12,12,14,16),FALSE)),0) -> 0.70833333 | F14: =SUM(E14-D14) -> 0.375 | G14: Matin | H14: =(HOUR(F14)*60+MINUTE(F14))/60 -> 9
B15: =B14+1 -> 42473 | C15: 2569 | D15: =IFERROR(IF($A15="",VLOOKUP($C15,PARAM!$A$11:$I$210,CHOOSE(WEEKDAY($B15,2),2,2,4,2,2,6,8),FALSE),VLOOKUP($C15,PARAM!$A$11:$P$210,CHOOSE(WEEKDAY($B15,2),11,11,11,11,11,13,15),FALSE)),0) -> 0.22013889 | E15: =IFERROR(IF($A15="",VLOOKUP($C15,PARAM!$A$11:$I$210,CHOOSE(WEEKDAY($B15,2),3,3,5,3,3,7,9),FALSE),VLOOKUP($C15,PARAM!$A$11:$P$210,CHOOSE(WEEKDAY($B15,2),12,12,12,12,12,14,16),FALSE)),0) -> 0.60555556 | F15: =SUM(E15-D15) -> 0.38541667 | G15: Payé double | H15: =(HOUR(F15)*60+MINUTE(F15))/60 -> 9.25
B16: =B15+1 -> 42474 | C16: CAP (Mons) | D16: =IFERROR(IF($A16="",VLOOKUP($C16,PARAM!$A$11:$I$210,CHOOSE(WEEKDAY($B16,2),2,2,4,2,2,6,8),FALSE),VLOOKUP($C16,PARAM!$A$11:$P$210,CHOOSE(WEEKDAY($B16,2),11,11,11,11,11,13,15),FALSE)),0) -> 0.33333333 | E16: =IFERROR(IF($A16="",VLOOKUP($C16,PARAM!$A$11:$I$210,CHOOSE(WEEKDAY($B16,2),3,3,5,3,3,7,9),FALSE),VLOOKUP($C16,PARAM!$A$11:$P$210,CHOOSE(WEEKDAY($B16,2),12,12,12,12,12,14,16),FALSE)),0) -> 0.70833333 | F16: =SUM(E16-D16) -> 0.375 | G16: Matin | H16: =(HOUR(F16)*60+MINUTE(F16))/60 -> 9
B17: =B16+1 -> 42475 | C17: 2569 | D17: =IFERROR(IF($A17="",VLOOKUP($C17,PARAM!$A$11:$I$210,CHOOSE(WEEKDAY($B17,2),2,2,4,2,2,6,8),FALSE),VLOOKUP($C17,PARAM!$A$11:$P$210,CHOOSE(WEEKDAY($B17,2),11,11,11,11,11,13,15),FALSE)),0) -> 0.22013889 | E17: =IFERROR(IF($A17="",VLOOKUP($C17,PARAM!$A$11:$I$210,CHOOSE(WEEKDAY($B17,2),3,3,5,3,3,7,9),FALSE),VLOOKUP($C17,PARAM!$A$11:$P$210,CHOOSE(WEEKDAY($B17,2),12,12,12,12,12,14,16),FALSE)),0) -> 0.60555556 | F17: =SUM(E17-D17) -> 0.38541667 | G17: Matin | H17: =(HOUR(F17)*60+MINUTE(F17))/60 -> 9.25
B18: =B17+1 -> 42476 | C18: 2542 | D18: =IFERROR(IF($A18="",VLOOKUP($C18,PARAM!$A$11:$I$210,CHOOSE(WEEKDAY($B18,2),2,2,4,2,2,6,8),FALSE),VLOOKUP($C18,PARAM!$A$11:$P$210,CHOOSE(WEEKDAY($B18,2),11,11,11,11,11,13,15),FALSE)),0) -> 0.3375 | E18: =IFERROR(IF($A18="",VLOOKUP($C18,PARAM!$A$11:$I$210,CHOOSE(WEEKDAY($B18,2),3,3,5,3,3,7,9),FALSE),VLOOKUP($C18,PARAM!$A$11:$P$210,CHOOSE(WEEKDAY($B18,2),12,12,12,12,12,14,16),FALSE)),0) -> 0.62708333 | F18: =SUM(E18-D18) -> 0.28958333 | G18: Matin | H18: =(HOUR(F18)*60+MINUTE(F18))/60 -> 6.95
B19: =B18+1 -> 42477 | C19: CR | D19: =IFERROR(IF($A19="",VLOOKUP($C19,PARAM!$A$11:$I$210,CHOOSE(WEEKDAY($B19,2),2,2,4,2,2,6,8),FALSE),VLOOKUP($C19,PARAM!$A$11:$P$210,CHOOSE(WEEKDAY($B19,2),11,11,11,11,11,13,15),FALSE)),0) -> 0 | E19: =IFERROR(IF($A19="",VLOOKUP($C19,PARAM!$A$11:$I$210,CHOOSE(WEEKDAY($B19,2),3,3,5,3,3,7,9),FALSE),VLOOKUP($C19,PARAM!$A$11:$P$210,CHOOSE(WEEKDAY($B19,2),12,12,12,12,12,14,16),FALSE)),0) -> 0 | F19: =SUM(E19-D19) -> 0 | H19: =(HOUR(F19)*60+MINUTE(F19))/60 -> 0
B20: =B19+1 -> 42478 | C20: 2640 | D20: =IFERROR(IF($A20="",VLOOKUP($C20,PARAM!$A$11:$I$210,CHOOSE(WEEKDAY($B20,2),2,2,4,2,2,6,8),FALSE),VLOOKUP($C20,PARAM!$A$11:$P$210,CHOOSE(WEEKDAY($B20,2),11,11,11,11,11,13,15),FALSE)),0) -> 0.62916667 | E20: =IFERROR(IF($A20="",VLOOKUP($C20,PARAM!$A$11:$I$210,CHOOSE(WEEKDAY($B20,2),3,3,5,3,3,7,9),FALSE),VLOOKUP($C20,PARAM!$A$11:$P$210,CHOOSE(WEEKDAY($B20,2),12,12,12,12,12,14,16),FALSE)),0) -> 0.92152778 | F20: =SUM(E20-D20) -> 0.29236111 | G20: Après-midi | H20: =(HOUR(F20)*60+MINUTE(F20))/60 -> 7.0166667
B21: =B20+1 -> 42479 | C21: 2667 | D21: =IFERROR(IF($A21="",VLOOKUP($C21,PARAM!$A$11:$I$210,CHOOSE(WEEKDAY($B21,2),2,2,4,2,2,6,8),FALSE),VLOOKUP($C21,PARAM!$A$11:$P$210,CHOOSE(WEEKDAY($B21,2),11,11,11,11,11,13,15),FALSE)),0) -> 0.45902778 | E21: =IFERROR(IF($A21="",VLOOKUP($C21,PARAM!$A$11:$I$210,CHOOSE(WEEKDAY($B21,2),3,3,5,3,3,7,9),FALSE),VLOOKUP($C21,PARAM!$A$11:$P$210,CHOOSE(WEEKDAY($B21,2),12,12,12,12,12,14,16),FALSE)),0) -> 0.83055556 | F21: =SUM(E21-D21) -> 0.37152778 | G21: Après-midi | H21: =(HOUR(F21)*60+MINUTE(F21))/60 -> 8.9166667
B22: =B21+1 -> 42480 | C22: 2565 | D22: =IFERROR(IF($A22="",VLOOKUP($C22,PARAM!$A$11:$I$210,CHOOSE(WEEKDAY($B22,2),2,2,4,2,2,6,8),FALSE),VLOOKUP($C22,PARAM!$A$11:$P$210,CHOOSE(WEEKDAY($B22,2),11,11,11,11,11,13,15),FALSE)),0) -> 0.19166667 | E22: =IFERROR(IF($A22="",VLOOKUP($C22,PARAM!$A$11:$I$210,CHOOSE(WEEKDAY($B22,2),3,3,5,3,3,7,9),FALSE),VLOOKUP($C22,PARAM!$A$11:$P$210,CHOOSE(WEEKDAY($B22,2),12,12,12,12,12,14,16),FALSE)),0) -> 0.54513889 | F22: =SUM(E22-D22) -> 0.35347222 | G22: Matin | H22: =(HOUR(F22)*60+MINUTE(F22))/60 -> 8.4833333
B23: =B22+1 -> 42481 | C23: CC | D23: =IFERROR(IF($A23="",VLOOKUP($C23,PARAM!$A$11:$I$210,CHOOSE(WEEKDAY($B23,2),2,2,4,2,2,6,8),FALSE),VLOOKUP($C23,PARAM!$A$11:$P$210,CHOOSE(WEEKDAY($B23,2),11,11,11,11,11,13,15),FALSE)),0) -> 0 | E23: =IFERROR(IF($A23="",VLOOKUP($C23,PARAM!$A$11:$I$210,CHOOSE(WEEKDAY($B23,2),3,3,5,3,3,7,9),FALSE),VLOOKUP($C23,PARAM!$A$11:$P$210,CHOOSE(WEEKDAY($B23,2),12,12,12,12,12,14,16),FALSE)),0) -> 0 | F23: =SUM(E23-D23) -> 0 | H23: =(HOUR(F23)*60+MINUTE(F23))/60 -> 0
B24: =B23+1 -> 42482 | C24: 2662 | D24: =IFERROR(IF($A24="",VLOOKUP($C24,PARAM!$A$11:$I$210,CHOOSE(WEEKDAY($B24,2),2,2,4,2,2,6,8),FALSE),VLOOKUP($C24,PARAM!$A$11:$P$210,CHOOSE(WEEKDAY($B24,2),11,11,11,11,11,13,15),FALSE)),0) -> 0.55138889 | E24: =IFERROR(IF($A24="",VLOOKUP($C24,PARAM!$A$11:$I$210,CHOOSE(WEEKDAY($B24,2),3,3,5,3,3,7,9),FALSE),VLOOKUP($C24,PARAM!$A$11:$P$210,CHOOSE(WEEKDAY($B24,2),12,12,12,12,12,14,16),FALSE)),0) -> 0.93472222 | F24: =SUM(E24-D24) -> 0.38333333 | G24: Après-midi | H24: =(HOUR(F24)*60+MINUTE(F24))/60 -> 9.2
B25: =B24+1 -> 42483 | C25: 2640 | D25: =IFERROR(IF($A25="",VLOOKUP($C25,PARAM!$A$11:$I$210,CHOOSE(WEEKDAY($B25,2),2,2,4,2,2,6,8),FALSE),VLOOKUP($C25,PARAM!$A$11:$P$210,CHOOSE(WEEKDAY($B25,2),11,11,11,11,11,13,15),FALSE)),0) -> 0.59861111 | E25: =IFERROR(IF($A25="",VLOOKUP($C25,PARAM!$A$11:$I$210,CHOOSE(WEEKDAY($B25,2),3,3,5,3,3,7,9),FALSE),VLOOKUP($C25,PARAM!$A$11:$P$210,CHOOSE(WEEKDAY($B25,2),12,12,12,12,12,14,16),FALSE)),0) -> 0.92222222 | F25: =SUM(E25-D25) -> 0.32361111 | G25: Après-midi | H25: =(HOUR(F25)*60+MINUTE(F25))/60 -> 7.7666667
B26: =B25+1 -> 42484 | C26: CR | D26: =IFERROR(IF($A26="",VLOOKUP($C26,PARAM!$A$11:$I$210,CHOOSE(WEEKDAY($B26,2),2,2,4,2,2,6,8),FALSE),VLOOKUP($C26,PARAM!$A$11:$P$210,CHOOSE(WEEKDAY($B26,2),11,11,11,11,11,13,15),FALSE)),0) -> 0 | E26: =IFERROR(IF($A26="",VLOOKUP($C26,PARAM!$A$11:$I$210,CHOOSE(WEEKDAY($B26,2),3,3,5,3,3,7,9),FALSE),VLOOKUP($C26,PARAM!$A$11:$P$210,CHOOSE(WEEKDAY($B26,2),12,12,12,12,12,14,16),FALSE)),0) -> 0 | F26: =SUM(E26-D26) -> 0 | H26: =(HOUR(F26)*60+MINUTE(F26))/60 -> 0
B27: =B26+1 -> 42485 | C27: 2562 | D27: =IFERROR(IF($A27="",VLOOKUP($C27,PARAM!$A$11:$I$210,CHOOSE(WEEKDAY($B27,2),2,2,4,2,2,6,8),FALSE),VLOOKUP($C27,PARAM!$A$11:$P$210,CHOOSE(WEEKDAY($B27,2),11,11,11,11,11,13,15),FALSE)),0) -> 0.27152778 | E27: =IFERROR(IF($A27="",VLOOKUP($C27,PARAM!$A$11:$I$210,CHOOSE(WEEKDAY($B27,2),3,3,5,3,3,7,9),FALSE),VLOOKUP($C27,PARAM!$A$11:$P$210,CHOOSE(WEEKDAY($B27,2),12,12,12,12,12,14,16),FALSE)),0) -> 0.57222222 | F27: =SUM(E27-D27) -> 0.30069444 | G27: Matin | H27: =(HOUR(F27)*60+MINUTE(F27))/60 -> 7.2166667
B28: =B27+1 -> 42486 | C28: 2561 | D28: =IFERROR(IF($A28="",VLOOKUP($C28,PARAM!$A$11:$I$210,CHOOSE(WEEKDAY($B28,2),2,2,4,2,2,6,8),FALSE),VLOOKUP($C28,PARAM!$A$11:$P$210,CHOOSE(WEEKDAY($B28,2),11,11,11,11,11,13,15),FALSE)),0) -> 0.20972222 | E28: =IFERROR(IF($A28="",VLOOKUP($C28,PARAM!$A$11:$I$210,CHOOSE(WEEKDAY($B28,2),3,3,5,3,3,7,9),FALSE),VLOOKUP($C28,PARAM!$A$11:$P$210,CHOOSE(WEEKDAY($B28,2),12,12,12,12,12,14,16),FALSE)),0) -> 0.52222222 | F28: =SUM(E28-D28) -> 0.3125 | G28: Matin | H28: =(HOUR(F28)*60+MINUTE(F28))/60 -> 7.5
B29: =B28+1 -> 42487 | C29: 2540 | D29: =IFERROR(IF($A29="",VLOOKUP($C29,PARAM!$A$11:$I$210,CHOOSE(WEEKDAY($B29,2),2,2,4,2,2,6,8),FALSE),VLOOKUP($C29,PARAM!$A$11:$P$210,CHOOSE(WEEKDAY($B29,2),11,11,11,11,11,13,15),FALSE)),0) -> 0.20972222 | E29: =IFERROR(IF($A29="",VLOOKUP($C29,PARAM!$A$11:$I$210,CHOOSE(WEEKDAY($B29,2),3,3,5,3,3,7,9),FALSE),VLOOKUP($C29,PARAM!$A$11:$P$210,CHOOSE(WEEKDAY($B29,2),12,12,12,12,12,14,16),FALSE)),0) -> 0.56458333 | F29: =SUM(E29-D29) -> 0.35486111 | G29: Matin | H29: =(HOUR(F29)*60+MINUTE(F29))/60 -> 8.5166667
B30: =B29+1 -> 42488 | C30: 2562 | D30: =IFERROR(IF($A30="",VLOOKUP($C30,PARAM!$A$11:$I$210,CHOOSE(WEEKDAY($B30,2),2,2,4,2,2,6,8),FALSE),VLOOKUP($C30,PARAM!$A$11:$P$210,CHOOSE(WEEKDAY($B30,2),11,11,11,11,11,13,15),FALSE)),0) -> 0.27152778 | E30: =IFERROR(IF($A30="",VLOOKUP($C30,PARAM!$A$11:$I$210,CHOOSE(WEEKDAY($B30,2),3,3,5,3,3,7,9),FALSE),VLOOKUP($C30,PARAM!$A$11:$P$210,CHOOSE(WEEKDAY($B30,2),12,12,12,12,12,14,16),FALSE)),0) -> 0.57222222 | F30: =SUM(E30-D30) -> 0.30069444 | G30: Matin | H30: =(HOUR(F30)*60+MINUTE(F30))/60 -> 7.2166667
B31: =B30+1 -> 42489 | C31: 2566 | D31: =IFERROR(IF($A31="",VLOOKUP($C31,PARAM!$A$11:$I$210,CHOOSE(WEEKDAY($B31,2),2,2,4,2,2,6,8),FALSE),VLOOKUP($C31,PARAM!$A$11:$P$210,CHOOSE(WEEKDAY($B31,2),11,11,11,11,11,13,15),FALSE)),0) -> 0.20277778 | E31: =IFERROR(IF($A31="",VLOOKUP($C31,PARAM!$A$11:$I$210,CHOOSE(WEEKDAY($B31,2),3,3,5,3,3,7,9),FALSE),VLOOKUP($C31,PARAM!$A$11:$P$210,CHOOSE(WEEKDAY($B31,2),12,12,12,12,12,14,16),FALSE)),0) -> 0.5625 | F31: =SUM(E31-D31) -> 0.35972222 | G31: Payé double | H31: =(HOUR(F31)*60+MINUTE(F31))/60 -> 8.6333333
B32: =B31+1 -> 42490 | C32: 2561 | D32: =IFERROR(IF($A32="",VLOOKUP($C32,PARAM!$A$11:$I$210,CHOOSE(WEEKDAY($B32,2),2,2,4,2,2,6,8),FALSE),VLOOKUP($C32,PARAM!$A$11:$P$210,CHOOSE(WEEKDAY($B32,2),11,11,11,11,11,13,15),FALSE)),0) -> 0.21944444 | E32: =IFERROR(IF($A32="",VLOOKUP($C32,PARAM!$A$11:$I$210,CHOOSE(WEEKDAY($B32,2),3,3,5,3,3,7,9),FALSE),VLOOKUP($C32,PARAM!$A$11:$P$210,CHOOSE(WEEKDAY($B32,2),12,12,12,12,12,14,16),FALSE)),0) -> 0.58055556 | F32: =SUM(E32-D32) -> 0.36111111 | G32: Matin | H32: =(HOUR(F32)*60+MINUTE(F32))/60 -> 8.6666667
B33: =B32+1 -> 42491 | D33: =IFERROR(IF($A33="",VLOOKUP($C33,PARAM!$A$11:$I$210,CHOOSE(WEEKDAY($B33,2),2,2,4,2,2,6,8),FALSE),VLOOKUP($C33,PARAM!$A$11:$P$210,CHOOSE(WEEKDAY($B33,2),11,11,11,11,11,13,15),FALSE)),0) -> 0 | E33: =IFERROR(IF($A33="",VLOOKUP($C33,PARAM!$A$11:$I$210,CHOOSE(WEEKDAY($B33,2),3,3,5,3,3,7,9),FALSE),VLOOKUP($C33,PARAM!$A$11:$P$210,CHOOSE(WEEKDAY($B33,2),12,12,12,12,12,14,16),FALSE)),0) -> 0 | F33: =SUM(E33-D33) -> 0
B34: Total | F34: =SUM(F3:F33) -> 7.9409722 | H34: =SUM(H3:H33) -> 190.58333
F1048576: =SUM(F34) -> 7.9409722

Sheet 05
B1: PRESTATIONS DU MOIS DE : | D1: =DATE(PARAM!$B$3,RIGHT(CELL("nomfichier",D1),2),1) -> 42491
A2: Type | B2: Date | C2: Services | D2: H/Début | E2: H/Fin | F2: Nb heures | G2: Commentaires
B3: =DATE(PARAM!$B$3,RIGHT(CELL("nomfichier",D1),2),1) -> 42491 | C3: CC | D3: =IFERROR(IF($A3="",VLOOKUP($C3,PARAM!$A$11:$I$210,CHOOSE(WEEKDAY($B3,2),2,2,4,2,2,6,8),FALSE),VLOOKUP($C3,PARAM!$A$11:$P$210,CHOOSE(WEEKDAY($B3,2),11,11,11,11,11,13,15),FALSE)),0) -> 0 | E3: =IFERROR(IF($A3="",VLOOKUP($C3,PARAM!$A$11:$I$210,CHOOSE(WEEKDAY($B3,2),3,3,5,3,3,7,9),FALSE),VLOOKUP($C3,PARAM!$A$11:$P$210,CHOOSE(WEEKDAY($B3,2),12,12,12,12,12,14,16),FALSE)),0) -> 0 | F3: =SUM(E3-D3) -> 0 | H3: =(HOUR(F3)*60+MINUTE(F3))/60 -> 0
B4: =B3+1 -> 42492 | C4: 2662 | D4: =IFERROR(IF($A4="",VLOOKUP($C4,PARAM!$A$11:$I$210,CHOOSE(WEEKDAY($B4,2),2,2,4,2,2,6,8),FALSE),VLOOKUP($C4,PARAM!$A$11:$P$210,CHOOSE(WEEKDAY($B4,2),11,11,11,11,11,13,15),FALSE)),0) -> 0.55138889 | E4: =IFERROR(IF($A4="",VLOOKUP($C4,PARAM!$A$11:$I$210,CHOOSE(WEEKDAY($B4,2),3,3,5,3,3,7,9),FALSE),VLOOKUP($C4,PARAM!$A$11:$P$210,CHOOSE(WEEKDAY($B4,2),12,12,12,12,12,14,16),FALSE)),0) -> 0.93472222 | F4: =SUM(E4-D4) -> 0.38333333 | G4: Après-midi | H4: =(HOUR(F4)*60+MINUTE(F4))/60 -> 9.2
B5: =B4+1 -> 42493 | C5: 2664 | D5: =IFERROR(IF($A5="",VLOOKUP($C5,PARAM!$A$11:$I$210,CHOOSE(WEEKDAY($B5,2),2,2,4,2,2,6,8),FALSE),VLOOKUP($C5,PARAM!$A$11:$P$210,CHOOSE(WEEKDAY($B5,2),11,11,11,11,11,13,15),FALSE)),0) -> 0.61944444 | E5: =IFERROR(IF($A5="",VLOOKUP($C5,PARAM!$A$11:$I$210,CHOOSE(WEEKDAY($B5,2),3,3,5,3,3,7,9),FALSE),VLOOKUP($C5,PARAM!$A$11:$P$210,CHOOSE(WEEKDAY($B5,2),12,12,12,12,12,14,16),FALSE)),0) -> 0.97222222 | F5: =SUM(E5-D5) -> 0.35277778 | G5: Après-midi | H5: =(HOUR(F5)*60+MINUTE(F5))/60 -> 8.4666667
A6: C | B6: =B5+1 -> 42494 | C6: 2610 | D6: =IFERROR(IF($A6="",VLOOKUP($C6,PARAM!$A$11:$I$210,CHOOSE(WEEKDAY($B6,2),2,2,4,2,2,6,8),FALSE),VLOOKUP($C6,PARAM!$A$11:$P$210,CHOOSE(WEEKDAY($B6,2),11,11,11,11,11,13,15),FALSE)),0) -> 0.61944444 | E6: =IFERROR(IF($A6="",VLOOKUP($C6,PARAM!$A$11:$I$210,CHOOSE(WEEKDAY($B6,2),3,3,5,3,3,7,9),FALSE),VLOOKUP($C6,PARAM!$A$11:$P$210,CHOOSE(WEEKDAY($B6,2),12,12,12,12,12,14,16),FALSE)),0) -> 0.97361111 | F6: =SUM(E6-D6) -> 0.35416667 | G6: Après-midi | H6: =(HOUR(F6)*60+MINUTE(F6))/60 -> 8.5
A7: C | B7: =B6+1 -> 42495 | C7: CR | D7: =IFERROR(IF($A7="",VLOOKUP($C7,PARAM!$A$11:$I$210,CHOOSE(WEEKDAY($B7,2),2,2,4,2,2,6,8),FALSE),VLOOKUP($C7,PARAM!$A$11:$P$210,CHOOSE(WEEKDAY($B7,2),11,11,11,11,11,13,15),FALSE)),0) -> 0 | E7: =IFERROR(IF($A7="",VLOOKUP($C7,PARAM!$A$11:$I$210,CHOOSE(WEEKDAY($B7,2),3,3,5,3,3,7,9),FALSE),VLOOKUP($C7,PARAM!$A$11:$P$210,CHOOSE(WEEKDAY($B7,2),12,12,12,12,12,14,16),FALSE)),0) -> 0 | F7: =SUM(E7-D7) -> 0 | H7: =(HOUR(F7)*60+MINUTE(F7))/60 -> 0
A8: C | B8: =B7+1 -> 42496 | C8: 2624 | D8: =IFERROR(IF($A8="",VLOOKUP($C8,PARAM!$A$11:$I$210,CHOOSE(WEEKDAY($B8,2),2,2,4,2,2,6,8),FALSE),VLOOKUP($C8,PARAM!$A$11:$P$210,CHOOSE(WEEKDAY($B8,2),11,11,11,11,11,13,15),FALSE)),0) -> 0.54930556 | E8: =IFERROR(IF($A8="",VLOOKUP($C8,PARAM!$A$11:$I$210,CHOOSE(WEEKDAY($B8,2),3,3,5,3,3,7,9),FALSE),VLOOKUP($C8,PARAM!$A$11:$P$210,CHOOSE(WEEKDAY($B8,2),12,12,12,12,12,14,16),FALSE)),0) -> 0.92430556 | F8: =SUM(E8-D8) -> 0.375 | G8: Après-midi | H8: =(HOUR(F8)*60+MINUTE(F8))/60 -> 9
B9: =B8+1 -> 42497 | C9: 2642 | D9: =IFERROR(IF($A9="",VLOOKUP($C9,PARAM!$A$11:$I$210,CHOOSE(WEEKDAY($B9,2),2,2,4,2,2,6,8),FALSE),VLOOKUP($C9,PARAM!$A$11:$P$210,CHOOSE(WEEKDAY($B9,2),11,11,11,11,11,13,15),FALSE)),0) -> 0.60625 | E9: =IFERROR(IF($A9="",VLOOKUP($C9,PARAM!$A$11:$I$210,CHOOSE(WEEKDAY($B9,2),3,3,5,3,3,7,9),FALSE),VLOOKUP($C9,PARAM!$A$11:$P$210,CHOOSE(WEEKDAY($B9,2),12,12,12,12,12,14,16),FALSE)),0) -> 0.96875 | F9: =SUM(E9-D9) -> 0.3625 | G9: Après-midi | H9: =(HOUR(F9)*60+MINUTE(F9))/60 -> 8.7
B10: =B9+1 -> 42498 | C10: CR | D10: =IFERROR(IF($A10="",VLOOKUP($C10,PARAM!$A$11:$I$210,CHOOSE(WEEKDAY($B10,2),2,2,4,2,2,6,8),FALSE),VLOOKUP($C10,PARAM!$A$11:$P$210,CHOOSE(WEEKDAY($B10,2),11,11,11,11,11,13,15),FALSE)),0) -> 0 | E10: =IFERROR(IF($A10="",VLOOKUP($C10,PARAM!$A$11:$I$210,CHOOSE(WEEKDAY($B10,2),3,3,5,3,3,7,9),FALSE),VLOOKUP($C10,PARAM!$A$11:$P$210,CHOOSE(WEEKDAY($B10,2),12,12,12,12,12,14,16),FALSE)),0) -> 0 | F10: =SUM(E10-D10) -> 0 | H10: =(HOUR(F10)*60+MINUTE(F10))/60 -> 0
B11: =B10+1 -> 42499 | C11: 2564 | D11: =IFERROR(IF($A11="",VLOOKUP($C11,PARAM!$A$11:$I$210,CHOOSE(WEEKDAY($B11,2),2,2,4,2,2,6,8),FALSE),VLOOKUP($C11,PARAM!$A$11:$P$210,CHOOSE(WEEKDAY($B11,2),11,11,11,11,11,13,15),FALSE)),0) -> 0.22222222 | E11: =IFERROR(IF($A11="",VLOOKUP($C11,PARAM!$A$11:$I$210,CHOOSE(WEEKDAY($B11,2),3,3,5,3,3,7,9),FALSE),VLOOKUP($C11,PARAM!$A$11:$P$210,CHOOSE(WEEKDAY($B11,2),12,12,12,12,12,14,16),FALSE)),0) -> 0.55138889 | F11: =SUM(E11-D11) -> 0.32916667 | G11: Matin | H11: =(HOUR(F11)*60+MINUTE(F11))/60 -> 7.9
B12: =B11+1 -> 42500 | C12: CC | D12: =IFERROR(IF($A12="",VLOOKUP($C12,PARAM!$A$11:$I$210,CHOOSE(WEEKDAY($B12,2),2,2,4,2,2,6,8),FALSE),VLOOKUP($C12,PARAM!$A$11:$P$210,CHOOSE(WEEKDAY($B12,2),11,11,11,11,11,13,15),FALSE)),0) -> 0 | E12: =IFERROR(IF($A12="",VLOOKUP($C12,PARAM!$A$11:$I$210,CHOOSE(WEEKDAY($B12,2),3,3,5,3,3,7,9),FALSE),VLOOKUP($C12,PARAM!$A$11:$P$210,CHOOSE(WEEKDAY($B12,2),12,12,12,12,12,14,16),FALSE)),0) -> 0 | F12: =SUM(E12-D12) -> 0 | H12: =(HOUR(F12)*60+MINUTE(F12))/60 -> 0
B13: =B12+1 -> 42501 | C13: 2544 | D13: =IFERROR(IF($A13="",VLOOKUP($C13,PARAM!$A$11:$I$210,CHOOSE(WEEKDAY($B13,2),2,2,4,2,2,6,8),FALSE),VLOOKUP($C13,PARAM!$A$11:$P$210,CHOOSE(WEEKDAY($B13,2),11,11,11,11,11,13,15),FALSE)),0) -> 0.17083333 | E13: =IFERROR(IF($A13="",VLOOKUP($C13,PARAM!$A$11:$I$210,CHOOSE(WEEKDAY($B13,2),3,3,5,3,3,7,9),FALSE),VLOOKUP($C13,PARAM!$A$11:$P$210,CHOOSE(WEEKDAY($B13,2),12,12,12,12,12,14,16),FALSE)),0) -> 0.525 | F13: =SUM(E13-D13) -> 0.35416667 | G13: Matin | H13: =(HOUR(F13)*60+MINUTE(F13))/60 -> 8.5
B14: =B13+1 -> 42502 | C14: 2569 | D14: =IFERROR(IF($A14="",VLOOKUP($C14,PARAM!$A$11:$I$210,CHOOSE(WEEKDAY($B14,2),2,2,4,2,2,6,8),FALSE),VLOOKUP($C14,PARAM!$A$11:$P$210,CHOOSE(WEEKDAY($B14,2),11,11,11,11,11,13,15),FALSE)),0) -> 0.22013889 | E14: =IFERROR(IF($A14="",VLOOKUP($C14,PARAM!$A$11:$I$210,CHOOSE(WEEKDAY($B14,2),3,3,5,3,3,7,9),FALSE),VLOOKUP($C14,PARAM!$A$11:$P$210,CHOOSE(WEEKDAY($B14,2),12,12,12,12,12,14,16),FALSE)),0) -> 0.60555556 | F14: =SUM(E14-D14) -> 0.38541667 | G14: Matin | H14: =(HOUR(F14)*60+MINUTE(F14))/60 -> 9.25
B15: =B14+1 -> 42503 | C15: 2562 | D15: =IFERROR(IF($A15="",VLOOKUP($C15,PARAM!$A$11:$I$210,CHOOSE(WEEKDAY($B15,2),2,2,4,2,2,6,8),FALSE),VLOOKUP($C15,PARAM!$A$11:$P$210,CHOOSE(WEEKDAY($B15,2),11,11,11,11,11,13,15),FALSE)),0) -> 0.27152778 | E15: =IFERROR(IF($A15="",VLOOKUP($C15,PARAM!$A$11:$I$210,CHOOSE(WEEKDAY($B15,2),3,3,5,3,3,7,9),FALSE),VLOOKUP($C15,PARAM!$A$11:$P$210,CHOOSE(WEEKDAY($B15,2),12,12,12,12,12,14,16),FALSE)),0) -> 0.57222222 | F15: =SUM(E15-D15) -> 0.30069444 | G15: Matin | H15: =(HOUR(F15)*60+MINUTE(F15))/60 -> 7.2166667
B16: =B15+1 -> 42504 | C16: 2565 | D16: =IFERROR(IF($A16="",VLOOKUP($C16,PARAM!$A$11:$I$210,CHOOSE(WEEKDAY($B16,2),2,2,4,2,2,6,8),FALSE),VLOOKUP($C16,PARAM!$A$11:$P$210,CHOOSE(WEEKDAY($B16,2),11,11,11,11,11,13,15),FALSE)),0) -> 0.36736111 | E16: =IFERROR(IF($A16="",VLOOKUP($C16,PARAM!$A$11:$I$210,CHOOSE(WEEKDAY($B16,2),3,3,5,3,3,7,9),FALSE),VLOOKUP($C16,PARAM!$A$11:$P$210,CHOOSE(WEEKDAY($B16,2),12,12,12,12,12,14,16),FALSE)),0) -> 0.67569444 | F16: =SUM(E16-D16) -> 0.30833333 | G16: Matin | H16: =(HOUR(F16)*60+MINUTE(F16))/60 -> 7.4
B17: =B16+1 -> 42505 | C17: CR | D17: =IFERROR(IF($A17="",VLOOKUP($C17,PARAM!$A$11:$I$210,CHOOSE(WEEKDAY($B17,2),2,2,4,2,2,6,8),FALSE),VLOOKUP($C17,PARAM!$A$11:$P$210,CHOOSE(WEEKDAY($B17,2),11,11,11,11,11,13,15),FALSE)),0) -> 0 | E17: =IFERROR(IF($A17="",VLOOKUP($C17,PARAM!$A$11:$I$210,CHOOSE(WEEKDAY($B17,2),3,3,5,3,3,7,9),FALSE),VLOOKUP($C17,PARAM!$A$11:$P$210,CHOOSE(WEEKDAY($B17,2),12,12,12,12,12,14,16),FALSE)),0) -> 0 | F17: =SUM(E17-D17) -> 0 | H17: =(HOUR(F17)*60+MINUTE(F17))/60 -> 0
B18: =B17+1 -> 42506 | C18: CR | D18: =IFERROR(IF($A18="",VLOOKUP($C18,PARAM!$A$11:$I$210,CHOOSE(WEEKDAY($B18,2),2,2,4,2,2,6,8),FALSE),VLOOKUP($C18,PARAM!$A$11:$P$210,CHOOSE(WEEKDAY($B18,2),11,11,11,11,11,13,15),FALSE)),0) -> 0 | E18: =IFERROR(IF($A18="",VLOOKUP($C18,PARAM!$A$11:$I$210,CHOOSE(WEEKDAY($B18,2),3,3,5,3,3,7,9),FALSE),VLOOKUP($C18,PARAM!$A$11:$P$210,CHOOSE(WEEKDAY($B18,2),12,12,12,12,12,14,16),FALSE)),0) -> 0 | F18: =SUM(E18-D18) -> 0 | H18: =(HOUR(F18)*60+MINUTE(F18))/60 -> 0
B19: =B18+1 -> 42507 | C19: 2668 | D19: =IFERROR(IF($A19="",VLOOKUP($C19,PARAM!$A$11:$I$210,CHOOSE(WEEKDAY($B19,2),2,2,4,2,2,6,8),FALSE),VLOOKUP($C19,PARAM!$A$11:$P$210,CHOOSE(WEEKDAY($B19,2),11,11,11,11,11,13,15),FALSE)),0) -> 0.57291667 | E19: =IFERROR(IF($A19="",VLOOKUP($C19,PARAM!$A$11:$I$210,CHOOSE(WEEKDAY($B19,2),3,3,5,3,3,7,9),FALSE),VLOOKUP($C19,PARAM!$A$11:$P$210,CHOOSE(WEEKDAY($B19,2),12,12,12,12,12,14,16),FALSE)),0) -> 0.94583333 | F19: =SUM(E19-D19) -> 0.37291667 | G19: Après-midi | H19: =(HOUR(F19)*60+MINUTE(F19))/60 -> 8.95
B20: =B19+1 -> 42508 | C20: 2666 | D20: =IFERROR(IF($A20="",VLOOKUP($C20,PARAM!$A$11:$I$210,CHOOSE(WEEKDAY($B20,2),2,2,4,2,2,6,8),FALSE),VLOOKUP($C20,PARAM!$A$11:$P$210,CHOOSE(WEEKDAY($B20,2),11,11,11,11,11,13,15),FALSE)),0) -> 0.54166667 | E20: =IFERROR(IF($A20="",VLOOKUP($C20,PARAM!$A$11:$I$210,CHOOSE(WEEKDAY($B20,2),3,3,5,3,3,7,9),FALSE),VLOOKUP($C20,PARAM!$A$11:$P$210,CHOOSE(WEEKDAY($B20,2),12,12,12,12,12,14,16),FALSE)),0) -> 0.81180556 | F20: =SUM(E20-D20) -> 0.27013889 | G20: Payé double | H20: =(HOUR(F20)*60+MINUTE(F20))/60 -> 6.4833333
