Workbook
Name An: PARAM!$B$1
Name COM: PARAM!$R$11:$R$21
Name Paques: PARAM!$B$4
Name Services: PARAM!$A$11:$A$210
Name TYPE: PARAM!$T$11:$T$12

Sheet PARAM
A1: PARAMETRES | AA1: Nouvel An | AB1: =DATE(B3,1,1) -> 42370
AA2: L. Pâques | AB2: =IF(MOD(19*MOD(B3,19)+24,30)+MOD(2*MOD(B3,4)+4*MOD(B3,7)+6* MOD(19*MOD(B3,19)+24,30)+5,7)-9<=0,DATE(B3,3,22+MOD(19*MOD(B3, 19)+24,30)+MOD(2*MOD(B3,4)+4*MOD(B3,7)+6*MOD(19*MOD(B3,19)+24, 30)+5,7)),DATE(B3,4,MOD(19*MOD(B3,19)+24,30)+MOD(2*MOD(B3,4)+4* MOD(B3,7)+6*MOD(19*MOD(B3,19)+24,30)+5,7)-9))+1 -> 42457
A3: ANNEE | B3: 2016 | AA3: F. Travail | AB3: =DATE(B3,5,1) -> 42491
AA4: Ascension | AB4: =AB2+38 -> 42495
D5: 0.57986111 | E5: 0.23819444 | F5: =D5-E5 -> 0.34166667 | AA5: L. Pentecôte | AB5: =AB2+49 -> 42506
AA6: F. Nationale | AB6: =DATE(B3,7,21) -> 42572
A7: 1 | B7: 2 | C7: 3 | D7: 4 | E7: 5 | F7: 6 | G7: 7 | H7: 8 | I7: 9 | J7: 10 | K7: 11 | L7: 12 | M7: 13 | N7: 14 | O7: 15 | P7: 16 | AA7: Assomption | AB7: =DATE(B3,8,15) -> 42597
A8: GRILLE DES HORAIRES PAR SERVICES / JOURS | K8: GRILLE DES HORAIRES PAR SERVICES / JOURS - CONGES | AA8: Toussaint | AB8: =DATE(B3,11,1) -> 42675
A9: JOURS | B9: Lundi-Mardi-Jeudi-Vendredi | D9: Mercredi | F9: Samedi | H9: Dimanche | K9: Lundi-Mardi-Mercredi-Jeudi-Vendredi | M9: Samedi | O9: Dimanche | AA9: Armistice | AB9: =DATE(B3,11,11) -> 42685
A10: SERVICE | B10: DEBUT | C10: FIN | D10: DEBUT | E10: FIN | F10: DEBUT | G10: FIN | H10: DEBUT | I10: FIN | K10: DEBUT | L10: FIN | M10: DEBUT | N10: FIN | O10: DEBUT | P10: FIN | R10: Commentaires | T10: TYPE | AA10: Noël | AB10: =DATE(B3,12,25) -> 42729
A11: CAP (Mons) | B11: 0.33333333 | C11: 0.70833333 | D11: 0.33333333 | E11: 0.70833333 | K11: 0.33333333 | L11: 0.70833333 | R11: Matin | T11: F
A12: CC | R12: Après-midi | T12: C
A13: CF | B13: 0.33333333 | C13: 0.66666667 | D13: 0.33333333 | E13: 0.66666667 | F13: 0.33333333 | G13: 0.66666667 | K13: 0.33333333 | L13: 0.66666667 | M13: 0.33333333 | N13: 0.66666667 | R13: Payé double
A14: CR | R14: Payé triple
A15: Ecolage | B15: 0.33333333 | C15: 0.66666667 | D15: 0.33333333 | E15: 0.66666667 | K15: 0.33333333 | L15: 0.66666667 | R15: Malade
A16: Férié
A17: Grève
A18: Ma
A19: SU | B19: 0.33333333 | C19: 0.66666667 | D19: 0.33333333 | E19: 0.66666667 | K19: 0.33333333 | L19: 0.66666667
A20: VA
A22: 2501 | B22: 0.23819444 | C22: 0.57986111 | D22: 0.23819444 | E22: 0.57986111 | F22: 0.26388889 | G22: 0.57986111 | H22: 0.27986111 | I22: 0.53819444 | K22: 0.20763889 | L22: 0.53819444 | M22: 0.26388889 | N22: 0.57986111 | O22: 0.27986111 | P22: 0.53819444
A23: 2502 | B23: 0.20486111 | C23: 0.54097222 | D23: 0.20486111 | E23: 0.54097222 | F23: 0.27986111 | G23: 0.53819444 | H23: 0.24930556 | I23: 0.57916667 | K23: 0.24930556 | L23: 0.58263889 | M23: 0.27986111 | N23: 0.53819444 | O23: 0.24930556 | P23: 0.57916667
A24: 2503 | B24: 0.18958333 | C24: 0.53819444 | D24: 0.18958333 | E24: 0.53819444 | F24: 0.24930556 | G24: 0.58194444 | K24: 0.23472222 | L24: 0.54097222 | M24: 0.24930556 | N24: 0.58194444
A25: 2504 | B25: 0.21736111 | C25: 0.58263889 | D25: 0.21736111 | E25: 0.58263889 | F25: 0.27986111 | G25: 0.54027778 | K25: 0.23819444 | L25: 0.57986111 | M25: 0.27986111 | N25: 0.54027778
A26: 2510 | B26: 0.18472222 | C26: 0.57916667 | D26: 0.18472222 | E26: 0.56875 | F26: 0.22430556 | G26: 0.53541667 | H26: 0.27152778 | I26: 0.57916667 | K26: 0.1875 | L26: 0.47361111 | M26: 0.22430556 | N26: 0.53541667 | O26: 0.27152778 | P26: 0.57916667
A27: 2511 | B27: 0.25347222 | C27: 0.59861111 | D27: 0.25347222 | E27: 0.58611111 | F27: 0.26597222 | G27: 0.57708333 | K27: 0.21666667 | L27: 0.59861111 | M27: 0.26597222 | N27: 0.57708333
A28: 2518 | B28: 0.17708333 | C28: 0.5125 | D28: 0.17708333 | E28: 0.5125 | K28: 0.22916667 | L28: 0.56458333
A29: 2520 | B29: 0.25763889 | C29: 0.59513889 | D29: 0.25763889 | E29: 0.59513889 | F29: 0.24097222 | G29: 0.55902778 | H29: 0.29166667 | I29: 0.61041667 | K29: 0.20833333 | L29: 0.55347222 | M29: 0.24097222 | N29: 0.55902778 | O29: 0.29166667 | P29: 0.61041667
A30: 2521 | B30: 0.18125 | C30: 0.53680556 | D30: 0.18125 | E30: 0.53680556 | F30: 0.23958333 | G30: 0.57430556 | K30: 0.18541667 | L30: 0.52847222 | M30: 0.23958333 | N30: 0.57430556
A31: 2522 | B31: 0.27986111 | C31: 0.62708333 | D31: 0.27986111 | E31: 0.62708333
A32: 2523 | B32: 0.23125 | C32: 0.58611111 | D32: 0.23125 | E32: 0.58611111 | F32: 0.26319444 | G32: 0.59375 | K32: 0.27708333 | L32: 0.59166667 | M32: 0.26319444 | N32: 0.59375
A33: 2524 | B33: 0.20486111 | C33: 0.54097222 | D33: 0.20486111 | E33: 0.54861111 | F33: 0.25625 | G33: 0.55208333 | K33: 0.23541667 | L33: 0.57013889 | M33: 0.25625 | N33: 0.55208333
A34: 2525 | B34: 0.22986111 | C34: 0.59097222 | D34: 0.22986111 | E34: 0.57013889 | K34: 0.2125 | L34: 0.57013889
A35: 2526 | B35: 0.1875 | C35: 0.50625 | D35: 0.1875 | E35: 0.53125
A36: 2530 | B36: 0.1875 | C36: 0.58263889 | D36: 0.1875 | E36: 0.55694444 | F36: 0.26388889 | G36: 0.58055556 | K36: 0.18680556 | L36: 0.54930556 | M36: 0.26388889 | N36: 0.58055556
A37: 2531 | B37: 0.2125 | C37: 0.56875 | D37: 0.2125 | E37: 0.56875 | F37: 0.28263889 | G37: 0.57916667 | H37: 0.29930556 | I37: 0.59930556 | K37: 0.21319444 | L37: 0.54444444 | M37: 0.28263889 | N37: 0.57916667 | O37: 0.29930556 | P37: 0.59930556
A38: 2532 | B38: 0.22152778 | C38: 0.54791667 | D38: 0.22152778 | E38: 0.54791667 | F38: 0.21458333 | G38: 0.57291667 | K38: 0.22638889 | L38: 0.56875 | M38: 0.21458333 | N38: 0.57291667
A39: 2533 | B39: 0.225 | C39: 0.58958333 | D39: 0.225 | E39: 0.58958333 | F39: 0.23819444 | G39: 0.56041667 | K39: 0.22777778 | L39: 0.60972222 | M39: 0.23819444 | N39: 0.56041667
A40: 2534 | B40: 0.24930556 | C40: 0.55833333 | D40: 0.24930556 | E40: 0.55833333 | K40: 0.25277778 | L40: 0.57013889
A41: 2535 | B41: 0.25625 | C41: 0.58472222 | D41: 0.25625 | E41: 0.58472222
A42: 2536 | B42: 0.25763889 | C42: 0.58680556 | D42: 0.25763889 | E42: 0.58680556
A43: 2540 | B43: 0.20972222 | C43: 0.56458333 | D43: 0.20972222 | E43: 0.56458333 | F43: 0.25416667 | G43: 0.61944444 | H43: 0.25416667 | I43: 0.61527778 | K43: 0.1875 | L43: 0.48680556 | M43: 0.25416667 | N43: 0.61944444 | O43: 0.25416667 | P43: 0.61527778
A44: 2541 | B44: 0.17013889 | C44: 0.48333333 | D44: 0.17013889 | E44: 0.48333333 | F44: 0.25833333 | G44: 0.59791667 | H44: 0.23541667 | I44: 0.57708333 | K44: 0.16875 | L44: 0.52847222 | M44: 0.25833333 | N44: 0.59791667 | O44: 0.23541667 | P44: 0.57708333
A45: 2542 | B45: 0.19861111 | C45: 0.5875 | D45: 0.19861111 | E45: 0.5875 | F45: 0.3375 | G45: 0.62708333 | H45: 0.26180556 | I45: 0.55208333 | K45: 0.17152778 | L45: 0.54166667 | M45: 0.3375 | N45: 0.62708333 | O45: 0.26180556 | P45: 0.55208333
A46: 2543 | B46: 0.19166667 | C46: 0.54583333 | D46: 0.19166667 | E46: 0.54583333 | F46: 0.27083333 | G46: 0.57777778 | K46: 0.21041667 | L46: 0.57013889 | M46: 0.27083333 | N46: 0.57777778
A47: 2544 | B47: 0.17083333 | C47: 0.525 | D47: 0.17083333 | E47: 0.525 | F47: 0.25694444 | G47: 0.58541667 | K47: 0.33402778 | L47: 0.61180556 | M47: 0.25694444 | N47: 0.58541667
A48: 2545 | B48: 0.2125 | C48: 0.56666667 | D48: 0.2125 | E48: 0.56666667
A49: 2546 | B49: 0.24722222 | C49: 0.56597222 | D49: 0.24722222 | E49: 0.56597222
A50: 2560 | B50: 0.22361111 | C50: 0.58333333 | D50: 0.22361111 | E50: 0.58333333 | F50: 0.20763889 | G50: 0.59652778 | K50: 0.19097222 | L50: 0.51527778 | M50: 0.20763889 | N50: 0.59652778
A51: 2561 | B51: 0.20972222 | C51: 0.52222222 | D51: 0.20972222 | E51: 0.52222222 | F51: 0.21944444 | G51: 0.58055556 | K51: 0.18680556 | L51: 0.55694444 | M51: 0.21944444 | N51: 0.58055556
A52: 2562 | B52: 0.27152778 | C52: 0.57222222 | D52: 0.27152778 | E52: 0.57222222 | F52: 0.27083333 | G52: 0.60763889 | K52: 0.19930556 | L52: 0.50972222 | M52: 0.27083333 | N52: 0.60763889
A53: 2563 | B53: 0.21180556 | C53: 0.59305556 | D53: 0.21180556 | E53: 0.59305556 | F53: 0.23611111 | G53: 0.56180556 | K53: 0.17013889 | L53: 0.52083333 | M53: 0.23611111 | N53: 0.56180556
A54: 2564 | B54: 0.22222222 | C54: 0.55138889 | D54: 0.22222222 | E54: 0.55138889 | F54: 0.23958333 | G54: 0.55486111 | K54: 0.20416667 | L54: 0.59305556 | M54: 0.23958333 | N54: 0.55486111
A55: 2565 | B55: 0.19166667 | C55: 0.54513889 | D55: 0.19166667 | E55: 0.54513889 | F55: 0.36736111 | G55: 0.67569444 | H55: 0.25555556 | I55: 0.56111111 | M55: 0.36736111 | N55: 0.67569444 | O55: 0.25555556 | P55: 0.56111111
A56: 2566 | B56: 0.20277778 | C56: 0.5625 | D56: 0.20277778 | E56: 0.5625
A57: 2567 | B57: 0.21597222 | C57: 0.58680556 | D57: 0.21597222 | E57: 0.55972222 | H57: 0.22013889 | I57: 0.58263889 | O57: 0.22013889 | P57: 0.58263889
A58: 2568 | B58: 0.21875 | C58: 0.60763889 | D58: 0.21875 | E58: 0.60763889 | K58: 0.22013889 | L58: 0.60416667
A59: 2569 | B59: 0.22013889 | C59: 0.60555556 | D59: 0.22013889 | E59: 0.60555556 | H59: 0.25833333 | I59: 0.61597222 | O59: 0.25833333 | P59: 0.61597222
A60: 2570 | F60: 0.31458333 | G60: 0.60208333 | M60: 0.31458333 | N60: 0.60208333
A61: 2581 | B61: 0.18402778 | C61: 0.52083333 | D61: 0.18402778 | E61: 0.52083333 | K61: 0.18402778 | L61: 0.52083333
A62: 2582 | B62: 0.16319444 | C62: 0.5 | D62: 0.16319444 | E62: 0.5 | F62: 0.20833333 | G62: 0.54513889 | H62: 0.21180556 | I62: 0.54861111 | K62: 0.17013889 | L62: 0.50694444 | M62: 0.20833333 | N62: 0.54513889 | O62: 0.21180556 | P62: 0.54861111
A63: 2601 | B63: 0.52986111 | C63: 0.87430556 | D63: 0.52986111 | E63: 0.87430556 | F63: 0.52986111 | G63: 0.87569444 | H63: 0.52986111 | I63: 0.87152778 | K63: 0.52986111 | L63: 0.87430556 | M63: 0.52986111 | N63: 0.87569444 | O63: 0.52986111 | P63: 0.87152778
A64: 2602 | B64: 0.52986111 | C64: 0.92569444 | D64: 0.52986111 | E64: 0.92569444 | F64: 0.57152778 | G64: 0.91527778 | H64: 0.57152778 | I64: 0.91666667 | K64: 0.52986111 | L64: 0.93472222 | M64: 0.57152778 | N64: 0.91527778 | O64: 0.57152778 | P64: 0.91666667
A65: 2603 | B65: 0.57152778 | C65: 0.91597222 | D65: 0.57152778 | E65: 0.91319444 | F65: 0.57152778 | G65: 0.82986111 | K65: 0.57152778 | L65: 0.91597222 | M65: 0.57152778 | N65: 0.82986111
A66: 2604 | B66: 0.57152778 | C66: 0.91319444 | D66: 0.57152778 | E66: 0.91597222 | F66: 0.52986111 | G66: 0.79027778 | K66: 0.57152778 | L66: 0.91319444 | M66: 0.52986111 | N66: 0.79027778
A67: 2610 | B67: 0.55833333 | C67: 0.97361111 | D67: 0.62986111 | E67: 0.97361111 | F67: 0.51458333 | G67: 0.90763889 | H67: 0.55833333 | I67: 0.92638889 | K67: 0.61944444 | L67: 0.97361111 | M67: 0.51458333 | N67: 0.90763889 | O67: 0.55833333 | P67: 0.92638889
A68: 2611 | B68: 0.57777778 | C68: 0.93541667 | D68: 0.58819444 | E68: 0.93541667 | F68: 0.55625 | G68: 0.92430556 | K68: 0.57777778 | L68: 0.93541667 | M68: 0.55625 | N68: 0.92430556
A69: 2618 | B69: 0.62291667 | C69: 0.95833333 | D69: 0.62291667 | E69: 0.95833333 | F69: 0.62291667 | G69: 0.95833333 | H69: 0.62291667 | I69: 0.95833333 | K69: 0.62291667 | L69: 0.95833333 | M69: 0.62291667 | N69: 0.95833333 | O69: 0.62291667 | P69: 0.95833333
A70: 2620 | B70: 0.56041667 | C70: 0.925 | D70: 0.56041667 | E70: 0.925 | F70: 0.52430556 | G70: 0.88611111 | H70: 0.58819444 | I70: 0.89930556 | K70: 0.51875 | L70: 0.90486111 | M70: 0.52430556 | N70: 0.88611111 | O70: 0.58819444 | P70: 0.89930556
A71: 2621 | B71: 0.51180556 | C71: 0.8 | D71: 0.57986111 | E71: 0.91111111 | F71: 0.53333333 | G71: 0.86111111 | K71: 0.525 | L71: 0.89305556 | M71: 0.53333333 | N71: 0.86111111
A72: 2622 | B72: 0.59513889 | C72: 0.90555556 | D72: 0.47013889 | E72: 0.80069444
A73: 2623 | B73: 0.63263889 | C73: 0.89930556 | D73: 0.63263889 | E73: 0.89930556 | F73: 0.55902778 | G73: 0.89791667 | K73: 0.57083333 | L73: 0.90208333 | M73: 0.55902778 | N73: 0.89791667
A74: 2624 | B74: 0.61041667 | C74: 0.87430556 | D74: 0.51319444 | E74: 0.87430556 | F74: 0.51736111 | G74: 0.86041667 | K74: 0.54930556 | L74: 0.92430556 | M74: 0.51736111 | N74: 0.86041667
A75: 2625 | B75: 0.56666667 | C75: 0.91041667 | D75: 0.56666667 | E75: 0.91041667 | K75: 0.56666667 | L75: 0.91944444
A76: 2626 | B76: 0.51319444 | C76: 0.81111111 | D76: 0.49652778 | E76: 0.81111111
A77: 2630 | B77: 0.54791667 | C77: 0.88958333 | D77: 0.56944444 | E77: 0.88958333 | F77: 0.54583333 | G77: 0.90833333 | H77: 0.56458333 | I77: 0.92638889 | K77: 0.51458333 | L77: 0.85972222 | M77: 0.54583333 | N77: 0.90833333 | O77: 0.56458333 | P77: 0.92638889
A78: 2631 | B78: 0.53402778 | C78: 0.92291667 | D78: 0.53402778 | E78: 0.87986111 | F78: 0.54444444 | G78: 0.90555556 | K78: 0.53888889 | L78: 0.81805556 | M78: 0.54444444 | N78: 0.90555556
A79: 2632 | B79: 0.51319444 | C79: 0.82013889 | D79: 0.51319444 | E79: 0.82013889 | F79: 0.56736111 | G79: 0.88819444 | K79: 0.53402778 | L79: 0.89791667 | M79: 0.56736111 | N79: 0.88819444
A80: 2633 | B80: 0.55486111 | C80: 0.83611111 | D80: 0.55486111 | E80: 0.80694444 | F80: 0.52569444 | G80: 0.86458333 | K80: 0.60138889 | L80: 0.89513889 | M80: 0.52569444 | N80: 0.86458333
A81: 2634 | B81: 0.52361111 | C81: 0.80694444 | D81: 0.52361111 | E81: 0.92291667 | K81: 0.53541667 | L81: 0.87847222
A82: 2635 | B82: 0.56597222 | C82: 0.92638889 | D82: 0.56597222 | E82: 0.92638889
A83: 2636 | B83: 0.54930556 | C83: 0.87986111 | D83: 0.49930556 | E83: 0.86944444
A84: 2640 | B84: 0.62916667 | C84: 0.92152778 | D84: 0.54375 | E84: 0.92152778 | F84: 0.59861111 | G84: 0.92222222 | H84: 0.56875 | I84: 0.92222222 | K84: 0.5625 | L84: 0.92361111 | M84: 0.59861111 | N84: 0.92222222 | O84: 0.56875 | P84: 0.92222222
A85: 2641 | B85: 0.56458333 | C85: 0.84305556 | D85: 0.58541667 | E85: 0.84305556 | F85: 0.5875 | G85: 0.95138889 | H85: 0.55625 | I85: 0.89444444 | K85: 0.66805556 | L85: 0.96527778 | M85: 0.5875 | N85: 0.95138889 | O85: 0.55625 | P85: 0.89444444
A86: 2642 | B86: 0.56666667 | C86: 0.94583333 | D86: 0.56666667 | E86: 0.94583333 | F86: 0.60625 | G86: 0.96875 | H86: 0.59513889 | I86: 0.96875 | K86: 0.52083333 | L86: 0.91388889 | M86: 0.60625 | N86: 0.96875 | O86: 0.59513889 | P86: 0.96875
A87: 2643 | B87: 0.62708333 | C87: 0.96319444 | D87: 0.62708333 | E87: 0.96319444 | F87: 0.55694444 | G87: 0.84722222 | K87: 0.54930556 | L87: 0.94791667 | M87: 0.55694444 | N87: 0.84722222
A88: 2644 | B88: 0.50416667 | C88: 0.82013889 | D88: 0.50416667 | E88: 0.82013889 | F88: 0.56458333 | G88: 0.95 | K88: 0.46597222 | L88: 0.75833333 | M88: 0.56458333 | N88: 0.95
A89: 2645 | B89: 0.54583333 | C89: 0.81597222 | D89: 0.54583333 | E89: 0.81597222
A90: 2660 | B90: 0.5625 | C90: 0.95347222 | D90: 0.5625 | E90: 0.95347222 | F90: 0.57569444 | G90: 0.83472222 | K90: 0.61527778 | L90: 0.95277778 | M90: 0.57569444 | N90: 0.83472222
A91: 2661 | B91: 0.4875 | C91: 0.78888889 | D91: 0.4875 | E91: 0.78888889 | F91: 0.54583333 | G91: 0.91736111 | K91: 0.55902778 | L91: 0.94652778 | M91: 0.54583333 | N91: 0.91736111
A92: 2662 | B92: 0.55138889 | C92: 0.93472222 | D92: 0.55138889 | E92: 0.93472222 | F92: 0.57291667 | G92: 0.95902778 | K92: 0.59027778 | L92: 0.95833333 | M92: 0.57291667 | N92: 0.95902778
A93: 2663 | B93: 0.62569444 | C93: 0.94583333 | D93: 0.62569444 | E93: 0.94583333 | F93: 0.54097222 | G93: 0.91944444 | K93: 0.51041667 | L93: 0.89027778 | M93: 0.54097222 | N93: 0.91944444
A94: 2664 | B94: 0.61944444 | C94: 0.97222222 | D94: 0.61944444 | E94: 0.97222222 | F94: 0.64097222 | G94: 0.97083333 | K94: 0.57222222 | L94: 0.93194444 | M94: 0.64097222 | N94: 0.97083333
A95: 2665 | B95: 0.51041667 | C95: 0.85277778 | D95: 0.51041667 | E95: 0.85277778 | F95: 0.61458333 | G95: 0.86597222 | H95: 0.5875 | I95: 0.94861111 | M95: 0.61458333 | N95: 0.86597222 | O95: 0.5875 | P95: 0.94861111
A96: 2666 | B96: 0.54166667 | C96: 0.81180556 | D96: 0.54166667 | E96: 0.81180556
A97: 2667 | B97: 0.45902778 | C97: 0.83055556 | D97: 0.45902778 | E97: 0.83055556 | H97: 0.56180556 | I97: 0.94930556 | O97: 0.56180556 | P97: 0.94930556
A98: 2668 | B98: 0.57291667 | C98: 0.94583333 | D98: 0.57291667 | E98: 0.94583333 | K98: 0.59375 | L98: 0.95069444
A99: 2669 | B99: 0.57083333 | C99: 0.85138889 | D99: 0.57083333 | E99: 0.85138889 | H99: 0.59513889 | I99: 0.88541667 | O99: 0.59513889 | P99: 0.88541667
A100: 2681 | B100: 0.51736111 | C100: 0.85416667 | D100: 0.51736111 | E100: 0.85416667 | K100: 0.51736111 | L100: 0.85416667
A101: 2682 | B101: 0.49652778 | C101: 0.83333333 | D101: 0.49652778 | E101: 0.83333333 | F101: 0.49652778 | G101: 0.83333333 | K101: 0.49652778 | L101: 0.83333333 | M101: 0.49652778 | N101: 0.83333333

Sheet 01
B1: PRESTATIONS DU MOIS DE : | D1: =DATE(PARAM!$B$3,RIGHT(CELL("nomfichier",D1),2),1) -> 42370
A2: Type | B2: Date | C2: Services | D2: H/Début | E2: H/Fin | F2: Nb heures | G2: Commentaires
B3: =DATE(PARAM!$B$3,1,1) -> 42370 | D3: =IFERROR(IF($A3="",VLOOKUP($C3,PARAM!$A$11:$I$210,CHOOSE(WEEKDAY($B3,2),2,2,4,2,2,6,8),FALSE),VLOOKUP($C3,PARAM!$A$11:$P$210,CHOOSE(WEEKDAY($B3,2),11,11,11,11,11,13,15),FALSE)),0) -> 0 | E3: =IFERROR(IF($A3="",VLOOKUP($C3,PARAM!$A$11:$I$210,CHOOSE(WEEKDAY($B3,2),3,3,5,3,3,7,9),FALSE),VLOOKUP($C3,PARAM!$A$11:$P$210,CHOOSE(WEEKDAY($B3,2),12,12,12,12,12,14,16),FALSE)),0) -> 0 | F3: =SUM(E3-D3) -> 0
B4: =B3+1 -> 42371 | D4: =IFERROR(IF($A4="",VLOOKUP($C4,PARAM!$A$11:$I$210,CHOOSE(WEEKDAY($B4,2),2,2,4,2,2,6,8),FALSE),VLOOKUP($C4,PARAM!$A$11:$P$210,CHOOSE(WEEKDAY($B4,2),11,11,11,11,11,13,15),FALSE)),0) -> 0 | E4: =IFERROR(IF($A4="",VLOOKUP($C4,PARAM!$A$11:$I$210,CHOOSE(WEEKDAY($B4,2),3,3,5,3,3,7,9),FALSE),VLOOKUP($C4,PARAM!$A$11:$P$210,CHOOSE(WEEKDAY($B4,2),12,12,12,12,12,14,16),FALSE)),0) -> 0 | F4: =SUM(E4-D4) -> 0
B5: =B4+1 -> 42372 | D5: =IFERROR(IF($A5="",VLOOKUP($C5,PARAM!$A$11:$I$210,CHOOSE(WEEKDAY($B5,2),2,2,4,2,2,6,8),FALSE),VLOOKUP($C5,PARAM!$A$11:$P$210,CHOOSE(WEEKDAY($B5,2),11,11,11,11,11,13,15),FALSE)),0) -> 0 | E5: =IFERROR(IF($A5="",VLOOKUP($C5,PARAM!$A$11:$I$210,CHOOSE(WEEKDAY($B5,2),3,3,5,3,3,7,9),FALSE),VLOOKUP($C5,PARAM!$A$11:$P$210,CHOOSE(WEEKDAY($B5,2),12,12,12,12,12,14,16),FALSE)),0) -> 0 | F5: =SUM(E5-D5) -> 0
B6: =B5+1 -> 42373 | D6: =IFERROR(IF($A6="",VLOOKUP($C6,PARAM!$A$11:$I$210,CHOOSE(WEEKDAY($B6,2),2,2,4,2,2,6,8),FALSE),VLOOKUP($C6,PARAM!$A$11:$P$210,CHOOSE(WEEKDAY($B6,2),11,11,11,11,11,13,15),FALSE)),0) -> 0 | E6: =IFERROR(IF($A6="",VLOOKUP($C6,PARAM!$A$11:$I$210,CHOOSE(WEEKDAY($B6,2),3,3,5,3,3,7,9),FALSE),VLOOKUP($C6,PARAM!$A$11:$P$210,CHOOSE(WEEKDAY($B6,2),12,12,12,12,12,14,16),FALSE)),0) -> 0 | F6: =SUM(E6-D6) -> 0
B7: =B6+1 -> 42374 | D7: =IFERROR(IF($A7="",VLOOKUP($C7,PARAM!$A$11:$I$210,CHOOSE(WEEKDAY($B7,2),2,2,4,2,2,6,8),FALSE),VLOOKUP($C7,PARAM!$A$11:$P$210,CHOOSE(WEEKDAY($B7,2),11,11,11,11,11,13,15),FALSE)),0) -> 0 | E7: =IFERROR(IF($A7="",VLOOKUP($C7,PARAM!$A$11:$I$210,CHOOSE(WEEKDAY($B7,2),3,3,5,3,3,7,9),FALSE),VLOOKUP($C7,PARAM!$A$11:$P$210,CHOOSE(WEEKDAY($B7,2),12,12,12,12,12,14,16),FALSE)),0) -> 0 | F7: =SUM(E7-D7) -> 0
B8: =B7+1 -> 42375 | D8: =IFERROR(IF($A8="",VLOOKUP($C8,PARAM!$A$11:$I$210,CHOOSE(WEEKDAY($B8,2),2,2,4,2,2,6,8),FALSE),VLOOKUP($C8,PARAM!$A$11:$P$210,CHOOSE(WEEKDAY($B8,2),11,11,11,11,11,13,15),FALSE)),0) -> 0 | E8: =IFERROR(IF($A8="",VLOOKUP($C8,PARAM!$A$11:$I$210,CHOOSE(WEEKDAY($B8,2),3,3,5,3,3,7,9),FALSE),VLOOKUP($C8,PARAM!$A$11:$P$210,CHOOSE(WEEKDAY($B8,2),12,12,12,12,12,14,16),FALSE)),0) -> 0 | F8: =SUM(E8-D8) -> 0
B9: =B8+1 -> 42376 | D9: =IFERROR(IF($A9="",VLOOKUP($C9,PARAM!$A$11:$I$210,CHOOSE(WEEKDAY($B9,2),2,2,4,2,2,6,8),FALSE),VLOOKUP($C9,PARAM!$A$11:$P$210,CHOOSE(WEEKDAY($B9,2),11,11,11,11,11,13,15),FALSE)),0) -> 0 | E9: =IFERROR(IF($A9="",VLOOKUP($C9,PARAM!$A$11:$I$210,CHOOSE(WEEKDAY($B9,2),3,3,5,3,3,7,9),FALSE),VLOOKUP($C9,PARAM!$A$11:$P$210,CHOOSE(WEEKDAY($B9,2),12,12,12,12,12,14,16),FALSE)),0) -> 0 | F9: =SUM(E9-D9) -> 0
B10: =B9+1 -> 42377 | D10: =IFERROR(IF($A10="",VLOOKUP($C10,PARAM!$A$11:$I$210,CHOOSE(WEEKDAY($B10,2),2,2,4,2,2,6,8),FALSE),VLOOKUP($C10,PARAM!$A$11:$P$210,CHOOSE(WEEKDAY($B10,2),11,11,11,11,11,13,15),FALSE)),0) -> 0 | E10: =IFERROR(IF($A10="",VLOOKUP($C10,PARAM!$A$11:$I$210,CHOOSE(WEEKDAY($B10,2),3,3,5,3,3,7,9),FALSE),VLOOKUP($C10,PARAM!$A$11:$P$210,CHOOSE(WEEKDAY($B10,2),12,12,12,12,12,14,16),FALSE)),0) -> 0 | F10: =SUM(E10-D10) -> 0
B11: =B10+1 -> 42378 | D11: =IFERROR(IF($A11="",VLOOKUP($C11,PARAM!$A$11:$I$210,CHOOSE(WEEKDAY($B11,2),2,2,4,2,2,6,8),FALSE),VLOOKUP($C11,PARAM!$A$11:$P$210,CHOOSE(WEEKDAY($B11,2),11,11,11,11,11,13,15),FALSE)),0) -> 0 | E11: =IFERROR(IF($A11="",VLOOKUP($C11,PARAM!$A$11:$I$210,CHOOSE(WEEKDAY($B11,2),3,3,5,3,3,7,9),FALSE),VLOOKUP($C11,PARAM!$A$11:$P$210,CHOOSE(WEEKDAY($B11,2),12,12,12,12,12,14,16),FALSE)),0) -> 0 | F11: =SUM(E11-D11) -> 0
B12: =B11+1 -> 42379 | D12: =IFERROR(IF($A12="",VLOOKUP($C12,PARAM!$A$11:$I$210,CHOOSE(WEEKDAY($B12,2),2,2,4,2,2,6,8),FALSE),VLOOKUP($C12,PARAM!$A$11:$P$210,CHOOSE(WEEKDAY($B12,2),11,11,11,11,11,13,15),FALSE)),0) -> 0 | E12: =IFERROR(IF($A12="",VLOOKUP($C12,PARAM!$A$11:$I$210,CHOOSE(WEEKDAY($B12,2),3,3,5,3,3,7,9),FALSE),VLOOKUP($C12,PARAM!$A$11:$P$210,CHOOSE(WEEKDAY($B12,2),12,12,12,12,12,14,16),FALSE)),0) -> 0 | F12: =SUM(E12-D12) -> 0
B13: =B12+1 -> 42380 | D13: =IFERROR(IF($A13="",VLOOKUP($C13,PARAM!$A$11:$I$210,CHOOSE(WEEKDAY($B13,2),2,2,4,2,2,6,8),FALSE),VLOOKUP($C13,PARAM!$A$11:$P$210,CHOOSE(WEEKDAY($B13,2),11,11,11,11,11,13,15),FALSE)),0) -> 0 | E13: =IFERROR(IF($A13="",VLOOKUP($C13,PARAM!$A$11:$I$210,CHOOSE(WEEKDAY($B13,2),3,3,5,3,3,7,9),FALSE),VLOOKUP($C13,PARAM!$A$11:$P$210,CHOOSE(WEEKDAY($B13,2),12,12,12,12,12,14,16),FALSE)),0) -> 0 | F13: =SUM(E13-D13) -> 0
B14: =B13+1 -> 42381 | D14: =IFERROR(IF($A14="",VLOOKUP($C14,PARAM!$A$11:$I$210,CHOOSE(WEEKDAY($B14,2),2,2,4,2,2,6,8),FALSE),VLOOKUP($C14,PARAM!$A$11:$P$210,CHOOSE(WEEKDAY($B14,2),11,11,11,11,11,13,15),FALSE)),0) -> 0 | E14: =IFERROR(IF($A14="",VLOOKUP($C14,PARAM!$A$11:$I$210,CHOOSE(WEEKDAY($B14,2),3,3,5,3,3,7,9),FALSE),VLOOKUP($C14,PARAM!$A$11:$P$210,CHOOSE(WEEKDAY($B14,2),12,12,12,12,12,14,16),FALSE)),0) -> 0 | F14: =SUM(E14-D14) -> 0
B15: =B14+1 -> 42382 | D15: =IFERROR(IF($A15="",VLOOKUP($C15,PARAM!$A$11:$I$210,CHOOSE(WEEKDAY($B15,2),2,2,4,2,2,6,8),FALSE),VLOOKUP($C15,PARAM!$A$11:$P$210,CHOOSE(WEEKDAY($B15,2),11,11,11,11,11,13,15),FALSE)),0) -> 0 | E15: =IFERROR(IF($A15="",VLOOKUP($C15,PARAM!$A$11:$I$210,CHOOSE(WEEKDAY($B15,2),3,3,5,3,3,7,9),FALSE),VLOOKUP($C15,PARAM!$A$11:$P$210,CHOOSE(WEEKDAY($B15,2),12,12,12,12,12,14,16),FALSE)),0) -> 0 | F15: =SUM(E15-D15) -> 0
... B33: =B32+1 -> 42400 | D33: =IFERROR(IF($A33="",VLOOKUP($C33,PARAM!$A$11:$I$210,CHOOSE(WEEKDAY($B33,2),2,2,4,2,2,6,8),FALSE),VLOOKUP($C33,PARAM!$A$11:$P$210,CHOOSE(WEEKDAY($B33,2),11,11,11,11,11,13,15),FALSE)),0) -> 0 | E33: =IFERROR(IF($A33="",VLOOKUP($C33,PARAM!$A$11:$I$210,CHOOSE(WEEKDAY($B33,2),3,3,5,3,3,7,9),FALSE),VLOOKUP($C33,PARAM!$A$11:$P$210,CHOOSE(WEEKDAY($B33,2),12,12,12,12,12,14,16),FALSE)),0) -> 0 | F33: =SUM(E33-D33) -> 0
B34: Total | F34: =SUM(F3:F33) -> 0
F1048576: =SUM(F34) -> 0

Sheet 02
B1: PRESTATIONS DU MOIS DE : | D1: =DATE(PARAM!$B$3,RIGHT(CELL("nomfichier",D1),2),1) -> 42401
A2: Type | B2: Date | C2: Services | D2: H/Début | E2: H/Fin | F2: Nb heures | G2: Commentaires
B3: =DATE(PARAM!$B$3,RIGHT(CELL("nomfichier",D1),2),1) -> 42401 | D3: =IFERROR(IF($A3="",VLOOKUP($C3,PARAM!$A$11:$I$210,CHOOSE(WEEKDAY($B3,2),2,2,4,2,2,6,8),FALSE),VLOOKUP($C3,PARAM!$A$11:$P$210,CHOOSE(WEEKDAY($B3,2),11,11,11,11,11,13,15),FALSE)),0) -> 0 | E3: =IFERROR(IF($A3="",VLOOKUP($C3,PARAM!$A$11:$I$210,CHOOSE(WEEKDAY($B3,2),3,3,5,3,3,7,9),FALSE),VLOOKUP($C3,PARAM!$A$11:$P$210,CHOOSE(WEEKDAY($B3,2),12,12,12,12,12,14,16),FALSE)),0) -> 0 | F3: =SUM(E3-D3) -> 0
B4: =B3+1 -> 42402 | D4: =IFERROR(IF($A4="",VLOOKUP($C4,PARAM!$A$11:$I$210,CHOOSE(WEEKDAY($B4,2),2,2,4,2,2,6,8),FALSE),VLOOKUP($C4,PARAM!$A$11:$P$210,CHOOSE(WEEKDAY($B4,2),11,11,11,11,11,13,15),FALSE)),0) -> 0 | E4: =IFERROR(IF($A4="",VLOOKUP($C4,PARAM!$A$11:$I$210,CHOOSE(WEEKDAY($B4,2),3,3,5,3,3,7,9),FALSE),VLOOKUP($C4,PARAM!$A$11:$P$210,CHOOSE(WEEKDAY($B4,2),12,12,12,12,12,14,16),FALSE)),0) -> 0 | F4: =SUM(E4-D4) -> 0
B5: =B4+1 -> 42403 | D5: =IFERROR(IF($A5="",VLOOKUP($C5,PARAM!$A$11:$I$210,CHOOSE(WEEKDAY($B5,2),2,2,4,2,2,6,8),FALSE),VLOOKUP($C5,PARAM!$A$11:$P$210,CHOOSE(WEEKDAY($B5,2),11,11,11,11,11,13,15),FALSE)),0) -> 0 | E5: =IFERROR(IF($A5="",VLOOKUP($C5,PARAM!$A$11:$I$210,CHOOSE(WEEKDAY($B5,2),3,3,5,3,3,7,9),FALSE),VLOOKUP($C5,PARAM!$A$11:$P$210,CHOOSE(WEEKDAY($B5,2),12,12,12,12,12,14,16),FALSE)),0) -> 0 | F5: =SUM(E5-D5) -> 0
B6: =B5+1 -> 42404 | D6: =IFERROR(IF($A6="",VLOOKUP($C6,PARAM!$A$11:$I$210,CHOOSE(WEEKDAY($B6,2),2,2,4,2,2,6,8),FALSE),VLOOKUP($C6,PARAM!$A$11:$P$210,CHOOSE(WEEKDAY($B6,2),11,11,11,11,11,13,15),FALSE)),0) -> 0 | E6: =IFERROR(IF($A6="",VLOOKUP($C6,PARAM!$A$11:$I$210,CHOOSE(WEEKDAY($B6,2),3,3,5,3,3,7,9),FALSE),VLOOKUP($C6,PARAM!$A$11:$P$210,CHOOSE(WEEKDAY($B6,2),12,12,12,12,12,14,16),FALSE)),0) -> 0 | F6: =SUM(E6-D6) -> 0
B7: =B6+1 -> 42405 | D7: =IFERROR(IF($A7="",VLOOKUP($C7,PARAM!$A$11:$I$210,CHOOSE(WEEKDAY($B7,2),2,2,4,2,2,6,8),FALSE),VLOOKUP($C7,PARAM!$A$11:$P$210,CHOOSE(WEEKDAY($B7,2),11,11,11,11,11,13,15),FALSE)),0) -> 0 | E7: =IFERROR(IF($A7="",VLOOKUP($C7,PARAM!$A$11:$I$210,CHOOSE(WEEKDAY($B7,2),3,3,5,3,3,7,9),FALSE),VLOOKUP($C7,PARAM!$A$11:$P$210,CHOOSE(WEEKDAY($B7,2),12,12,12,12,12,14,16),FALSE)),0) -> 0 | F7: =SUM(E7-D7) -> 0
B8: =B7+1 -> 42406 | D8: =IFERROR(IF($A8="",VLOOKUP($C8,PARAM!$A$11:$I$210,CHOOSE(WEEKDAY($B8,2),2,2,4,2,2,6,8),FALSE),VLOOKUP($C8,PARAM!$A$11:$P$210,CHOOSE(WEEKDAY($B8,2),11,11,11,11,11,13,15),FALSE)),0) -> 0 | E8: =IFERROR(IF($A8="",VLOOKUP($C8,PARAM!$A$11:$I$210,CHOOSE(WEEKDAY($B8,2),3,3,5,3,3,7,9),FALSE),VLOOKUP($C8,PARAM!$A$11:$P$210,CHOOSE(WEEKDAY($B8,2),12,12,12,12,12,14,16),FALSE)),0) -> 0 | F8: =SUM(E8-D8) -> 0
B9: =B8+1 -> 42407 | D9: =IFERROR(IF($A9="",VLOOKUP($C9,PARAM!$A$11:$I$210,CHOOSE(WEEKDAY($B9,2),2,2,4,2,2,6,8),FALSE),VLOOKUP($C9,PARAM!$A$11:$P$210,CHOOSE(WEEKDAY($B9,2),11,11,11,11,11,13,15),FALSE)),0) -> 0 | E9: =IFERROR(IF($A9="",VLOOKUP($C9,PARAM!$A$11:$I$210,CHOOSE(WEEKDAY($B9,2),3,3,5,3,3,7,9),FALSE),VLOOKUP($C9,PARAM!$A$11:$P$210,CHOOSE(WEEKDAY($B9,2),12,12,12,12,12,14,16),FALSE)),0) -> 0 | F9: =SUM(E9-D9) -> 0
B10: =B9+1 -> 42408 | D10: =IFERROR(IF($A10="",VLOOKUP($C10,PARAM!$A$11:$I$210,CHOOSE(WEEKDAY($B10,2),2,2,4,2,2,6,8),FALSE),VLOOKUP($C10,PARAM!$A$11:$P$210,CHOOSE(WEEKDAY($B10,2),11,11,11,11,11,13,15),FALSE)),0) -> 0 | E10: =IFERROR(IF($A10="",VLOOKUP($C10,PARAM!$A$11:$I$210,CHOOSE(WEEKDAY($B10,2),3,3,5,3,3,7,9),FALSE),VLOOKUP($C10,PARAM!$A$11:$P$210,CHOOSE(WEEKDAY($B10,2),12,12,12,12,12,14,16),FALSE)),0) -> 0 | F10: =SUM(E10-D10) -> 0
B11: =B10+1 -> 42409 | D11: =IFERROR(IF($A11="",VLOOKUP($C11,PARAM!$A$11:$I$210,CHOOSE(WEEKDAY($B11,2),2,2,4,2,2,6,8),FALSE),VLOOKUP($C11,PARAM!$A$11:$P$210,CHOOSE(WEEKDAY($B11,2),11,11,11,11,11,13,15),FALSE)),0) -> 0 | E11: =IFERROR(IF($A11="",VLOOKUP($C11,PARAM!$A$11:$I$210,CHOOSE(WEEKDAY($B11,2),3,3,5,3,3,7,9),FALSE),VLOOKUP($C11,PARAM!$A$11:$P$210,CHOOSE(WEEKDAY($B11,2),12,12,12,12,12,14,16),FALSE)),0) -> 0 | F11: =SUM(E11-D11) -> 0
B12: =B11+1 -> 42410 | D12: =IFERROR(IF($A12="",VLOOKUP($C12,PARAM!$A$11:$I$210,CHOOSE(WEEKDAY($B12,2),2,2,4,2,2,6,8),FALSE),VLOOKUP($C12,PARAM!$A$11:$P$210,CHOOSE(WEEKDAY($B12,2),11,11,11,11,11,13,15),FALSE)),0) -> 0 | E12: =IFERROR(IF($A12="",VLOOKUP($C12,PARAM!$A$11:$I$210,CHOOSE(WEEKDAY($B12,2),3,3,5,3,3,7,9),FALSE),VLOOKUP($C12,PARAM!$A$11:$P$210,CHOOSE(WEEKDAY($B12,2),12,12,12,12,12,14,16),FALSE)),0) -> 0 | F12: =SUM(E12-D12) -> 0
B13: =B12+1 -> 42411 | D13: =IFERROR(IF($A13="",VLOOKUP($C13,PARAM!$A$11:$I$210,CHOOSE(WEEKDAY($B13,2),2,2,4,2,2,6,8),FALSE),VLOOKUP($C13,PARAM!$A$11:$P$210,CHOOSE(WEEKDAY($B13,2),11,11,11,11,11,13,15),FALSE)),0) -> 0 | E13: =IFERROR(IF($A13="",VLOOKUP($C13,PARAM!$A$11:$I$210,CHOOSE(WEEKDAY($B13,2),3,3,5,3,3,7,9),FALSE),VLOOKUP($C13,PARAM!$A$11:$P$210,CHOOSE(WEEKDAY($B13,2),12,12,12,12,12,14,16),FALSE)),0) -> 0 | F13: =SUM(E13-D13) -> 0
B14: =B13+1 -> 42412 | D14: =IFERROR(IF($A14="",VLOOKUP($C14,PARAM!$A$11:$I$210,CHOOSE(WEEKDAY($B14,2),2,2,4,2,2,6,8),FALSE),VLOOKUP($C14,PARAM!$A$11:$P$210,CHOOSE(WEEKDAY($B14,2),11,11,11,11,11,13,15),FALSE)),0) -> 0 | E14: =IFERROR(IF($A14="",VLOOKUP($C14,PARAM!$A$11:$I$210,CHOOSE(WEEKDAY($B14,2),3,3,5,3,3,7,9),FALSE),VLOOKUP($C14,PARAM!$A$11:$P$210,CHOOSE(WEEKDAY($B14,2),12,12,12,12,12,14,16),FALSE)),0) -> 0 | F14: =SUM(E14-D14) -> 0
B15: =B14+1 -> 42413 | D15: =IFERROR(IF($A15="",VLOOKUP($C15,PARAM!$A$11:$I$210,CHOOSE(WEEKDAY($B15,2),2,2,4,2,2,6,8),FALSE),VLOOKUP($C15,PARAM!$A$11:$P$210,CHOOSE(WEEKDAY($B15,2),11,11,11,11,11,13,15),FALSE)),0) -> 0 | E15: =IFERROR(IF($A15="",VLOOKUP($C15,PARAM!$A$11:$I$210,CHOOSE(WEEKDAY($B15,2),3,3,5,3,3,7,9),FALSE),VLOOKUP($C15,PARAM!$A$11:$P$210,CHOOSE(WEEKDAY($B15,2),12,12,12,12,12,14,16),FALSE)),0) -> 0 | F15: =SUM(E15-D15) -> 0
... B33: =B32+1 -> 42431 | D33: =IFERROR(IF($A33="",VLOOKUP($C33,PARAM!$A$11:$I$210,CHOOSE(WEEKDAY($B33,2),2,2,4,2,2,6,8),FALSE),VLOOKUP($C33,PARAM!$A$11:$P$210,CHOOSE(WEEKDAY($B33,2),11,11,11,11,11,13,15),FALSE)),0) -> 0 | E33: =IFERROR(IF($A33="",VLOOKUP($C33,PARAM!$A$11:$I$210,CHOOSE(WEEKDAY($B33,2),3,3,5,3,3,7,9),FALSE),VLOOKUP($C33,PARAM!$A$11:$P$210,CHOOSE(WEEKDAY($B33,2),12,12,12,12,12,14,16),FALSE)),0) -> 0 | F33: =SUM(E33-D33) -> 0
B34: Total | F34: =SUM(F3:F33) -> 0
F1048576: =SUM(F34) -> 0

Sheet 03
B1: PRESTATIONS DU MOIS DE : | D1: =DATE(PARAM!$B$3,RIGHT(CELL("nomfichier",D1),2),1) -> 42430
A2: Type | B2: Date | C2: Services | D2: H/Début | E2: H/Fin | F2: Nb heures | G2: Commentaires
B3: =DATE(PARAM!$B$3,RIGHT(CELL("nomfichier",D1),2),1) -> 42430 | D3: =IFERROR(IF($A3="",VLOOKUP($C3,PARAM!$A$11:$I$210,CHOOSE(WEEKDAY($B3,2),2,2,4,2,2,6,8),FALSE),VLOOKUP($C3,PARAM!$A$11:$P$210,CHOOSE(WEEKDAY($B3,2),11,11,11,11,11,13,15),FALSE)),0) -> 0 | E3: =IFERROR(IF($A3="",VLOOKUP($C3,PARAM!$A$11:$I$210,CHOOSE(WEEKDAY($B3,2),3,3,5,3,3,7,9),FALSE),VLOOKUP($C3,PARAM!$A$11:$P$210,CHOOSE(WEEKDAY($B3,2),12,12,12,12,12,14,16),FALSE)),0) -> 0 | F3: =SUM(E3-D3) -> 0 | H3: ='03'!H36 -> 0
B4: =B3+1 -> 42431 | D4: =IFERROR(IF($A4="",VLOOKUP($C4,PARAM!$A$11:$I$210,CHOOSE(WEEKDAY($B4,2),2,2,4,2,2,6,8),FALSE),VLOOKUP($C4,PARAM!$A$11:$P$210,CHOOSE(WEEKDAY($B4,2),11,11,11,11,11,13,15),FALSE)),0) -> 0 | E4: =IFERROR(IF($A4="",VLOOKUP($C4,PARAM!$A$11:$I$210,CHOOSE(WEEKDAY($B4,2),3,3,5,3,3,7,9),FALSE),VLOOKUP($C4,PARAM!$A$11:$P$210,CHOOSE(WEEKDAY($B4,2),12,12,12,12,12,14,16),FALSE)),0) -> 0 | F4: =SUM(E4-D4) -> 0
B5: =B4+1 -> 42432 | D5: =IFERROR(IF($A5="",VLOOKUP($C5,PARAM!$A$11:$I$210,CHOOSE(WEEKDAY($B5,2),2,2,4,2,2,6,8),FALSE),VLOOKUP($C5,PARAM!$A$11:$P$210,CHOOSE(WEEKDAY($B5,2),11,11,11,11,11,13,15),FALSE)),0) -> 0 | E5: =IFERROR(IF($A5="",VLOOKUP($C5,PARAM!$A$11:$I$210,CHOOSE(WEEKDAY($B5,2),3,3,5,3,3,7,9),FALSE),VLOOKUP($C5,PARAM!$A$11:$P$210,CHOOSE(WEEKDAY($B5,2),12,12,12,12,12,14,16),FALSE)),0) -> 0 | F5: =SUM(E5-D5) -> 0
B6: =B5+1 -> 42433 | D6: =IFERROR(IF($A6="",VLOOKUP($C6,PARAM!$A$11:$I$210,CHOOSE(WEEKDAY($B6,2),2,2,4,2,2,6,8),FALSE),VLOOKUP($C6,PARAM!$A$11:$P$210,CHOOSE(WEEKDAY($B6,2),11,11,11,11,11,13,15),FALSE)),0) -> 0 | E6: =IFERROR(IF($A6="",VLOOKUP($C6,PARAM!$A$11:$I$210,CHOOSE(WEEKDAY($B6,2),3,3,5,3,3,7,9),FALSE),VLOOKUP($C6,PARAM!$A$11:$P$210,CHOOSE(WEEKDAY($B6,2),12,12,12,12,12,14,16),FALSE)),0) -> 0 | F6: =SUM(E6-D6) -> 0
B7: =B6+1 -> 42434 | D7: =IFERROR(IF($A7="",VLOOKUP($C7,PARAM!$A$11:$I$210,CHOOSE(WEEKDAY($B7,2),2,2,4,2,2,6,8),FALSE),VLOOKUP($C7,PARAM!$A$11:$P$210,CHOOSE(WEEKDAY($B7,2),11,11,11,11,11,13,15),FALSE)),0) -> 0 | E7: =IFERROR(IF($A7="",VLOOKUP($C7,PARAM!$A$11:$I$210,CHOOSE(WEEKDAY($B7,2),3,3,5,3,3,7,9),FALSE),VLOOKUP($C7,PARAM!$A$11:$P$210,CHOOSE(WEEKDAY($B7,2),12,12,12,12,12,14,16),FALSE)),0) -> 0 | F7: =SUM(E7-D7) -> 0
B8: =B7+1 -> 42435 | D8: =IFERROR(IF($A8="",VLOOKUP($C8,PARAM!$A$11:$I$210,CHOOSE(WEEKDAY($B8,2),2,2,4,2,2,6,8),FALSE),VLOOKUP($C8,PARAM!$A$11:$P$210,CHOOSE(WEEKDAY($B8,2),11,11,11,11,11,13,15),FALSE)),0) -> 0 | E8: =IFERROR(IF($A8="",VLOOKUP($C8,PARAM!$A$11:$I$210,CHOOSE(WEEKDAY($B8,2),3,3,5,3,3,7,9),FALSE),VLOOKUP($C8,PARAM!$A$11:$P$210,CHOOSE(WEEKDAY($B8,2),12,12,12,12,12,14,16),FALSE)),0) -> 0 | F8: =SUM(E8-D8) -> 0
B9: =B8+1 -> 42436 | C9: Ecolage | D9: =IFERROR(IF($A9="",VLOOKUP($C9,PARAM!$A$11:$I$210,CHOOSE(WEEKDAY($B9,2),2,2,4,2,2,6,8),FALSE),VLOOKUP($C9,PARAM!$A$11:$P$210,CHOOSE(WEEKDAY($B9,2),11,11,11,11,11,13,15),FALSE)),0) -> 0.33333333 | E9: =IFERROR(IF($A9="",VLOOKUP($C9,PARAM!$A$11:$I$210,CHOOSE(WEEKDAY($B9,2),3,3,5,3,3,7,9),FALSE),VLOOKUP($C9,PARAM!$A$11:$P$210,CHOOSE(WEEKDAY($B9,2),12,12,12,12,12,14,16),FALSE)),0) -> 0.66666667 | F9: =SUM(E9-D9) -> 0.33333333 | G9: Matin
B10: =B9+1 -> 42437 | C10: Ecolage | D10: =IFERROR(IF($A10="",VLOOKUP($C10,PARAM!$A$11:$I$210,CHOOSE(WEEKDAY($B10,2),2,2,4,2,2,6,8),FALSE),VLOOKUP($C10,PARAM!$A$11:$P$210,CHOOSE(WEEKDAY($B10,2),11,11,11,11,11,13,15),FALSE)),0) -> 0.33333333 | E10: =IFERROR(IF($A10="",VLOOKUP($C10,PARAM!$A$11:$I$210,CHOOSE(WEEKDAY($B10,2),3,3,5,3,3,7,9),FALSE),VLOOKUP($C10,PARAM!$A$11:$P$210,CHOOSE(WEEKDAY($B10,2),12,12,12,12,12,14,16),FALSE)),0) -> 0.66666667 | F10: =SUM(E10-D10) -> 0.33333333 | G10: Matin
B11: =B10+1 -> 42438 | C11: Ecolage | D11: =IFERROR(IF($A11="",VLOOKUP($C11,PARAM!$A$11:$I$210,CHOOSE(WEEKDAY($B11,2),2,2,4,2,2,6,8),FALSE),VLOOKUP($C11,PARAM!$A$11:$P$210,CHOOSE(WEEKDAY($B11,2),11,11,11,11,11,13,15),FALSE)),0) -> 0.33333333 | E11: =IFERROR(IF($A11="",VLOOKUP($C11,PARAM!$A$11:$I$210,CHOOSE(WEEKDAY($B11,2),3,3,5,3,3,7,9),FALSE),VLOOKUP($C11,PARAM!$A$11:$P$210,CHOOSE(WEEKDAY($B11,2),12,12,12,12,12,14,16),FALSE)),0) -> 0.66666667 | F11: =SUM(E11-D11) -> 0.33333333 | G11: Matin
B12: =B11+1 -> 42439 | C12: Ecolage | D12: =IFERROR(IF($A12="",VLOOKUP($C12,PARAM!$A$11:$I$210,CHOOSE(WEEKDAY($B12,2),2,2,4,2,2,6,8),FALSE),VLOOKUP($C12,PARAM!$A$11:$P$210,CHOOSE(WEEKDAY($B12,2),11,11,11,11,11,13,15),FALSE)),0) -> 0.33333333 | E12: =IFERROR(IF($A12="",VLOOKUP($C12,PARAM!$A$11:$I$210,CHOOSE(WEEKDAY($B12,2),3,3,5,3,3,7,9),FALSE),VLOOKUP($C12,PARAM!$A$11:$P$210,CHOOSE(WEEKDAY($B12,2),12,12,12,12,12,14,16),FALSE)),0) -> 0.66666667 | F12: =SUM(E12-D12) -> 0.33333333 | G12: Matin
B13: =B12+1 -> 42440 | C13: Ecolage | D13: =IFERROR(IF($A13="",VLOOKUP($C13,PARAM!$A$11:$I$210,CHOOSE(WEEKDAY($B13,2),2,2,4,2,2,6,8),FALSE),VLOOKUP($C13,PARAM!$A$11:$P$210,CHOOSE(WEEKDAY($B13,2),11,11,11,11,11,13,15),FALSE)),0) -> 0.33333333 | E13: =IFERROR(IF($A13="",VLOOKUP($C13,PARAM!$A$11:$I$210,CHOOSE(WEEKDAY($B13,2),3,3,5,3,3,7,9),FALSE),VLOOKUP($C13,PARAM!$A$11:$P$210,CHOOSE(WEEKDAY($B13,2),12,12,12,12,12,14,16),FALSE)),0) -> 0.66666667 | F13: =SUM(E13-D13) -> 0.33333333 | G13: Matin
B14: =B13+1 -> 42441 | C14: CC | D14: =IFERROR(IF($A14="",VLOOKUP($C14,PARAM!$A$11:$I$210,CHOOSE(WEEKDAY($B14,2),2,2,4,2,2,6,8),FALSE),VLOOKUP($C14,PARAM!$A$11:$P$210,CHOOSE(WEEKDAY($B14,2),11,11,11,11,11,13,15),FALSE)),0) -> 0 | E14: =IFERROR(IF($A14="",VLOOKUP($C14,PARAM!$A$11:$I$210,CHOOSE(WEEKDAY($B14,2),3,3,5,3,3,7,9),FALSE),VLOOKUP($C14,PARAM!$A$11:$P$210,CHOOSE(WEEKDAY($B14,2),12,12,12,12,12,14,16),FALSE)),0) -> 0 | F14: =SUM(E14-D14) -> 0
B15: =B14+1 -> 42442 | C15: CR | D15: =IFERROR(IF($A15="",VLOOKUP($C15,PARAM!$A$11:$I$210,CHOOSE(WEEKDAY($B15,2),2,2,4,2,2,6,8),FALSE),VLOOKUP($C15,PARAM!$A$11:$P$210,CHOOSE(WEEKDAY($B15,2),11,11,11,11,11,13,15),FALSE)),0) -> 0 | E15: =IFERROR(IF($A15="",VLOOKUP($C15,PARAM!$A$11:$I$210,CHOOSE(WEEKDAY($B15,2),3,3,5,3,3,7,9),FALSE),VLOOKUP($C15,PARAM!$A$11:$P$210,CHOOSE(WEEKDAY($B15,2),12,12,12,12,12,14,16),FALSE)),0) -> 0 | F15: =SUM(E15-D15) -> 0
B16: =B15+1 -> 42443 | C16: Ecolage | D16: =IFERROR(IF($A16="",VLOOKUP($C16,PARAM!$A$11:$I$210,CHOOSE(WEEKDAY($B16,2),2,2,4,2,2,6,8),FALSE),VLOOKUP($C16,PARAM!$A$11:$P$210,CHOOSE(WEEKDAY($B16,2),11,11,11,11,11,13,15),FALSE)),0) -> 0.33333333 | E16: =IFERROR(IF($A16="",VLOOKUP($C16,PARAM!$A$11:$I$210,CHOOSE(WEEKDAY($B16,2),3,3,5,3,3,7,9),FALSE),VLOOKUP($C16,PARAM!$A$11:$P$210,CHOOSE(WEEKDAY($B16,2),12,12,12,12,12,14,16),FALSE)),0) -> 0.66666667 | F16: =SUM(E16-D16) -> 0.33333333 | G16: Matin
B17: =B16+1 -> 42444 | C17: Ecolage | D17: =IFERROR(IF($A17="",VLOOKUP($C17,PARAM!$A$11:$I$210,CHOOSE(WEEKDAY($B17,2),2,2,4,2,2,6,8),FALSE),VLOOKUP($C17,PARAM!$A$11:$P$210,CHOOSE(WEEKDAY($B17,2),11,11,11,11,11,13,15),FALSE)),0) -> 0.33333333 | E17: =IFERROR(IF($A17="",VLOOKUP($C17,PARAM!$A$11:$I$210,CHOOSE(WEEKDAY($B17,2),3,3,5,3,3,7,9),FALSE),VLOOKUP($C17,PARAM!$A$11:$P$210,CHOOSE(WEEKDAY($B17,2),12,12,12,12,12,14,16),FALSE)),0) -> 0.66666667 | F17: =SUM(E17-D17) -> 0.33333333 | G17: Matin
B18: =B17+1 -> 42445 | C18: Ecolage | D18: =IFERROR(IF($A18="",VLOOKUP($C18,PARAM!$A$11:$I$210,CHOOSE(WEEKDAY($B18,2),2,2,4,2,2,6,8),FALSE),VLOOKUP($C18,PARAM!$A$11:$P$210,CHOOSE(WEEKDAY($B18,2),11,11,11,11,11,13,15),FALSE)),0) -> 0.33333333 | E18: =IFERROR(IF($A18="",VLOOKUP($C18,PARAM!$A$11:$I$210,CHOOSE(WEEKDAY($B18,2),3,3,5,3,3,7,9),FALSE),VLOOKUP($C18,PARAM!$A$11:$P$210,CHOOSE(WEEKDAY($B18,2),12,12,12,12,12,14,16),FALSE)),0) -> 0.66666667 | F18: =SUM(E18-D18) -> 0.33333333 | G18: Matin
B19: =B18+1 -> 42446 | C19: Ecolage | D19: =IFERROR(IF($A19="",VLOOKUP($C19,PARAM!$A$11:$I$210,CHOOSE(WEEKDAY($B19,2),2,2,4,2,2,6,8),FALSE),VLOOKUP($C19,PARAM!$A$11:$P$210,CHOOSE(WEEKDAY($B19,2),11,11,11,11,11,13,15),FALSE)),0) -> 0.33333333 | E19: =IFERROR(IF($A19="",VLOOKUP($C19,PARAM!$A$11:$I$210,CHOOSE(WEEKDAY($B19,2),3,3,5,3,3,7,9),FALSE),VLOOKUP($C19,PARAM!$A$11:$P$210,CHOOSE(WEEKDAY($B19,2),12,12,12,12,12,14,16),FALSE)),0) -> 0.66666667 | F19: =SUM(E19-D19) -> 0.33333333 | G19: Matin
B20: =B19+1 -> 42447 | C20: Ecolage | D20: =IFERROR(IF($A20="",VLOOKUP($C20,PARAM!$A$11:$I$210,CHOOSE(WEEKDAY($B20,2),2,2,4,2,2,6,8),FALSE),VLOOKUP($C20,PARAM!$A$11:$P$210,CHOOSE(WEEKDAY($B20,2),11,11,11,11,11,13,15),FALSE)),0) -> 0.33333333 | E20: =IFERROR(IF($A20="",VLOOKUP($C20,PARAM!$A$11:$I$210,CHOOSE(WEEKDAY($B20,2),3,3,5,3,3,7,9),FALSE),VLOOKUP($C20,PARAM!$A$11:$P$210,CHOOSE(WEEKDAY($B20,2),12,12,12,12,12,14,16),FALSE)),0) -> 0.66666667 | F20: =SUM(E20-D20) -> 0.33333333 | G20: Matin
B21: =B20+1 -> 42448 | C21: CC | D21: =IFERROR(IF($A21="",VLOOKUP($C21,PARAM!$A$11:$I$210,CHOOSE(WEEKDAY($B21,2),2,2,4,2,2,6,8),FALSE),VLOOKUP($C21,PARAM!$A$11:$P$210,CHOOSE(WEEKDAY($B21,2),11,11,11,11,11,13,15),FALSE)),0) -> 0 | E21: =IFERROR(IF($A21="",VLOOKUP($C21,PARAM!$A$11:$I$210,CHOOSE(WEEKDAY($B21,2),3,3,5,3,3,7,9),FALSE),VLOOKUP($C21,PARAM!$A$11:$P$210,CHOOSE(WEEKDAY($B21,2),12,12,12,12,12,14,16),FALSE)),0) -> 0 | F21: =SUM(E21-D21) -> 0
B22: =B21+1 -> 42449 | C22: CR | D22: =IFERROR(IF($A22="",VLOOKUP($C22,PARAM!$A$11:$I$210,CHOOSE(WEEKDAY($B22,2),2,2,4,2,2,6,8),FALSE),VLOOKUP($C22,PARAM!$A$11:$P$210,CHOOSE(WEEKDAY($B22,2),11,11,11,11,11,13,15),FALSE)),0) -> 0 | E22: =IFERROR(IF($A22="",VLOOKUP($C22,PARAM!$A$11:$I$210,CHOOSE(WEEKDAY($B22,2),3,3,5,3,3,7,9),FALSE),VLOOKUP($C22,PARAM!$A$11:$P$210,CHOOSE(WEEKDAY($B22,2),12,12,12,12,12,14,16),FALSE)),0) -> 0 | F22: =SUM(E22-D22) -> 0
B23: =B22+1 -> 42450 | C23: CC | D23: =IFERROR(IF($A23="",VLOOKUP($C23,PARAM!$A$11:$I$210,CHOOSE(WEEKDAY($B23,2),2,2,4,2,2,6,8),FALSE),VLOOKUP($C23,PARAM!$A$11:$P$210,CHOOSE(WEEKDAY($B23,2),11,11,11,11,11,13,15),FALSE)),0) -> 0 | E23: =IFERROR(IF($A23="",VLOOKUP($C23,PARAM!$A$11:$I$210,CHOOSE(WEEKDAY($B23,2),3,3,5,3,3,7,9),FALSE),VLOOKUP($C23,PARAM!$A$11:$P$210,CHOOSE(WEEKDAY($B23,2),12,12,12,12,12,14,16),FALSE)),0) -> 0 | F23: =SUM(E23-D23) -> 0
B24: =B23+1 -> 42451 | C24: CC | D24: =IFERROR(IF($A24="",VLOOKUP($C24,PARAM!$A$11:$I$210,CHOOSE(WEEKDAY($B24,2),2,2,4,2,2,6,8),FALSE),VLOOKUP($C24,PARAM!$A$11:$P$210,CHOOSE(WEEKDAY($B24,2),11,11,11,11,11,13,15),FALSE)),0) -> 0 | E24: =IFERROR(IF($A24="",VLOOKUP($C24,PARAM!$A$11:$I$210,CHOOSE(WEEKDAY($B24,2),3,3,5,3,3,7,9),FALSE),VLOOKUP($C24,PARAM!$A$11:$P$210,CHOOSE(WEEKDAY($B24,2),12,12,12,12,12,14,16),FALSE)),0) -> 0 | F24: =SUM(E24-D24) -> 0
B25: =B24+1 -> 42452 | C25: CC | D25: =IFERROR(IF($A25="",VLOOKUP($C25,PARAM!$A$11:$I$210,CHOOSE(WEEKDAY($B25,2),2,2,4,2,2,6,8),FALSE),VLOOKUP($C25,PARAM!$A$11:$P$210,CHOOSE(WEEKDAY($B25,2),11,11,11,11,11,13,15),FALSE)),0) -> 0 | E25: =IFERROR(IF($A25="",VLOOKUP($C25,PARAM!$A$11:$I$210,CHOOSE(WEEKDAY($B25,2),3,3,5,3,3,7,9),FALSE),VLOOKUP($C25,PARAM!$A$11:$P$210,CHOOSE(WEEKDAY($B25,2),12,12,12,12,12,14,16),FALSE)),0) -> 0 | F25: =SUM(E25-D25) -> 0
B26: =B25+1 -> 42453 | C26: Ecolage | D26: =IFERROR(IF($A26="",VLOOKUP($C26,PARAM!$A$11:$I$210,CHOOSE(WEEKDAY($B26,2),2,2,4,2,2,6,8),FALSE),VLOOKUP($C26,PARAM!$A$11:$P$210,CHOOSE(WEEKDAY($B26,2),11,11,11,11,11,13,15),FALSE)),0) -> 0.33333333 | E26: =IFERROR(IF($A26="",VLOOKUP($C26,PARAM!$A$11:$I$210,CHOOSE(WEEKDAY($B26,2),3,3,5,3,3,7,9),FALSE),VLOOKUP($C26,PARAM!$A$11:$P$210,CHOOSE(WEEKDAY($B26,2),12,12,12,12,12,14,16),FALSE)),0) -> 0.66666667 | F26: =SUM(E26-D26) -> 0.33333333 | G26: Matin | H26: =(HOUR(F26)*60+MINUTE(F26))/60 -> 8
B27: =B26+1 -> 42454 | C27: 2562 | D27: =IFERROR(IF($A27="",VLOOKUP($C27,PARAM!$A$11:$I$210,CHOOSE(WEEKDAY($B27,2),2,2,4,2,2,6,8),FALSE),VLOOKUP($C27,PARAM!$A$11:$P$210,CHOOSE(WEEKDAY($B27,2),11,11,11,11,11,13,15),FALSE)),0) -> 0.27152778 | E27: =IFERROR(IF($A27="",VLOOKUP($C27,PARAM!$A$11:$I$210,CHOOSE(WEEKDAY($B27,2),3,3,5,3,3,7,9),FALSE),VLOOKUP($C27,PARAM!$A$11:$P$210,CHOOSE(WEEKDAY($B27,2),12,12,12,12,12,14,16),FALSE)),0) -> 0.57222222 | F27: =SUM(E27-D27) -> 0.30069444 | G27: Matin | H27: =(HOUR(F27)*60+MINUTE(F27))/60 -> 7.2166667
B28: =B27+1 -> 42455 | C28: CC | D28: =IFERROR(IF($A28="",VLOOKUP($C28,PARAM!$A$11:$I$210,CHOOSE(WEEKDAY($B28,2),2,2,4,2,2,6,8),FALSE),VLOOKUP($C28,PARAM!$A$11:$P$210,CHOOSE(WEEKDAY($B28,2),11,11,11,11,11,13,15),FALSE)),0) -> 0 | E28: =IFERROR(IF($A28="",VLOOKUP($C28,PARAM!$A$11:$I$210,CHOOSE(WEEKDAY($B28,2),3,3,5,3,3,7,9),FALSE),VLOOKUP($C28,PARAM!$A$11:$P$210,CHOOSE(WEEKDAY($B28,2),12,12,12,12,12,14,16),FALSE)),0) -> 0 | F28: =SUM(E28-D28) -> 0 | H28: =(HOUR(F28)*60+MINUTE(F28))/60 -> 0
B29: =B28+1 -> 42456 | C29: CR | D29: =IFERROR(IF($A29="",VLOOKUP($C29,PARAM!$A$11:$I$210,CHOOSE(WEEKDAY($B29,2),2,2,4,2,2,6,8),FALSE),VLOOKUP($C29,PARAM!$A$11:$P$210,CHOOSE(WEEKDAY($B29,2),11,11,11,11,11,13,15),FALSE)),0) -> 0 | E29: =IFERROR(IF($A29="",VLOOKUP($C29,PARAM!$A$11:$I$210,CHOOSE(WEEKDAY($B29,2),3,3,5,3,3,7,9),FALSE),VLOOKUP($C29,PARAM!$A$11:$P$210,CHOOSE(WEEKDAY($B29,2),12,12,12,12,12,14,16),FALSE)),0) -> 0 | F29: =SUM(E29-D29) -> 0 | H29: =(HOUR(F29)*60+MINUTE(F29))/60 -> 0
B30: =B29+1 -> 42457 | C30: CR | D30: =IFERROR(IF($A30="",VLOOKUP($C30,PARAM!$A$11:$I$210,CHOOSE(WEEKDAY($B30,2),2,2,4,2,2,6,8),FALSE),VLOOKUP($C30,PARAM!$A$11:$P$210,CHOOSE(WEEKDAY($B30,2),11,11,11,11,11,13,15),FALSE)),0) -> 0 | E30: =IFERROR(IF($A30="",VLOOKUP($C30,PARAM!$A$11:$I$210,CHOOSE(WEEKDAY($B30,2),3,3,5,3,3,7,9),FALSE),VLOOKUP($C30,PARAM!$A$11:$P$210,CHOOSE(WEEKDAY($B30,2),12,12,12,12,12,14,16),FALSE)),0) -> 0 | F30: =SUM(E30-D30) -> 0 | H30: =(HOUR(F30)*60+MINUTE(F30))/60 -> 0
A31: C | B31: =B30+1 -> 42458 | C31: 2563 | D31: =IFERROR(IF($A31="",VLOOKUP($C31,PARAM!$A$11:$I$210,CHOOSE(WEEKDAY($B31,2),2,2,4,2,2,6,8),FALSE),VLOOKUP($C31,PARAM!$A$11:$P$210,CHOOSE(WEEKDAY($B31,2),11,11,11,11,11,13,15),FALSE)),0) -> 0.17013889 | E31: =IFERROR(IF($A31="",VLOOKUP($C31,PARAM!$A$11:$I$210,CHOOSE(WEEKDAY($B31,2),3,3,5,3,3,7,9),FALSE),VLOOKUP($C31,PARAM!$A$11:$P$210,CHOOSE(WEEKDAY($B31,2),12,12,12,12,12,14,16),FALSE)),0) -> 0.52083333 | F31: =SUM(E31-D31) -> 0.35069444 | G31: Matin | H31: =(HOUR(F31)*60+MINUTE(F31))/60 -> 8.4166667
A32: C | B32: =B31+1 -> 42459 | C32: 2560 | D32: =IFERROR(IF($A32="",VLOOKUP($C32,PARAM!$A$11:$I$210,CHOOSE(WEEKDAY($B32,2),2,2,4,2,2,6,8),FALSE),VLOOKUP($C32,PARAM!$A$11:$P$210,CHOOSE(WEEKDAY($B32,2),11,11,11,11,11,13,15),FALSE)),0) -> 0.19097222 | E32: =IFERROR(IF($A32="",VLOOKUP($C32,PARAM!$A$11:$I$210,CHOOSE(WEEKDAY($B32,2),3,3,5,3,3,7,9),FALSE),VLOOKUP($C32,PARAM!$A$11:$P$210,CHOOSE(WEEKDAY($B32,2),12,12,12,12,12,14,16),FALSE)),0) -> 0.51527778 | F32: =SUM(E32-D32) -> 0.32430556 | G32: Matin | H32: =(HOUR(F32)*60+MINUTE(F32))/60 -> 7.7833333
A33: C | B33: =B32+1 -> 42460 | C33: 2561 | D33: =IFERROR(IF($A33="",VLOOKUP($C33,PARAM!$A$11:$I$210,CHOOSE(WEEKDAY($B33,2),2,2,4,2,2,6,8),FALSE),VLOOKUP($C33,PARAM!$A$11:$P$210,CHOOSE(WEEKDAY($B33,2),11,11,11,11,11,13,15),FALSE)),0) -> 0.18680556 | E33: =IFERROR(IF($A33="",VLOOKUP($C33,PARAM!$A$11:$I$210,CHOOSE(WEEKDAY($B33,2),3,3,5,3,3,7,9),FALSE),VLOOKUP($C33,PARAM!$A$11:$P$210,CHOOSE(WEEKDAY($B33,2),12,12,12,12,12,14,16),FALSE)),0) -> 0.55694444 | F33: =SUM(E33-D33) -> 0.37013889 | G33: Matin | H33: =(HOUR(F33)*60+MINUTE(F33))/60 -> 8.8833333
B34: Total | F34: =SUM(F3:F33) -> 5.0125 | H34: =SUM(H26:H33) -> 40.3
F1048576: =SUM(F34) -> 5.0125

Sheet 04
B1: PRESTATIONS DU MOIS DE : | D1: =DATE(PARAM!$B$3,RIGHT(CELL("nomfichier",D1),2),1) -> 42461
A2: Type | B2: Date | C2: Services | D2: H/Début | E2: H/Fin | F2: Nb heures | G2: Commentaires
A3: C | B3: =DATE(PARAM!$B$3,RIGHT(CELL("nomfichier",D1),2),1) -> 42461 | C3: 2562 | D3: =IFERROR(IF($A3="",VLOOKUP($C3,PARAM!$A$11:$I$210,CHOOSE(WEEKDAY($B3,2),2,2,4,2,2,6,8),FALSE),VLOOKUP($C3,PARAM!$A$11:$P$210,CHOOSE(WEEKDAY($B3,2),11,11,11,11,11,13,15),FALSE)),0) -> 0.19930556 | E3: =IFERROR(IF($A3="",VLOOKUP($C3,PARAM!$A$11:$I$210,CHOOSE(WEEKDAY($B3,2),3,3,5,3,3,7,9),FALSE),VLOOKUP($C3,PARAM!$A$11:$P$210,CHOOSE(WEEKDAY($B3,2),12,12,12,12,12,14,16),FALSE)),0) -> 0.50972222 | F3: =SUM(E3-D3) -> 0.31041667 | G3: Matin | H3: =(HOUR(F3)*60+MINUTE(F3))/60 -> 7.45
A4: C | B4: =B3+1 -> 42462 | C4: 2562 | D4: =IFERROR(IF($A4="",VLOOKUP($C4,PARAM!$A$11:$I$210,CHOOSE(WEEKDAY($B4,2),2,2,4,2,2,6,8),FALSE),VLOOKUP($C4,PARAM!$A$11:$P$210,CHOOSE(WEEKDAY($B4,2),11,11,11,11,11,13,15),FALSE)),0) -> 0.27083333 | E4: =IFERROR(IF($A4="",VLOOKUP($C4,PARAM!$A$11:$I$210,CHOOSE(WEEKDAY($B4,2),3,3,5,3,3,7,9),FALSE),VLOOKUP($C4,PARAM!$A$11:$P$210,CHOOSE(WEEKDAY($B4,2),12,12,12,12,12,14,16),FALSE)),0) -> 0.60763889 | F4: =SUM(E4-D4) -> 0.33680556 | G4: Matin | H4: =(HOUR(F4)*60+MINUTE(F4))/60 -> 8.0833333
B5: =B4+1 -> 42463 | C5: CR | D5: =IFERROR(IF($A5="",VLOOKUP($C5,PARAM!$A$11:$I$210,CHOOSE(WEEKDAY($B5,2),2,2,4,2,2,6,8),FALSE),VLOOKUP($C5,PARAM!$A$11:$P$210,CHOOSE(WEEKDAY($B5,2),11,11,11,11,11,13,15),FALSE)),0) -> 0 | E5: =IFERROR(IF($A5="",VLOOKUP($C5,PARAM!$A$11:$I$210,CHOOSE(WEEKDAY($B5,2),3,3,5,3,3,7,9),FALSE),VLOOKUP($C5,PARAM!$A$11:$P$210,CHOOSE(WEEKDAY($B5,2),12,12,12,12,12,14,16),FALSE)),0) -> 0 | F5: =SUM(E5-D5) -> 0 | H5: =(HOUR(F5)*60+MINUTE(F5))/60 -> 0
A6: C | B6: =B5+1 -> 42464 | C6: 2640 | D6: =IFERROR(IF($A6="",VLOOKUP($C6,PARAM!$A$11:$I$210,CHOOSE(WEEKDAY($B6,2),2,2,4,2,2,6,8),FALSE),VLOOKUP($C6,PARAM!$A$11:$P$210,CHOOSE(WEEKDAY($B6,2),11,11,11,11,11,13,15),FALSE)),0) -> 0.5625 | E6: =IFERROR(IF($A6="",VLOOKUP($C6,PARAM!$A$11:$I$210,CHOOSE(WEEKDAY($B6,2),3,3,5,3,3,7,9),FALSE),VLOOKUP($C6,PARAM!$A$11:$P$210,CHOOSE(WEEKDAY($B6,2),12,12,12,12,12,14,16),FALSE)),0) -> 0.92361111 | F6: =SUM(E6-D6) -> 0.36111111 | G6: Après-midi | H6: =(HOUR(F6)*60+MINUTE(F6))/60 -> 8.6666667
A7: C | B7: =B6+1 -> 42465 | C7: CC | D7: =IFERROR(IF($A7="",VLOOKUP($C7,PARAM!$A$11:$I$210,CHOOSE(WEEKDAY($B7,2),2,2,4,2,2,6,8),FALSE),VLOOKUP($C7,PARAM!$A$11:$P$210,CHOOSE(WEEKDAY($B7,2),11,11,11,11,11,13,15),FALSE)),0) -> 0 | E7: =IFERROR(IF($A7="",VLOOKUP($C7,PARAM!$A$11:$I$210,CHOOSE(WEEKDAY($B7,2),3,3,5,3,3,7,9),FALSE),VLOOKUP($C7,PARAM!$A$11:$P$210,CHOOSE(WEEKDAY($B7,2),12,12,12,12,12,14,16),FALSE)),0) -> 0 | F7: =SUM(E7-D7) -> 0 | H7: =(HOUR(F7)*60+MINUTE(F7))/60 -> 0
A8: C | B8: =B7+1 -> 42466 | C8: 2644 | D8: =IFERROR(IF($A8="",VLOOKUP($C8,PARAM!$A$11:$I$210,CHOOSE(WEEKDAY($B8,2),2,2,4,2,2,6,8),FALSE),VLOOKUP($C8,PARAM!$A$11:$P$210,CHOOSE(WEEKDAY($B8,2),11,11,11,11,11,13,15),FALSE)),0) -> 0.46597222 | E8: =IFERROR(IF($A8="",VLOOKUP($C8,PARAM!$A$11:$I$210,CHOOSE(WEEKDAY($B8,2),3,3,5,3,3,7,9),FALSE),VLOOKUP($C8,PARAM!$A$11:$P$210,CHOOSE(WEEKDAY($B8,2),12,12,12,12,12,14,16),FALSE)),0) -> 0.75833333 | F8: =SUM(E8-D8) -> 0.29236111 | G8: Après-midi | H8: =(HOUR(F8)*60+MINUTE(F8))/60 -> 7.0166667
A9: C | B9: =B8+1 -> 42467 | C9: 2564 | D9: =IFERROR(IF($A9="",VLOOKUP($C9,PARAM!$A$11:$I$210,CHOOSE(WEEKDAY($B9,2),2,2,4,2,2,6,8),FALSE),VLOOKUP($C9,PARAM!$A$11:$P$210,CHOOSE(WEEKDAY($B9,2),11,11,11,11,11,13,15),FALSE)),0) -> 0.20416667 | E9: =IFERROR(IF($A9="",VLOOKUP($C9,PARAM!$A$11:$I$210,CHOOSE(WEEKDAY($B9,2),3,3,5,3,3,7,9),FALSE),VLOOKUP($C9,PARAM!$A$11:$P$210,CHOOSE(WEEKDAY($B9,2),12,12,12,12,12,14,16),FALSE)),0) -> 0.59305556 | F9: =SUM(E9-D9) -> 0.38888889 | G9: Matin | H9: =(HOUR(F9)*60+MINUTE(F9))/60 -> 9.3333333
A10: C | B10: =B9+1 -> 42468 | C10: 2604 | D10: =IFERROR(IF($A10="",VLOOKUP($C10,PARAM!$A$11:$I$210,CHOOSE(WEEKDAY($B10,2),2,2,4,2,2,6,8),FALSE),VLOOKUP($C10,PARAM!$A$11:$P$210,CHOOSE(WEEKDAY($B10,2),11,11,11,11,11,13,15),FALSE)),0) -> 0.57152778 | E10: =IFERROR(IF($A10="",VLOOKUP($C10,PARAM!$A$11:$I$210,CHOOSE(WEEKDAY($B10,2),3,3,5,3,3,7,9),FALSE),VLOOKUP($C10,PARAM!$A$11:$P$210,CHOOSE(WEEKDAY($B10,2),12,12,12,12,12,14,16),FALSE)),0) -> 0.91319444 | F10: =SUM(E10-D10) -> 0.34166667 | G10: Après-midi | H10: =(HOUR(F10)*60+MINUTE(F10))/60 -> 8.2
A11: C | B11: =B10+1 -> 42469 | C11: CC | D11: =IFERROR(IF($A11="",VLOOKUP($C11,PARAM!$A$11:$I$210,CHOOSE(WEEKDAY($B11,2),2,2,4,2,2,6,8),FALSE),VLOOKUP($C11,PARAM!$A$11:$P$210,CHOOSE(WEEKDAY($B11,2),11,11,11,11,11,13,15),FALSE)),0) -> 0 | E11: =IFERROR(IF($A11="",VLOOKUP($C11,PARAM!$A$11:$I$210,CHOOSE(WEEKDAY($B11,2),3,3,5,3,3,7,9),FALSE),VLOOKUP($C11,PARAM!$A$11:$P$210,CHOOSE(WEEKDAY($B11,2),12,12,12,12,12,14,16),FALSE)),0) -> 0 | F11: =SUM(E11-D11) -> 0 | H11: =(HOUR(F11)*60+MINUTE(F11))/60 -> 0
A12: C | B12: =B11+1 -> 42470 | C12: CR | D12: =IFERROR(IF($A12="",VLOOKUP($C12,PARAM!$A$11:$I$210,CHOOSE(WEEKDAY($B12,2),2,2,4,2,2,6,8),FALSE),VLOOKUP($C12,PARAM!$A$11:$P$210,CHOOSE(WEEKDAY($B12,2),11,11,11,11,11,13,15),FALSE)),0) -> 0 | E12: =IFERROR(IF($A12="",VLOOKUP($C12,PARAM!$A$11:$I$210,CHOOSE(WEEKDAY($B12,2),3,3,5,3,3,7,9),FALSE),VLOOKUP($C12,PARAM!$A$11:$P$210,CHOOSE(WEEKDAY($B12,2),12,12,12,12,12,14,16),FALSE)),0) -> 0 | F12: =SUM(E12-D12) -> 0 | H12: =(HOUR(F12)*60+MINUTE(F12))/60 -> 0
B13: =B12+1 -> 42471 | C13: 2569 | D13: =IFERROR(IF($A13="",VLOOKUP($C13,PARAM!$A$11:$I$210,CHOOSE(WEEKDAY($B13,2),2,2,4,2,2,6,8),FALSE),VLOOKUP($C13,PARAM!$A$11:$P$210,CHOOSE(WEEKDAY($B13,2),11,11,11,11,11,13,15),FALSE)),0) -> 0.22013889 | E13: =IFERROR(IF($A13="",VLOOKUP($C13,PARAM!$A$11:$I$210,CHOOSE(WEEKDAY($B13,2),3,3,5,3,3,7,9),FALSE),VLOOKUP($C13,PARAM!$A$11:$P$210,CHOOSE(WEEKDAY($B13,2),12,12,12,12,12,14,16),FALSE)),0) -> 0.60555556 | F13: =SUM(E13-D13) -> 0.38541667 | G13: Matin | H13: =(HOUR(F13)*60+MINUTE(F13))/60 -> 9.25
B14: =B13+1 -> 42472 | C14: CAP (Mons) | D14: =IFERROR(IF($A14="",VLOOKUP($C14,PARAM!$A$11:$I$210,CHOOSE(WEEKDAY($B14,2),2,2,4,2,2,6,8),FALSE),VLOOKUP($C14,PARAM!$A$11:$P$210,CHOOSE(WEEKDAY($B14,2),11,11,11,11,11,13,15),FALSE)),0) -> 0.33333333 | E14: =IFERROR(IF($A14="",VLOOKUP($C14,PARAM!$A$11:$I$210,CHOOSE(WEEKDAY($B14,2),3,3,5,3,3,7,9),FALSE),VLOOKUP($C14,PARAM!$A$11:$P$210,CHOOSE(WEEKDAY($B14,2),12,12,12,12,12,14,16),FALSE)),0) -> 0.70833333 | F14: =SUM(E14-D14) -> 0.375 | G14: Matin | H14: =(HOUR(F14)*60+MINUTE(F14))/60 -> 9
B15: =B14+1 -> 42473 | C15: 2569 | D15: =IFERROR(IF($A15="",VLOOKUP($C15,PARAM!$A$11:$I$210,CHOOSE(WEEKDAY($B15,2),2,2,4,2,2,6,8),FALSE),VLOOKUP($C15,PARAM!$A$11:$P$210,CHOOSE(WEEKDAY($B15,2),11,11,11,11,11,13,15),FALSE)),0) -> 0.22013889 | E15: =IFERROR(IF($A15="",VLOOKUP($C15,PARAM!$A$11:$I$210,CHOOSE(WEEKDAY($B15,2),3,3,5,3,3,7,9),FALSE),VLOOKUP($C15,PARAM!$A$11:$P$210,CHOOSE(WEEKDAY($B15,2),12,12,12,12,12,14,16),FALSE)),0) -> 0.60555556 | F15: =SUM(E15-D15) -> 0.38541667 | G15: Payé double | H15: =(HOUR(F15)*60+MINUTE(F15))/60 -> 9.25
B16: =B15+1 -> 42474 | C16: CAP (Mons) | D16: =IFERROR(IF($A16="",VLOOKUP($C16,PARAM!$A$11:$I$210,CHOOSE(WEEKDAY($B16,2),2,2,4,2,2,6,8),FALSE),VLOOKUP($C16,PARAM!$A$11:$P$210,CHOOSE(WEEKDAY($B16,2),11,11,11,11,11,13,15),FALSE)),0) -> 0.33333333 | E16: =IFERROR(IF($A16="",VLOOKUP($C16,PARAM!$A$11:$I$210,CHOOSE(WEEKDAY($B16,2),3,3,5,3,3,7,9),FALSE),VLOOKUP($C16,PARAM!$A$11:$P$210,CHOOSE(WEEKDAY($B16,2),12,12,12,12,12,14,16),FALSE)),0) -> 0.70833333 | F16: =SUM(E16-D16) -> 0.375 | G16: Matin | H16: =(HOUR(F16)*60+MINUTE(F16))/60 -> 9
B17: =B16+1 -> 42475 | C17: 2569 | D17: =IFERROR(IF($A17="",VLOOKUP($C17,PARAM!$A$11:$I$210,CHOOSE(WEEKDAY($B17,2),2,2,4,2,2,6,8),FALSE),VLOOKUP($C17,PARAM!$A$11:$P$210,CHOOSE(WEEKDAY($B17,2),11,11,11,11,11,13,15),FALSE)),0) -> 0.22013889 | E17: =IFERROR(IF($A17="",VLOOKUP($C17,PARAM!$A$11:$I$210,CHOOSE(WEEKDAY($B17,2),3,3,5,3,3,7,9),FALSE),VLOOKUP($C17,PARAM!$A$11:$P$210,CHOOSE(WEEKDAY($B17,2),12,12,12,12,12,14,16),FALSE)),0) -> 0.60555556 | F17: =SUM(E17-D17) -> 0.38541667 | G17: Matin | H17: =(HOUR(F17)*60+MINUTE(F17))/60 -> 9.25
B18: =B17+1 -> 42476 | C18: 2542 | D18: =IFERROR(IF($A18="",VLOOKUP($C18,PARAM!$A$11:$I$210,CHOOSE(WEEKDAY($B18,2),2,2,4,2,2,6,8),FALSE),VLOOKUP($C18,PARAM!$A$11:$P$210,CHOOSE(WEEKDAY($B18,2),11,11,11,11,11,13,15),FALSE)),0) -> 0.3375 | E18: =IFERROR(IF($A18="",VLOOKUP($C18,PARAM!$A$11:$I$210,CHOOSE(WEEKDAY($B18,2),3,3,5,3,3,7,9),FALSE),VLOOKUP($C18,PARAM!$A$11:$P$210,CHOOSE(WEEKDAY($B18,2),12,12,12,12,12,14,16),FALSE)),0) -> 0.62708333 | F18: =SUM(E18-D18) -> 0.28958333 | G18: Matin | H18: =(HOUR(F18)*60+MINUTE(F18))/60 -> 6.95
B19: =B18+1 -> 42477 | C19: CR | D19: =IFERROR(IF($A19="",VLOOKUP($C19,PARAM!$A$11:$I$210,CHOOSE(WEEKDAY($B19,2),2,2,4,2,2,6,8),FALSE),VLOOKUP($C19,PARAM!$A$11:$P$210,CHOOSE(WEEKDAY($B19,2),11,11,11,11,11,13,15),FALSE)),0) -> 0 | E19: =IFERROR(IF($A19="",VLOOKUP($C19,PARAM!$A$11:$I$210,CHOOSE(WEEKDAY($B19,2),3,3,5,3,3,7,9),FALSE),VLOOKUP($C19,PARAM!$A$11:$P$210,CHOOSE(WEEKDAY($B19,2),12,12,12,12,12,14,16),FALSE)),0) -> 0 | F19: =SUM(E19-D19) -> 0 | H19: =(HOUR(F19)*60+MINUTE(F19))/60 -> 0
B20: =B19+1 -> 42478 | C20: 2640 | D20: =IFERROR(IF($A20="",VLOOKUP($C20,PARAM!$A$11:$I$210,CHOOSE(WEEKDAY($B20,2),2,2,4,2,2,6,8),FALSE),VLOOKUP($C20,PARAM!$A$11:$P$210,CHOOSE(WEEKDAY($B20,2),11,11,11,11,11,13,15),FALSE)),0) -> 0.62916667 | E20: =IFERROR(IF($A20="",VLOOKUP($C20,PARAM!$A$11:$I$210,CHOOSE(WEEKDAY($B20,2),3,3,5,3,3,7,9),FALSE),VLOOKUP($C20,PARAM!$A$11:$P$210,CHOOSE(WEEKDAY($B20,2),12,12,12,12,12,14,16),FALSE)),0) -> 0.92152778 | F20: =SUM(E20-D20) -> 0.29236111 | G20: Après-midi | H20: =(HOUR(F20)*60+MINUTE(F20))/60 -> 7.0166667
B21: =B20+1 -> 42479 | C21: 2667 | D21: =IFERROR(IF($A21="",VLOOKUP($C21,PARAM!$A$11:$I$210,CHOOSE(WEEKDAY($B21,2),2,2,4,2,2,6,8),FALSE),VLOOKUP($C21,PARAM!$A$11:$P$210,CHOOSE(WEEKDAY($B21,2),11,11,11,11,11,13,15),FALSE)),0) -> 0.45902778 | E21: =IFERROR(IF($A21="",VLOOKUP($C21,PARAM!$A$11:$I$210,CHOOSE(WEEKDAY($B21,2),3,3,5,3,3,7,9),FALSE),VLOOKUP($C21,PARAM!$A$11:$P$210,CHOOSE(WEEKDAY($B21,2),12,12,12,12,12,14,16),FALSE)),0) -> 0.83055556 | F21: =SUM(E21-D21) -> 0.37152778 | G21: Après-midi | H21: =(HOUR(F21)*60+MINUTE(F21))/60 -> 8.9166667
B22: =B21+1 -> 42480 | C22: 2565 | D22: =IFERROR(IF($A22="",VLOOKUP($C22,PARAM!$A$11:$I$210,CHOOSE(WEEKDAY($B22,2),2,2,4,2,2,6,8),FALSE),VLOOKUP($C22,PARAM!$A$11:$P$210,CHOOSE(WEEKDAY($B22,2),11,11,11,11,11,13,15),FALSE)),0) -> 0.19166667 | E22: =IFERROR(IF($A22="",VLOOKUP($C22,PARAM!$A$11:$I$210,CHOOSE(WEEKDAY($B22,2),3,3,5,3,3,7,9),FALSE),VLOOKUP($C22,PARAM!$A$11:$P$210,CHOOSE(WEEKDAY($B22,2),12,12,12,12,12,14,16),FALSE)),0) -> 0.54513889 | F22: =SUM(E22-D22) -> 0.35347222 | G22: Matin | H22: =(HOUR(F22)*60+MINUTE(F22))/60 -> 8.4833333
B23: =B22+1 -> 42481 | C23: CC | D23: =IFERROR(IF($A23="",VLOOKUP($C23,PARAM!$A$11:$I$210,CHOOSE(WEEKDAY($B23,2),2,2,4,2,2,6,8),FALSE),VLOOKUP($C23,PARAM!$A$11:$P$210,CHOOSE(WEEKDAY($B23,2),11,11,11,11,11,13,15),FALSE)),0) -> 0 | E23: =IFERROR(IF($A23="",VLOOKUP($C23,PARAM!$A$11:$I$210,CHOOSE(WEEKDAY($B23,2),3,3,5,3,3,7,9),FALSE),VLOOKUP($C23,PARAM!$A$11:$P$210,CHOOSE(WEEKDAY($B23,2),12,12,12,12,12,14,16),FALSE)),0) -> 0 | F23: =SUM(E23-D23) -> 0 | H23: =(HOUR(F23)*60+MINUTE(F23))/60 -> 0
B24: =B23+1 -> 42482 | C24: 2662 | D24: =IFERROR(IF($A24="",VLOOKUP($C24,PARAM!$A$11:$I$210,CHOOSE(WEEKDAY($B24,2),2,2,4,2,2,6,8),FALSE),VLOOKUP($C24,PARAM!$A$11:$P$210,CHOOSE(WEEKDAY($B24,2),11,11,11,11,11,13,15),FALSE)),0) -> 0.55138889 | E24: =IFERROR(IF($A24="",VLOOKUP($C24,PARAM!$A$11:$I$210,CHOOSE(WEEKDAY($B24,2),3,3,5,3,3,7,9),FALSE),VLOOKUP($C24,PARAM!$A$11:$P$210,CHOOSE(WEEKDAY($B24,2),12,12,12,12,12,14,16),FALSE)),0) -> 0.93472222 | F24: =SUM(E24-D24) -> 0.38333333 | G24: Après-midi | H24: =(HOUR(F24)*60+MINUTE(F24))/60 -> 9.2
B25: =B24+1 -> 42483 | C25: 2640 | D25: =IFERROR(IF($A25="",VLOOKUP($C25,PARAM!$A$11:$I$210,CHOOSE(WEEKDAY($B25,2),2,2,4,2,2,6,8),FALSE),VLOOKUP($C25,PARAM!$A$11:$P$210,CHOOSE(WEEKDAY($B25,2),11,11,11,11,11,13,15),FALSE)),0) -> 0.59861111 | E25: =IFERROR(IF($A25="",VLOOKUP($C25,PARAM!$A$11:$I$210,CHOOSE(WEEKDAY($B25,2),3,3,5,3,3,7,9),FALSE),VLOOKUP($C25,PARAM!$A$11:$P$210,CHOOSE(WEEKDAY($B25,2),12,12,12,12,12,14,16),FALSE)),0) -> 0.92222222 | F25: =SUM(E25-D25) -> 0.32361111 | G25: Après-midi | H25: =(HOUR(F25)*60+MINUTE(F25))/60 -> 7.7666667
B26: =B25+1 -> 42484 | C26: CR | D26: =IFERROR(IF($A26="",VLOOKUP($C26,PARAM!$A$11:$I$210,CHOOSE(WEEKDAY($B26,2),2,2,4,2,2,6,8),FALSE),VLOOKUP($C26,PARAM!$A$11:$P$210,CHOOSE(WEEKDAY($B26,2),11,11,11,11,11,13,15),FALSE)),0) -> 0 | E26: =IFERROR(IF($A26="",VLOOKUP($C26,PARAM!$A$11:$I$210,CHOOSE(WEEKDAY($B26,2),3,3,5,3,3,7,9),FALSE),VLOOKUP($C26,PARAM!$A$11:$P$210,CHOOSE(WEEKDAY($B26,2),12,12,12,12,12,14,16),FALSE)),0) -> 0 | F26: =SUM(E26-D26) -> 0 | H26: =(HOUR(F26)*60+MINUTE(F26))/60 -> 0
B27: =B26+1 -> 42485 | C27: 2562 | D27: =IFERROR(IF($A27="",VLOOKUP($C27,PARAM!$A$11:$I$210,CHOOSE(WEEKDAY($B27,2),2,2,4,2,2,6,8),FALSE),VLOOKUP($C27,PARAM!$A$11:$P$210,CHOOSE(WEEKDAY($B27,2),11,11,11,11,11,13,15),FALSE)),0) -> 0.27152778 | E27: =IFERROR(IF($A27="",VLOOKUP($C27,PARAM!$A$11:$I$210,CHOOSE(WEEKDAY($B27,2),3,3,5,3,3,7,9),FALSE),VLOOKUP($C27,PARAM!$A$11:$P$210,CHOOSE(WEEKDAY($B27,2),12,12,12,12,12,14,16),FALSE)),0) -> 0.57222222 | F27: =SUM(E27-D27) -> 0.30069444 | G27: Matin | H27: =(HOUR(F27)*60+MINUTE(F27))/60 -> 7.2166667
B28: =B27+1 -> 42486 | C28: 2561 | D28: =IFERROR(IF($A28="",VLOOKUP($C28,PARAM!$A$11:$I$210,CHOOSE(WEEKDAY($B28,2),2,2,4,2,2,6,8),FALSE),VLOOKUP($C28,PARAM!$A$11:$P$210,CHOOSE(WEEKDAY($B28,2),11,11,11,11,11,13,15),FALSE)),0) -> 0.20972222 | E28: =IFERROR(IF($A28="",VLOOKUP($C28,PARAM!$A$11:$I$210,CHOOSE(WEEKDAY($B28,2),3,3,5,3,3,7,9),FALSE),VLOOKUP($C28,PARAM!$A$11:$P$210,CHOOSE(WEEKDAY($B28,2),12,12,12,12,12,14,16),FALSE)),0) -> 0.52222222 | F28: =SUM(E28-D28) -> 0.3125 | G28: Matin | H28: =(HOUR(F28)*60+MINUTE(F28))/60 -> 7.5
B29: =B28+1 -> 42487 | C29: 2540 | D29: =IFERROR(IF($A29="",VLOOKUP($C29,PARAM!$A$11:$I$210,CHOOSE(WEEKDAY($B29,2),2,2,4,2,2,6,8),FALSE),VLOOKUP($C29,PARAM!$A$11:$P$210,CHOOSE(WEEKDAY($B29,2),11,11,11,11,11,13,15),FALSE)),0) -> 0.20972222 | E29: =IFERROR(IF($A29="",VLOOKUP($C29,PARAM!$A$11:$I$210,CHOOSE(WEEKDAY($B29,2),3,3,5,3,3,7,9),FALSE),VLOOKUP($C29,PARAM!$A$11:$P$210,CHOOSE(WEEKDAY($B29,2),12,12,12,12,12,14,16),FALSE)),0) -> 0.56458333 | F29: =SUM(E29-D29) -> 0.35486111 | G29: Matin | H29: =(HOUR(F29)*60+MINUTE(F29))/60 -> 8.5166667
B30: =B29+1 -> 42488 | C30: 2562 | D30: =IFERROR(IF($A30="",VLOOKUP($C30,PARAM!$A$11:$I$210,CHOOSE(WEEKDAY($B30,2),2,2,4,2,2,6,8),FALSE),VLOOKUP($C30,PARAM!$A$11:$P$210,CHOOSE(WEEKDAY($B30,2),11,11,11,11,11,13,15),FALSE)),0) -> 0.27152778 | E30: =IFERROR(IF($A30="",VLOOKUP($C30,PARAM!$A$11:$I$210,CHOOSE(WEEKDAY($B30,2),3,3,5,3,3,7,9),FALSE),VLOOKUP($C30,PARAM!$A$11:$P$210,CHOOSE(WEEKDAY($B30,2),12,12,12,12,12,14,16),FALSE)),0) -> 0.57222222 | F30: =SUM(E30-D30) -> 0.30069444 | G30: Matin | H30: =(HOUR(F30)*60+MINUTE(F30))/60 -> 7.2166667
B31: =B30+1 -> 42489 | C31: 2566 | D31: =IFERROR(IF($A31="",VLOOKUP($C31,PARAM!$A$11:$I$210,CHOOSE(WEEKDAY($B31,2),2,2,4,2,2,6,8),FALSE),VLOOKUP($C31,PARAM!$A$11:$P$210,CHOOSE(WEEKDAY($B31,2),11,11,11,11,11,13,15),FALSE)),0) -> 0.20277778 | E31: =IFERROR(IF($A31="",VLOOKUP($C31,PARAM!$A$11:$I$210,CHOOSE(WEEKDAY($B31,2),3,3,5,3,3,7,9),FALSE),VLOOKUP($C31,PARAM!$A$11:$P$210,CHOOSE(WEEKDAY($B31,2),12,12,12,12,12,14,16),FALSE)),0) -> 0.5625 | F31: =SUM(E31-D31) -> 0.35972222 | G31: Payé double | H31: =(HOUR(F31)*60+MINUTE(F31))/60 -> 8.6333333
B32: =B31+1 -> 42490 | C32: 2561 | D32: =IFERROR(IF($A32="",VLOOKUP($C32,PARAM!$A$11:$I$210,CHOOSE(WEEKDAY($B32,2),2,2,4,2,2,6,8),FALSE),VLOOKUP($C32,PARAM!$A$11:$P$210,CHOOSE(WEEKDAY($B32,2),11,11,11,11,11,13,15),FALSE)),0) -> 0.21944444 | E32: =IFERROR(IF($A32="",VLOOKUP($C32,PARAM!$A$11:$I$210,CHOOSE(WEEKDAY($B32,2),3,3,5,3,3,7,9),FALSE),VLOOKUP($C32,PARAM!$A$11:$P$210,CHOOSE(WEEKDAY($B32,2),12,12,12,12,12,14,16),FALSE)),0) -> 0.58055556 | F32: =SUM(E32-D32) -> 0.36111111 | G32: Matin | H32: =(HOUR(F32)*60+MINUTE(F32))/60 -> 8.6666667
B33: =B32+1 -> 42491 | D33: =IFERROR(IF($A33="",VLOOKUP($C33,PARAM!$A$11:$I$210,CHOOSE(WEEKDAY($B33,2),2,2,4,2,2,6,8),FALSE),VLOOKUP($C33,PARAM!$A$11:$P$210,CHOOSE(WEEKDAY($B33,2),11,11,11,11,11,13,15),FALSE)),0) -> 0 | E33: =IFERROR(IF($A33="",VLOOKUP($C33,PARAM!$A$11:$I$210,CHOOSE(WEEKDAY($B33,2),3,3,5,3,3,7,9),FALSE),VLOOKUP($C33,PARAM!$A$11:$P$210,CHOOSE(WEEKDAY($B33,2),12,12,12,12,12,14,16),FALSE)),0) -> 0 | F33: =SUM(E33-D33) -> 0
B34: Total | F34: =SUM(F3:F33) -> 7.9409722 | H34: =SUM(H3:H33) -> 190.58333
F1048576: =SUM(F34) -> 7.9409722

Sheet 05
B1: PRESTATIONS DU MOIS DE : | D1: =DATE(PARAM!$B$3,RIGHT(CELL("nomfichier",D1),2),1) -> 42491
A2: Type | B2: Date | C2: Services | D2: H/Début | E2: H/Fin | F2: Nb heures | G2: Commentaires
B3: =DATE(PARAM!$B$3,RIGHT(CELL("nomfichier",D1),2),1) -> 42491 | C3: CC | D3: =IFERROR(IF($A3="",VLOOKUP($C3,PARAM!$A$11:$I$210,CHOOSE(WEEKDAY($B3,2),2,2,4,2,2,6,8),FALSE),VLOOKUP($C3,PARAM!$A$11:$P$210,CHOOSE(WEEKDAY($B3,2),11,11,11,11,11,13,15),FALSE)),0) -> 0 | E3: =IFERROR(IF($A3="",VLOOKUP($C3,PARAM!$A$11:$I$210,CHOOSE(WEEKDAY($B3,2),3,3,5,3,3,7,9),FALSE),VLOOKUP($C3,PARAM!$A$11:$P$210,CHOOSE(WEEKDAY($B3,2),12,12,12,12,12,14,16),FALSE)),0) -> 0 | F3: =SUM(E3-D3) -> 0 | H3: =(HOUR(F3)*60+MINUTE(F3))/60 -> 0
B4: =B3+1 -> 42492 | C4: 2662 | D4: =IFERROR(IF($A4="",VLOOKUP($C4,PARAM!$A$11:$I$210,CHOOSE(WEEKDAY($B4,2),2,2,4,2,2,6,8),FALSE),VLOOKUP($C4,PARAM!$A$11:$P$210,CHOOSE(WEEKDAY($B4,2),11,11,11,11,11,13,15),FALSE)),0) -> 0.55138889 | E4: =IFERROR(IF($A4="",VLOOKUP($C4,PARAM!$A$11:$I$210,CHOOSE(WEEKDAY($B4,2),3,3,5,3,3,7,9),FALSE),VLOOKUP($C4,PARAM!$A$11:$P$210,CHOOSE(WEEKDAY($B4,2),12,12,12,12,12,14,16),FALSE)),0) -> 0.93472222 | F4: =SUM(E4-D4) -> 0.38333333 | G4: Après-midi | H4: =(HOUR(F4)*60+MINUTE(F4))/60 -> 9.2
B5: =B4+1 -> 42493 | C5: 2664 | D5: =IFERROR(IF($A5="",VLOOKUP($C5,PARAM!$A$11:$I$210,CHOOSE(WEEKDAY($B5,2),2,2,4,2,2,6,8),FALSE),VLOOKUP($C5,PARAM!$A$11:$P$210,CHOOSE(WEEKDAY($B5,2),11,11,11,11,11,13,15),FALSE)),0) -> 0.61944444 | E5: =IFERROR(IF($A5="",VLOOKUP($C5,PARAM!$A$11:$I$210,CHOOSE(WEEKDAY($B5,2),3,3,5,3,3,7,9),FALSE),VLOOKUP($C5,PARAM!$A$11:$P$210,CHOOSE(WEEKDAY($B5,2),12,12,12,12,12,14,16),FALSE)),0) -> 0.97222222 | F5: =SUM(E5-D5) -> 0.35277778 | G5: Après-midi | H5: =(HOUR(F5)*60+MINUTE(F5))/60 -> 8.4666667
A6: C | B6: =B5+1 -> 42494 | C6: 2610 | D6: =IFERROR(IF($A6="",VLOOKUP($C6,PARAM!$A$11:$I$210,CHOOSE(WEEKDAY($B6,2),2,2,4,2,2,6,8),FALSE),VLOOKUP($C6,PARAM!$A$11:$P$210,CHOOSE(WEEKDAY($B6,2),11,11,11,11,11,13,15),FALSE)),0) -> 0.61944444 | E6: =IFERROR(IF($A6="",VLOOKUP($C6,PARAM!$A$11:$I$210,CHOOSE(WEEKDAY($B6,2),3,3,5,3,3,7,9),FALSE),VLOOKUP($C6,PARAM!$A$11:$P$210,CHOOSE(WEEKDAY($B6,2),12,12,12,12,12,14,16),FALSE)),0) -> 0.97361111 | F6: =SUM(E6-D6) -> 0.35416667 | G6: Après-midi | H6: =(HOUR(F6)*60+MINUTE(F6))/60 -> 8.5
A7: C | B7: =B6+1 -> 42495 | C7: CR | D7: =IFERROR(IF($A7="",VLOOKUP($C7,PARAM!$A$11:$I$210,CHOOSE(WEEKDAY($B7,2),2,2,4,2,2,6,8),FALSE),VLOOKUP($C7,PARAM!$A$11:$P$210,CHOOSE(WEEKDAY($B7,2),11,11,11,11,11,13,15),FALSE)),0) -> 0 | E7: =IFERROR(IF($A7="",VLOOKUP($C7,PARAM!$A$11:$I$210,CHOOSE(WEEKDAY($B7,2),3,3,5,3,3,7,9),FALSE),VLOOKUP($C7,PARAM!$A$11:$P$210,CHOOSE(WEEKDAY($B7,2),12,12,12,12,12,14,16),FALSE)),0) -> 0 | F7: =SUM(E7-D7) -> 0 | H7: =(HOUR(F7)*60+MINUTE(F7))/60 -> 0
A8: C | B8: =B7+1 -> 42496 | C8: 2624 | D8: =IFERROR(IF($A8="",VLOOKUP($C8,PARAM!$A$11:$I$210,CHOOSE(WEEKDAY($B8,2),2,2,4,2,2,6,8),FALSE),VLOOKUP($C8,PARAM!$A$11:$P$210,CHOOSE(WEEKDAY($B8,2),11,11,11,11,11,13,15),FALSE)),0) -> 0.54930556 | E8: =IFERROR(IF($A8="",VLOOKUP($C8,PARAM!$A$11:$I$210,CHOOSE(WEEKDAY($B8,2),3,3,5,3,3,7,9),FALSE),VLOOKUP($C8,PARAM!$A$11:$P$210,CHOOSE(WEEKDAY($B8,2),12,12,12,12,12,14,16),FALSE)),0) -> 0.92430556 | F8: =SUM(E8-D8) -> 0.375 | G8: Après-midi | H8: =(HOUR(F8)*60+MINUTE(F8))/60 -> 9
B9: =B8+1 -> 42497 | C9: 2642 | D9: =IFERROR(IF($A9="",VLOOKUP($C9,PARAM!$A$11:$I$210,CHOOSE(WEEKDAY($B9,2),2,2,4,2,2,6,8),FALSE),VLOOKUP($C9,PARAM!$A$11:$P$210,CHOOSE(WEEKDAY($B9,2),11,11,11,11,11,13,15),FALSE)),0) -> 0.60625 | E9: =IFERROR(IF($A9="",VLOOKUP($C9,PARAM!$A$11:$I$210,CHOOSE(WEEKDAY($B9,2),3,3,5,3,3,7,9),FALSE),VLOOKUP($C9,PARAM!$A$11:$P$210,CHOOSE(WEEKDAY($B9,2),12,12,12,12,12,14,16),FALSE)),0) -> 0.96875 | F9: =SUM(E9-D9) -> 0.3625 | G9: Après-midi | H9: =(HOUR(F9)*60+MINUTE(F9))/60 -> 8.7
B10: =B9+1 -> 42498 | C10: CR | D10: =IFERROR(IF($A10="",VLOOKUP($C10,PARAM!$A$11:$I$210,CHOOSE(WEEKDAY($B10,2),2,2,4,2,2,6,8),FALSE),VLOOKUP($C10,PARAM!$A$11:$P$210,CHOOSE(WEEKDAY($B10,2),11,11,11,11,11,13,15),FALSE)),0) -> 0 | E10: =IFERROR(IF($A10="",VLOOKUP($C10,PARAM!$A$11:$I$210,CHOOSE(WEEKDAY($B10,2),3,3,5,3,3,7,9),FALSE),VLOOKUP($C10,PARAM!$A$11:$P$210,CHOOSE(WEEKDAY($B10,2),12,12,12,12,12,14,16),FALSE)),0) -> 0 | F10: =SUM(E10-D10) -> 0 | H10: =(HOUR(F10)*60+MINUTE(F10))/60 -> 0
B11: =B10+1 -> 42499 | C11: 2564 | D11: =IFERROR(IF($A11="",VLOOKUP($C11,PARAM!$A$11:$I$210,CHOOSE(WEEKDAY($B11,2),2,2,4,2,2,6,8),FALSE),VLOOKUP($C11,PARAM!$A$11:$P$210,CHOOSE(WEEKDAY($B11,2),11,11,11,11,11,13,15),FALSE)),0) -> 0.22222222 | E11: =IFERROR(IF($A11="",VLOOKUP($C11,PARAM!$A$11:$I$210,CHOOSE(WEEKDAY($B11,2),3,3,5,3,3,7,9),FALSE),VLOOKUP($C11,PARAM!$A$11:$P$210,CHOOSE(WEEKDAY($B11,2),12,12,12,12,12,14,16),FALSE)),0) -> 0.55138889 | F11: =SUM(E11-D11) -> 0.32916667 | G11: Matin | H11: =(HOUR(F11)*60+MINUTE(F11))/60 -> 7.9
B12: =B11+1 -> 42500 | C12: CC | D12: =IFERROR(IF($A12="",VLOOKUP($C12,PARAM!$A$11:$I$210,CHOOSE(WEEKDAY($B12,2),2,2,4,2,2,6,8),FALSE),VLOOKUP($C12,PARAM!$A$11:$P$210,CHOOSE(WEEKDAY($B12,2),11,11,11,11,11,13,15),FALSE)),0) -> 0 | E12: =IFERROR(IF($A12="",VLOOKUP($C12,PARAM!$A$11:$I$210,CHOOSE(WEEKDAY($B12,2),3,3,5,3,3,7,9),FALSE),VLOOKUP($C12,PARAM!$A$11:$P$210,CHOOSE(WEEKDAY($B12,2),12,12,12,12,12,14,16),FALSE)),0) -> 0 | F12: =SUM(E12-D12) -> 0 | H12: =(HOUR(F12)*60+MINUTE(F12))/60 -> 0
B13: =B12+1 -> 42501 | C13: 2544 | D13: =IFERROR(IF($A13="",VLOOKUP($C13,PARAM!$A$11:$I$210,CHOOSE(WEEKDAY($B13,2),2,2,4,2,2,6,8),FALSE),VLOOKUP($C13,PARAM!$A$11:$P$210,CHOOSE(WEEKDAY($B13,2),11,11,11,11,11,13,15),FALSE)),0) -> 0.17083333 | E13: =IFERROR(IF($A13="",VLOOKUP($C13,PARAM!$A$11:$I$210,CHOOSE(WEEKDAY($B13,2),3,3,5,3,3,7,9),FALSE),VLOOKUP($C13,PARAM!$A$11:$P$210,CHOOSE(WEEKDAY($B13,2),12,12,12,12,12,14,16),FALSE)),0) -> 0.525 | F13: =SUM(E13-D13) -> 0.35416667 | G13: Matin | H13: =(HOUR(F13)*60+MINUTE(F13))/60 -> 8.5
B14: =B13+1 -> 42502 | C14: 2569 | D14: =IFERROR(IF($A14="",VLOOKUP($C14,PARAM!$A$11:$I$210,CHOOSE(WEEKDAY($B14,2),2,2,4,2,2,6,8),FALSE),VLOOKUP($C14,PARAM!$A$11:$P$210,CHOOSE(WEEKDAY($B14,2),11,11,11,11,11,13,15),FALSE)),0) -> 0.22013889 | E14: =IFERROR(IF($A14="",VLOOKUP($C14,PARAM!$A$11:$I$210,CHOOSE(WEEKDAY($B14,2),3,3,5,3,3,7,9),FALSE),VLOOKUP($C14,PARAM!$A$11:$P$210,CHOOSE(WEEKDAY($B14,2),12,12,12,12,12,14,16),FALSE)),0) -> 0.60555556 | F14: =SUM(E14-D14) -> 0.38541667 | G14: Matin | H14: =(HOUR(F14)*60+MINUTE(F14))/60 -> 9.25
B15: =B14+1 -> 42503 | C15: 2562 | D15: =IFERROR(IF($A15="",VLOOKUP($C15,PARAM!$A$11:$I$210,CHOOSE(WEEKDAY($B15,2),2,2,4,2,2,6,8),FALSE),VLOOKUP($C15,PARAM!$A$11:$P$210,CHOOSE(WEEKDAY($B15,2),11,11,11,11,11,13,15),FALSE)),0) -> 0.27152778 | E15: =IFERROR(IF($A15="",VLOOKUP($C15,PARAM!$A$11:$I$210,CHOOSE(WEEKDAY($B15,2),3,3,5,3,3,7,9),FALSE),VLOOKUP($C15,PARAM!$A$11:$P$210,CHOOSE(WEEKDAY($B15,2),12,12,12,12,12,14,16),FALSE)),0) -> 0.57222222 | F15: =SUM(E15-D15) -> 0.30069444 | G15: Matin | H15: =(HOUR(F15)*60+MINUTE(F15))/60 -> 7.2166667
B16: =B15+1 -> 42504 | C16: 2565 | D16: =IFERROR(IF($A16="",VLOOKUP($C16,PARAM!$A$11:$I$210,CHOOSE(WEEKDAY($B16,2),2,2,4,2,2,6,8),FALSE),VLOOKUP($C16,PARAM!$A$11:$P$210,CHOOSE(WEEKDAY($B16,2),11,11,11,11,11,13,15),FALSE)),0) -> 0.36736111 | E16: =IFERROR(IF($A16="",VLOOKUP($C16,PARAM!$A$11:$I$210,CHOOSE(WEEKDAY($B16,2),3,3,5,3,3,7,9),FALSE),VLOOKUP($C16,PARAM!$A$11:$P$210,CHOOSE(WEEKDAY($B16,2),12,12,12,12,12,14,16),FALSE)),0) -> 0.67569444 | F16: =SUM(E16-D16) -> 0.30833333 | G16: Matin | H16: =(HOUR(F16)*60+MINUTE(F16))/60 -> 7.4
B17: =B16+1 -> 42505 | C17: CR | D17: =IFERROR(IF($A17="",VLOOKUP($C17,PARAM!$A$11:$I$210,CHOOSE(WEEKDAY($B17,2),2,2,4,2,2,6,8),FALSE),VLOOKUP($C17,PARAM!$A$11:$P$210,CHOOSE(WEEKDAY($B17,2),11,11,11,11,11,13,15),FALSE)),0) -> 0 | E17: =IFERROR(IF($A17="",VLOOKUP($C17,PARAM!$A$11:$I$210,CHOOSE(WEEKDAY($B17,2),3,3,5,3,3,7,9),FALSE),VLOOKUP($C17,PARAM!$A$11:$P$210,CHOOSE(WEEKDAY($B17,2),12,12,12,12,12,14,16),FALSE)),0) -> 0 | F17: =SUM(E17-D17) -> 0 | H17: =(HOUR(F17)*60+MINUTE(F17))/60 -> 0
B18: =B17+1 -> 42506 | C18: CR | D18: =IFERROR(IF($A18="",VLOOKUP($C18,PARAM!$A$11:$I$210,CHOOSE(WEEKDAY($B18,2),2,2,4,2,2,6,8),FALSE),VLOOKUP($C18,PARAM!$A$11:$P$210,CHOOSE(WEEKDAY($B18,2),11,11,11,11,11,13,15),FALSE)),0) -> 0 | E18: =IFERROR(IF($A18="",VLOOKUP($C18,PARAM!$A$11:$I$210,CHOOSE(WEEKDAY($B18,2),3,3,5,3,3,7,9),FALSE),VLOOKUP($C18,PARAM!$A$11:$P$210,CHOOSE(WEEKDAY($B18,2),12,12,12,12,12,14,16),FALSE)),0) -> 0 | F18: =SUM(E18-D18) -> 0 | H18: =(HOUR(F18)*60+MINUTE(F18))/60 -> 0
B19: =B18+1 -> 42507 | C19: 2668 | D19: =IFERROR(IF($A19="",VLOOKUP($C19,PARAM!$A$11:$I$210,CHOOSE(WEEKDAY($B19,2),2,2,4,2,2,6,8),FALSE),VLOOKUP($C19,PARAM!$A$11:$P$210,CHOOSE(WEEKDAY($B19,2),11,11,11,11,11,13,15),FALSE)),0) -> 0.57291667 | E19: =IFERROR(IF($A19="",VLOOKUP($C19,PARAM!$A$11:$I$210,CHOOSE(WEEKDAY($B19,2),3,3,5,3,3,7,9),FALSE),VLOOKUP($C19,PARAM!$A$11:$P$210,CHOOSE(WEEKDAY($B19,2),12,12,12,12,12,14,16),FALSE)),0) -> 0.94583333 | F19: =SUM(E19-D19) -> 0.37291667 | G19: Après-midi | H19: =(HOUR(F19)*60+MINUTE(F19))/60 -> 8.95
B20: =B19+1 -> 42508 | C20: 2666 | D20: =IFERROR(IF($A20="",VLOOKUP($C20,PARAM!$A$11:$I$210,CHOOSE(WEEKDAY($B20,2),2,2,4,2,2,6,8),FALSE),VLOOKUP($C20,PARAM!$A$11:$P$210,CHOOSE(WEEKDAY($B20,2),11,11,11,11,11,13,15),FALSE)),0) -> 0.54166667 | E20: =IFERROR(IF($A20="",VLOOKUP($C20,PARAM!$A$11:$I$210,CHOOSE(WEEKDAY($B20,2),3,3,5,3,3,7,9),FALSE),VLOOKUP($C20,PARAM!$A$11:$P$210,CHOOSE(WEEKDAY($B20,2),12,12,12,12,12,14,16),FALSE)),0) -> 0.81180556 | F20: =SUM(E20-D20) -> 0.27013889 | G20: Payé double | H20: =(HOUR(F20)*60+MINUTE(F20))/60 -> 6.4833333
B21: =B20+1 -> 42509 | C21: 2645 | D21: =IFERROR(IF($A21="",VLOOKUP($C21,PARAM!$A$11:$I$210,CHOOSE(WEEKDAY($B21,2),2,2,4,2,2,6,8),FALSE),VLOOKUP($C21,PARAM!$A$11:$P$210,CHOOSE(WEEKDAY($B21,2),11,11,11,11,11,13,15),FALSE)),0) -> 0.54583333 | E21: =IFERROR(IF($A21="",VLOOKUP($C21,PARAM!$A$11:$I$210,CHOOSE(WEEKDAY($B21,2),3,3,5,3,3,7,9),FALSE),VLOOKUP($C21,PARAM!$A$11:$P$210,CHOOSE(WEEKDAY($B21,2),12,12,12,12,12,14,16),FALSE)),0) -> 0.81597222 | F21: =SUM(E21-D21) -> 0.27013889 | G21: Après-midi | H21: =(HOUR(F21)*60+MINUTE(F21))/60 -> 6.4833333
B22: =B21+1 -> 42510 | C22: 2565 | D22: =IFERROR(IF($A22="",VLOOKUP($C22,PARAM!$A$11:$I$210,CHOOSE(WEEKDAY($B22,2),2,2,4,2,2,6,8),FALSE),VLOOKUP($C22,PARAM!$A$11:$P$210,CHOOSE(WEEKDAY($B22,2),11,11,11,11,11,13,15),FALSE)),0) -> 0.19166667 | E22: =IFERROR(IF($A22="",VLOOKUP($C22,PARAM!$A$11:$I$210,CHOOSE(WEEKDAY($B22,2),3,3,5,3,3,7,9),FALSE),VLOOKUP($C22,PARAM!$A$11:$P$210,CHOOSE(WEEKDAY($B22,2),12,12,12,12,12,14,16),FALSE)),0) -> 0.54513889 | F22: =SUM(E22-D22) -> 0.35347222 | G22: Matin | H22: =(HOUR(F22)*60+MINUTE(F22))/60 -> 8.4833333
B23: =B22+1 -> 42511 | C23: 2610 | D23: =IFERROR(IF($A23="",VLOOKUP($C23,PARAM!$A$11:$I$210,CHOOSE(WEEKDAY($B23,2),2,2,4,2,2,6,8),FALSE),VLOOKUP($C23,PARAM!$A$11:$P$210,CHOOSE(WEEKDAY($B23,2),11,11,11,11,11,13,15),FALSE)),0) -> 0.51458333 | E23: =IFERROR(IF($A23="",VLOOKUP($C23,PARAM!$A$11:$I$210,CHOOSE(WEEKDAY($B23,2),3,3,5,3,3,7,9),FALSE),VLOOKUP($C23,PARAM!$A$11:$P$210,CHOOSE(WEEKDAY($B23,2),12,12,12,12,12,14,16),FALSE)),0) -> 0.90763889 | F23: =SUM(E23-D23) -> 0.39305556 | G23: Après-midi | H23: =(HOUR(F23)*60+MINUTE(F23))/60 -> 9.4333333
B24: =B23+1 -> 42512 | C24: CR | D24: =IFERROR(IF($A24="",VLOOKUP($C24,PARAM!$A$11:$I$210,CHOOSE(WEEKDAY($B24,2),2,2,4,2,2,6,8),FALSE),VLOOKUP($C24,PARAM!$A$11:$P$210,CHOOSE(WEEKDAY($B24,2),11,11,11,11,11,13,15),FALSE)),0) -> 0 | E24: =IFERROR(IF($A24="",VLOOKUP($C24,PARAM!$A$11:$I$210,CHOOSE(WEEKDAY($B24,2),3,3,5,3,3,7,9),FALSE),VLOOKUP($C24,PARAM!$A$11:$P$210,CHOOSE(WEEKDAY($B24,2),12,12,12,12,12,14,16),FALSE)),0) -> 0 | F24: =SUM(E24-D24) -> 0 | H24: =(HOUR(F24)*60+MINUTE(F24))/60 -> 0
B25: =B24+1 -> 42513 | C25: 2564 | D25: =IFERROR(IF($A25="",VLOOKUP($C25,PARAM!$A$11:$I$210,CHOOSE(WEEKDAY($B25,2),2,2,4,2,2,6,8),FALSE),VLOOKUP($C25,PARAM!$A$11:$P$210,CHOOSE(WEEKDAY($B25,2),11,11,11,11,11,13,15),FALSE)),0) -> 0.22222222 | E25: =IFERROR(IF($A25="",VLOOKUP($C25,PARAM!$A$11:$I$210,CHOOSE(WEEKDAY($B25,2),3,3,5,3,3,7,9),FALSE),VLOOKUP($C25,PARAM!$A$11:$P$210,CHOOSE(WEEKDAY($B25,2),12,12,12,12,12,14,16),FALSE)),0) -> 0.55138889 | F25: =SUM(E25-D25) -> 0.32916667 | G25: Matin | H25: =(HOUR(F25)*60+MINUTE(F25))/60 -> 7.9
B26: =B25+1 -> 42514 | C26: Grève | D26: =IFERROR(IF($A26="",VLOOKUP($C26,PARAM!$A$11:$I$210,CHOOSE(WEEKDAY($B26,2),2,2,4,2,2,6,8),FALSE),VLOOKUP($C26,PARAM!$A$11:$P$210,CHOOSE(WEEKDAY($B26,2),11,11,11,11,11,13,15),FALSE)),0) -> 0 | E26: =IFERROR(IF($A26="",VLOOKUP($C26,PARAM!$A$11:$I$210,CHOOSE(WEEKDAY($B26,2),3,3,5,3,3,7,9),FALSE),VLOOKUP($C26,PARAM!$A$11:$P$210,CHOOSE(WEEKDAY($B26,2),12,12,12,12,12,14,16),FALSE)),0) -> 0 | F26: =SUM(E26-D26) -> 0 | G26: Matin | H26: =(HOUR(F26)*60+MINUTE(F26))/60 -> 0
B27: =B26+1 -> 42515 | C27: 2526 | D27: =IFERROR(IF($A27="",VLOOKUP($C27,PARAM!$A$11:$I$210,CHOOSE(WEEKDAY($B27,2),2,2,4,2,2,6,8),FALSE),VLOOKUP($C27,PARAM!$A$11:$P$210,CHOOSE(WEEKDAY($B27,2),11,11,11,11,11,13,15),FALSE)),0) -> 0.1875 | E27: =IFERROR(IF($A27="",VLOOKUP($C27,PARAM!$A$11:$I$210,CHOOSE(WEEKDAY($B27,2),3,3,5,3,3,7,9),FALSE),VLOOKUP($C27,PARAM!$A$11:$P$210,CHOOSE(WEEKDAY($B27,2),12,12,12,12,12,14,16),FALSE)),0) -> 0.53125 | F27: =SUM(E27-D27) -> 0.34375 | G27: Matin | H27: =(HOUR(F27)*60+MINUTE(F27))/60 -> 8.25
B28: =B27+1 -> 42516 | C28: CC | D28: =IFERROR(IF($A28="",VLOOKUP($C28,PARAM!$A$11:$I$210,CHOOSE(WEEKDAY($B28,2),2,2,4,2,2,6,8),FALSE),VLOOKUP($C28,PARAM!$A$11:$P$210,CHOOSE(WEEKDAY($B28,2),11,11,11,11,11,13,15),FALSE)),0) -> 0 | E28: =IFERROR(IF($A28="",VLOOKUP($C28,PARAM!$A$11:$I$210,CHOOSE(WEEKDAY($B28,2),3,3,5,3,3,7,9),FALSE),VLOOKUP($C28,PARAM!$A$11:$P$210,CHOOSE(WEEKDAY($B28,2),12,12,12,12,12,14,16),FALSE)),0) -> 0 | F28: =SUM(E28-D28) -> 0 | H28: =(HOUR(F28)*60+MINUTE(F28))/60 -> 0
B29: =B28+1 -> 42517 | C29: 2569 | D29: =IFERROR(IF($A29="",VLOOKUP($C29,PARAM!$A$11:$I$210,CHOOSE(WEEKDAY($B29,2),2,2,4,2,2,6,8),FALSE),VLOOKUP($C29,PARAM!$A$11:$P$210,CHOOSE(WEEKDAY($B29,2),11,11,11,11,11,13,15),FALSE)),0) -> 0.22013889 | E29: =IFERROR(IF($A29="",VLOOKUP($C29,PARAM!$A$11:$I$210,CHOOSE(WEEKDAY($B29,2),3,3,5,3,3,7,9),FALSE),VLOOKUP($C29,PARAM!$A$11:$P$210,CHOOSE(WEEKDAY($B29,2),12,12,12,12,12,14,16),FALSE)),0) -> 0.60555556 | F29: =SUM(E29-D29) -> 0.38541667 | G29: Matin | H29: =(HOUR(F29)*60+MINUTE(F29))/60 -> 9.25
B30: =B29+1 -> 42518 | C30: 2511 | D30: =IFERROR(IF($A30="",VLOOKUP($C30,PARAM!$A$11:$I$210,CHOOSE(WEEKDAY($B30,2),2,2,4,2,2,6,8),FALSE),VLOOKUP($C30,PARAM!$A$11:$P$210,CHOOSE(WEEKDAY($B30,2),11,11,11,11,11,13,15),FALSE)),0) -> 0.26597222 | E30: =IFERROR(IF($A30="",VLOOKUP($C30,PARAM!$A$11:$I$210,CHOOSE(WEEKDAY($B30,2),3,3,5,3,3,7,9),FALSE),VLOOKUP($C30,PARAM!$A$11:$P$210,CHOOSE(WEEKDAY($B30,2),12,12,12,12,12,14,16),FALSE)),0) -> 0.57708333 | F30: =SUM(E30-D30) -> 0.31111111 | G30: Matin | H30: =(HOUR(F30)*60+MINUTE(F30))/60 -> 7.4666667
B31: =B30+1 -> 42519 | C31: CC | D31: =IFERROR(IF($A31="",VLOOKUP($C31,PARAM!$A$11:$I$210,CHOOSE(WEEKDAY($B31,2),2,2,4,2,2,6,8),FALSE),VLOOKUP($C31,PARAM!$A$11:$P$210,CHOOSE(WEEKDAY($B31,2),11,11,11,11,11,13,15),FALSE)),0) -> 0 | E31: =IFERROR(IF($A31="",VLOOKUP($C31,PARAM!$A$11:$I$210,CHOOSE(WEEKDAY($B31,2),3,3,5,3,3,7,9),FALSE),VLOOKUP($C31,PARAM!$A$11:$P$210,CHOOSE(WEEKDAY($B31,2),12,12,12,12,12,14,16),FALSE)),0) -> 0 | F31: =SUM(E31-D31) -> 0 | H31: =(HOUR(F31)*60+MINUTE(F31))/60 -> 0
B32: =B31+1 -> 42520 | C32: CR | D32: =IFERROR(IF($A32="",VLOOKUP($C32,PARAM!$A$11:$I$210,CHOOSE(WEEKDAY($B32,2),2,2,4,2,2,6,8),FALSE),VLOOKUP($C32,PARAM!$A$11:$P$210,CHOOSE(WEEKDAY($B32,2),11,11,11,11,11,13,15),FALSE)),0) -> 0 | E32: =IFERROR(IF($A32="",VLOOKUP($C32,PARAM!$A$11:$I$210,CHOOSE(WEEKDAY($B32,2),3,3,5,3,3,7,9),FALSE),VLOOKUP($C32,PARAM!$A$11:$P$210,CHOOSE(WEEKDAY($B32,2),12,12,12,12,12,14,16),FALSE)),0) -> 0 | F32: =SUM(E32-D32) -> 0 | H32: =(HOUR(F32)*60+MINUTE(F32))/60 -> 0
B33: =B32+1 -> 42521 | C33: Grève | D33: =IFERROR(IF($A33="",VLOOKUP($C33,PARAM!$A$11:$I$210,CHOOSE(WEEKDAY($B33,2),2,2,4,2,2,6,8),FALSE),VLOOKUP($C33,PARAM!$A$11:$P$210,CHOOSE(WEEKDAY($B33,2),11,11,11,11,11,13,15),FALSE)),0) -> 0 | E33: =IFERROR(IF($A33="",VLOOKUP($C33,PARAM!$A$11:$I$210,CHOOSE(WEEKDAY($B33,2),3,3,5,3,3,7,9),FALSE),VLOOKUP($C33,PARAM!$A$11:$P$210,CHOOSE(WEEKDAY($B33,2),12,12,12,12,12,14,16),FALSE)),0) -> 0 | F33: =SUM(E33-D33) -> 0 | G33: Matin | H33: =(HOUR(F33)*60+MINUTE(F33))/60 -> 0
B34: Total | F34: =SUM(F3:F33) -> 6.5347222 | H34: =SUM(H3:H33) -> 156.83333
F1048576: =SUM(F34) -> 6.5347222

Sheet 06
B1: PRESTATIONS DU MOIS DE : | D1: =DATE(PARAM!$B$3,RIGHT(CELL("nomfichier",D1),2),1) -> 42522
A2: Type | B2: Date | C2: Services | D2: H/Début | E2: H/Fin | F2: Nb heures | G2: Commentaires
B3: =DATE(PARAM!$B$3,RIGHT(CELL("nomfichier",D1),2),1) -> 42522 | C3: Grève | D3: =IFERROR(IF($A3="",VLOOKUP($C3,PARAM!$A$11:$I$210,CHOOSE(WEEKDAY($B3,2),2,2,4,2,2,6,8),FALSE),VLOOKUP($C3,PARAM!$A$11:$P$210,CHOOSE(WEEKDAY($B3,2),11,11,11,11,11,13,15),FALSE)),0) -> 0 | E3: =IFERROR(IF($A3="",VLOOKUP($C3,PARAM!$A$11:$I$210,CHOOSE(WEEKDAY($B3,2),3,3,5,3,3,7,9),FALSE),VLOOKUP($C3,PARAM!$A$11:$P$210,CHOOSE(WEEKDAY($B3,2),12,12,12,12,12,14,16),FALSE)),0) -> 0 | F3: =SUM(E3-D3) -> 0 | G3: Après-midi | H3: =(HOUR(F3)*60+MINUTE(F3))/60 -> 0
B4: =B3+1 -> 42523 | C4: Grève | D4: =IFERROR(IF($A4="",VLOOKUP($C4,PARAM!$A$11:$I$210,CHOOSE(WEEKDAY($B4,2),2,2,4,2,2,6,8),FALSE),VLOOKUP($C4,PARAM!$A$11:$P$210,CHOOSE(WEEKDAY($B4,2),11,11,11,11,11,13,15),FALSE)),0) -> 0 | E4: =IFERROR(IF($A4="",VLOOKUP($C4,PARAM!$A$11:$I$210,CHOOSE(WEEKDAY($B4,2),3,3,5,3,3,7,9),FALSE),VLOOKUP($C4,PARAM!$A$11:$P$210,CHOOSE(WEEKDAY($B4,2),12,12,12,12,12,14,16),FALSE)),0) -> 0 | F4: =SUM(E4-D4) -> 0 | G4: Après-midi | H4: =(HOUR(F4)*60+MINUTE(F4))/60 -> 0
B5: =B4+1 -> 42524 | C5: CC | D5: =IFERROR(IF($A5="",VLOOKUP($C5,PARAM!$A$11:$I$210,CHOOSE(WEEKDAY($B5,2),2,2,4,2,2,6,8),FALSE),VLOOKUP($C5,PARAM!$A$11:$P$210,CHOOSE(WEEKDAY($B5,2),11,11,11,11,11,13,15),FALSE)),0) -> 0 | E5: =IFERROR(IF($A5="",VLOOKUP($C5,PARAM!$A$11:$I$210,CHOOSE(WEEKDAY($B5,2),3,3,5,3,3,7,9),FALSE),VLOOKUP($C5,PARAM!$A$11:$P$210,CHOOSE(WEEKDAY($B5,2),12,12,12,12,12,14,16),FALSE)),0) -> 0 | F5: =SUM(E5-D5) -> 0 | H5: =(HOUR(F5)*60+MINUTE(F5))/60 -> 0
B6: =B5+1 -> 42525 | C6: CC | D6: =IFERROR(IF($A6="",VLOOKUP($C6,PARAM!$A$11:$I$210,CHOOSE(WEEKDAY($B6,2),2,2,4,2,2,6,8),FALSE),VLOOKUP($C6,PARAM!$A$11:$P$210,CHOOSE(WEEKDAY($B6,2),11,11,11,11,11,13,15),FALSE)),0) -> 0 | E6: =IFERROR(IF($A6="",VLOOKUP($C6,PARAM!$A$11:$I$210,CHOOSE(WEEKDAY($B6,2),3,3,5,3,3,7,9),FALSE),VLOOKUP($C6,PARAM!$A$11:$P$210,CHOOSE(WEEKDAY($B6,2),12,12,12,12,12,14,16),FALSE)),0) -> 0 | F6: =SUM(E6-D6) -> 0 | H6: =(HOUR(F6)*60+MINUTE(F6))/60 -> 0
B7: =B6+1 -> 42526 | C7: CR | D7: =IFERROR(IF($A7="",VLOOKUP($C7,PARAM!$A$11:$I$210,CHOOSE(WEEKDAY($B7,2),2,2,4,2,2,6,8),FALSE),VLOOKUP($C7,PARAM!$A$11:$P$210,CHOOSE(WEEKDAY($B7,2),11,11,11,11,11,13,15),FALSE)),0) -> 0 | E7: =IFERROR(IF($A7="",VLOOKUP($C7,PARAM!$A$11:$I$210,CHOOSE(WEEKDAY($B7,2),3,3,5,3,3,7,9),FALSE),VLOOKUP($C7,PARAM!$A$11:$P$210,CHOOSE(WEEKDAY($B7,2),12,12,12,12,12,14,16),FALSE)),0) -> 0 | F7: =SUM(E7-D7) -> 0 | H7: =(HOUR(F7)*60+MINUTE(F7))/60 -> 0
B8: =B7+1 -> 42527 | C8: CC | D8: =IFERROR(IF($A8="",VLOOKUP($C8,PARAM!$A$11:$I$210,CHOOSE(WEEKDAY($B8,2),2,2,4,2,2,6,8),FALSE),VLOOKUP($C8,PARAM!$A$11:$P$210,CHOOSE(WEEKDAY($B8,2),11,11,11,11,11,13,15),FALSE)),0) -> 0 | E8: =IFERROR(IF($A8="",VLOOKUP($C8,PARAM!$A$11:$I$210,CHOOSE(WEEKDAY($B8,2),3,3,5,3,3,7,9),FALSE),VLOOKUP($C8,PARAM!$A$11:$P$210,CHOOSE(WEEKDAY($B8,2),12,12,12,12,12,14,16),FALSE)),0) -> 0 | F8: =SUM(E8-D8) -> 0 | H8: =(HOUR(F8)*60+MINUTE(F8))/60 -> 0
B9: =B8+1 -> 42528 | C9: 2511 | D9: =IFERROR(IF($A9="",VLOOKUP($C9,PARAM!$A$11:$I$210,CHOOSE(WEEKDAY($B9,2),2,2,4,2,2,6,8),FALSE),VLOOKUP($C9,PARAM!$A$11:$P$210,CHOOSE(WEEKDAY($B9,2),11,11,11,11,11,13,15),FALSE)),0) -> 0.25347222 | E9: =IFERROR(IF($A9="",VLOOKUP($C9,PARAM!$A$11:$I$210,CHOOSE(WEEKDAY($B9,2),3,3,5,3,3,7,9),FALSE),VLOOKUP($C9,PARAM!$A$11:$P$210,CHOOSE(WEEKDAY($B9,2),12,12,12,12,12,14,16),FALSE)),0) -> 0.59861111 | F9: =SUM(E9-D9) -> 0.34513889 | G9: Matin | H9: =(HOUR(F9)*60+MINUTE(F9))/60 -> 8.2833333
B10: =B9+1 -> 42529 | C10: 2560 | D10: =IFERROR(IF($A10="",VLOOKUP($C10,PARAM!$A$11:$I$210,CHOOSE(WEEKDAY($B10,2),2,2,4,2,2,6,8),FALSE),VLOOKUP($C10,PARAM!$A$11:$P$210,CHOOSE(WEEKDAY($B10,2),11,11,11,11,11,13,15),FALSE)),0) -> 0.22361111 | E10: =IFERROR(IF($A10="",VLOOKUP($C10,PARAM!$A$11:$I$210,CHOOSE(WEEKDAY($B10,2),3,3,5,3,3,7,9),FALSE),VLOOKUP($C10,PARAM!$A$11:$P$210,CHOOSE(WEEKDAY($B10,2),12,12,12,12,12,14,16),FALSE)),0) -> 0.58333333 | F10: =SUM(E10-D10) -> 0.35972222 | G10: Matin | H10: =(HOUR(F10)*60+MINUTE(F10))/60 -> 8.6333333
B11: =B10+1 -> 42530 | C11: 2523 | D11: =IFERROR(IF($A11="",VLOOKUP($C11,PARAM!$A$11:$I$210,CHOOSE(WEEKDAY($B11,2),2,2,4,2,2,6,8),FALSE),VLOOKUP($C11,PARAM!$A$11:$P$210,CHOOSE(WEEKDAY($B11,2),11,11,11,11,11,13,15),FALSE)),0) -> 0.23125 | E11: =IFERROR(IF($A11="",VLOOKUP($C11,PARAM!$A$11:$I$210,CHOOSE(WEEKDAY($B11,2),3,3,5,3,3,7,9),FALSE),VLOOKUP($C11,PARAM!$A$11:$P$210,CHOOSE(WEEKDAY($B11,2),12,12,12,12,12,14,16),FALSE)),0) -> 0.58611111 | F11: =SUM(E11-D11) -> 0.35486111 | G11: Matin | H11: =(HOUR(F11)*60+MINUTE(F11))/60 -> 8.5166667
B12: =B11+1 -> 42531 | C12: 2563 | D12: =IFERROR(IF($A12="",VLOOKUP($C12,PARAM!$A$11:$I$210,CHOOSE(WEEKDAY($B12,2),2,2,4,2,2,6,8),FALSE),VLOOKUP($C12,PARAM!$A$11:$P$210,CHOOSE(WEEKDAY($B12,2),11,11,11,11,11,13,15),FALSE)),0) -> 0.21180556 | E12: =IFERROR(IF($A12="",VLOOKUP($C12,PARAM!$A$11:$I$210,CHOOSE(WEEKDAY($B12,2),3,3,5,3,3,7,9),FALSE),VLOOKUP($C12,PARAM!$A$11:$P$210,CHOOSE(WEEKDAY($B12,2),12,12,12,12,12,14,16),FALSE)),0) -> 0.59305556 | F12: =SUM(E12-D12) -> 0.38125 | G12: Matin | H12: =(HOUR(F12)*60+MINUTE(F12))/60 -> 9.15
B13: =B12+1 -> 42532 | C13: 2563 | D13: =IFERROR(IF($A13="",VLOOKUP($C13,PARAM!$A$11:$I$210,CHOOSE(WEEKDAY($B13,2),2,2,4,2,2,6,8),FALSE),VLOOKUP($C13,PARAM!$A$11:$P$210,CHOOSE(WEEKDAY($B13,2),11,11,11,11,11,13,15),FALSE)),0) -> 0.23611111 | E13: =IFERROR(IF($A13="",VLOOKUP($C13,PARAM!$A$11:$I$210,CHOOSE(WEEKDAY($B13,2),3,3,5,3,3,7,9),FALSE),VLOOKUP($C13,PARAM!$A$11:$P$210,CHOOSE(WEEKDAY($B13,2),12,12,12,12,12,14,16),FALSE)),0) -> 0.56180556 | F13: =SUM(E13-D13) -> 0.32569444 | G13: Matin | H13: =(HOUR(F13)*60+MINUTE(F13))/60 -> 7.8166667
B14: =B13+1 -> 42533 | C14: CR | D14: =IFERROR(IF($A14="",VLOOKUP($C14,PARAM!$A$11:$I$210,CHOOSE(WEEKDAY($B14,2),2,2,4,2,2,6,8),FALSE),VLOOKUP($C14,PARAM!$A$11:$P$210,CHOOSE(WEEKDAY($B14,2),11,11,11,11,11,13,15),FALSE)),0) -> 0 | E14: =IFERROR(IF($A14="",VLOOKUP($C14,PARAM!$A$11:$I$210,CHOOSE(WEEKDAY($B14,2),3,3,5,3,3,7,9),FALSE),VLOOKUP($C14,PARAM!$A$11:$P$210,CHOOSE(WEEKDAY($B14,2),12,12,12,12,12,14,16),FALSE)),0) -> 0 | F14: =SUM(E14-D14) -> 0 | H14: =(HOUR(F14)*60+MINUTE(F14))/60 -> 0
B15: =B14+1 -> 42534 | C15: 2664 | D15: =IFERROR(IF($A15="",VLOOKUP($C15,PARAM!$A$11:$I$210,CHOOSE(WEEKDAY($B15,2),2,2,4,2,2,6,8),FALSE),VLOOKUP($C15,PARAM!$A$11:$P$210,CHOOSE(WEEKDAY($B15,2),11,11,11,11,11,13,15),FALSE)),0) -> 0.61944444 | E15: =IFERROR(IF($A15="",VLOOKUP($C15,PARAM!$A$11:$I$210,CHOOSE(WEEKDAY($B15,2),3,3,5,3,3,7,9),FALSE),VLOOKUP($C15,PARAM!$A$11:$P$210,CHOOSE(WEEKDAY($B15,2),12,12,12,12,12,14,16),FALSE)),0) -> 0.97222222 | F15: =SUM(E15-D15) -> 0.35277778 | G15: Après-midi | H15: =(HOUR(F15)*60+MINUTE(F15))/60 -> 8.4666667
B16: =B15+1 -> 42535 | C16: 2665 | D16: =IFERROR(IF($A16="",VLOOKUP($C16,PARAM!$A$11:$I$210,CHOOSE(WEEKDAY($B16,2),2,2,4,2,2,6,8),FALSE),VLOOKUP($C16,PARAM!$A$11:$P$210,CHOOSE(WEEKDAY($B16,2),11,11,11,11,11,13,15),FALSE)),0) -> 0.51041667 | E16: =IFERROR(IF($A16="",VLOOKUP($C16,PARAM!$A$11:$I$210,CHOOSE(WEEKDAY($B16,2),3,3,5,3,3,7,9),FALSE),VLOOKUP($C16,PARAM!$A$11:$P$210,CHOOSE(WEEKDAY($B16,2),12,12,12,12,12,14,16),FALSE)),0) -> 0.85277778 | F16: =SUM(E16-D16) -> 0.34236111 | G16: Après-midi | H16: =(HOUR(F16)*60+MINUTE(F16))/60 -> 8.2166667
B17: =B16+1 -> 42536 | C17: CC | D17: =IFERROR(IF($A17="",VLOOKUP($C17,PARAM!$A$11:$I$210,CHOOSE(WEEKDAY($B17,2),2,2,4,2,2,6,8),FALSE),VLOOKUP($C17,PARAM!$A$11:$P$210,CHOOSE(WEEKDAY($B17,2),11,11,11,11,11,13,15),FALSE)),0) -> 0 | E17: =IFERROR(IF($A17="",VLOOKUP($C17,PARAM!$A$11:$I$210,CHOOSE(WEEKDAY($B17,2),3,3,5,3,3,7,9),FALSE),VLOOKUP($C17,PARAM!$A$11:$P$210,CHOOSE(WEEKDAY($B17,2),12,12,12,12,12,14,16),FALSE)),0) -> 0 | F17: =SUM(E17-D17) -> 0 | H17: =(HOUR(F17)*60+MINUTE(F17))/60 -> 0
B18: =B17+1 -> 42537 | C18: 2511 | D18: =IFERROR(IF($A18="",VLOOKUP($C18,PARAM!$A$11:$I$210,CHOOSE(WEEKDAY($B18,2),2,2,4,2,2,6,8),FALSE),VLOOKUP($C18,PARAM!$A$11:$P$210,CHOOSE(WEEKDAY($B18,2),11,11,11,11,11,13,15),FALSE)),0) -> 0.25347222 | E18: =IFERROR(IF($A18="",VLOOKUP($C18,PARAM!$A$11:$I$210,CHOOSE(WEEKDAY($B18,2),3,3,5,3,3,7,9),FALSE),VLOOKUP($C18,PARAM!$A$11:$P$210,CHOOSE(WEEKDAY($B18,2),12,12,12,12,12,14,16),FALSE)),0) -> 0.59861111 | F18: =SUM(E18-D18) -> 0.34513889 | G18: Matin | H18: =(HOUR(F18)*60+MINUTE(F18))/60 -> 8.2833333
B19: =B18+1 -> 42538 | C19: 2511 | D19: =IFERROR(IF($A19="",VLOOKUP($C19,PARAM!$A$11:$I$210,CHOOSE(WEEKDAY($B19,2),2,2,4,2,2,6,8),FALSE),VLOOKUP($C19,PARAM!$A$11:$P$210,CHOOSE(WEEKDAY($B19,2),11,11,11,11,11,13,15),FALSE)),0) -> 0.25347222 | E19: =IFERROR(IF($A19="",VLOOKUP($C19,PARAM!$A$11:$I$210,CHOOSE(WEEKDAY($B19,2),3,3,5,3,3,7,9),FALSE),VLOOKUP($C19,PARAM!$A$11:$P$210,CHOOSE(WEEKDAY($B19,2),12,12,12,12,12,14,16),FALSE)),0) -> 0.59861111 | F19: =SUM(E19-D19) -> 0.34513889 | G19: Matin | H19: =(HOUR(F19)*60+MINUTE(F19))/60 -> 8.2833333
B20: =B19+1 -> 42539 | C20: 2611 | D20: =IFERROR(IF($A20="",VLOOKUP($C20,PARAM!$A$11:$I$210,CHOOSE(WEEKDAY($B20,2),2,2,4,2,2,6,8),FALSE),VLOOKUP($C20,PARAM!$A$11:$P$210,CHOOSE(WEEKDAY($B20,2),11,11,11,11,11,13,15),FALSE)),0) -> 0.55625 | E20: =IFERROR(IF($A20="",VLOOKUP($C20,PARAM!$A$11:$I$210,CHOOSE(WEEKDAY($B20,2),3,3,5,3,3,7,9),FALSE),VLOOKUP($C20,PARAM!$A$11:$P$210,CHOOSE(WEEKDAY($B20,2),12,12,12,12,12,14,16),FALSE)),0) -> 0.92430556 | F20: =SUM(E20-D20) -> 0.36805556 | G20: Après-midi | H20: =(HOUR(F20)*60+MINUTE(F20))/60 -> 8.8333333
B21: =B20+1 -> 42540 | C21: CR | D21: =IFERROR(IF($A21="",VLOOKUP($C21,PARAM!$A$11:$I$210,CHOOSE(WEEKDAY($B21,2),2,2,4,2,2,6,8),FALSE),VLOOKUP($C21,PARAM!$A$11:$P$210,CHOOSE(WEEKDAY($B21,2),11,11,11,11,11,13,15),FALSE)),0) -> 0 | E21: =IFERROR(IF($A21="",VLOOKUP($C21,PARAM!$A$11:$I$210,CHOOSE(WEEKDAY($B21,2),3,3,5,3,3,7,9),FALSE),VLOOKUP($C21,PARAM!$A$11:$P$210,CHOOSE(WEEKDAY($B21,2),12,12,12,12,12,14,16),FALSE)),0) -> 0 | F21: =SUM(E21-D21) -> 0 | H21: =(HOUR(F21)*60+MINUTE(F21))/60 -> 0
B22: =B21+1 -> 42541 | C22: 2561 | D22: =IFERROR(IF($A22="",VLOOKUP($C22,PARAM!$A$11:$I$210,CHOOSE(WEEKDAY($B22,2),2,2,4,2,2,6,8),FALSE),VLOOKUP($C22,PARAM!$A$11:$P$210,CHOOSE(WEEKDAY($B22,2),11,11,11,11,11,13,15),FALSE)),0) -> 0.20972222 | E22: =IFERROR(IF($A22="",VLOOKUP($C22,PARAM!$A$11:$I$210,CHOOSE(WEEKDAY($B22,2),3,3,5,3,3,7,9),FALSE),VLOOKUP($C22,PARAM!$A$11:$P$210,CHOOSE(WEEKDAY($B22,2),12,12,12,12,12,14,16),FALSE)),0) -> 0.52222222 | F22: =SUM(E22-D22) -> 0.3125 | G22: Malade | H22: =(HOUR(F22)*60+MINUTE(F22))/60 -> 7.5
B23: =B22+1 -> 42542 | C23: 2542 | D23: =IFERROR(IF($A23="",VLOOKUP($C23,PARAM!$A$11:$I$210,CHOOSE(WEEKDAY($B23,2),2,2,4,2,2,6,8),FALSE),VLOOKUP($C23,PARAM!$A$11:$P$210,CHOOSE(WEEKDAY($B23,2),11,11,11,11,11,13,15),FALSE)),0) -> 0.19861111 | E23: =IFERROR(IF($A23="",VLOOKUP($C23,PARAM!$A$11:$I$210,CHOOSE(WEEKDAY($B23,2),3,3,5,3,3,7,9),FALSE),VLOOKUP($C23,PARAM!$A$11:$P$210,CHOOSE(WEEKDAY($B23,2),12,12,12,12,12,14,16),FALSE)),0) -> 0.5875 | F23: =SUM(E23-D23) -> 0.38888889 | G23: Malade | H23: =(HOUR(F23)*60+MINUTE(F23))/60 -> 9.3333333
B24: =B23+1 -> 42543 | C24: 2510 | D24: =IFERROR(IF($A24="",VLOOKUP($C24,PARAM!$A$11:$I$210,CHOOSE(WEEKDAY($B24,2),2,2,4,2,2,6,8),FALSE),VLOOKUP($C24,PARAM!$A$11:$P$210,CHOOSE(WEEKDAY($B24,2),11,11,11,11,11,13,15),FALSE)),0) -> 0.18472222 | E24: =IFERROR(IF($A24="",VLOOKUP($C24,PARAM!$A$11:$I$210,CHOOSE(WEEKDAY($B24,2),3,3,5,3,3,7,9),FALSE),VLOOKUP($C24,PARAM!$A$11:$P$210,CHOOSE(WEEKDAY($B24,2),12,12,12,12,12,14,16),FALSE)),0) -> 0.56875 | F24: =SUM(E24-D24) -> 0.38402778 | G24: Matin | H24: =(HOUR(F24)*60+MINUTE(F24))/60 -> 9.2166667
B25: =B24+1 -> 42544 | C25: 2510 | D25: =IFERROR(IF($A25="",VLOOKUP($C25,PARAM!$A$11:$I$210,CHOOSE(WEEKDAY($B25,2),2,2,4,2,2,6,8),FALSE),VLOOKUP($C25,PARAM!$A$11:$P$210,CHOOSE(WEEKDAY($B25,2),11,11,11,11,11,13,15),FALSE)),0) -> 0.18472222 | E25: =IFERROR(IF($A25="",VLOOKUP($C25,PARAM!$A$11:$I$210,CHOOSE(WEEKDAY($B25,2),3,3,5,3,3,7,9),FALSE),VLOOKUP($C25,PARAM!$A$11:$P$210,CHOOSE(WEEKDAY($B25,2),12,12,12,12,12,14,16),FALSE)),0) -> 0.57916667 | F25: =SUM(E25-D25) -> 0.39444444 | G25: Payé double | H25: =(HOUR(F25)*60+MINUTE(F25))/60 -> 9.4666667
B26: =B25+1 -> 42545 | C26: 2524 | D26: =IFERROR(IF($A26="",VLOOKUP($C26,PARAM!$A$11:$I$210,CHOOSE(WEEKDAY($B26,2),2,2,4,2,2,6,8),FALSE),VLOOKUP($C26,PARAM!$A$11:$P$210,CHOOSE(WEEKDAY($B26,2),11,11,11,11,11,13,15),FALSE)),0) -> 0.20486111 | E26: =IFERROR(IF($A26="",VLOOKUP($C26,PARAM!$A$11:$I$210,CHOOSE(WEEKDAY($B26,2),3,3,5,3,3,7,9),FALSE),VLOOKUP($C26,PARAM!$A$11:$P$210,CHOOSE(WEEKDAY($B26,2),12,12,12,12,12,14,16),FALSE)),0) -> 0.54097222 | F26: =SUM(E26-D26) -> 0.33611111 | G26: Matin | H26: =(HOUR(F26)*60+MINUTE(F26))/60 -> 8.0666667
B27: =B26+1 -> 42546 | C27: 2561 | D27: =IFERROR(IF($A27="",VLOOKUP($C27,PARAM!$A$11:$I$210,CHOOSE(WEEKDAY($B27,2),2,2,4,2,2,6,8),FALSE),VLOOKUP($C27,PARAM!$A$11:$P$210,CHOOSE(WEEKDAY($B27,2),11,11,11,11,11,13,15),FALSE)),0) -> 0.21944444 | E27: =IFERROR(IF($A27="",VLOOKUP($C27,PARAM!$A$11:$I$210,CHOOSE(WEEKDAY($B27,2),3,3,5,3,3,7,9),FALSE),VLOOKUP($C27,PARAM!$A$11:$P$210,CHOOSE(WEEKDAY($B27,2),12,12,12,12,12,14,16),FALSE)),0) -> 0.58055556 | F27: =SUM(E27-D27) -> 0.36111111 | G27: Matin | H27: =(HOUR(F27)*60+MINUTE(F27))/60 -> 8.6666667
B28: =B27+1 -> 42547 | C28: CR | D28: =IFERROR(IF($A28="",VLOOKUP($C28,PARAM!$A$11:$I$210,CHOOSE(WEEKDAY($B28,2),2,2,4,2,2,6,8),FALSE),VLOOKUP($C28,PARAM!$A$11:$P$210,CHOOSE(WEEKDAY($B28,2),11,11,11,11,11,13,15),FALSE)),0) -> 0 | E28: =IFERROR(IF($A28="",VLOOKUP($C28,PARAM!$A$11:$I$210,CHOOSE(WEEKDAY($B28,2),3,3,5,3,3,7,9),FALSE),VLOOKUP($C28,PARAM!$A$11:$P$210,CHOOSE(WEEKDAY($B28,2),12,12,12,12,12,14,16),FALSE)),0) -> 0 | F28: =SUM(E28-D28) -> 0 | H28: =(HOUR(F28)*60+MINUTE(F28))/60 -> 0
B29: =B28+1 -> 42548 | C29: Ecolage | D29: =IFERROR(IF($A29="",VLOOKUP($C29,PARAM!$A$11:$I$210,CHOOSE(WEEKDAY($B29,2),2,2,4,2,2,6,8),FALSE),VLOOKUP($C29,PARAM!$A$11:$P$210,CHOOSE(WEEKDAY($B29,2),11,11,11,11,11,13,15),FALSE)),0) -> 0.33333333 | E29: =IFERROR(IF($A29="",VLOOKUP($C29,PARAM!$A$11:$I$210,CHOOSE(WEEKDAY($B29,2),3,3,5,3,3,7,9),FALSE),VLOOKUP($C29,PARAM!$A$11:$P$210,CHOOSE(WEEKDAY($B29,2),12,12,12,12,12,14,16),FALSE)),0) -> 0.66666667 | F29: =SUM(E29-D29) -> 0.33333333 | G29: Payé double | H29: =(HOUR(F29)*60+MINUTE(F29))/60 -> 8
B30: =B29+1 -> 42549 | C30: 2624 | D30: =IFERROR(IF($A30="",VLOOKUP($C30,PARAM!$A$11:$I$210,CHOOSE(WEEKDAY($B30,2),2,2,4,2,2,6,8),FALSE),VLOOKUP($C30,PARAM!$A$11:$P$210,CHOOSE(WEEKDAY($B30,2),11,11,11,11,11,13,15),FALSE)),0) -> 0.61041667 | E30: =IFERROR(IF($A30="",VLOOKUP($C30,PARAM!$A$11:$I$210,CHOOSE(WEEKDAY($B30,2),3,3,5,3,3,7,9),FALSE),VLOOKUP($C30,PARAM!$A$11:$P$210,CHOOSE(WEEKDAY($B30,2),12,12,12,12,12,14,16),FALSE)),0) -> 0.87430556 | F30: =SUM(E30-D30) -> 0.26388889 | G30: Après-midi | H30: =(HOUR(F30)*60+MINUTE(F30))/60 -> 6.3333333
B31: =B30+1 -> 42550 | C31: 2626 | D31: =IFERROR(IF($A31="",VLOOKUP($C31,PARAM!$A$11:$I$210,CHOOSE(WEEKDAY($B31,2),2,2,4,2,2,6,8),FALSE),VLOOKUP($C31,PARAM!$A$11:$P$210,CHOOSE(WEEKDAY($B31,2),11,11,11,11,11,13,15),FALSE)),0) -> 0.49652778 | E31: =IFERROR(IF($A31="",VLOOKUP($C31,PARAM!$A$11:$I$210,CHOOSE(WEEKDAY($B31,2),3,3,5,3,3,7,9),FALSE),VLOOKUP($C31,PARAM!$A$11:$P$210,CHOOSE(WEEKDAY($B31,2),12,12,12,12,12,14,16),FALSE)),0) -> 0.81111111 | F31: =SUM(E31-D31) -> 0.31458333 | G31: Après-midi | H31: =(HOUR(F31)*60+MINUTE(F31))/60 -> 7.55
B32: =B31+1 -> 42551 | C32: 2664 | D32: =IFERROR(IF($A32="",VLOOKUP($C32,PARAM!$A$11:$I$210,CHOOSE(WEEKDAY($B32,2),2,2,4,2,2,6,8),FALSE),VLOOKUP($C32,PARAM!$A$11:$P$210,CHOOSE(WEEKDAY($B32,2),11,11,11,11,11,13,15),FALSE)),0) -> 0.61944444 | E32: =IFERROR(IF($A32="",VLOOKUP($C32,PARAM!$A$11:$I$210,CHOOSE(WEEKDAY($B32,2),3,3,5,3,3,7,9),FALSE),VLOOKUP($C32,PARAM!$A$11:$P$210,CHOOSE(WEEKDAY($B32,2),12,12,12,12,12,14,16),FALSE)),0) -> 0.97222222 | F32: =SUM(E32-D32) -> 0.35277778 | G32: Après-midi | H32: =(HOUR(F32)*60+MINUTE(F32))/60 -> 8.4666667
B33: =B32+1 -> 42552 | D33: =IFERROR(IF($A33="",VLOOKUP($C33,PARAM!$A$11:$I$210,CHOOSE(WEEKDAY($B33,2),2,2,4,2,2,6,8),FALSE),VLOOKUP($C33,PARAM!$A$11:$P$210,CHOOSE(WEEKDAY($B33,2),11,11,11,11,11,13,15),FALSE)),0) -> 0 | E33: =IFERROR(IF($A33="",VLOOKUP($C33,PARAM!$A$11:$I$210,CHOOSE(WEEKDAY($B33,2),3,3,5,3,3,7,9),FALSE),VLOOKUP($C33,PARAM!$A$11:$P$210,CHOOSE(WEEKDAY($B33,2),12,12,12,12,12,14,16),FALSE)),0) -> 0 | F33: =SUM(E33-D33) -> 0 | H33: =(HOUR(F33)*60+MINUTE(F33))/60 -> 0
B34: Total | F34: =SUM(F3:F33) -> 6.9618056 | H34: =SUM(H3:H33) -> 167.08333
F1048576: =SUM(F34) -> 6.9618056

Sheet 07
B1: PRESTATIONS DU MOIS DE : | D1: =DATE(PARAM!$B$3,RIGHT(CELL("nomfichier",D1),2),1) -> 42552
A2: Type | B2: Date | C2: Services | D2: H/Début | E2: H/Fin | F2: Nb heures | G2: Commentaires | I2: Colonne1 | J2: Colonne2
A3: C | B3: =DATE(PARAM!$B$3,RIGHT(CELL("nomfichier",D1),2),1) -> 42552 | C3: 2610 | D3: =IFERROR(IF($A3="",VLOOKUP($C3,PARAM!$A$11:$I$210,CHOOSE(WEEKDAY($B3,2),2,2,4,2,2,6,8),FALSE),VLOOKUP($C3,PARAM!$A$11:$P$210,CHOOSE(WEEKDAY($B3,2),11,11,11,11,11,13,15),FALSE)),0) -> 0.61944444 | E3: =IFERROR(IF($A3="",VLOOKUP($C3,PARAM!$A$11:$I$210,CHOOSE(WEEKDAY($B3,2),3,3,5,3,3,7,9),FALSE),VLOOKUP($C3,PARAM!$A$11:$P$210,CHOOSE(WEEKDAY($B3,2),12,12,12,12,12,14,16),FALSE)),0) -> 0.97361111 | F3: =SUM(E3-D3) -> 0.35416667 | G3: Après-midi | H3: =(HOUR(F3)*60+MINUTE(F3))/60 -> 8.5 | I3: 3869 | J3: 134
B4: =B3+1 -> 42553 | C4: 2661 | D4: =IFERROR(IF($A4="",VLOOKUP($C4,PARAM!$A$11:$I$210,CHOOSE(WEEKDAY($B4,2),2,2,4,2,2,6,8),FALSE),VLOOKUP($C4,PARAM!$A$11:$P$210,CHOOSE(WEEKDAY($B4,2),11,11,11,11,11,13,15),FALSE)),0) -> 0.54583333 | E4: =IFERROR(IF($A4="",VLOOKUP($C4,PARAM!$A$11:$I$210,CHOOSE(WEEKDAY($B4,2),3,3,5,3,3,7,9),FALSE),VLOOKUP($C4,PARAM!$A$11:$P$210,CHOOSE(WEEKDAY($B4,2),12,12,12,12,12,14,16),FALSE)),0) -> 0.91736111 | F4: =SUM(E4-D4) -> 0.37152778 | G4: Après-midi | H4: =(HOUR(F4)*60+MINUTE(F4))/60 -> 8.9166667 | I4: 3868 | J4: 30-136
B5: =B4+1 -> 42554 | C5: CR | D5: =IFERROR(IF($A5="",VLOOKUP($C5,PARAM!$A$11:$I$210,CHOOSE(WEEKDAY($B5,2),2,2,4,2,2,6,8),FALSE),VLOOKUP($C5,PARAM!$A$11:$P$210,CHOOSE(WEEKDAY($B5,2),11,11,11,11,11,13,15),FALSE)),0) -> 0 | E5: =IFERROR(IF($A5="",VLOOKUP($C5,PARAM!$A$11:$I$210,CHOOSE(WEEKDAY($B5,2),3,3,5,3,3,7,9),FALSE),VLOOKUP($C5,PARAM!$A$11:$P$210,CHOOSE(WEEKDAY($B5,2),12,12,12,12,12,14,16),FALSE)),0) -> 0 | F5: =SUM(E5-D5) -> 0 | H5: =(HOUR(F5)*60+MINUTE(F5))/60 -> 0
A6: C | B6: =B5+1 -> 42555 | C6: 2524 | D6: =IFERROR(IF($A6="",VLOOKUP($C6,PARAM!$A$11:$I$210,CHOOSE(WEEKDAY($B6,2),2,2,4,2,2,6,8),FALSE),VLOOKUP($C6,PARAM!$A$11:$P$210,CHOOSE(WEEKDAY($B6,2),11,11,11,11,11,13,15),FALSE)),0) -> 0.23541667 | E6: =IFERROR(IF($A6="",VLOOKUP($C6,PARAM!$A$11:$I$210,CHOOSE(WEEKDAY($B6,2),3,3,5,3,3,7,9),FALSE),VLOOKUP($C6,PARAM!$A$11:$P$210,CHOOSE(WEEKDAY($B6,2),12,12,12,12,12,14,16),FALSE)),0) -> 0.57013889 | F6: =SUM(E6-D6) -> 0.33472222 | G6: Matin | H6: =(HOUR(F6)*60+MINUTE(F6))/60 -> 8.0333333 | I6: 3856 | J6: 37-40
A7: C | B7: =B6+1 -> 42556 | C7: CC | D7: =IFERROR(IF($A7="",VLOOKUP($C7,PARAM!$A$11:$I$210,CHOOSE(WEEKDAY($B7,2),2,2,4,2,2,6,8),FALSE),VLOOKUP($C7,PARAM!$A$11:$P$210,CHOOSE(WEEKDAY($B7,2),11,11,11,11,11,13,15),FALSE)),0) -> 0 | E7: =IFERROR(IF($A7="",VLOOKUP($C7,PARAM!$A$11:$I$210,CHOOSE(WEEKDAY($B7,2),3,3,5,3,3,7,9),FALSE),VLOOKUP($C7,PARAM!$A$11:$P$210,CHOOSE(WEEKDAY($B7,2),12,12,12,12,12,14,16),FALSE)),0) -> 0 | F7: =SUM(E7-D7) -> 0 | H7: =(HOUR(F7)*60+MINUTE(F7))/60 -> 0
A8: C | B8: =B7+1 -> 42557 | C8: 2511 | D8: =IFERROR(IF($A8="",VLOOKUP($C8,PARAM!$A$11:$I$210,CHOOSE(WEEKDAY($B8,2),2,2,4,2,2,6,8),FALSE),VLOOKUP($C8,PARAM!$A$11:$P$210,CHOOSE(WEEKDAY($B8,2),11,11,11,11,11,13,15),FALSE)),0) -> 0.21666667 | E8: =IFERROR(IF($A8="",VLOOKUP($C8,PARAM!$A$11:$I$210,CHOOSE(WEEKDAY($B8,2),3,3,5,3,3,7,9),FALSE),VLOOKUP($C8,PARAM!$A$11:$P$210,CHOOSE(WEEKDAY($B8,2),12,12,12,12,12,14,16),FALSE)),0) -> 0.59861111 | F8: =SUM(E8-D8) -> 0.38194444 | G8: Matin | H8: =(HOUR(F8)*60+MINUTE(F8))/60 -> 9.1666667 | I8: 3863 | J8: 134
A9: C | B9: =B8+1 -> 42558 | C9: 2560 | D9: =IFERROR(IF($A9="",VLOOKUP($C9,PARAM!$A$11:$I$210,CHOOSE(WEEKDAY($B9,2),2,2,4,2,2,6,8),FALSE),VLOOKUP($C9,PARAM!$A$11:$P$210,CHOOSE(WEEKDAY($B9,2),11,11,11,11,11,13,15),FALSE)),0) -> 0.19097222 | E9: =IFERROR(IF($A9="",VLOOKUP($C9,PARAM!$A$11:$I$210,CHOOSE(WEEKDAY($B9,2),3,3,5,3,3,7,9),FALSE),VLOOKUP($C9,PARAM!$A$11:$P$210,CHOOSE(WEEKDAY($B9,2),12,12,12,12,12,14,16),FALSE)),0) -> 0.51527778 | F9: =SUM(E9-D9) -> 0.32430556 | G9: Matin | H9: =(HOUR(F9)*60+MINUTE(F9))/60 -> 7.7833333 | I9: 3158 | J9: 30-136
A10: C | B10: =B9+1 -> 42559 | C10: 2563 | D10: =IFERROR(IF($A10="",VLOOKUP($C10,PARAM!$A$11:$I$210,CHOOSE(WEEKDAY($B10,2),2,2,4,2,2,6,8),FALSE),VLOOKUP($C10,PARAM!$A$11:$P$210,CHOOSE(WEEKDAY($B10,2),11,11,11,11,11,13,15),FALSE)),0) -> 0.17013889 | E10: =IFERROR(IF($A10="",VLOOKUP($C10,PARAM!$A$11:$I$210,CHOOSE(WEEKDAY($B10,2),3,3,5,3,3,7,9),FALSE),VLOOKUP($C10,PARAM!$A$11:$P$210,CHOOSE(WEEKDAY($B10,2),12,12,12,12,12,14,16),FALSE)),0) -> 0.52083333 | F10: =SUM(E10-D10) -> 0.35069444 | G10: Matin | H10: =(HOUR(F10)*60+MINUTE(F10))/60 -> 8.4166667 | I10: 3222 | J10: 30-136
B11: =B10+1 -> 42560 | C11: 2561 | D11: =IFERROR(IF($A11="",VLOOKUP($C11,PARAM!$A$11:$I$210,CHOOSE(WEEKDAY($B11,2),2,2,4,2,2,6,8),FALSE),VLOOKUP($C11,PARAM!$A$11:$P$210,CHOOSE(WEEKDAY($B11,2),11,11,11,11,11,13,15),FALSE)),0) -> 0.21944444 | E11: =IFERROR(IF($A11="",VLOOKUP($C11,PARAM!$A$11:$I$210,CHOOSE(WEEKDAY($B11,2),3,3,5,3,3,7,9),FALSE),VLOOKUP($C11,PARAM!$A$11:$P$210,CHOOSE(WEEKDAY($B11,2),12,12,12,12,12,14,16),FALSE)),0) -> 0.58055556 | F11: =SUM(E11-D11) -> 0.36111111 | G11: Matin | H11: =(HOUR(F11)*60+MINUTE(F11))/60 -> 8.6666667 | I11: 3867 | J11: 30-136
B12: =B11+1 -> 42561 | C12: CR | D12: =IFERROR(IF($A12="",VLOOKUP($C12,PARAM!$A$11:$I$210,CHOOSE(WEEKDAY($B12,2),2,2,4,2,2,6,8),FALSE),VLOOKUP($C12,PARAM!$A$11:$P$210,CHOOSE(WEEKDAY($B12,2),11,11,11,11,11,13,15),FALSE)),0) -> 0 | E12: =IFERROR(IF($A12="",VLOOKUP($C12,PARAM!$A$11:$I$210,CHOOSE(WEEKDAY($B12,2),3,3,5,3,3,7,9),FALSE),VLOOKUP($C12,PARAM!$A$11:$P$210,CHOOSE(WEEKDAY($B12,2),12,12,12,12,12,14,16),FALSE)),0) -> 0 | F12: =SUM(E12-D12) -> 0 | H12: =(HOUR(F12)*60+MINUTE(F12))/60 -> 0
A13: C | B13: =B12+1 -> 42562 | C13: 2611 | D13: =IFERROR(IF($A13="",VLOOKUP($C13,PARAM!$A$11:$I$210,CHOOSE(WEEKDAY($B13,2),2,2,4,2,2,6,8),FALSE),VLOOKUP($C13,PARAM!$A$11:$P$210,CHOOSE(WEEKDAY($B13,2),11,11,11,11,11,13,15),FALSE)),0) -> 0.57777778 | E13: =IFERROR(IF($A13="",VLOOKUP($C13,PARAM!$A$11:$I$210,CHOOSE(WEEKDAY($B13,2),3,3,5,3,3,7,9),FALSE),VLOOKUP($C13,PARAM!$A$11:$P$210,CHOOSE(WEEKDAY($B13,2),12,12,12,12,12,14,16),FALSE)),0) -> 0.93541667 | F13: =SUM(E13-D13) -> 0.35763889 | G13: Après-midi | H13: =(HOUR(F13)*60+MINUTE(F13))/60 -> 8.5833333 | I13: 3820 | J13: 134
A14: C | B14: =B13+1 -> 42563 | C14: 2663 | D14: =IFERROR(IF($A14="",VLOOKUP($C14,PARAM!$A$11:$I$210,CHOOSE(WEEKDAY($B14,2),2,2,4,2,2,6,8),FALSE),VLOOKUP($C14,PARAM!$A$11:$P$210,CHOOSE(WEEKDAY($B14,2),11,11,11,11,11,13,15),FALSE)),0) -> 0.51041667 | E14: =IFERROR(IF($A14="",VLOOKUP($C14,PARAM!$A$11:$I$210,CHOOSE(WEEKDAY($B14,2),3,3,5,3,3,7,9),FALSE),VLOOKUP($C14,PARAM!$A$11:$P$210,CHOOSE(WEEKDAY($B14,2),12,12,12,12,12,14,16),FALSE)),0) -> 0.89027778 | F14: =SUM(E14-D14) -> 0.37986111 | G14: Après-midi | H14: =(HOUR(F14)*60+MINUTE(F14))/60 -> 9.1166667 | I14: 3822 | J14: 30-136
A15: C | B15: =B14+1 -> 42564 | C15: 2643 | D15: =IFERROR(IF($A15="",VLOOKUP($C15,PARAM!$A$11:$I$210,CHOOSE(WEEKDAY($B15,2),2,2,4,2,2,6,8),FALSE),VLOOKUP($C15,PARAM!$A$11:$P$210,CHOOSE(WEEKDAY($B15,2),11,11,11,11,11,13,15),FALSE)),0) -> 0.54930556 | E15: =IFERROR(IF($A15="",VLOOKUP($C15,PARAM!$A$11:$I$210,CHOOSE(WEEKDAY($B15,2),3,3,5,3,3,7,9),FALSE),VLOOKUP($C15,PARAM!$A$11:$P$210,CHOOSE(WEEKDAY($B15,2),12,12,12,12,12,14,16),FALSE)),0) -> 0.94791667 | F15: =SUM(E15-D15) -> 0.39861111 | G15: Payé double | H15: =(HOUR(F15)*60+MINUTE(F15))/60 -> 9.5666667 | I15: 3226 | J15: 82
A16: C | B16: =B15+1 -> 42565 | C16: 2644 | D16: =IFERROR(IF($A16="",VLOOKUP($C16,PARAM!$A$11:$I$210,CHOOSE(WEEKDAY($B16,2),2,2,4,2,2,6,8),FALSE),VLOOKUP($C16,PARAM!$A$11:$P$210,CHOOSE(WEEKDAY($B16,2),11,11,11,11,11,13,15),FALSE)),0) -> 0.46597222 | E16: =IFERROR(IF($A16="",VLOOKUP($C16,PARAM!$A$11:$I$210,CHOOSE(WEEKDAY($B16,2),3,3,5,3,3,7,9),FALSE),VLOOKUP($C16,PARAM!$A$11:$P$210,CHOOSE(WEEKDAY($B16,2),12,12,12,12,12,14,16),FALSE)),0) -> 0.75833333 | F16: =SUM(E16-D16) -> 0.29236111 | G16: Après-midi | H16: =(HOUR(F16)*60+MINUTE(F16))/60 -> 7.0166667 | I16: 3224+3155 | J16: 82
A17: C | B17: =B16+1 -> 42566 | C17: 2610 | D17: =IFERROR(IF($A17="",VLOOKUP($C17,PARAM!$A$11:$I$210,CHOOSE(WEEKDAY($B17,2),2,2,4,2,2,6,8),FALSE),VLOOKUP($C17,PARAM!$A$11:$P$210,CHOOSE(WEEKDAY($B17,2),11,11,11,11,11,13,15),FALSE)),0) -> 0.61944444 | E17: =IFERROR(IF($A17="",VLOOKUP($C17,PARAM!$A$11:$I$210,CHOOSE(WEEKDAY($B17,2),3,3,5,3,3,7,9),FALSE),VLOOKUP($C17,PARAM!$A$11:$P$210,CHOOSE(WEEKDAY($B17,2),12,12,12,12,12,14,16),FALSE)),0) -> 0.97361111 | F17: =SUM(E17-D17) -> 0.35416667 | G17: Après-midi | H17: =(HOUR(F17)*60+MINUTE(F17))/60 -> 8.5 | I17: 3869 | J17: 134
B18: =B17+1 -> 42567 | C18: 2641 | D18: =IFERROR(IF($A18="",VLOOKUP($C18,PARAM!$A$11:$I$210,CHOOSE(WEEKDAY($B18,2),2,2,4,2,2,6,8),FALSE),VLOOKUP($C18,PARAM!$A$11:$P$210,CHOOSE(WEEKDAY($B18,2),11,11,11,11,11,13,15),FALSE)),0) -> 0.5875 | E18: =IFERROR(IF($A18="",VLOOKUP($C18,PARAM!$A$11:$I$210,CHOOSE(WEEKDAY($B18,2),3,3,5,3,3,7,9),FALSE),VLOOKUP($C18,PARAM!$A$11:$P$210,CHOOSE(WEEKDAY($B18,2),12,12,12,12,12,14,16),FALSE)),0) -> 0.95138889 | F18: =SUM(E18-D18) -> 0.36388889 | G18: Après-midi | H18: =(HOUR(F18)*60+MINUTE(F18))/60 -> 8.7333333 | I18: 3221 | J18: 82
B19: =B18+1 -> 42568 | C19: CR | D19: =IFERROR(IF($A19="",VLOOKUP($C19,PARAM!$A$11:$I$210,CHOOSE(WEEKDAY($B19,2),2,2,4,2,2,6,8),FALSE),VLOOKUP($C19,PARAM!$A$11:$P$210,CHOOSE(WEEKDAY($B19,2),11,11,11,11,11,13,15),FALSE)),0) -> 0 | E19: =IFERROR(IF($A19="",VLOOKUP($C19,PARAM!$A$11:$I$210,CHOOSE(WEEKDAY($B19,2),3,3,5,3,3,7,9),FALSE),VLOOKUP($C19,PARAM!$A$11:$P$210,CHOOSE(WEEKDAY($B19,2),12,12,12,12,12,14,16),FALSE)),0) -> 0 | F19: =SUM(E19-D19) -> 0 | H19: =(HOUR(F19)*60+MINUTE(F19))/60 -> 0
A20: C | B20: =B19+1 -> 42569 | C20: 2562 | D20: =IFERROR(IF($A20="",VLOOKUP($C20,PARAM!$A$11:$I$210,CHOOSE(WEEKDAY($B20,2),2,2,4,2,2,6,8),FALSE),VLOOKUP($C20,PARAM!$A$11:$P$210,CHOOSE(WEEKDAY($B20,2),11,11,11,11,11,13,15),FALSE)),0) -> 0.19930556 | E20: =IFERROR(IF($A20="",VLOOKUP($C20,PARAM!$A$11:$I$210,CHOOSE(WEEKDAY($B20,2),3,3,5,3,3,7,9),FALSE),VLOOKUP($C20,PARAM!$A$11:$P$210,CHOOSE(WEEKDAY($B20,2),12,12,12,12,12,14,16),FALSE)),0) -> 0.50972222 | F20: =SUM(E20-D20) -> 0.31041667 | G20: Matin | H20: =(HOUR(F20)*60+MINUTE(F20))/60 -> 7.45 | I20: 3152 | J20: 30-136
A21: C | B21: =B20+1 -> 42570 | C21: 2625 | D21: =IFERROR(IF($A21="",VLOOKUP($C21,PARAM!$A$11:$I$210,CHOOSE(WEEKDAY($B21,2),2,2,4,2,2,6,8),FALSE),VLOOKUP($C21,PARAM!$A$11:$P$210,CHOOSE(WEEKDAY($B21,2),11,11,11,11,11,13,15),FALSE)),0) -> 0.56666667 | E21: =IFERROR(IF($A21="",VLOOKUP($C21,PARAM!$A$11:$I$210,CHOOSE(WEEKDAY($B21,2),3,3,5,3,3,7,9),FALSE),VLOOKUP($C21,PARAM!$A$11:$P$210,CHOOSE(WEEKDAY($B21,2),12,12,12,12,12,14,16),FALSE)),0) -> 0.91944444 | F21: =SUM(E21-D21) -> 0.35277778 | G21: Après-midi | H21: =(HOUR(F21)*60+MINUTE(F21))/60 -> 8.4666667 | I21: 3857 | J21: 37-40-167
A22: C | B22: =B21+1 -> 42571 | C22: 2663 | D22: =IFERROR(IF($A22="",VLOOKUP($C22,PARAM!$A$11:$I$210,CHOOSE(WEEKDAY($B22,2),2,2,4,2,2,6,8),FALSE),VLOOKUP($C22,PARAM!$A$11:$P$210,CHOOSE(WEEKDAY($B22,2),11,11,11,11,11,13,15),FALSE)),0) -> 0.51041667 | E22: =IFERROR(IF($A22="",VLOOKUP($C22,PARAM!$A$11:$I$210,CHOOSE(WEEKDAY($B22,2),3,3,5,3,3,7,9),FALSE),VLOOKUP($C22,PARAM!$A$11:$P$210,CHOOSE(WEEKDAY($B22,2),12,12,12,12,12,14,16),FALSE)),0) -> 0.89027778 | F22: =SUM(E22-D22) -> 0.37986111 | G22: Après-midi | H22: =(HOUR(F22)*60+MINUTE(F22))/60 -> 9.1166667 | I22: 3861 | J22: 30-136
A23: C | B23: =B22+1 -> 42572 | C23: CR | D23: =IFERROR(IF($A23="",VLOOKUP($C23,PARAM!$A$11:$I$210,CHOOSE(WEEKDAY($B23,2),2,2,4,2,2,6,8),FALSE),VLOOKUP($C23,PARAM!$A$11:$P$210,CHOOSE(WEEKDAY($B23,2),11,11,11,11,11,13,15),FALSE)),0) -> 0 | E23: =IFERROR(IF($A23="",VLOOKUP($C23,PARAM!$A$11:$I$210,CHOOSE(WEEKDAY($B23,2),3,3,5,3,3,7,9),FALSE),VLOOKUP($C23,PARAM!$A$11:$P$210,CHOOSE(WEEKDAY($B23,2),12,12,12,12,12,14,16),FALSE)),0) -> 0 | F23: =SUM(E23-D23) -> 0 | H23: =(HOUR(F23)*60+MINUTE(F23))/60 -> 0
A24: C | B24: =B23+1 -> 42573 | C24: 2563 | D24: =IFERROR(IF($A24="",VLOOKUP($C24,PARAM!$A$11:$I$210,CHOOSE(WEEKDAY($B24,2),2,2,4,2,2,6,8),FALSE),VLOOKUP($C24,PARAM!$A$11:$P$210,CHOOSE(WEEKDAY($B24,2),11,11,11,11,11,13,15),FALSE)),0) -> 0.17013889 | E24: =IFERROR(IF($A24="",VLOOKUP($C24,PARAM!$A$11:$I$210,CHOOSE(WEEKDAY($B24,2),3,3,5,3,3,7,9),FALSE),VLOOKUP($C24,PARAM!$A$11:$P$210,CHOOSE(WEEKDAY($B24,2),12,12,12,12,12,14,16),FALSE)),0) -> 0.52083333 | F24: =SUM(E24-D24) -> 0.35069444 | G24: Matin | H24: =(HOUR(F24)*60+MINUTE(F24))/60 -> 8.4166667 | I24: 3225 | J24: 30-136
B25: =B24+1 -> 42574 | C25: 2564 | D25: =IFERROR(IF($A25="",VLOOKUP($C25,PARAM!$A$11:$I$210,CHOOSE(WEEKDAY($B25,2),2,2,4,2,2,6,8),FALSE),VLOOKUP($C25,PARAM!$A$11:$P$210,CHOOSE(WEEKDAY($B25,2),11,11,11,11,11,13,15),FALSE)),0) -> 0.23958333 | E25: =IFERROR(IF($A25="",VLOOKUP($C25,PARAM!$A$11:$I$210,CHOOSE(WEEKDAY($B25,2),3,3,5,3,3,7,9),FALSE),VLOOKUP($C25,PARAM!$A$11:$P$210,CHOOSE(WEEKDAY($B25,2),12,12,12,12,12,14,16),FALSE)),0) -> 0.55486111 | F25: =SUM(E25-D25) -> 0.31527778 | G25: Matin | H25: =(HOUR(F25)*60+MINUTE(F25))/60 -> 7.5666667 | I25: 3157 | J25: 30-136
B26: =B25+1 -> 42575 | C26: 2569 | D26: =IFERROR(IF($A26="",VLOOKUP($C26,PARAM!$A$11:$I$210,CHOOSE(WEEKDAY($B26,2),2,2,4,2,2,6,8),FALSE),VLOOKUP($C26,PARAM!$A$11:$P$210,CHOOSE(WEEKDAY($B26,2),11,11,11,11,11,13,15),FALSE)),0) -> 0.25833333 | E26: =IFERROR(IF($A26="",VLOOKUP($C26,PARAM!$A$11:$I$210,CHOOSE(WEEKDAY($B26,2),3,3,5,3,3,7,9),FALSE),VLOOKUP($C26,PARAM!$A$11:$P$210,CHOOSE(WEEKDAY($B26,2),12,12,12,12,12,14,16),FALSE)),0) -> 0.61597222 | F26: =SUM(E26-D26) -> 0.35763889 | G26: Payé double | H26: =(HOUR(F26)*60+MINUTE(F26))/60 -> 8.5833333 | I26: 3861 | J26: 30-136
A27: C | B27: =B26+1 -> 42576 | C27: 2668 | D27: =IFERROR(IF($A27="",VLOOKUP($C27,PARAM!$A$11:$I$210,CHOOSE(WEEKDAY($B27,2),2,2,4,2,2,6,8),FALSE),VLOOKUP($C27,PARAM!$A$11:$P$210,CHOOSE(WEEKDAY($B27,2),11,11,11,11,11,13,15),FALSE)),0) -> 0.59375 | E27: =IFERROR(IF($A27="",VLOOKUP($C27,PARAM!$A$11:$I$210,CHOOSE(WEEKDAY($B27,2),3,3,5,3,3,7,9),FALSE),VLOOKUP($C27,PARAM!$A$11:$P$210,CHOOSE(WEEKDAY($B27,2),12,12,12,12,12,14,16),FALSE)),0) -> 0.95069444 | F27: =SUM(E27-D27) -> 0.35694444 | G27: Après-midi | H27: =(HOUR(F27)*60+MINUTE(F27))/60 -> 8.5666667 | I27: 3221 | J27: 30-136
A28: C | B28: =B27+1 -> 42577 | C28: CR | D28: =IFERROR(IF($A28="",VLOOKUP($C28,PARAM!$A$11:$I$210,CHOOSE(WEEKDAY($B28,2),2,2,4,2,2,6,8),FALSE),VLOOKUP($C28,PARAM!$A$11:$P$210,CHOOSE(WEEKDAY($B28,2),11,11,11,11,11,13,15),FALSE)),0) -> 0 | E28: =IFERROR(IF($A28="",VLOOKUP($C28,PARAM!$A$11:$I$210,CHOOSE(WEEKDAY($B28,2),3,3,5,3,3,7,9),FALSE),VLOOKUP($C28,PARAM!$A$11:$P$210,CHOOSE(WEEKDAY($B28,2),12,12,12,12,12,14,16),FALSE)),0) -> 0 | F28: =SUM(E28-D28) -> 0 | H28: =(HOUR(F28)*60+MINUTE(F28))/60 -> 0
A29: C | B29: =B28+1 -> 42578 | C29: 2644 | D29: =IFERROR(IF($A29="",VLOOKUP($C29,PARAM!$A$11:$I$210,CHOOSE(WEEKDAY($B29,2),2,2,4,2,2,6,8),FALSE),VLOOKUP($C29,PARAM!$A$11:$P$210,CHOOSE(WEEKDAY($B29,2),11,11,11,11,11,13,15),FALSE)),0) -> 0.46597222 | E29: =IFERROR(IF($A29="",VLOOKUP($C29,PARAM!$A$11:$I$210,CHOOSE(WEEKDAY($B29,2),3,3,5,3,3,7,9),FALSE),VLOOKUP($C29,PARAM!$A$11:$P$210,CHOOSE(WEEKDAY($B29,2),12,12,12,12,12,14,16),FALSE)),0) -> 0.75833333 | F29: =SUM(E29-D29) -> 0.29236111 | G29: Après-midi | H29: =(HOUR(F29)*60+MINUTE(F29))/60 -> 7.0166667 | I29: 3161+3153 | J29: 82
A30: C | B30: =B29+1 -> 42579 | C30: 2660 | D30: =IFERROR(IF($A30="",VLOOKUP($C30,PARAM!$A$11:$I$210,CHOOSE(WEEKDAY($B30,2),2,2,4,2,2,6,8),FALSE),VLOOKUP($C30,PARAM!$A$11:$P$210,CHOOSE(WEEKDAY($B30,2),11,11,11,11,11,13,15),FALSE)),0) -> 0.61527778 | E30: =IFERROR(IF($A30="",VLOOKUP($C30,PARAM!$A$11:$I$210,CHOOSE(WEEKDAY($B30,2),3,3,5,3,3,7,9),FALSE),VLOOKUP($C30,PARAM!$A$11:$P$210,CHOOSE(WEEKDAY($B30,2),12,12,12,12,12,14,16),FALSE)),0) -> 0.95277778 | F30: =SUM(E30-D30) -> 0.3375 | G30: Après-midi | H30: =(HOUR(F30)*60+MINUTE(F30))/60 -> 8.1 | I30: 3161 | J30: 30-136
A31: C | B31: =B30+1 -> 42580 | C31: 2660 | D31: =IFERROR(IF($A31="",VLOOKUP($C31,PARAM!$A$11:$I$210,CHOOSE(WEEKDAY($B31,2),2,2,4,2,2,6,8),FALSE),VLOOKUP($C31,PARAM!$A$11:$P$210,CHOOSE(WEEKDAY($B31,2),11,11,11,11,11,13,15),FALSE)),0) -> 0.61527778 | E31: =IFERROR(IF($A31="",VLOOKUP($C31,PARAM!$A$11:$I$210,CHOOSE(WEEKDAY($B31,2),3,3,5,3,3,7,9),FALSE),VLOOKUP($C31,PARAM!$A$11:$P$210,CHOOSE(WEEKDAY($B31,2),12,12,12,12,12,14,16),FALSE)),0) -> 0.95277778 | F31: =SUM(E31-D31) -> 0.3375 | G31: Payé double | H31: =(HOUR(F31)*60+MINUTE(F31))/60 -> 8.1 | I31: 3226 | J31: 30-136
B32: =B31+1 -> 42581 | C32: 2644 | D32: =IFERROR(IF($A32="",VLOOKUP($C32,PARAM!$A$11:$I$210,CHOOSE(WEEKDAY($B32,2),2,2,4,2,2,6,8),FALSE),VLOOKUP($C32,PARAM!$A$11:$P$210,CHOOSE(WEEKDAY($B32,2),11,11,11,11,11,13,15),FALSE)),0) -> 0.56458333 | E32: =IFERROR(IF($A32="",VLOOKUP($C32,PARAM!$A$11:$I$210,CHOOSE(WEEKDAY($B32,2),3,3,5,3,3,7,9),FALSE),VLOOKUP($C32,PARAM!$A$11:$P$210,CHOOSE(WEEKDAY($B32,2),12,12,12,12,12,14,16),FALSE)),0) -> 0.95 | F32: =SUM(E32-D32) -> 0.38541667 | G32: Payé double | H32: =(HOUR(F32)*60+MINUTE(F32))/60 -> 9.25 | I32: 3222 | J32: 82
B33: =B32+1 -> 42582 | C33: 2667 | D33: =IFERROR(IF($A33="",VLOOKUP($C33,PARAM!$A$11:$I$210,CHOOSE(WEEKDAY($B33,2),2,2,4,2,2,6,8),FALSE),VLOOKUP($C33,PARAM!$A$11:$P$210,CHOOSE(WEEKDAY($B33,2),11,11,11,11,11,13,15),FALSE)),0) -> 0.56180556 | E33: =IFERROR(IF($A33="",VLOOKUP($C33,PARAM!$A$11:$I$210,CHOOSE(WEEKDAY($B33,2),3,3,5,3,3,7,9),FALSE),VLOOKUP($C33,PARAM!$A$11:$P$210,CHOOSE(WEEKDAY($B33,2),12,12,12,12,12,14,16),FALSE)),0) -> 0.94930556 | F33: =SUM(E33-D33) -> 0.3875 | G33: Payé triple | H33: =(HOUR(F33)*60+MINUTE(F33))/60 -> 9.3 | I33: 3866 | J33: 30-136
B34: Total | F34: =SUM(F3:F33) -> 8.7888889 | H34: =SUM(H3:H33) -> 210.93333
F1048576: =SUM(F34) -> 8.7888889

Sheet 08
B1: PRESTATIONS DU MOIS DE : | D1: =DATE(PARAM!$B$3,RIGHT(CELL("nomfichier",D1),2),1) -> 42583
A2: Type | B2: Date | C2: Services | D2: H/Début | E2: H/Fin | F2: Nb heures | G2: Commentaires | I2: Colonne1 | J2: Colonne2
A3: C | B3: =DATE(PARAM!$B$3,RIGHT(CELL("nomfichier",D1),2),1) -> 42583 | C3: CC | D3: =IFERROR(IF($A3="",VLOOKUP($C3,PARAM!$A$11:$I$210,CHOOSE(WEEKDAY($B3,2),2,2,4,2,2,6,8),FALSE),VLOOKUP($C3,PARAM!$A$11:$P$210,CHOOSE(WEEKDAY($B3,2),11,11,11,11,11,13,15),FALSE)),0) -> 0 | E3: =IFERROR(IF($A3="",VLOOKUP($C3,PARAM!$A$11:$I$210,CHOOSE(WEEKDAY($B3,2),3,3,5,3,3,7,9),FALSE),VLOOKUP($C3,PARAM!$A$11:$P$210,CHOOSE(WEEKDAY($B3,2),12,12,12,12,12,14,16),FALSE)),0) -> 0 | F3: =SUM(E3-D3) -> 0 | H3: =(HOUR(F3)*60+MINUTE(F3))/60 -> 0
A4: C | B4: =B3+1 -> 42584 | C4: 2610 | D4: =IFERROR(IF($A4="",VLOOKUP($C4,PARAM!$A$11:$I$210,CHOOSE(WEEKDAY($B4,2),2,2,4,2,2,6,8),FALSE),VLOOKUP($C4,PARAM!$A$11:$P$210,CHOOSE(WEEKDAY($B4,2),11,11,11,11,11,13,15),FALSE)),0) -> 0.61944444 | E4: =IFERROR(IF($A4="",VLOOKUP($C4,PARAM!$A$11:$I$210,CHOOSE(WEEKDAY($B4,2),3,3,5,3,3,7,9),FALSE),VLOOKUP($C4,PARAM!$A$11:$P$210,CHOOSE(WEEKDAY($B4,2),12,12,12,12,12,14,16),FALSE)),0) -> 0.97361111 | F4: =SUM(E4-D4) -> 0.35416667 | G4: Après-midi | H4: =(HOUR(F4)*60+MINUTE(F4))/60 -> 8.5 | I4: 3869
A5: C | B5: =B4+1 -> 42585 | C5: 2621 | D5: =IFERROR(IF($A5="",VLOOKUP($C5,PARAM!$A$11:$I$210,CHOOSE(WEEKDAY($B5,2),2,2,4,2,2,6,8),FALSE),VLOOKUP($C5,PARAM!$A$11:$P$210,CHOOSE(WEEKDAY($B5,2),11,11,11,11,11,13,15),FALSE)),0) -> 0.525 | E5: =IFERROR(IF($A5="",VLOOKUP($C5,PARAM!$A$11:$I$210,CHOOSE(WEEKDAY($B5,2),3,3,5,3,3,7,9),FALSE),VLOOKUP($C5,PARAM!$A$11:$P$210,CHOOSE(WEEKDAY($B5,2),12,12,12,12,12,14,16),FALSE)),0) -> 0.89305556 | F5: =SUM(E5-D5) -> 0.36805556 | G5: Après-midi | H5: =(HOUR(F5)*60+MINUTE(F5))/60 -> 8.8333333 | I5: 3857
A6: C | B6: =B5+1 -> 42586 | C6: 2643 | D6: =IFERROR(IF($A6="",VLOOKUP($C6,PARAM!$A$11:$I$210,CHOOSE(WEEKDAY($B6,2),2,2,4,2,2,6,8),FALSE),VLOOKUP($C6,PARAM!$A$11:$P$210,CHOOSE(WEEKDAY($B6,2),11,11,11,11,11,13,15),FALSE)),0) -> 0.54930556 | E6: =IFERROR(IF($A6="",VLOOKUP($C6,PARAM!$A$11:$I$210,CHOOSE(WEEKDAY($B6,2),3,3,5,3,3,7,9),FALSE),VLOOKUP($C6,PARAM!$A$11:$P$210,CHOOSE(WEEKDAY($B6,2),12,12,12,12,12,14,16),FALSE)),0) -> 0.94791667 | F6: =SUM(E6-D6) -> 0.39861111 | G6: Après-midi | H6: =(HOUR(F6)*60+MINUTE(F6))/60 -> 9.5666667 | I6: 3221
A7: C | B7: =B6+1 -> 42587 | C7: 2620 | D7: =IFERROR(IF($A7="",VLOOKUP($C7,PARAM!$A$11:$I$210,CHOOSE(WEEKDAY($B7,2),2,2,4,2,2,6,8),FALSE),VLOOKUP($C7,PARAM!$A$11:$P$210,CHOOSE(WEEKDAY($B7,2),11,11,11,11,11,13,15),FALSE)),0) -> 0.51875 | E7: =IFERROR(IF($A7="",VLOOKUP($C7,PARAM!$A$11:$I$210,CHOOSE(WEEKDAY($B7,2),3,3,5,3,3,7,9),FALSE),VLOOKUP($C7,PARAM!$A$11:$P$210,CHOOSE(WEEKDAY($B7,2),12,12,12,12,12,14,16),FALSE)),0) -> 0.90486111 | F7: =SUM(E7-D7) -> 0.38611111 | G7: Après-midi | H7: =(HOUR(F7)*60+MINUTE(F7))/60 -> 9.2666667 | I7: 3863
B8: =B7+1 -> 42588 | C8: 2640 | D8: =IFERROR(IF($A8="",VLOOKUP($C8,PARAM!$A$11:$I$210,CHOOSE(WEEKDAY($B8,2),2,2,4,2,2,6,8),FALSE),VLOOKUP($C8,PARAM!$A$11:$P$210,CHOOSE(WEEKDAY($B8,2),11,11,11,11,11,13,15),FALSE)),0) -> 0.59861111 | E8: =IFERROR(IF($A8="",VLOOKUP($C8,PARAM!$A$11:$I$210,CHOOSE(WEEKDAY($B8,2),3,3,5,3,3,7,9),FALSE),VLOOKUP($C8,PARAM!$A$11:$P$210,CHOOSE(WEEKDAY($B8,2),12,12,12,12,12,14,16),FALSE)),0) -> 0.92222222 | F8: =SUM(E8-D8) -> 0.32361111 | G8: Après-midi | H8: =(HOUR(F8)*60+MINUTE(F8))/60 -> 7.7666667 | I8: 3226
B9: =B8+1 -> 42589 | C9: CR | D9: =IFERROR(IF($A9="",VLOOKUP($C9,PARAM!$A$11:$I$210,CHOOSE(WEEKDAY($B9,2),2,2,4,2,2,6,8),FALSE),VLOOKUP($C9,PARAM!$A$11:$P$210,CHOOSE(WEEKDAY($B9,2),11,11,11,11,11,13,15),FALSE)),0) -> 0 | E9: =IFERROR(IF($A9="",VLOOKUP($C9,PARAM!$A$11:$I$210,CHOOSE(WEEKDAY($B9,2),3,3,5,3,3,7,9),FALSE),VLOOKUP($C9,PARAM!$A$11:$P$210,CHOOSE(WEEKDAY($B9,2),12,12,12,12,12,14,16),FALSE)),0) -> 0 | F9: =SUM(E9-D9) -> 0 | H9: =(HOUR(F9)*60+MINUTE(F9))/60 -> 0
A10: C | B10: =B9+1 -> 42590 | C10: SU | D10: =IFERROR(IF($A10="",VLOOKUP($C10,PARAM!$A$11:$I$210,CHOOSE(WEEKDAY($B10,2),2,2,4,2,2,6,8),FALSE),VLOOKUP($C10,PARAM!$A$11:$P$210,CHOOSE(WEEKDAY($B10,2),11,11,11,11,11,13,15),FALSE)),0) -> 0.33333333 | E10: =IFERROR(IF($A10="",VLOOKUP($C10,PARAM!$A$11:$I$210,CHOOSE(WEEKDAY($B10,2),3,3,5,3,3,7,9),FALSE),VLOOKUP($C10,PARAM!$A$11:$P$210,CHOOSE(WEEKDAY($B10,2),12,12,12,12,12,14,16),FALSE)),0) -> 0.66666667 | F10: =SUM(E10-D10) -> 0.33333333 | H10: =(HOUR(F10)*60+MINUTE(F10))/60 -> 8
A11: C | B11: =B10+1 -> 42591 | C11: SU | D11: =IFERROR(IF($A11="",VLOOKUP($C11,PARAM!$A$11:$I$210,CHOOSE(WEEKDAY($B11,2),2,2,4,2,2,6,8),FALSE),VLOOKUP($C11,PARAM!$A$11:$P$210,CHOOSE(WEEKDAY($B11,2),11,11,11,11,11,13,15),FALSE)),0) -> 0.33333333 | E11: =IFERROR(IF($A11="",VLOOKUP($C11,PARAM!$A$11:$I$210,CHOOSE(WEEKDAY($B11,2),3,3,5,3,3,7,9),FALSE),VLOOKUP($C11,PARAM!$A$11:$P$210,CHOOSE(WEEKDAY($B11,2),12,12,12,12,12,14,16),FALSE)),0) -> 0.66666667 | F11: =SUM(E11-D11) -> 0.33333333 | H11: =(HOUR(F11)*60+MINUTE(F11))/60 -> 8
A12: C | B12: =B11+1 -> 42592 | C12: CC | D12: =IFERROR(IF($A12="",VLOOKUP($C12,PARAM!$A$11:$I$210,CHOOSE(WEEKDAY($B12,2),2,2,4,2,2,6,8),FALSE),VLOOKUP($C12,PARAM!$A$11:$P$210,CHOOSE(WEEKDAY($B12,2),11,11,11,11,11,13,15),FALSE)),0) -> 0 | E12: =IFERROR(IF($A12="",VLOOKUP($C12,PARAM!$A$11:$I$210,CHOOSE(WEEKDAY($B12,2),3,3,5,3,3,7,9),FALSE),VLOOKUP($C12,PARAM!$A$11:$P$210,CHOOSE(WEEKDAY($B12,2),12,12,12,12,12,14,16),FALSE)),0) -> 0 | F12: =SUM(E12-D12) -> 0 | H12: =(HOUR(F12)*60+MINUTE(F12))/60 -> 0
A13: C | B13: =B12+1 -> 42593 | C13: CF | D13: =IFERROR(IF($A13="",VLOOKUP($C13,PARAM!$A$11:$I$210,CHOOSE(WEEKDAY($B13,2),2,2,4,2,2,6,8),FALSE),VLOOKUP($C13,PARAM!$A$11:$P$210,CHOOSE(WEEKDAY($B13,2),11,11,11,11,11,13,15),FALSE)),0) -> 0.33333333 | E13: =IFERROR(IF($A13="",VLOOKUP($C13,PARAM!$A$11:$I$210,CHOOSE(WEEKDAY($B13,2),3,3,5,3,3,7,9),FALSE),VLOOKUP($C13,PARAM!$A$11:$P$210,CHOOSE(WEEKDAY($B13,2),12,12,12,12,12,14,16),FALSE)),0) -> 0.66666667 | F13: =SUM(E13-D13) -> 0.33333333 | H13: =(HOUR(F13)*60+MINUTE(F13))/60 -> 8
A14: C | B14: =B13+1 -> 42594 | C14: CF | D14: =IFERROR(IF($A14="",VLOOKUP($C14,PARAM!$A$11:$I$210,CHOOSE(WEEKDAY($B14,2),2,2,4,2,2,6,8),FALSE),VLOOKUP($C14,PARAM!$A$11:$P$210,CHOOSE(WEEKDAY($B14,2),11,11,11,11,11,13,15),FALSE)),0) -> 0.33333333 | E14: =IFERROR(IF($A14="",VLOOKUP($C14,PARAM!$A$11:$I$210,CHOOSE(WEEKDAY($B14,2),3,3,5,3,3,7,9),FALSE),VLOOKUP($C14,PARAM!$A$11:$P$210,CHOOSE(WEEKDAY($B14,2),12,12,12,12,12,14,16),FALSE)),0) -> 0.66666667 | F14: =SUM(E14-D14) -> 0.33333333 | H14: =(HOUR(F14)*60+MINUTE(F14))/60 -> 8
B15: =B14+1 -> 42595 | C15: CF | D15: =IFERROR(IF($A15="",VLOOKUP($C15,PARAM!$A$11:$I$210,CHOOSE(WEEKDAY($B15,2),2,2,4,2,2,6,8),FALSE),VLOOKUP($C15,PARAM!$A$11:$P$210,CHOOSE(WEEKDAY($B15,2),11,11,11,11,11,13,15),FALSE)),0) -> 0.33333333 | E15: =IFERROR(IF($A15="",VLOOKUP($C15,PARAM!$A$11:$I$210,CHOOSE(WEEKDAY($B15,2),3,3,5,3,3,7,9),FALSE),VLOOKUP($C15,PARAM!$A$11:$P$210,CHOOSE(WEEKDAY($B15,2),12,12,12,12,12,14,16),FALSE)),0) -> 0.66666667 | F15: =SUM(E15-D15) -> 0.33333333 | H15: =(HOUR(F15)*60+MINUTE(F15))/60 -> 8
B16: =B15+1 -> 42596 | C16: CR | D16: =IFERROR(IF($A16="",VLOOKUP($C16,PARAM!$A$11:$I$210,CHOOSE(WEEKDAY($B16,2),2,2,4,2,2,6,8),FALSE),VLOOKUP($C16,PARAM!$A$11:$P$210,CHOOSE(WEEKDAY($B16,2),11,11,11,11,11,13,15),FALSE)),0) -> 0 | E16: =IFERROR(IF($A16="",VLOOKUP($C16,PARAM!$A$11:$I$210,CHOOSE(WEEKDAY($B16,2),3,3,5,3,3,7,9),FALSE),VLOOKUP($C16,PARAM!$A$11:$P$210,CHOOSE(WEEKDAY($B16,2),12,12,12,12,12,14,16),FALSE)),0) -> 0 | F16: =SUM(E16-D16) -> 0 | H16: =(HOUR(F16)*60+MINUTE(F16))/60 -> 0
A17: C | B17: =B16+1 -> 42597 | C17: CR | D17: =IFERROR(IF($A17="",VLOOKUP($C17,PARAM!$A$11:$I$210,CHOOSE(WEEKDAY($B17,2),2,2,4,2,2,6,8),FALSE),VLOOKUP($C17,PARAM!$A$11:$P$210,CHOOSE(WEEKDAY($B17,2),11,11,11,11,11,13,15),FALSE)),0) -> 0 | E17: =IFERROR(IF($A17="",VLOOKUP($C17,PARAM!$A$11:$I$210,CHOOSE(WEEKDAY($B17,2),3,3,5,3,3,7,9),FALSE),VLOOKUP($C17,PARAM!$A$11:$P$210,CHOOSE(WEEKDAY($B17,2),12,12,12,12,12,14,16),FALSE)),0) -> 0 | F17: =SUM(E17-D17) -> 0 | H17: =(HOUR(F17)*60+MINUTE(F17))/60 -> 0
A18: C | B18: =B17+1 -> 42598 | C18: 2521 | D18: =IFERROR(IF($A18="",VLOOKUP($C18,PARAM!$A$11:$I$210,CHOOSE(WEEKDAY($B18,2),2,2,4,2,2,6,8),FALSE),VLOOKUP($C18,PARAM!$A$11:$P$210,CHOOSE(WEEKDAY($B18,2),11,11,11,11,11,13,15),FALSE)),0) -> 0.18541667 | E18: =IFERROR(IF($A18="",VLOOKUP($C18,PARAM!$A$11:$I$210,CHOOSE(WEEKDAY($B18,2),3,3,5,3,3,7,9),FALSE),VLOOKUP($C18,PARAM!$A$11:$P$210,CHOOSE(WEEKDAY($B18,2),12,12,12,12,12,14,16),FALSE)),0) -> 0.52847222 | F18: =SUM(E18-D18) -> 0.34305556 | G18: Matin | H18: =(HOUR(F18)*60+MINUTE(F18))/60 -> 8.2333333 | I18: 3856+3854 | J18: 167
A19: C | B19: =B18+1 -> 42599 | C19: 2521 | D19: =IFERROR(IF($A19="",VLOOKUP($C19,PARAM!$A$11:$I$210,CHOOSE(WEEKDAY($B19,2),2,2,4,2,2,6,8),FALSE),VLOOKUP($C19,PARAM!$A$11:$P$210,CHOOSE(WEEKDAY($B19,2),11,11,11,11,11,13,15),FALSE)),0) -> 0.18541667 | E19: =IFERROR(IF($A19="",VLOOKUP($C19,PARAM!$A$11:$I$210,CHOOSE(WEEKDAY($B19,2),3,3,5,3,3,7,9),FALSE),VLOOKUP($C19,PARAM!$A$11:$P$210,CHOOSE(WEEKDAY($B19,2),12,12,12,12,12,14,16),FALSE)),0) -> 0.52847222 | F19: =SUM(E19-D19) -> 0.34305556 | G19: Matin | H19: =(HOUR(F19)*60+MINUTE(F19))/60 -> 8.2333333 | I19: 3858 | J19: 167
A20: C | B20: =B19+1 -> 42600 | C20: 2564 | D20: =IFERROR(IF($A20="",VLOOKUP($C20,PARAM!$A$11:$I$210,CHOOSE(WEEKDAY($B20,2),2,2,4,2,2,6,8),FALSE),VLOOKUP($C20,PARAM!$A$11:$P$210,CHOOSE(WEEKDAY($B20,2),11,11,11,11,11,13,15),FALSE)),0) -> 0.20416667 | E20: =IFERROR(IF($A20="",VLOOKUP($C20,PARAM!$A$11:$I$210,CHOOSE(WEEKDAY($B20,2),3,3,5,3,3,7,9),FALSE),VLOOKUP($C20,PARAM!$A$11:$P$210,CHOOSE(WEEKDAY($B20,2),12,12,12,12,12,14,16),FALSE)),0) -> 0.59305556 | F20: =SUM(E20-D20) -> 0.38888889 | G20: Payé double | H20: =(HOUR(F20)*60+MINUTE(F20))/60 -> 9.3333333 | I20: 3226 | J20: 30-136
A21: C | B21: =B20+1 -> 42601 | C21: 2623 | D21: =IFERROR(IF($A21="",VLOOKUP($C21,PARAM!$A$11:$I$210,CHOOSE(WEEKDAY($B21,2),2,2,4,2,2,6,8),FALSE),VLOOKUP($C21,PARAM!$A$11:$P$210,CHOOSE(WEEKDAY($B21,2),11,11,11,11,11,13,15),FALSE)),0) -> 0.57083333 | E21: =IFERROR(IF($A21="",VLOOKUP($C21,PARAM!$A$11:$I$210,CHOOSE(WEEKDAY($B21,2),3,3,5,3,3,7,9),FALSE),VLOOKUP($C21,PARAM!$A$11:$P$210,CHOOSE(WEEKDAY($B21,2),12,12,12,12,12,14,16),FALSE)),0) -> 0.90208333 | F21: =SUM(E21-D21) -> 0.33125 | G21: Après-midi | H21: =(HOUR(F21)*60+MINUTE(F21))/60 -> 7.95 | I21: 3821 | J21: 37-40
B22: =B21+1 -> 42602 | C22: 2641 | D22: =IFERROR(IF($A22="",VLOOKUP($C22,PARAM!$A$11:$I$210,CHOOSE(WEEKDAY($B22,2),2,2,4,2,2,6,8),FALSE),VLOOKUP($C22,PARAM!$A$11:$P$210,CHOOSE(WEEKDAY($B22,2),11,11,11,11,11,13,15),FALSE)),0) -> 0.5875 | E22: =IFERROR(IF($A22="",VLOOKUP($C22,PARAM!$A$11:$I$210,CHOOSE(WEEKDAY($B22,2),3,3,5,3,3,7,9),FALSE),VLOOKUP($C22,PARAM!$A$11:$P$210,CHOOSE(WEEKDAY($B22,2),12,12,12,12,12,14,16),FALSE)),0) -> 0.95138889 | F22: =SUM(E22-D22) -> 0.36388889 | G22: Après-midi | H22: =(HOUR(F22)*60+MINUTE(F22))/60 -> 8.7333333 | I22: 3222 | J22: 82
B23: =B22+1 -> 42603 | C23: CR | D23: =IFERROR(IF($A23="",VLOOKUP($C23,PARAM!$A$11:$I$210,CHOOSE(WEEKDAY($B23,2),2,2,4,2,2,6,8),FALSE),VLOOKUP($C23,PARAM!$A$11:$P$210,CHOOSE(WEEKDAY($B23,2),11,11,11,11,11,13,15),FALSE)),0) -> 0 | E23: =IFERROR(IF($A23="",VLOOKUP($C23,PARAM!$A$11:$I$210,CHOOSE(WEEKDAY($B23,2),3,3,5,3,3,7,9),FALSE),VLOOKUP($C23,PARAM!$A$11:$P$210,CHOOSE(WEEKDAY($B23,2),12,12,12,12,12,14,16),FALSE)),0) -> 0 | F23: =SUM(E23-D23) -> 0 | H23: =(HOUR(F23)*60+MINUTE(F23))/60 -> 0
A24: C | B24: =B23+1 -> 42604 | C24: CC | D24: =IFERROR(IF($A24="",VLOOKUP($C24,PARAM!$A$11:$I$210,CHOOSE(WEEKDAY($B24,2),2,2,4,2,2,6,8),FALSE),VLOOKUP($C24,PARAM!$A$11:$P$210,CHOOSE(WEEKDAY($B24,2),11,11,11,11,11,13,15),FALSE)),0) -> 0 | E24: =IFERROR(IF($A24="",VLOOKUP($C24,PARAM!$A$11:$I$210,CHOOSE(WEEKDAY($B24,2),3,3,5,3,3,7,9),FALSE),VLOOKUP($C24,PARAM!$A$11:$P$210,CHOOSE(WEEKDAY($B24,2),12,12,12,12,12,14,16),FALSE)),0) -> 0 | F24: =SUM(E24-D24) -> 0 | H24: =(HOUR(F24)*60+MINUTE(F24))/60 -> 0
A25: C | B25: =B24+1 -> 42605 | C25: 2624 | D25: =IFERROR(IF($A25="",VLOOKUP($C25,PARAM!$A$11:$I$210,CHOOSE(WEEKDAY($B25,2),2,2,4,2,2,6,8),FALSE),VLOOKUP($C25,PARAM!$A$11:$P$210,CHOOSE(WEEKDAY($B25,2),11,11,11,11,11,13,15),FALSE)),0) -> 0.54930556 | E25: =IFERROR(IF($A25="",VLOOKUP($C25,PARAM!$A$11:$I$210,CHOOSE(WEEKDAY($B25,2),3,3,5,3,3,7,9),FALSE),VLOOKUP($C25,PARAM!$A$11:$P$210,CHOOSE(WEEKDAY($B25,2),12,12,12,12,12,14,16),FALSE)),0) -> 0.92430556 | F25: =SUM(E25-D25) -> 0.375 | G25: Après-midi | H25: =(HOUR(F25)*60+MINUTE(F25))/60 -> 9 | I25: 3821 | J25: 37-40
A26: C | B26: =B25+1 -> 42606 | C26: 2641 | D26: =IFERROR(IF($A26="",VLOOKUP($C26,PARAM!$A$11:$I$210,CHOOSE(WEEKDAY($B26,2),2,2,4,2,2,6,8),FALSE),VLOOKUP($C26,PARAM!$A$11:$P$210,CHOOSE(WEEKDAY($B26,2),11,11,11,11,11,13,15),FALSE)),0) -> 0.66805556 | E26: =IFERROR(IF($A26="",VLOOKUP($C26,PARAM!$A$11:$I$210,CHOOSE(WEEKDAY($B26,2),3,3,5,3,3,7,9),FALSE),VLOOKUP($C26,PARAM!$A$11:$P$210,CHOOSE(WEEKDAY($B26,2),12,12,12,12,12,14,16),FALSE)),0) -> 0.96527778 | F26: =SUM(E26-D26) -> 0.29722222 | G26: Après-midi | H26: =(HOUR(F26)*60+MINUTE(F26))/60 -> 7.1333333 | I26: 3221 | J26: 82
A27: C | B27: =B26+1 -> 42607 | C27: 2602 | D27: =IFERROR(IF($A27="",VLOOKUP($C27,PARAM!$A$11:$I$210,CHOOSE(WEEKDAY($B27,2),2,2,4,2,2,6,8),FALSE),VLOOKUP($C27,PARAM!$A$11:$P$210,CHOOSE(WEEKDAY($B27,2),11,11,11,11,11,13,15),FALSE)),0) -> 0.52986111 | E27: =IFERROR(IF($A27="",VLOOKUP($C27,PARAM!$A$11:$I$210,CHOOSE(WEEKDAY($B27,2),3,3,5,3,3,7,9),FALSE),VLOOKUP($C27,PARAM!$A$11:$P$210,CHOOSE(WEEKDAY($B27,2),12,12,12,12,12,14,16),FALSE)),0) -> 0.93472222 | F27: =SUM(E27-D27) -> 0.40486111 | G27: Après-midi | H27: =(HOUR(F27)*60+MINUTE(F27))/60 -> 9.7166667 | I27: 3858 | J27: 132-133
A28: C | B28: =B27+1 -> 42608 | C28: 2604 | D28: =IFERROR(IF($A28="",VLOOKUP($C28,PARAM!$A$11:$I$210,CHOOSE(WEEKDAY($B28,2),2,2,4,2,2,6,8),FALSE),VLOOKUP($C28,PARAM!$A$11:$P$210,CHOOSE(WEEKDAY($B28,2),11,11,11,11,11,13,15),FALSE)),0) -> 0.57152778 | E28: =IFERROR(IF($A28="",VLOOKUP($C28,PARAM!$A$11:$I$210,CHOOSE(WEEKDAY($B28,2),3,3,5,3,3,7,9),FALSE),VLOOKUP($C28,PARAM!$A$11:$P$210,CHOOSE(WEEKDAY($B28,2),12,12,12,12,12,14,16),FALSE)),0) -> 0.91319444 | F28: =SUM(E28-D28) -> 0.34166667 | G28: Après-midi | H28: =(HOUR(F28)*60+MINUTE(F28))/60 -> 8.2 | I28: 3860 | J28: 132-133
B29: =B28+1 -> 42609 | C29: 2641 | D29: =IFERROR(IF($A29="",VLOOKUP($C29,PARAM!$A$11:$I$210,CHOOSE(WEEKDAY($B29,2),2,2,4,2,2,6,8),FALSE),VLOOKUP($C29,PARAM!$A$11:$P$210,CHOOSE(WEEKDAY($B29,2),11,11,11,11,11,13,15),FALSE)),0) -> 0.5875 | E29: =IFERROR(IF($A29="",VLOOKUP($C29,PARAM!$A$11:$I$210,CHOOSE(WEEKDAY($B29,2),3,3,5,3,3,7,9),FALSE),VLOOKUP($C29,PARAM!$A$11:$P$210,CHOOSE(WEEKDAY($B29,2),12,12,12,12,12,14,16),FALSE)),0) -> 0.95138889 | F29: =SUM(E29-D29) -> 0.36388889 | G29: Après-midi | H29: =(HOUR(F29)*60+MINUTE(F29))/60 -> 8.7333333 | I29: 3151 | J29: 82
B30: =B29+1 -> 42610 | C30: CR | D30: =IFERROR(IF($A30="",VLOOKUP($C30,PARAM!$A$11:$I$210,CHOOSE(WEEKDAY($B30,2),2,2,4,2,2,6,8),FALSE),VLOOKUP($C30,PARAM!$A$11:$P$210,CHOOSE(WEEKDAY($B30,2),11,11,11,11,11,13,15),FALSE)),0) -> 0 | E30: =IFERROR(IF($A30="",VLOOKUP($C30,PARAM!$A$11:$I$210,CHOOSE(WEEKDAY($B30,2),3,3,5,3,3,7,9),FALSE),VLOOKUP($C30,PARAM!$A$11:$P$210,CHOOSE(WEEKDAY($B30,2),12,12,12,12,12,14,16),FALSE)),0) -> 0 | F30: =SUM(E30-D30) -> 0 | H30: =(HOUR(F30)*60+MINUTE(F30))/60 -> 0
A31: C | B31: =B30+1 -> 42611 | C31: Ecolage | D31: =IFERROR(IF($A31="",VLOOKUP($C31,PARAM!$A$11:$I$210,CHOOSE(WEEKDAY($B31,2),2,2,4,2,2,6,8),FALSE),VLOOKUP($C31,PARAM!$A$11:$P$210,CHOOSE(WEEKDAY($B31,2),11,11,11,11,11,13,15),FALSE)),0) -> 0.33333333 | E31: =IFERROR(IF($A31="",VLOOKUP($C31,PARAM!$A$11:$I$210,CHOOSE(WEEKDAY($B31,2),3,3,5,3,3,7,9),FALSE),VLOOKUP($C31,PARAM!$A$11:$P$210,CHOOSE(WEEKDAY($B31,2),12,12,12,12,12,14,16),FALSE)),0) -> 0.66666667 | F31: =SUM(E31-D31) -> 0.33333333 | H31: =(HOUR(F31)*60+MINUTE(F31))/60 -> 8 | I31: Voiture
A32: C | B32: =B31+1 -> 42612 | D32: =IFERROR(IF($A32="",VLOOKUP($C32,PARAM!$A$11:$I$210,CHOOSE(WEEKDAY($B32,2),2,2,4,2,2,6,8),FALSE),VLOOKUP($C32,PARAM!$A$11:$P$210,CHOOSE(WEEKDAY($B32,2),11,11,11,11,11,13,15),FALSE)),0) -> 0 | E32: =IFERROR(IF($A32="",VLOOKUP($C32,PARAM!$A$11:$I$210,CHOOSE(WEEKDAY($B32,2),3,3,5,3,3,7,9),FALSE),VLOOKUP($C32,PARAM!$A$11:$P$210,CHOOSE(WEEKDAY($B32,2),12,12,12,12,12,14,16),FALSE)),0) -> 0 | F32: =SUM(E32-D32) -> 0 | H32: =(HOUR(F32)*60+MINUTE(F32))/60 -> 0
A33: C | B33: =B32+1 -> 42613 | C33: 2541 | D33: =IFERROR(IF($A33="",VLOOKUP($C33,PARAM!$A$11:$I$210,CHOOSE(WEEKDAY($B33,2),2,2,4,2,2,6,8),FALSE),VLOOKUP($C33,PARAM!$A$11:$P$210,CHOOSE(WEEKDAY($B33,2),11,11,11,11,11,13,15),FALSE)),0) -> 0.16875 | E33: =IFERROR(IF($A33="",VLOOKUP($C33,PARAM!$A$11:$I$210,CHOOSE(WEEKDAY($B33,2),3,3,5,3,3,7,9),FALSE),VLOOKUP($C33,PARAM!$A$11:$P$210,CHOOSE(WEEKDAY($B33,2),12,12,12,12,12,14,16),FALSE)),0) -> 0.52847222 | F33: =SUM(E33-D33) -> 0.35972222 | H33: =(HOUR(F33)*60+MINUTE(F33))/60 -> 8.6333333 | I33: 3222 | J33: 82
B34: Total | F34: =SUM(F3:F33) -> 7.7430556 | H34: =SUM(H3:H33) -> 185.83333
F1048576: =SUM(F34) -> 7.7430556

Sheet 09
B1: PRESTATIONS DU MOIS DE : | D1: =DATE(PARAM!$B$3,RIGHT(CELL("nomfichier",D1),2),1) -> 42614
A2: Type | B2: Date | C2: Services | D2: H/Début | E2: H/Fin | F2: Nb heures | G2: Commentaires | I2: Colonne1 | J2: Colonne2
B3: =DATE(PARAM!$B$3,RIGHT(CELL("nomfichier",D1),2),1) -> 42614 | C3: 2501 | D3: =IFERROR(IF($A3="",VLOOKUP($C3,PARAM!$A$11:$I$210,CHOOSE(WEEKDAY($B3,2),2,2,4,2,2,6,8),FALSE),VLOOKUP($C3,PARAM!$A$11:$P$210,CHOOSE(WEEKDAY($B3,2),11,11,11,11,11,13,15),FALSE)),0) -> 0.23819444 | E3: =IFERROR(IF($A3="",VLOOKUP($C3,PARAM!$A$11:$I$210,CHOOSE(WEEKDAY($B3,2),3,3,5,3,3,7,9),FALSE),VLOOKUP($C3,PARAM!$A$11:$P$210,CHOOSE(WEEKDAY($B3,2),12,12,12,12,12,14,16),FALSE)),0) -> 0.57986111 | F3: =SUM(E3-D3) -> 0.34166667 | G3: Matin | H3: =(HOUR(F3)*60+MINUTE(F3))/60 -> 8.2 | I3: 3858 | J3: 132-133
B4: =B3+1 -> 42615 | C4: 2511 | D4: =IFERROR(IF($A4="",VLOOKUP($C4,PARAM!$A$11:$I$210,CHOOSE(WEEKDAY($B4,2),2,2,4,2,2,6,8),FALSE),VLOOKUP($C4,PARAM!$A$11:$P$210,CHOOSE(WEEKDAY($B4,2),11,11,11,11,11,13,15),FALSE)),0) -> 0.25347222 | E4: =IFERROR(IF($A4="",VLOOKUP($C4,PARAM!$A$11:$I$210,CHOOSE(WEEKDAY($B4,2),3,3,5,3,3,7,9),FALSE),VLOOKUP($C4,PARAM!$A$11:$P$210,CHOOSE(WEEKDAY($B4,2),12,12,12,12,12,14,16),FALSE)),0) -> 0.59861111 | F4: =SUM(E4-D4) -> 0.34513889 | G4: Matin | H4: =(HOUR(F4)*60+MINUTE(F4))/60 -> 8.2833333 | I4: 3851 | J4: 134
B5: =B4+1 -> 42616 | C5: 2542 | D5: =IFERROR(IF($A5="",VLOOKUP($C5,PARAM!$A$11:$I$210,CHOOSE(WEEKDAY($B5,2),2,2,4,2,2,6,8),FALSE),VLOOKUP($C5,PARAM!$A$11:$P$210,CHOOSE(WEEKDAY($B5,2),11,11,11,11,11,13,15),FALSE)),0) -> 0.3375 | E5: =IFERROR(IF($A5="",VLOOKUP($C5,PARAM!$A$11:$I$210,CHOOSE(WEEKDAY($B5,2),3,3,5,3,3,7,9),FALSE),VLOOKUP($C5,PARAM!$A$11:$P$210,CHOOSE(WEEKDAY($B5,2),12,12,12,12,12,14,16),FALSE)),0) -> 0.62708333 | F5: =SUM(E5-D5) -> 0.28958333 | G5: Matin | H5: =(HOUR(F5)*60+MINUTE(F5))/60 -> 6.95 | I5: 3158 | J5: 82
B6: =B5+1 -> 42617 | C6: CR | D6: =IFERROR(IF($A6="",VLOOKUP($C6,PARAM!$A$11:$I$210,CHOOSE(WEEKDAY($B6,2),2,2,4,2,2,6,8),FALSE),VLOOKUP($C6,PARAM!$A$11:$P$210,CHOOSE(WEEKDAY($B6,2),11,11,11,11,11,13,15),FALSE)),0) -> 0 | E6: =IFERROR(IF($A6="",VLOOKUP($C6,PARAM!$A$11:$I$210,CHOOSE(WEEKDAY($B6,2),3,3,5,3,3,7,9),FALSE),VLOOKUP($C6,PARAM!$A$11:$P$210,CHOOSE(WEEKDAY($B6,2),12,12,12,12,12,14,16),FALSE)),0) -> 0 | F6: =SUM(E6-D6) -> 0 | H6: =(HOUR(F6)*60+MINUTE(F6))/60 -> 0
B7: =B6+1 -> 42618 | C7: 2640 | D7: =IFERROR(IF($A7="",VLOOKUP($C7,PARAM!$A$11:$I$210,CHOOSE(WEEKDAY($B7,2),2,2,4,2,2,6,8),FALSE),VLOOKUP($C7,PARAM!$A$11:$P$210,CHOOSE(WEEKDAY($B7,2),11,11,11,11,11,13,15),FALSE)),0) -> 0.62916667 | E7: =IFERROR(IF($A7="",VLOOKUP($C7,PARAM!$A$11:$I$210,CHOOSE(WEEKDAY($B7,2),3,3,5,3,3,7,9),FALSE),VLOOKUP($C7,PARAM!$A$11:$P$210,CHOOSE(WEEKDAY($B7,2),12,12,12,12,12,14,16),FALSE)),0) -> 0.92152778 | F7: =SUM(E7-D7) -> 0.29236111 | G7: Après-midi | H7: =(HOUR(F7)*60+MINUTE(F7))/60 -> 7.0166667 | I7: 3158 | J7: 82
B8: =B7+1 -> 42619 | C8: 2645 | D8: =IFERROR(IF($A8="",VLOOKUP($C8,PARAM!$A$11:$I$210,CHOOSE(WEEKDAY($B8,2),2,2,4,2,2,6,8),FALSE),VLOOKUP($C8,PARAM!$A$11:$P$210,CHOOSE(WEEKDAY($B8,2),11,11,11,11,11,13,15),FALSE)),0) -> 0.54583333 | E8: =IFERROR(IF($A8="",VLOOKUP($C8,PARAM!$A$11:$I$210,CHOOSE(WEEKDAY($B8,2),3,3,5,3,3,7,9),FALSE),VLOOKUP($C8,PARAM!$A$11:$P$210,CHOOSE(WEEKDAY($B8,2),12,12,12,12,12,14,16),FALSE)),0) -> 0.81597222 | F8: =SUM(E8-D8) -> 0.27013889 | G8: Après-midi | H8: =(HOUR(F8)*60+MINUTE(F8))/60 -> 6.4833333 | I8: 3154 | J8: 82
B9: =B8+1 -> 42620 | C9: 2667 | D9: =IFERROR(IF($A9="",VLOOKUP($C9,PARAM!$A$11:$I$210,CHOOSE(WEEKDAY($B9,2),2,2,4,2,2,6,8),FALSE),VLOOKUP($C9,PARAM!$A$11:$P$210,CHOOSE(WEEKDAY($B9,2),11,11,11,11,11,13,15),FALSE)),0) -> 0.45902778 | E9: =IFERROR(IF($A9="",VLOOKUP($C9,PARAM!$A$11:$I$210,CHOOSE(WEEKDAY($B9,2),3,3,5,3,3,7,9),FALSE),VLOOKUP($C9,PARAM!$A$11:$P$210,CHOOSE(WEEKDAY($B9,2),12,12,12,12,12,14,16),FALSE)),0) -> 0.83055556 | F9: =SUM(E9-D9) -> 0.37152778 | G9: Payé double | H9: =(HOUR(F9)*60+MINUTE(F9))/60 -> 8.9166667 | I9: 3155 | J9: 30-136
B10: =B9+1 -> 42621 | C10: Ecolage | D10: =IFERROR(IF($A10="",VLOOKUP($C10,PARAM!$A$11:$I$210,CHOOSE(WEEKDAY($B10,2),2,2,4,2,2,6,8),FALSE),VLOOKUP($C10,PARAM!$A$11:$P$210,CHOOSE(WEEKDAY($B10,2),11,11,11,11,11,13,15),FALSE)),0) -> 0.33333333 | E10: =IFERROR(IF($A10="",VLOOKUP($C10,PARAM!$A$11:$I$210,CHOOSE(WEEKDAY($B10,2),3,3,5,3,3,7,9),FALSE),VLOOKUP($C10,PARAM!$A$11:$P$210,CHOOSE(WEEKDAY($B10,2),12,12,12,12,12,14,16),FALSE)),0) -> 0.66666667 | F10: =SUM(E10-D10) -> 0.33333333 | G10: Matin | H10: =(HOUR(F10)*60+MINUTE(F10))/60 -> 8 | I10: 3588
B11: =B10+1 -> 42622 | C11: 2603 | D11: =IFERROR(IF($A11="",VLOOKUP($C11,PARAM!$A$11:$I$210,CHOOSE(WEEKDAY($B11,2),2,2,4,2,2,6,8),FALSE),VLOOKUP($C11,PARAM!$A$11:$P$210,CHOOSE(WEEKDAY($B11,2),11,11,11,11,11,13,15),FALSE)),0) -> 0.57152778 | E11: =IFERROR(IF($A11="",VLOOKUP($C11,PARAM!$A$11:$I$210,CHOOSE(WEEKDAY($B11,2),3,3,5,3,3,7,9),FALSE),VLOOKUP($C11,PARAM!$A$11:$P$210,CHOOSE(WEEKDAY($B11,2),12,12,12,12,12,14,16),FALSE)),0) -> 0.91597222 | F11: =SUM(E11-D11) -> 0.34444444 | G11: Après-midi | H11: =(HOUR(F11)*60+MINUTE(F11))/60 -> 8.2666667 | I11: 3820 | J11: 132-133
B12: =B11+1 -> 42623 | C12: 2664 | D12: =IFERROR(IF($A12="",VLOOKUP($C12,PARAM!$A$11:$I$210,CHOOSE(WEEKDAY($B12,2),2,2,4,2,2,6,8),FALSE),VLOOKUP($C12,PARAM!$A$11:$P$210,CHOOSE(WEEKDAY($B12,2),11,11,11,11,11,13,15),FALSE)),0) -> 0.64097222 | E12: =IFERROR(IF($A12="",VLOOKUP($C12,PARAM!$A$11:$I$210,CHOOSE(WEEKDAY($B12,2),3,3,5,3,3,7,9),FALSE),VLOOKUP($C12,PARAM!$A$11:$P$210,CHOOSE(WEEKDAY($B12,2),12,12,12,12,12,14,16),FALSE)),0) -> 0.97083333 | F12: =SUM(E12-D12) -> 0.32986111 | G12: Après-midi | H12: =(HOUR(F12)*60+MINUTE(F12))/60 -> 7.9166667 | I12: 3223 | J12: 30-136
B13: =B12+1 -> 42624 | C13: CR | D13: =IFERROR(IF($A13="",VLOOKUP($C13,PARAM!$A$11:$I$210,CHOOSE(WEEKDAY($B13,2),2,2,4,2,2,6,8),FALSE),VLOOKUP($C13,PARAM!$A$11:$P$210,CHOOSE(WEEKDAY($B13,2),11,11,11,11,11,13,15),FALSE)),0) -> 0 | E13: =IFERROR(IF($A13="",VLOOKUP($C13,PARAM!$A$11:$I$210,CHOOSE(WEEKDAY($B13,2),3,3,5,3,3,7,9),FALSE),VLOOKUP($C13,PARAM!$A$11:$P$210,CHOOSE(WEEKDAY($B13,2),12,12,12,12,12,14,16),FALSE)),0) -> 0 | F13: =SUM(E13-D13) -> 0 | H13: =(HOUR(F13)*60+MINUTE(F13))/60 -> 0
B14: =B13+1 -> 42625 | C14: 2563 | D14: =IFERROR(IF($A14="",VLOOKUP($C14,PARAM!$A$11:$I$210,CHOOSE(WEEKDAY($B14,2),2,2,4,2,2,6,8),FALSE),VLOOKUP($C14,PARAM!$A$11:$P$210,CHOOSE(WEEKDAY($B14,2),11,11,11,11,11,13,15),FALSE)),0) -> 0.21180556 | E14: =IFERROR(IF($A14="",VLOOKUP($C14,PARAM!$A$11:$I$210,CHOOSE(WEEKDAY($B14,2),3,3,5,3,3,7,9),FALSE),VLOOKUP($C14,PARAM!$A$11:$P$210,CHOOSE(WEEKDAY($B14,2),12,12,12,12,12,14,16),FALSE)),0) -> 0.59305556 | F14: =SUM(E14-D14) -> 0.38125 | G14: Matin | H14: =(HOUR(F14)*60+MINUTE(F14))/60 -> 9.15 | I14: 3155 | J14: 30-136
B15: =B14+1 -> 42626 | C15: 2504 | D15: =IFERROR(IF($A15="",VLOOKUP($C15,PARAM!$A$11:$I$210,CHOOSE(WEEKDAY($B15,2),2,2,4,2,2,6,8),FALSE),VLOOKUP($C15,PARAM!$A$11:$P$210,CHOOSE(WEEKDAY($B15,2),11,11,11,11,11,13,15),FALSE)),0) -> 0.21736111 | E15: =IFERROR(IF($A15="",VLOOKUP($C15,PARAM!$A$11:$I$210,CHOOSE(WEEKDAY($B15,2),3,3,5,3,3,7,9),FALSE),VLOOKUP($C15,PARAM!$A$11:$P$210,CHOOSE(WEEKDAY($B15,2),12,12,12,12,12,14,16),FALSE)),0) -> 0.58263889 | F15: =SUM(E15-D15) -> 0.36527778 | G15: Matin | H15: =(HOUR(F15)*60+MINUTE(F15))/60 -> 8.7666667 | I15: 3856 | J15: 132-133
B16: =B15+1 -> 42627 | C16: 2661 | D16: =IFERROR(IF($A16="",VLOOKUP($C16,PARAM!$A$11:$I$210,CHOOSE(WEEKDAY($B16,2),2,2,4,2,2,6,8),FALSE),VLOOKUP($C16,PARAM!$A$11:$P$210,CHOOSE(WEEKDAY($B16,2),11,11,11,11,11,13,15),FALSE)),0) -> 0.4875 | E16: =IFERROR(IF($A16="",VLOOKUP($C16,PARAM!$A$11:$I$210,CHOOSE(WEEKDAY($B16,2),3,3,5,3,3,7,9),FALSE),VLOOKUP($C16,PARAM!$A$11:$P$210,CHOOSE(WEEKDAY($B16,2),12,12,12,12,12,14,16),FALSE)),0) -> 0.78888889 | F16: =SUM(E16-D16) -> 0.30138889 | G16: Après-midi | H16: =(HOUR(F16)*60+MINUTE(F16))/60 -> 7.2333333 | I16: 3857 | J16: 30-136
B17: =B16+1 -> 42628 | C17: CC | D17: =IFERROR(IF($A17="",VLOOKUP($C17,PARAM!$A$11:$I$210,CHOOSE(WEEKDAY($B17,2),2,2,4,2,2,6,8),FALSE),VLOOKUP($C17,PARAM!$A$11:$P$210,CHOOSE(WEEKDAY($B17,2),11,11,11,11,11,13,15),FALSE)),0) -> 0 | E17: =IFERROR(IF($A17="",VLOOKUP($C17,PARAM!$A$11:$I$210,CHOOSE(WEEKDAY($B17,2),3,3,5,3,3,7,9),FALSE),VLOOKUP($C17,PARAM!$A$11:$P$210,CHOOSE(WEEKDAY($B17,2),12,12,12,12,12,14,16),FALSE)),0) -> 0 | F17: =SUM(E17-D17) -> 0 | H17: =(HOUR(F17)*60+MINUTE(F17))/60 -> 0
B18: =B17+1 -> 42629 | C18: 2545 | D18: =IFERROR(IF($A18="",VLOOKUP($C18,PARAM!$A$11:$I$210,CHOOSE(WEEKDAY($B18,2),2,2,4,2,2,6,8),FALSE),VLOOKUP($C18,PARAM!$A$11:$P$210,CHOOSE(WEEKDAY($B18,2),11,11,11,11,11,13,15),FALSE)),0) -> 0.2125 | E18: =IFERROR(IF($A18="",VLOOKUP($C18,PARAM!$A$11:$I$210,CHOOSE(WEEKDAY($B18,2),3,3,5,3,3,7,9),FALSE),VLOOKUP($C18,PARAM!$A$11:$P$210,CHOOSE(WEEKDAY($B18,2),12,12,12,12,12,14,16),FALSE)),0) -> 0.56666667 | F18: =SUM(E18-D18) -> 0.35416667 | G18: Matin | H18: =(HOUR(F18)*60+MINUTE(F18))/60 -> 8.5 | I18: 3582 | J18: 82
B19: =B18+1 -> 42630 | C19: 2520 | D19: =IFERROR(IF($A19="",VLOOKUP($C19,PARAM!$A$11:$I$210,CHOOSE(WEEKDAY($B19,2),2,2,4,2,2,6,8),FALSE),VLOOKUP($C19,PARAM!$A$11:$P$210,CHOOSE(WEEKDAY($B19,2),11,11,11,11,11,13,15),FALSE)),0) -> 0.24097222 | E19: =IFERROR(IF($A19="",VLOOKUP($C19,PARAM!$A$11:$I$210,CHOOSE(WEEKDAY($B19,2),3,3,5,3,3,7,9),FALSE),VLOOKUP($C19,PARAM!$A$11:$P$210,CHOOSE(WEEKDAY($B19,2),12,12,12,12,12,14,16),FALSE)),0) -> 0.55902778 | F19: =SUM(E19-D19) -> 0.31805556 | G19: Matin | H19: =(HOUR(F19)*60+MINUTE(F19))/60 -> 7.6333333 | I19: 3854 | J19: 37-40-167
B20: =B19+1 -> 42631 | C20: 2541 | D20: =IFERROR(IF($A20="",VLOOKUP($C20,PARAM!$A$11:$I$210,CHOOSE(WEEKDAY($B20,2),2,2,4,2,2,6,8),FALSE),VLOOKUP($C20,PARAM!$A$11:$P$210,CHOOSE(WEEKDAY($B20,2),11,11,11,11,11,13,15),FALSE)),0) -> 0.23541667 | E20: =IFERROR(IF($A20="",VLOOKUP($C20,PARAM!$A$11:$I$210,CHOOSE(WEEKDAY($B20,2),3,3,5,3,3,7,9),FALSE),VLOOKUP($C20,PARAM!$A$11:$P$210,CHOOSE(WEEKDAY($B20,2),12,12,12,12,12,14,16),FALSE)),0) -> 0.57708333 | F20: =SUM(E20-D20) -> 0.34166667 | G20: Matin | H20: =(HOUR(F20)*60+MINUTE(F20))/60 -> 8.2 | I20: 3159 | J20: 82
B21: =B20+1 -> 42632 | C21: 2640 | D21: =IFERROR(IF($A21="",VLOOKUP($C21,PARAM!$A$11:$I$210,CHOOSE(WEEKDAY($B21,2),2,2,4,2,2,6,8),FALSE),VLOOKUP($C21,PARAM!$A$11:$P$210,CHOOSE(WEEKDAY($B21,2),11,11,11,11,11,13,15),FALSE)),0) -> 0.62916667 | E21: =IFERROR(IF($A21="",VLOOKUP($C21,PARAM!$A$11:$I$210,CHOOSE(WEEKDAY($B21,2),3,3,5,3,3,7,9),FALSE),VLOOKUP($C21,PARAM!$A$11:$P$210,CHOOSE(WEEKDAY($B21,2),12,12,12,12,12,14,16),FALSE)),0) -> 0.92152778 | F21: =SUM(E21-D21) -> 0.29236111 | G21: Après-midi | H21: =(HOUR(F21)*60+MINUTE(F21))/60 -> 7.0166667 | I21: 3224 | J21: 82
B22: =B21+1 -> 42633 | C22: CR | D22: =IFERROR(IF($A22="",VLOOKUP($C22,PARAM!$A$11:$I$210,CHOOSE(WEEKDAY($B22,2),2,2,4,2,2,6,8),FALSE),VLOOKUP($C22,PARAM!$A$11:$P$210,CHOOSE(WEEKDAY($B22,2),11,11,11,11,11,13,15),FALSE)),0) -> 0 | E22: =IFERROR(IF($A22="",VLOOKUP($C22,PARAM!$A$11:$I$210,CHOOSE(WEEKDAY($B22,2),3,3,5,3,3,7,9),FALSE),VLOOKUP($C22,PARAM!$A$11:$P$210,CHOOSE(WEEKDAY($B22,2),12,12,12,12,12,14,16),FALSE)),0) -> 0 | F22: =SUM(E22-D22) -> 0 | H22: =(HOUR(F22)*60+MINUTE(F22))/60 -> 0
B23: =B22+1 -> 42634 | C23: 2604 | D23: =IFERROR(IF($A23="",VLOOKUP($C23,PARAM!$A$11:$I$210,CHOOSE(WEEKDAY($B23,2),2,2,4,2,2,6,8),FALSE),VLOOKUP($C23,PARAM!$A$11:$P$210,CHOOSE(WEEKDAY($B23,2),11,11,11,11,11,13,15),FALSE)),0) -> 0.57152778 | E23: =IFERROR(IF($A23="",VLOOKUP($C23,PARAM!$A$11:$I$210,CHOOSE(WEEKDAY($B23,2),3,3,5,3,3,7,9),FALSE),VLOOKUP($C23,PARAM!$A$11:$P$210,CHOOSE(WEEKDAY($B23,2),12,12,12,12,12,14,16),FALSE)),0) -> 0.91597222 | F23: =SUM(E23-D23) -> 0.34444444 | G23: Après-midi | H23: =(HOUR(F23)*60+MINUTE(F23))/60 -> 8.2666667 | I23: 3865 | J23: 132-133
B24: =B23+1 -> 42635 | C24: 2622 | D24: =IFERROR(IF($A24="",VLOOKUP($C24,PARAM!$A$11:$I$210,CHOOSE(WEEKDAY($B24,2),2,2,4,2,2,6,8),FALSE),VLOOKUP($C24,PARAM!$A$11:$P$210,CHOOSE(WEEKDAY($B24,2),11,11,11,11,11,13,15),FALSE)),0) -> 0.59513889 | E24: =IFERROR(IF($A24="",VLOOKUP($C24,PARAM!$A$11:$I$210,CHOOSE(WEEKDAY($B24,2),3,3,5,3,3,7,9),FALSE),VLOOKUP($C24,PARAM!$A$11:$P$210,CHOOSE(WEEKDAY($B24,2),12,12,12,12,12,14,16),FALSE)),0) -> 0.90555556 | F24: =SUM(E24-D24) -> 0.31041667 | G24: Après-midi | H24: =(HOUR(F24)*60+MINUTE(F24))/60 -> 7.45 | I24: 3867 | J24: 167
B25: =B24+1 -> 42636 | C25: CC | D25: =IFERROR(IF($A25="",VLOOKUP($C25,PARAM!$A$11:$I$210,CHOOSE(WEEKDAY($B25,2),2,2,4,2,2,6,8),FALSE),VLOOKUP($C25,PARAM!$A$11:$P$210,CHOOSE(WEEKDAY($B25,2),11,11,11,11,11,13,15),FALSE)),0) -> 0 | E25: =IFERROR(IF($A25="",VLOOKUP($C25,PARAM!$A$11:$I$210,CHOOSE(WEEKDAY($B25,2),3,3,5,3,3,7,9),FALSE),VLOOKUP($C25,PARAM!$A$11:$P$210,CHOOSE(WEEKDAY($B25,2),12,12,12,12,12,14,16),FALSE)),0) -> 0 | F25: =SUM(E25-D25) -> 0 | H25: =(HOUR(F25)*60+MINUTE(F25))/60 -> 0
B26: =B25+1 -> 42637 | C26: CC | D26: =IFERROR(IF($A26="",VLOOKUP($C26,PARAM!$A$11:$I$210,CHOOSE(WEEKDAY($B26,2),2,2,4,2,2,6,8),FALSE),VLOOKUP($C26,PARAM!$A$11:$P$210,CHOOSE(WEEKDAY($B26,2),11,11,11,11,11,13,15),FALSE)),0) -> 0 | E26: =IFERROR(IF($A26="",VLOOKUP($C26,PARAM!$A$11:$I$210,CHOOSE(WEEKDAY($B26,2),3,3,5,3,3,7,9),FALSE),VLOOKUP($C26,PARAM!$A$11:$P$210,CHOOSE(WEEKDAY($B26,2),12,12,12,12,12,14,16),FALSE)),0) -> 0 | F26: =SUM(E26-D26) -> 0 | H26: =(HOUR(F26)*60+MINUTE(F26))/60 -> 0
B27: =B26+1 -> 42638 | C27: CR | D27: =IFERROR(IF($A27="",VLOOKUP($C27,PARAM!$A$11:$I$210,CHOOSE(WEEKDAY($B27,2),2,2,4,2,2,6,8),FALSE),VLOOKUP($C27,PARAM!$A$11:$P$210,CHOOSE(WEEKDAY($B27,2),11,11,11,11,11,13,15),FALSE)),0) -> 0 | E27: =IFERROR(IF($A27="",VLOOKUP($C27,PARAM!$A$11:$I$210,CHOOSE(WEEKDAY($B27,2),3,3,5,3,3,7,9),FALSE),VLOOKUP($C27,PARAM!$A$11:$P$210,CHOOSE(WEEKDAY($B27,2),12,12,12,12,12,14,16),FALSE)),0) -> 0 | F27: =SUM(E27-D27) -> 0 | H27: =(HOUR(F27)*60+MINUTE(F27))/60 -> 0
B28: =B27+1 -> 42639 | C28: CC | D28: =IFERROR(IF($A28="",VLOOKUP($C28,PARAM!$A$11:$I$210,CHOOSE(WEEKDAY($B28,2),2,2,4,2,2,6,8),FALSE),VLOOKUP($C28,PARAM!$A$11:$P$210,CHOOSE(WEEKDAY($B28,2),11,11,11,11,11,13,15),FALSE)),0) -> 0 | E28: =IFERROR(IF($A28="",VLOOKUP($C28,PARAM!$A$11:$I$210,CHOOSE(WEEKDAY($B28,2),3,3,5,3,3,7,9),FALSE),VLOOKUP($C28,PARAM!$A$11:$P$210,CHOOSE(WEEKDAY($B28,2),12,12,12,12,12,14,16),FALSE)),0) -> 0 | F28: =SUM(E28-D28) -> 0 | H28: =(HOUR(F28)*60+MINUTE(F28))/60 -> 0
B29: =B28+1 -> 42640 | C29: SU | D29: =IFERROR(IF($A29="",VLOOKUP($C29,PARAM!$A$11:$I$210,CHOOSE(WEEKDAY($B29,2),2,2,4,2,2,6,8),FALSE),VLOOKUP($C29,PARAM!$A$11:$P$210,CHOOSE(WEEKDAY($B29,2),11,11,11,11,11,13,15),FALSE)),0) -> 0.33333333 | E29: =IFERROR(IF($A29="",VLOOKUP($C29,PARAM!$A$11:$I$210,CHOOSE(WEEKDAY($B29,2),3,3,5,3,3,7,9),FALSE),VLOOKUP($C29,PARAM!$A$11:$P$210,CHOOSE(WEEKDAY($B29,2),12,12,12,12,12,14,16),FALSE)),0) -> 0.66666667 | F29: =SUM(E29-D29) -> 0.33333333 | H29: =(HOUR(F29)*60+MINUTE(F29))/60 -> 8
B30: =B29+1 -> 42641 | C30: 2545 | D30: =IFERROR(IF($A30="",VLOOKUP($C30,PARAM!$A$11:$I$210,CHOOSE(WEEKDAY($B30,2),2,2,4,2,2,6,8),FALSE),VLOOKUP($C30,PARAM!$A$11:$P$210,CHOOSE(WEEKDAY($B30,2),11,11,11,11,11,13,15),FALSE)),0) -> 0.2125 | E30: =IFERROR(IF($A30="",VLOOKUP($C30,PARAM!$A$11:$I$210,CHOOSE(WEEKDAY($B30,2),3,3,5,3,3,7,9),FALSE),VLOOKUP($C30,PARAM!$A$11:$P$210,CHOOSE(WEEKDAY($B30,2),12,12,12,12,12,14,16),FALSE)),0) -> 0.56666667 | F30: =SUM(E30-D30) -> 0.35416667 | G30: Matin | H30: =(HOUR(F30)*60+MINUTE(F30))/60 -> 8.5 | I30: 3155 | J30: 82
B31: =B30+1 -> 42642 | C31: 2525 | D31: =IFERROR(IF($A31="",VLOOKUP($C31,PARAM!$A$11:$I$210,CHOOSE(WEEKDAY($B31,2),2,2,4,2,2,6,8),FALSE),VLOOKUP($C31,PARAM!$A$11:$P$210,CHOOSE(WEEKDAY($B31,2),11,11,11,11,11,13,15),FALSE)),0) -> 0.22986111 | E31: =IFERROR(IF($A31="",VLOOKUP($C31,PARAM!$A$11:$I$210,CHOOSE(WEEKDAY($B31,2),3,3,5,3,3,7,9),FALSE),VLOOKUP($C31,PARAM!$A$11:$P$210,CHOOSE(WEEKDAY($B31,2),12,12,12,12,12,14,16),FALSE)),0) -> 0.59097222 | F31: =SUM(E31-D31) -> 0.36111111 | G31: Matin | H31: =(HOUR(F31)*60+MINUTE(F31))/60 -> 8.6666667 | I31: 3857 | J31: 37-40
B32: =B31+1 -> 42643 | C32: 2566 | D32: =IFERROR(IF($A32="",VLOOKUP($C32,PARAM!$A$11:$I$210,CHOOSE(WEEKDAY($B32,2),2,2,4,2,2,6,8),FALSE),VLOOKUP($C32,PARAM!$A$11:$P$210,CHOOSE(WEEKDAY($B32,2),11,11,11,11,11,13,15),FALSE)),0) -> 0.20277778 | E32: =IFERROR(IF($A32="",VLOOKUP($C32,PARAM!$A$11:$I$210,CHOOSE(WEEKDAY($B32,2),3,3,5,3,3,7,9),FALSE),VLOOKUP($C32,PARAM!$A$11:$P$210,CHOOSE(WEEKDAY($B32,2),12,12,12,12,12,14,16),FALSE)),0) -> 0.5625 | F32: =SUM(E32-D32) -> 0.35972222 | G32: Matin | H32: =(HOUR(F32)*60+MINUTE(F32))/60 -> 8.6333333 | I32: 3822 | J32: 30-136
B33: =B32+1 -> 42644 | D33: =IFERROR(IF($A33="",VLOOKUP($C33,PARAM!$A$11:$I$210,CHOOSE(WEEKDAY($B33,2),2,2,4,2,2,6,8),FALSE),VLOOKUP($C33,PARAM!$A$11:$P$210,CHOOSE(WEEKDAY($B33,2),11,11,11,11,11,13,15),FALSE)),0) -> 0 | E33: =IFERROR(IF($A33="",VLOOKUP($C33,PARAM!$A$11:$I$210,CHOOSE(WEEKDAY($B33,2),3,3,5,3,3,7,9),FALSE),VLOOKUP($C33,PARAM!$A$11:$P$210,CHOOSE(WEEKDAY($B33,2),12,12,12,12,12,14,16),FALSE)),0) -> 0 | F33: =SUM(E33-D33) -> 0 | H33: =(HOUR(F33)*60+MINUTE(F33))/60 -> 0
B34: Total | F34: =SUM(F3:F33) -> 7.3354167 | H34: =SUM(H3:H33) -> 176.05
F1048576: =SUM(F34) -> 7.3354167

Sheet 10
B1: PRESTATIONS DU MOIS DE : | D1: =DATE(PARAM!$B$3,RIGHT(CELL("nomfichier",D1),2),1) -> 42644
A2: Type | B2: Date | C2: Services | D2: H/Début | E2: H/Fin | F2: Nb heures | G2: Commentaires | I2: Colonne1 | J2: Colonne2
B3: =DATE(PARAM!$B$3,RIGHT(CELL("nomfichier",D1),2),1) -> 42644 | C3: 2520 | D3: =IFERROR(IF($A3="",VLOOKUP($C3,PARAM!$A$11:$I$210,CHOOSE(WEEKDAY($B3,2),2,2,4,2,2,6,8),FALSE),VLOOKUP($C3,PARAM!$A$11:$P$210,CHOOSE(WEEKDAY($B3,2),11,11,11,11,11,13,15),FALSE)),0) -> 0.24097222 | E3: =IFERROR(IF($A3="",VLOOKUP($C3,PARAM!$A$11:$I$210,CHOOSE(WEEKDAY($B3,2),3,3,5,3,3,7,9),FALSE),VLOOKUP($C3,PARAM!$A$11:$P$210,CHOOSE(WEEKDAY($B3,2),12,12,12,12,12,14,16),FALSE)),0) -> 0.55902778 | F3: =SUM(E3-D3) -> 0.31805556 | G3: Matin | H3: =(HOUR(F3)*60+MINUTE(F3))/60 -> 7.6333333 | I3: 3828 | J3: 37-40-167
B4: =B3+1 -> 42645 | C4: CR | D4: =IFERROR(IF($A4="",VLOOKUP($C4,PARAM!$A$11:$I$210,CHOOSE(WEEKDAY($B4,2),2,2,4,2,2,6,8),FALSE),VLOOKUP($C4,PARAM!$A$11:$P$210,CHOOSE(WEEKDAY($B4,2),11,11,11,11,11,13,15),FALSE)),0) -> 0 | E4: =IFERROR(IF($A4="",VLOOKUP($C4,PARAM!$A$11:$I$210,CHOOSE(WEEKDAY($B4,2),3,3,5,3,3,7,9),FALSE),VLOOKUP($C4,PARAM!$A$11:$P$210,CHOOSE(WEEKDAY($B4,2),12,12,12,12,12,14,16),FALSE)),0) -> 0 | F4: =SUM(E4-D4) -> 0 | H4: =(HOUR(F4)*60+MINUTE(F4))/60 -> 0
B5: =B4+1 -> 42646 | C5: 2620 | D5: =IFERROR(IF($A5="",VLOOKUP($C5,PARAM!$A$11:$I$210,CHOOSE(WEEKDAY($B5,2),2,2,4,2,2,6,8),FALSE),VLOOKUP($C5,PARAM!$A$11:$P$210,CHOOSE(WEEKDAY($B5,2),11,11,11,11,11,13,15),FALSE)),0) -> 0.56041667 | E5: =IFERROR(IF($A5="",VLOOKUP($C5,PARAM!$A$11:$I$210,CHOOSE(WEEKDAY($B5,2),3,3,5,3,3,7,9),FALSE),VLOOKUP($C5,PARAM!$A$11:$P$210,CHOOSE(WEEKDAY($B5,2),12,12,12,12,12,14,16),FALSE)),0) -> 0.925 | F5: =SUM(E5-D5) -> 0.36458333 | G5: Après-midi | H5: =(HOUR(F5)*60+MINUTE(F5))/60 -> 8.75 | I5: 3853 | J5: 167
B6: =B5+1 -> 42647 | C6: 2668 | D6: =IFERROR(IF($A6="",VLOOKUP($C6,PARAM!$A$11:$I$210,CHOOSE(WEEKDAY($B6,2),2,2,4,2,2,6,8),FALSE),VLOOKUP($C6,PARAM!$A$11:$P$210,CHOOSE(WEEKDAY($B6,2),11,11,11,11,11,13,15),FALSE)),0) -> 0.57291667 | E6: =IFERROR(IF($A6="",VLOOKUP($C6,PARAM!$A$11:$I$210,CHOOSE(WEEKDAY($B6,2),3,3,5,3,3,7,9),FALSE),VLOOKUP($C6,PARAM!$A$11:$P$210,CHOOSE(WEEKDAY($B6,2),12,12,12,12,12,14,16),FALSE)),0) -> 0.94583333 | F6: =SUM(E6-D6) -> 0.37291667 | G6: Après-midi | H6: =(HOUR(F6)*60+MINUTE(F6))/60 -> 8.95 | I6: 3829 | J6: 30-136
B7: =B6+1 -> 42648 | C7: 2667 | D7: =IFERROR(IF($A7="",VLOOKUP($C7,PARAM!$A$11:$I$210,CHOOSE(WEEKDAY($B7,2),2,2,4,2,2,6,8),FALSE),VLOOKUP($C7,PARAM!$A$11:$P$210,CHOOSE(WEEKDAY($B7,2),11,11,11,11,11,13,15),FALSE)),0) -> 0.45902778 | E7: =IFERROR(IF($A7="",VLOOKUP($C7,PARAM!$A$11:$I$210,CHOOSE(WEEKDAY($B7,2),3,3,5,3,3,7,9),FALSE),VLOOKUP($C7,PARAM!$A$11:$P$210,CHOOSE(WEEKDAY($B7,2),12,12,12,12,12,14,16),FALSE)),0) -> 0.83055556 | F7: =SUM(E7-D7) -> 0.37152778 | G7: Payé double | H7: =(HOUR(F7)*60+MINUTE(F7))/60 -> 8.9166667 | I7: 3133 | J7: 30-136
B8: =B7+1 -> 42649 | C8: 2540 | D8: =IFERROR(IF($A8="",VLOOKUP($C8,PARAM!$A$11:$I$210,CHOOSE(WEEKDAY($B8,2),2,2,4,2,2,6,8),FALSE),VLOOKUP($C8,PARAM!$A$11:$P$210,CHOOSE(WEEKDAY($B8,2),11,11,11,11,11,13,15),FALSE)),0) -> 0.20972222 | E8: =IFERROR(IF($A8="",VLOOKUP($C8,PARAM!$A$11:$I$210,CHOOSE(WEEKDAY($B8,2),3,3,5,3,3,7,9),FALSE),VLOOKUP($C8,PARAM!$A$11:$P$210,CHOOSE(WEEKDAY($B8,2),12,12,12,12,12,14,16),FALSE)),0) -> 0.56458333 | F8: =SUM(E8-D8) -> 0.35486111 | G8: Matin | H8: =(HOUR(F8)*60+MINUTE(F8))/60 -> 8.5166667 | I8: 3221 | J8: 82
B9: =B8+1 -> 42650 | C9: Grève | D9: =IFERROR(IF($A9="",VLOOKUP($C9,PARAM!$A$11:$I$210,CHOOSE(WEEKDAY($B9,2),2,2,4,2,2,6,8),FALSE),VLOOKUP($C9,PARAM!$A$11:$P$210,CHOOSE(WEEKDAY($B9,2),11,11,11,11,11,13,15),FALSE)),0) -> 0 | E9: =IFERROR(IF($A9="",VLOOKUP($C9,PARAM!$A$11:$I$210,CHOOSE(WEEKDAY($B9,2),3,3,5,3,3,7,9),FALSE),VLOOKUP($C9,PARAM!$A$11:$P$210,CHOOSE(WEEKDAY($B9,2),12,12,12,12,12,14,16),FALSE)),0) -> 0 | F9: =SUM(E9-D9) -> 0 | H9: =(HOUR(F9)*60+MINUTE(F9))/60 -> 0
B10: =B9+1 -> 42651 | C10: 2623 | D10: =IFERROR(IF($A10="",VLOOKUP($C10,PARAM!$A$11:$I$210,CHOOSE(WEEKDAY($B10,2),2,2,4,2,2,6,8),FALSE),VLOOKUP($C10,PARAM!$A$11:$P$210,CHOOSE(WEEKDAY($B10,2),11,11,11,11,11,13,15),FALSE)),0) -> 0.55902778 | E10: =IFERROR(IF($A10="",VLOOKUP($C10,PARAM!$A$11:$I$210,CHOOSE(WEEKDAY($B10,2),3,3,5,3,3,7,9),FALSE),VLOOKUP($C10,PARAM!$A$11:$P$210,CHOOSE(WEEKDAY($B10,2),12,12,12,12,12,14,16),FALSE)),0) -> 0.89791667 | F10: =SUM(E10-D10) -> 0.33888889 | G10: Après-midi | H10: =(HOUR(F10)*60+MINUTE(F10))/60 -> 8.1333333 | I10: 3853 | J10: 37-40-167
B11: =B10+1 -> 42652 | C11: CR | D11: =IFERROR(IF($A11="",VLOOKUP($C11,PARAM!$A$11:$I$210,CHOOSE(WEEKDAY($B11,2),2,2,4,2,2,6,8),FALSE),VLOOKUP($C11,PARAM!$A$11:$P$210,CHOOSE(WEEKDAY($B11,2),11,11,11,11,11,13,15),FALSE)),0) -> 0 | E11: =IFERROR(IF($A11="",VLOOKUP($C11,PARAM!$A$11:$I$210,CHOOSE(WEEKDAY($B11,2),3,3,5,3,3,7,9),FALSE),VLOOKUP($C11,PARAM!$A$11:$P$210,CHOOSE(WEEKDAY($B11,2),12,12,12,12,12,14,16),FALSE)),0) -> 0 | F11: =SUM(E11-D11) -> 0 | H11: =(HOUR(F11)*60+MINUTE(F11))/60 -> 0
A12: c | B12: =B11+1 -> 42653 | C12: 2563 | D12: =IFERROR(IF($A12="",VLOOKUP($C12,PARAM!$A$11:$I$210,CHOOSE(WEEKDAY($B12,2),2,2,4,2,2,6,8),FALSE),VLOOKUP($C12,PARAM!$A$11:$P$210,CHOOSE(WEEKDAY($B12,2),11,11,11,11,11,13,15),FALSE)),0) -> 0.17013889 | E12: =IFERROR(IF($A12="",VLOOKUP($C12,PARAM!$A$11:$I$210,CHOOSE(WEEKDAY($B12,2),3,3,5,3,3,7,9),FALSE),VLOOKUP($C12,PARAM!$A$11:$P$210,CHOOSE(WEEKDAY($B12,2),12,12,12,12,12,14,16),FALSE)),0) -> 0.52083333 | F12: =SUM(E12-D12) -> 0.35069444 | G12: Matin | H12: =(HOUR(F12)*60+MINUTE(F12))/60 -> 8.4166667 | I12: 869+158+864 | J12: 134
B13: =B12+1 -> 42654 | C13: 2602 | D13: =IFERROR(IF($A13="",VLOOKUP($C13,PARAM!$A$11:$I$210,CHOOSE(WEEKDAY($B13,2),2,2,4,2,2,6,8),FALSE),VLOOKUP($C13,PARAM!$A$11:$P$210,CHOOSE(WEEKDAY($B13,2),11,11,11,11,11,13,15),FALSE)),0) -> 0.52986111 | E13: =IFERROR(IF($A13="",VLOOKUP($C13,PARAM!$A$11:$I$210,CHOOSE(WEEKDAY($B13,2),3,3,5,3,3,7,9),FALSE),VLOOKUP($C13,PARAM!$A$11:$P$210,CHOOSE(WEEKDAY($B13,2),12,12,12,12,12,14,16),FALSE)),0) -> 0.92569444 | F13: =SUM(E13-D13) -> 0.39583333 | G13: Après-midi | H13: =(HOUR(F13)*60+MINUTE(F13))/60 -> 9.5 | I13: 3870 | J13: 132-133
B14: =B13+1 -> 42655 | C14: 2665 | D14: =IFERROR(IF($A14="",VLOOKUP($C14,PARAM!$A$11:$I$210,CHOOSE(WEEKDAY($B14,2),2,2,4,2,2,6,8),FALSE),VLOOKUP($C14,PARAM!$A$11:$P$210,CHOOSE(WEEKDAY($B14,2),11,11,11,11,11,13,15),FALSE)),0) -> 0.51041667 | E14: =IFERROR(IF($A14="",VLOOKUP($C14,PARAM!$A$11:$I$210,CHOOSE(WEEKDAY($B14,2),3,3,5,3,3,7,9),FALSE),VLOOKUP($C14,PARAM!$A$11:$P$210,CHOOSE(WEEKDAY($B14,2),12,12,12,12,12,14,16),FALSE)),0) -> 0.85277778 | F14: =SUM(E14-D14) -> 0.34236111 | G14: Après-midi | H14: =(HOUR(F14)*60+MINUTE(F14))/60 -> 8.2166667 | I14: 3224 | J14: 30-136
B15: =B14+1 -> 42656 | C15: 2644 | D15: =IFERROR(IF($A15="",VLOOKUP($C15,PARAM!$A$11:$I$210,CHOOSE(WEEKDAY($B15,2),2,2,4,2,2,6,8),FALSE),VLOOKUP($C15,PARAM!$A$11:$P$210,CHOOSE(WEEKDAY($B15,2),11,11,11,11,11,13,15),FALSE)),0) -> 0.50416667 | E15: =IFERROR(IF($A15="",VLOOKUP($C15,PARAM!$A$11:$I$210,CHOOSE(WEEKDAY($B15,2),3,3,5,3,3,7,9),FALSE),VLOOKUP($C15,PARAM!$A$11:$P$210,CHOOSE(WEEKDAY($B15,2),12,12,12,12,12,14,16),FALSE)),0) -> 0.82013889 | F15: =SUM(E15-D15) -> 0.31597222 | G15: Payé double | H15: =(HOUR(F15)*60+MINUTE(F15))/60 -> 7.5833333 | I15: 3224 | J15: 82
B16: =B15+1 -> 42657 | C16: 2562 | D16: =IFERROR(IF($A16="",VLOOKUP($C16,PARAM!$A$11:$I$210,CHOOSE(WEEKDAY($B16,2),2,2,4,2,2,6,8),FALSE),VLOOKUP($C16,PARAM!$A$11:$P$210,CHOOSE(WEEKDAY($B16,2),11,11,11,11,11,13,15),FALSE)),0) -> 0.27152778 | E16: =IFERROR(IF($A16="",VLOOKUP($C16,PARAM!$A$11:$I$210,CHOOSE(WEEKDAY($B16,2),3,3,5,3,3,7,9),FALSE),VLOOKUP($C16,PARAM!$A$11:$P$210,CHOOSE(WEEKDAY($B16,2),12,12,12,12,12,14,16),FALSE)),0) -> 0.57222222 | F16: =SUM(E16-D16) -> 0.30069444 | G16: Matin | H16: =(HOUR(F16)*60+MINUTE(F16))/60 -> 7.2166667 | I16: 3851 | J16: 30-136
B17: =B16+1 -> 42658 | C17: 2510 | D17: =IFERROR(IF($A17="",VLOOKUP($C17,PARAM!$A$11:$I$210,CHOOSE(WEEKDAY($B17,2),2,2,4,2,2,6,8),FALSE),VLOOKUP($C17,PARAM!$A$11:$P$210,CHOOSE(WEEKDAY($B17,2),11,11,11,11,11,13,15),FALSE)),0) -> 0.22430556 | E17: =IFERROR(IF($A17="",VLOOKUP($C17,PARAM!$A$11:$I$210,CHOOSE(WEEKDAY($B17,2),3,3,5,3,3,7,9),FALSE),VLOOKUP($C17,PARAM!$A$11:$P$210,CHOOSE(WEEKDAY($B17,2),12,12,12,12,12,14,16),FALSE)),0) -> 0.53541667 | F17: =SUM(E17-D17) -> 0.31111111 | G17: Matin | H17: =(HOUR(F17)*60+MINUTE(F17))/60 -> 7.4666667 | J17: 134
B18: =B17+1 -> 42659 | C18: CR | D18: =IFERROR(IF($A18="",VLOOKUP($C18,PARAM!$A$11:$I$210,CHOOSE(WEEKDAY($B18,2),2,2,4,2,2,6,8),FALSE),VLOOKUP($C18,PARAM!$A$11:$P$210,CHOOSE(WEEKDAY($B18,2),11,11,11,11,11,13,15),FALSE)),0) -> 0 | E18: =IFERROR(IF($A18="",VLOOKUP($C18,PARAM!$A$11:$I$210,CHOOSE(WEEKDAY($B18,2),3,3,5,3,3,7,9),FALSE),VLOOKUP($C18,PARAM!$A$11:$P$210,CHOOSE(WEEKDAY($B18,2),12,12,12,12,12,14,16),FALSE)),0) -> 0 | F18: =SUM(E18-D18) -> 0 | H18: =(HOUR(F18)*60+MINUTE(F18))/60 -> 0
B19: =B18+1 -> 42660 | C19: CC | D19: =IFERROR(IF($A19="",VLOOKUP($C19,PARAM!$A$11:$I$210,CHOOSE(WEEKDAY($B19,2),2,2,4,2,2,6,8),FALSE),VLOOKUP($C19,PARAM!$A$11:$P$210,CHOOSE(WEEKDAY($B19,2),11,11,11,11,11,13,15),FALSE)),0) -> 0 | E19: =IFERROR(IF($A19="",VLOOKUP($C19,PARAM!$A$11:$I$210,CHOOSE(WEEKDAY($B19,2),3,3,5,3,3,7,9),FALSE),VLOOKUP($C19,PARAM!$A$11:$P$210,CHOOSE(WEEKDAY($B19,2),12,12,12,12,12,14,16),FALSE)),0) -> 0 | F19: =SUM(E19-D19) -> 0 | H19: =(HOUR(F19)*60+MINUTE(F19))/60 -> 0
B20: =B19+1 -> 42661 | C20: SU | D20: =IFERROR(IF($A20="",VLOOKUP($C20,PARAM!$A$11:$I$210,CHOOSE(WEEKDAY($B20,2),2,2,4,2,2,6,8),FALSE),VLOOKUP($C20,PARAM!$A$11:$P$210,CHOOSE(WEEKDAY($B20,2),11,11,11,11,11,13,15),FALSE)),0) -> 0.33333333 | E20: =IFERROR(IF($A20="",VLOOKUP($C20,PARAM!$A$11:$I$210,CHOOSE(WEEKDAY($B20,2),3,3,5,3,3,7,9),FALSE),VLOOKUP($C20,PARAM!$A$11:$P$210,CHOOSE(WEEKDAY($B20,2),12,12,12,12,12,14,16),FALSE)),0) -> 0.66666667 | F20: =SUM(E20-D20) -> 0.33333333 | H20: =(HOUR(F20)*60+MINUTE(F20))/60 -> 8
B21: =B20+1 -> 42662 | C21: SU | D21: =IFERROR(IF($A21="",VLOOKUP($C21,PARAM!$A$11:$I$210,CHOOSE(WEEKDAY($B21,2),2,2,4,2,2,6,8),FALSE),VLOOKUP($C21,PARAM!$A$11:$P$210,CHOOSE(WEEKDAY($B21,2),11,11,11,11,11,13,15),FALSE)),0) -> 0.33333333 | E21: =IFERROR(IF($A21="",VLOOKUP($C21,PARAM!$A$11:$I$210,CHOOSE(WEEKDAY($B21,2),3,3,5,3,3,7,9),FALSE),VLOOKUP($C21,PARAM!$A$11:$P$210,CHOOSE(WEEKDAY($B21,2),12,12,12,12,12,14,16),FALSE)),0) -> 0.66666667 | F21: =SUM(E21-D21) -> 0.33333333 | H21: =(HOUR(F21)*60+MINUTE(F21))/60 -> 8
B22: =B21+1 -> 42663 | C22: Ecolage | D22: =IFERROR(IF($A22="",VLOOKUP($C22,PARAM!$A$11:$I$210,CHOOSE(WEEKDAY($B22,2),2,2,4,2,2,6,8),FALSE),VLOOKUP($C22,PARAM!$A$11:$P$210,CHOOSE(WEEKDAY($B22,2),11,11,11,11,11,13,15),FALSE)),0) -> 0.33333333 | E22: =IFERROR(IF($A22="",VLOOKUP($C22,PARAM!$A$11:$I$210,CHOOSE(WEEKDAY($B22,2),3,3,5,3,3,7,9),FALSE),VLOOKUP($C22,PARAM!$A$11:$P$210,CHOOSE(WEEKDAY($B22,2),12,12,12,12,12,14,16),FALSE)),0) -> 0.66666667 | F22: =SUM(E22-D22) -> 0.33333333 | H22: =(HOUR(F22)*60+MINUTE(F22))/60 -> 8
B23: =B22+1 -> 42664 | C23: CC | D23: =IFERROR(IF($A23="",VLOOKUP($C23,PARAM!$A$11:$I$210,CHOOSE(WEEKDAY($B23,2),2,2,4,2,2,6,8),FALSE),VLOOKUP($C23,PARAM!$A$11:$P$210,CHOOSE(WEEKDAY($B23,2),11,11,11,11,11,13,15),FALSE)),0) -> 0 | E23: =IFERROR(IF($A23="",VLOOKUP($C23,PARAM!$A$11:$I$210,CHOOSE(WEEKDAY($B23,2),3,3,5,3,3,7,9),FALSE),VLOOKUP($C23,PARAM!$A$11:$P$210,CHOOSE(WEEKDAY($B23,2),12,12,12,12,12,14,16),FALSE)),0) -> 0 | F23: =SUM(E23-D23) -> 0 | H23: =(HOUR(F23)*60+MINUTE(F23))/60 -> 0
B24: =B23+1 -> 42665 | C24: CC | D24: =IFERROR(IF($A24="",VLOOKUP($C24,PARAM!$A$11:$I$210,CHOOSE(WEEKDAY($B24,2),2,2,4,2,2,6,8),FALSE),VLOOKUP($C24,PARAM!$A$11:$P$210,CHOOSE(WEEKDAY($B24,2),11,11,11,11,11,13,15),FALSE)),0) -> 0 | E24: =IFERROR(IF($A24="",VLOOKUP($C24,PARAM!$A$11:$I$210,CHOOSE(WEEKDAY($B24,2),3,3,5,3,3,7,9),FALSE),VLOOKUP($C24,PARAM!$A$11:$P$210,CHOOSE(WEEKDAY($B24,2),12,12,12,12,12,14,16),FALSE)),0) -> 0 | F24: =SUM(E24-D24) -> 0 | H24: =(HOUR(F24)*60+MINUTE(F24))/60 -> 0
B25: =B24+1 -> 42666 | C25: CR | D25: =IFERROR(IF($A25="",VLOOKUP($C25,PARAM!$A$11:$I$210,CHOOSE(WEEKDAY($B25,2),2,2,4,2,2,6,8),FALSE),VLOOKUP($C25,PARAM!$A$11:$P$210,CHOOSE(WEEKDAY($B25,2),11,11,11,11,11,13,15),FALSE)),0) -> 0 | E25: =IFERROR(IF($A25="",VLOOKUP($C25,PARAM!$A$11:$I$210,CHOOSE(WEEKDAY($B25,2),3,3,5,3,3,7,9),FALSE),VLOOKUP($C25,PARAM!$A$11:$P$210,CHOOSE(WEEKDAY($B25,2),12,12,12,12,12,14,16),FALSE)),0) -> 0 | F25: =SUM(E25-D25) -> 0 | H25: =(HOUR(F25)*60+MINUTE(F25))/60 -> 0
B26: =B25+1 -> 42667 | C26: 2524 | D26: =IFERROR(IF($A26="",VLOOKUP($C26,PARAM!$A$11:$I$210,CHOOSE(WEEKDAY($B26,2),2,2,4,2,2,6,8),FALSE),VLOOKUP($C26,PARAM!$A$11:$P$210,CHOOSE(WEEKDAY($B26,2),11,11,11,11,11,13,15),FALSE)),0) -> 0.20486111 | E26: =IFERROR(IF($A26="",VLOOKUP($C26,PARAM!$A$11:$I$210,CHOOSE(WEEKDAY($B26,2),3,3,5,3,3,7,9),FALSE),VLOOKUP($C26,PARAM!$A$11:$P$210,CHOOSE(WEEKDAY($B26,2),12,12,12,12,12,14,16),FALSE)),0) -> 0.54097222 | F26: =SUM(E26-D26) -> 0.33611111 | G26: Matin | H26: =(HOUR(F26)*60+MINUTE(F26))/60 -> 8.0666667 | I26: 3863 | J26: 37-40
B27: =B26+1 -> 42668 | C27: 2526 | D27: =IFERROR(IF($A27="",VLOOKUP($C27,PARAM!$A$11:$I$210,CHOOSE(WEEKDAY($B27,2),2,2,4,2,2,6,8),FALSE),VLOOKUP($C27,PARAM!$A$11:$P$210,CHOOSE(WEEKDAY($B27,2),11,11,11,11,11,13,15),FALSE)),0) -> 0.1875 | E27: =IFERROR(IF($A27="",VLOOKUP($C27,PARAM!$A$11:$I$210,CHOOSE(WEEKDAY($B27,2),3,3,5,3,3,7,9),FALSE),VLOOKUP($C27,PARAM!$A$11:$P$210,CHOOSE(WEEKDAY($B27,2),12,12,12,12,12,14,16),FALSE)),0) -> 0.50625 | F27: =SUM(E27-D27) -> 0.31875 | G27: Payé double | H27: =(HOUR(F27)*60+MINUTE(F27))/60 -> 7.65 | J27: 37-40
B28: =B27+1 -> 42669 | C28: 2544 | D28: =IFERROR(IF($A28="",VLOOKUP($C28,PARAM!$A$11:$I$210,CHOOSE(WEEKDAY($B28,2),2,2,4,2,2,6,8),FALSE),VLOOKUP($C28,PARAM!$A$11:$P$210,CHOOSE(WEEKDAY($B28,2),11,11,11,11,11,13,15),FALSE)),0) -> 0.17083333 | E28: =IFERROR(IF($A28="",VLOOKUP($C28,PARAM!$A$11:$I$210,CHOOSE(WEEKDAY($B28,2),3,3,5,3,3,7,9),FALSE),VLOOKUP($C28,PARAM!$A$11:$P$210,CHOOSE(WEEKDAY($B28,2),12,12,12,12,12,14,16),FALSE)),0) -> 0.525 | F28: =SUM(E28-D28) -> 0.35416667 | G28: Matin | H28: =(HOUR(F28)*60+MINUTE(F28))/60 -> 8.5 | J28: 82
B29: =B28+1 -> 42670 | C29: 2524 | D29: =IFERROR(IF($A29="",VLOOKUP($C29,PARAM!$A$11:$I$210,CHOOSE(WEEKDAY($B29,2),2,2,4,2,2,6,8),FALSE),VLOOKUP($C29,PARAM!$A$11:$P$210,CHOOSE(WEEKDAY($B29,2),11,11,11,11,11,13,15),FALSE)),0) -> 0.20486111 | E29: =IFERROR(IF($A29="",VLOOKUP($C29,PARAM!$A$11:$I$210,CHOOSE(WEEKDAY($B29,2),3,3,5,3,3,7,9),FALSE),VLOOKUP($C29,PARAM!$A$11:$P$210,CHOOSE(WEEKDAY($B29,2),12,12,12,12,12,14,16),FALSE)),0) -> 0.54097222 | F29: =SUM(E29-D29) -> 0.33611111 | G29: Matin | H29: =(HOUR(F29)*60+MINUTE(F29))/60 -> 8.0666667 | J29: 37-40
B30: =B29+1 -> 42671 | C30: 2565 | D30: =IFERROR(IF($A30="",VLOOKUP($C30,PARAM!$A$11:$I$210,CHOOSE(WEEKDAY($B30,2),2,2,4,2,2,6,8),FALSE),VLOOKUP($C30,PARAM!$A$11:$P$210,CHOOSE(WEEKDAY($B30,2),11,11,11,11,11,13,15),FALSE)),0) -> 0.19166667 | E30: =IFERROR(IF($A30="",VLOOKUP($C30,PARAM!$A$11:$I$210,CHOOSE(WEEKDAY($B30,2),3,3,5,3,3,7,9),FALSE),VLOOKUP($C30,PARAM!$A$11:$P$210,CHOOSE(WEEKDAY($B30,2),12,12,12,12,12,14,16),FALSE)),0) -> 0.54513889 | F30: =SUM(E30-D30) -> 0.35347222 | G30: Matin | H30: =(HOUR(F30)*60+MINUTE(F30))/60 -> 8.4833333 | J30: 30-136
B31: =B30+1 -> 42672 | C31: 2565 | D31: =IFERROR(IF($A31="",VLOOKUP($C31,PARAM!$A$11:$I$210,CHOOSE(WEEKDAY($B31,2),2,2,4,2,2,6,8),FALSE),VLOOKUP($C31,PARAM!$A$11:$P$210,CHOOSE(WEEKDAY($B31,2),11,11,11,11,11,13,15),FALSE)),0) -> 0.36736111 | E31: =IFERROR(IF($A31="",VLOOKUP($C31,PARAM!$A$11:$I$210,CHOOSE(WEEKDAY($B31,2),3,3,5,3,3,7,9),FALSE),VLOOKUP($C31,PARAM!$A$11:$P$210,CHOOSE(WEEKDAY($B31,2),12,12,12,12,12,14,16),FALSE)),0) -> 0.67569444 | F31: =SUM(E31-D31) -> 0.30833333 | G31: Matin | H31: =(HOUR(F31)*60+MINUTE(F31))/60 -> 7.4 | J31: 30-136
B32: =B31+1 -> 42673 | C32: CR | D32: =IFERROR(IF($A32="",VLOOKUP($C32,PARAM!$A$11:$I$210,CHOOSE(WEEKDAY($B32,2),2,2,4,2,2,6,8),FALSE),VLOOKUP($C32,PARAM!$A$11:$P$210,CHOOSE(WEEKDAY($B32,2),11,11,11,11,11,13,15),FALSE)),0) -> 0 | E32: =IFERROR(IF($A32="",VLOOKUP($C32,PARAM!$A$11:$I$210,CHOOSE(WEEKDAY($B32,2),3,3,5,3,3,7,9),FALSE),VLOOKUP($C32,PARAM!$A$11:$P$210,CHOOSE(WEEKDAY($B32,2),12,12,12,12,12,14,16),FALSE)),0) -> 0 | F32: =SUM(E32-D32) -> 0 | H32: =(HOUR(F32)*60+MINUTE(F32))/60 -> 0
A33: C | B33: =B32+1 -> 42674 | C33: 2603 | D33: =IFERROR(IF($A33="",VLOOKUP($C33,PARAM!$A$11:$I$210,CHOOSE(WEEKDAY($B33,2),2,2,4,2,2,6,8),FALSE),VLOOKUP($C33,PARAM!$A$11:$P$210,CHOOSE(WEEKDAY($B33,2),11,11,11,11,11,13,15),FALSE)),0) -> 0.57152778 | E33: =IFERROR(IF($A33="",VLOOKUP($C33,PARAM!$A$11:$I$210,CHOOSE(WEEKDAY($B33,2),3,3,5,3,3,7,9),FALSE),VLOOKUP($C33,PARAM!$A$11:$P$210,CHOOSE(WEEKDAY($B33,2),12,12,12,12,12,14,16),FALSE)),0) -> 0.91597222 | F33: =SUM(E33-D33) -> 0.34444444 | G33: Après-midi | H33: =(HOUR(F33)*60+MINUTE(F33))/60 -> 8.2666667 | J33: 132-133
B34: Total | F34: =SUM(F3:F33) -> 7.4888889 | H34: =SUM(H3:H33) -> 179.73333
F1048576: =SUM(F34) -> 7.4888889

Sheet 11
B1: PRESTATIONS DU MOIS DE : | D1: =DATE(PARAM!$B$3,RIGHT(CELL("nomfichier",D1),2),1) -> 42675 | F1: =B13 -> 42685 | G1: =WEEKDAY(F1,2) -> 5
A2: Type | B2: Date | C2: Services | D2: H/Début | E2: H/Fin | F2: Nb heures | G2: Commentaires | I2: Colonne1 | J2: Colonne2
A3: C | B3: =DATE(PARAM!$B$3,RIGHT(CELL("nomfichier",D1),2),1) -> 42675 | C3: CR | D3: =IF(A3="F",HLOOKUP(A3,A3:G9,8-(WEEKDAY(B3,2)),FALSE),IFERROR(IF($A3="",VLOOKUP($C3,PARAM!$A$11:$I$210,CHOOSE(WEEKDAY($B3,2),2,2,4,2,2,6,8),FALSE),VLOOKUP($C3,PARAM!$A$11:$P$210,CHOOSE(WEEKDAY($B3,2),11,11,11,11,11,13,15),FALSE)),0)) -> 0 | E3: =IFERROR(IF($A3="",VLOOKUP($C3,PARAM!$A$11:$I$210,CHOOSE(WEEKDAY($B3,2),3,3,5,3,3,7,9),FALSE),VLOOKUP($C3,PARAM!$A$11:$P$210,CHOOSE(WEEKDAY($B3,2),12,12,12,12,12,14,16),FALSE)),0) -> 0 | F3: =SUM(E3-D3) -> 0 | H3: =(HOUR(F3)*60+MINUTE(F3))/60 -> 0 | J3: congé
A4: C | B4: =B3+1 -> 42676 | C4: CC | D4: =IFERROR(IF($A4="",VLOOKUP($C4,PARAM!$A$11:$I$210,CHOOSE(WEEKDAY($B4,2),2,2,4,2,2,6,8),FALSE),VLOOKUP($C4,PARAM!$A$11:$P$210,CHOOSE(WEEKDAY($B4,2),11,11,11,11,11,13,15),FALSE)),0) -> 0 | E4: =IFERROR(IF($A4="",VLOOKUP($C4,PARAM!$A$11:$I$210,CHOOSE(WEEKDAY($B4,2),3,3,5,3,3,7,9),FALSE),VLOOKUP($C4,PARAM!$A$11:$P$210,CHOOSE(WEEKDAY($B4,2),12,12,12,12,12,14,16),FALSE)),0) -> 0 | F4: =SUM(E4-D4) -> 0 | H4: =(HOUR(F4)*60+MINUTE(F4))/60 -> 0 | J4: congé
A5: C | B5: =B4+1 -> 42677 | C5: 2602 | D5: =IFERROR(IF($A5="",VLOOKUP($C5,PARAM!$A$11:$I$210,CHOOSE(WEEKDAY($B5,2),2,2,4,2,2,6,8),FALSE),VLOOKUP($C5,PARAM!$A$11:$P$210,CHOOSE(WEEKDAY($B5,2),11,11,11,11,11,13,15),FALSE)),0) -> 0.52986111 | E5: =IFERROR(IF($A5="",VLOOKUP($C5,PARAM!$A$11:$I$210,CHOOSE(WEEKDAY($B5,2),3,3,5,3,3,7,9),FALSE),VLOOKUP($C5,PARAM!$A$11:$P$210,CHOOSE(WEEKDAY($B5,2),12,12,12,12,12,14,16),FALSE)),0) -> 0.93472222 | F5: =SUM(E5-D5) -> 0.40486111 | G5: Après-midi | H5: =(HOUR(F5)*60+MINUTE(F5))/60 -> 9.7166667 | I5: 3828 | J5: 132-133
A6: C | B6: =B5+1 -> 42678 | C6: 2603 | D6: =IFERROR(IF($A6="",VLOOKUP($C6,PARAM!$A$11:$I$210,CHOOSE(WEEKDAY($B6,2),2,2,4,2,2,6,8),FALSE),VLOOKUP($C6,PARAM!$A$11:$P$210,CHOOSE(WEEKDAY($B6,2),11,11,11,11,11,13,15),FALSE)),0) -> 0.57152778 | E6: =IFERROR(IF($A6="",VLOOKUP($C6,PARAM!$A$11:$I$210,CHOOSE(WEEKDAY($B6,2),3,3,5,3,3,7,9),FALSE),VLOOKUP($C6,PARAM!$A$11:$P$210,CHOOSE(WEEKDAY($B6,2),12,12,12,12,12,14,16),FALSE)),0) -> 0.91597222 | F6: =SUM(E6-D6) -> 0.34444444 | G6: Après-midi | H6: =(HOUR(F6)*60+MINUTE(F6))/60 -> 8.2666667 | I6: 3821 | J6: 132-133
A7: C | B7: =B6+1 -> 42679 | C7: 2610 | D7: =IFERROR(IF($A7="",VLOOKUP($C7,PARAM!$A$11:$I$210,CHOOSE(WEEKDAY($B7,2),2,2,4,2,2,6,8),FALSE),VLOOKUP($C7,PARAM!$A$11:$P$210,CHOOSE(WEEKDAY($B7,2),11,11,11,11,11,13,15),FALSE)),0) -> 0.51458333 | E7: =IFERROR(IF($A7="",VLOOKUP($C7,PARAM!$A$11:$I$210,CHOOSE(WEEKDAY($B7,2),3,3,5,3,3,7,9),FALSE),VLOOKUP($C7,PARAM!$A$11:$P$210,CHOOSE(WEEKDAY($B7,2),12,12,12,12,12,14,16),FALSE)),0) -> 0.90763889 | F7: =SUM(E7-D7) -> 0.39305556 | G7: Après-midi | H7: =(HOUR(F7)*60+MINUTE(F7))/60 -> 9.4333333 | I7: 3867 | J7: 134
B8: =B7+1 -> 42680 | C8: CR | D8: =IFERROR(IF($A8="",VLOOKUP($C8,PARAM!$A$11:$I$210,CHOOSE(WEEKDAY($B8,2),2,2,4,2,2,6,8),FALSE),VLOOKUP($C8,PARAM!$A$11:$P$210,CHOOSE(WEEKDAY($B8,2),11,11,11,11,11,13,15),FALSE)),0) -> 0 | E8: =IFERROR(IF($A8="",VLOOKUP($C8,PARAM!$A$11:$I$210,CHOOSE(WEEKDAY($B8,2),3,3,5,3,3,7,9),FALSE),VLOOKUP($C8,PARAM!$A$11:$P$210,CHOOSE(WEEKDAY($B8,2),12,12,12,12,12,14,16),FALSE)),0) -> 0 | F8: =SUM(E8-D8) -> 0 | H8: =(HOUR(F8)*60+MINUTE(F8))/60 -> 0 | J8: congé
B9: =B8+1 -> 42681 | C9: 2501 | D9: =IFERROR(IF($A9="",VLOOKUP($C9,PARAM!$A$11:$I$210,CHOOSE(WEEKDAY($B9,2),2,2,4,2,2,6,8),FALSE),VLOOKUP($C9,PARAM!$A$11:$P$210,CHOOSE(WEEKDAY($B9,2),11,11,11,11,11,13,15),FALSE)),0) -> 0.23819444 | E9: =IFERROR(IF($A9="",VLOOKUP($C9,PARAM!$A$11:$I$210,CHOOSE(WEEKDAY($B9,2),3,3,5,3,3,7,9),FALSE),VLOOKUP($C9,PARAM!$A$11:$P$210,CHOOSE(WEEKDAY($B9,2),12,12,12,12,12,14,16),FALSE)),0) -> 0.57986111 | F9: =SUM(E9-D9) -> 0.34166667 | G9: Après-midi | H9: =(HOUR(F9)*60+MINUTE(F9))/60 -> 8.2 | I9: 3853 | J9: 167
B10: =B9+1 -> 42682 | C10: 2501 | D10: =IFERROR(IF($A10="",VLOOKUP($C10,PARAM!$A$11:$I$210,CHOOSE(WEEKDAY($B10,2),2,2,4,2,2,6,8),FALSE),VLOOKUP($C10,PARAM!$A$11:$P$210,CHOOSE(WEEKDAY($B10,2),11,11,11,11,11,13,15),FALSE)),0) -> 0.23819444 | E10: =IFERROR(IF($A10="",VLOOKUP($C10,PARAM!$A$11:$I$210,CHOOSE(WEEKDAY($B10,2),3,3,5,3,3,7,9),FALSE),VLOOKUP($C10,PARAM!$A$11:$P$210,CHOOSE(WEEKDAY($B10,2),12,12,12,12,12,14,16),FALSE)),0) -> 0.57986111 | F10: =SUM(E10-D10) -> 0.34166667 | G10: Après-midi | H10: =(HOUR(F10)*60+MINUTE(F10))/60 -> 8.2 | I10: 3153 | J10: bis
B11: =B10+1 -> 42683 | C11: 2501 | D11: =IFERROR(IF($A11="",VLOOKUP($C11,PARAM!$A$11:$I$210,CHOOSE(WEEKDAY($B11,2),2,2,4,2,2,6,8),FALSE),VLOOKUP($C11,PARAM!$A$11:$P$210,CHOOSE(WEEKDAY($B11,2),11,11,11,11,11,13,15),FALSE)),0) -> 0.23819444 | E11: =IFERROR(IF($A11="",VLOOKUP($C11,PARAM!$A$11:$I$210,CHOOSE(WEEKDAY($B11,2),3,3,5,3,3,7,9),FALSE),VLOOKUP($C11,PARAM!$A$11:$P$210,CHOOSE(WEEKDAY($B11,2),12,12,12,12,12,14,16),FALSE)),0) -> 0.57986111 | F11: =SUM(E11-D11) -> 0.34166667 | G11: Après-midi | H11: =(HOUR(F11)*60+MINUTE(F11))/60 -> 8.2 | I11: 3823 | J11: bis
B12: =B11+1 -> 42684 | C12: 2501 | D12: =IFERROR(IF($A12="",VLOOKUP($C12,PARAM!$A$11:$I$210,CHOOSE(WEEKDAY($B12,2),2,2,4,2,2,6,8),FALSE),VLOOKUP($C12,PARAM!$A$11:$P$210,CHOOSE(WEEKDAY($B12,2),11,11,11,11,11,13,15),FALSE)),0) -> 0.23819444 | E12: =IFERROR(IF($A12="",VLOOKUP($C12,PARAM!$A$11:$I$210,CHOOSE(WEEKDAY($B12,2),3,3,5,3,3,7,9),FALSE),VLOOKUP($C12,PARAM!$A$11:$P$210,CHOOSE(WEEKDAY($B12,2),12,12,12,12,12,14,16),FALSE)),0) -> 0.57986111 | F12: =SUM(E12-D12) -> 0.34166667 | G12: Après-midi | H12: =(HOUR(F12)*60+MINUTE(F12))/60 -> 8.2 | I12: 3863 | J12: 134
A13: F | B13: =B12+1 -> 42685 | C13: 2501 | D13: =IFERROR(IF($A13="",VLOOKUP($C13,PARAM!$A$11:$I$210,CHOOSE(WEEKDAY($B13,2),2,2,4,2,2,6,8),FALSE),VLOOKUP($C13,PARAM!$A$11:$P$210,CHOOSE(WEEKDAY($B13,2),11,11,11,11,11,13,15),FALSE)),0) -> 0.20763889 | E13: =IFERROR(IF($A13="",VLOOKUP($C13,PARAM!$A$11:$I$210,CHOOSE(WEEKDAY($B13,2),3,3,5,3,3,7,9),FALSE),VLOOKUP($C13,PARAM!$A$11:$P$210,CHOOSE(WEEKDAY($B13,2),12,12,12,12,12,14,16),FALSE)),0) -> 0.53819444 | F13: =SUM(E13-D13) -> 0.33055556 | G13: Après-midi | H13: =(HOUR(F13)*60+MINUTE(F13))/60 -> 7.9333333 | I13: 3861 | J13: 30-136 | K13: 2667 | L13: Voir le 31/07 | M13: Férié
B14: =B13+1 -> 42686 | C14: 2501 | D14: =IFERROR(IF($A14="",VLOOKUP($C14,PARAM!$A$11:$I$210,CHOOSE(WEEKDAY($B14,2),2,2,4,2,2,6,8),FALSE),VLOOKUP($C14,PARAM!$A$11:$P$210,CHOOSE(WEEKDAY($B14,2),11,11,11,11,11,13,15),FALSE)),0) -> 0.26388889 | E14: =IFERROR(IF($A14="",VLOOKUP($C14,PARAM!$A$11:$I$210,CHOOSE(WEEKDAY($B14,2),3,3,5,3,3,7,9),FALSE),VLOOKUP($C14,PARAM!$A$11:$P$210,CHOOSE(WEEKDAY($B14,2),12,12,12,12,12,14,16),FALSE)),0) -> 0.57986111 | F14: =SUM(E14-D14) -> 0.31597222 | H14: =(HOUR(F14)*60+MINUTE(F14))/60 -> 7.5833333 | J14: congé
B15: =B14+1 -> 42687 | C15: 2501 | D15: =IFERROR(IF($A15="",VLOOKUP($C15,PARAM!$A$11:$I$210,CHOOSE(WEEKDAY($B15,2),2,2,4,2,2,6,8),FALSE),VLOOKUP($C15,PARAM!$A$11:$P$210,CHOOSE(WEEKDAY($B15,2),11,11,11,11,11,13,15),FALSE)),0) -> 0.27986111 | E15: =IFERROR(IF($A15="",VLOOKUP($C15,PARAM!$A$11:$I$210,CHOOSE(WEEKDAY($B15,2),3,3,5,3,3,7,9),FALSE),VLOOKUP($C15,PARAM!$A$11:$P$210,CHOOSE(WEEKDAY($B15,2),12,12,12,12,12,14,16),FALSE)),0) -> 0.53819444 | F15: =SUM(E15-D15) -> 0.25833333 | H15: =(HOUR(F15)*60+MINUTE(F15))/60 -> 6.2
B16: =B15+1 -> 42688 | C16: CR | D16: =IFERROR(IF($A16="",VLOOKUP($C16,PARAM!$A$11:$I$210,CHOOSE(WEEKDAY($B16,2),2,2,4,2,2,6,8),FALSE),VLOOKUP($C16,PARAM!$A$11:$P$210,CHOOSE(WEEKDAY($B16,2),11,11,11,11,11,13,15),FALSE)),0) -> 0 | E16: =IFERROR(IF($A16="",VLOOKUP($C16,PARAM!$A$11:$I$210,CHOOSE(WEEKDAY($B16,2),3,3,5,3,3,7,9),FALSE),VLOOKUP($C16,PARAM!$A$11:$P$210,CHOOSE(WEEKDAY($B16,2),12,12,12,12,12,14,16),FALSE)),0) -> 0 | F16: =SUM(E16-D16) -> 0 | H16: =(HOUR(F16)*60+MINUTE(F16))/60 -> 0 | J16: congé
B17: =B16+1 -> 42689 | C17: 2504 | D17: =IFERROR(IF($A17="",VLOOKUP($C17,PARAM!$A$11:$I$210,CHOOSE(WEEKDAY($B17,2),2,2,4,2,2,6,8),FALSE),VLOOKUP($C17,PARAM!$A$11:$P$210,CHOOSE(WEEKDAY($B17,2),11,11,11,11,11,13,15),FALSE)),0) -> 0.21736111 | E17: =IFERROR(IF($A17="",VLOOKUP($C17,PARAM!$A$11:$I$210,CHOOSE(WEEKDAY($B17,2),3,3,5,3,3,7,9),FALSE),VLOOKUP($C17,PARAM!$A$11:$P$210,CHOOSE(WEEKDAY($B17,2),12,12,12,12,12,14,16),FALSE)),0) -> 0.58263889 | F17: =SUM(E17-D17) -> 0.36527778 | H17: =(HOUR(F17)*60+MINUTE(F17))/60 -> 8.7666667
B18: =B17+1 -> 42690 | D18: =IFERROR(IF($A18="",VLOOKUP($C18,PARAM!$A$11:$I$210,CHOOSE(WEEKDAY($B18,2),2,2,4,2,2,6,8),FALSE),VLOOKUP($C18,PARAM!$A$11:$P$210,CHOOSE(WEEKDAY($B18,2),11,11,11,11,11,13,15),FALSE)),0) -> 0 | E18: =IFERROR(IF($A18="",VLOOKUP($C18,PARAM!$A$11:$I$210,CHOOSE(WEEKDAY($B18,2),3,3,5,3,3,7,9),FALSE),VLOOKUP($C18,PARAM!$A$11:$P$210,CHOOSE(WEEKDAY($B18,2),12,12,12,12,12,14,16),FALSE)),0) -> 0 | F18: =SUM(E18-D18) -> 0 | H18: =(HOUR(F18)*60+MINUTE(F18))/60 -> 0
B19: =B18+1 -> 42691 | D19: =IFERROR(IF($A19="",VLOOKUP($C19,PARAM!$A$11:$I$210,CHOOSE(WEEKDAY($B19,2),2,2,4,2,2,6,8),FALSE),VLOOKUP($C19,PARAM!$A$11:$P$210,CHOOSE(WEEKDAY($B19,2),11,11,11,11,11,13,15),FALSE)),0) -> 0 | E19: =IFERROR(IF($A19="",VLOOKUP($C19,PARAM!$A$11:$I$210,CHOOSE(WEEKDAY($B19,2),3,3,5,3,3,7,9),FALSE),VLOOKUP($C19,PARAM!$A$11:$P$210,CHOOSE(WEEKDAY($B19,2),12,12,12,12,12,14,16),FALSE)),0) -> 0 | F19: =SUM(E19-D19) -> 0 | H19: =(HOUR(F19)*60+MINUTE(F19))/60 -> 0
B20: =B19+1 -> 42692 | C20: CC | D20: =IFERROR(IF($A20="",VLOOKUP($C20,PARAM!$A$11:$I$210,CHOOSE(WEEKDAY($B20,2),2,2,4,2,2,6,8),FALSE),VLOOKUP($C20,PARAM!$A$11:$P$210,CHOOSE(WEEKDAY($B20,2),11,11,11,11,11,13,15),FALSE)),0) -> 0 | E20: =IFERROR(IF($A20="",VLOOKUP($C20,PARAM!$A$11:$I$210,CHOOSE(WEEKDAY($B20,2),3,3,5,3,3,7,9),FALSE),VLOOKUP($C20,PARAM!$A$11:$P$210,CHOOSE(WEEKDAY($B20,2),12,12,12,12,12,14,16),FALSE)),0) -> 0 | F20: =SUM(E20-D20) -> 0 | H20: =(HOUR(F20)*60+MINUTE(F20))/60 -> 0 | J20: congé
B21: =B20+1 -> 42693 | C21: CC | D21: =IFERROR(IF($A21="",VLOOKUP($C21,PARAM!$A$11:$I$210,CHOOSE(WEEKDAY($B21,2),2,2,4,2,2,6,8),FALSE),VLOOKUP($C21,PARAM!$A$11:$P$210,CHOOSE(WEEKDAY($B21,2),11,11,11,11,11,13,15),FALSE)),0) -> 0 | E21: =IFERROR(IF($A21="",VLOOKUP($C21,PARAM!$A$11:$I$210,CHOOSE(WEEKDAY($B21,2),3,3,5,3,3,7,9),FALSE),VLOOKUP($C21,PARAM!$A$11:$P$210,CHOOSE(WEEKDAY($B21,2),12,12,12,12,12,14,16),FALSE)),0) -> 0 | F21: =SUM(E21-D21) -> 0 | H21: =(HOUR(F21)*60+MINUTE(F21))/60 -> 0 | J21: congé
B22: =B21+1 -> 42694 | C22: CR | D22: =IFERROR(IF($A22="",VLOOKUP($C22,PARAM!$A$11:$I$210,CHOOSE(WEEKDAY($B22,2),2,2,4,2,2,6,8),FALSE),VLOOKUP($C22,PARAM!$A$11:$P$210,CHOOSE(WEEKDAY($B22,2),11,11,11,11,11,13,15),FALSE)),0) -> 0 | E22: =IFERROR(IF($A22="",VLOOKUP($C22,PARAM!$A$11:$I$210,CHOOSE(WEEKDAY($B22,2),3,3,5,3,3,7,9),FALSE),VLOOKUP($C22,PARAM!$A$11:$P$210,CHOOSE(WEEKDAY($B22,2),12,12,12,12,12,14,16),FALSE)),0) -> 0 | F22: =SUM(E22-D22) -> 0 | H22: =(HOUR(F22)*60+MINUTE(F22))/60 -> 0 | J22: congé
B23: =B22+1 -> 42695 | C23: CC | D23: =IFERROR(IF($A23="",VLOOKUP($C23,PARAM!$A$11:$I$210,CHOOSE(WEEKDAY($B23,2),2,2,4,2,2,6,8),FALSE),VLOOKUP($C23,PARAM!$A$11:$P$210,CHOOSE(WEEKDAY($B23,2),11,11,11,11,11,13,15),FALSE)),0) -> 0 | E23: =IFERROR(IF($A23="",VLOOKUP($C23,PARAM!$A$11:$I$210,CHOOSE(WEEKDAY($B23,2),3,3,5,3,3,7,9),FALSE),VLOOKUP($C23,PARAM!$A$11:$P$210,CHOOSE(WEEKDAY($B23,2),12,12,12,12,12,14,16),FALSE)),0) -> 0 | F23: =SUM(E23-D23) -> 0 | H23: =(HOUR(F23)*60+MINUTE(F23))/60 -> 0 | J23: congé
B24: =B23+1 -> 42696 | D24: =IFERROR(IF($A24="",VLOOKUP($C24,PARAM!$A$11:$I$210,CHOOSE(WEEKDAY($B24,2),2,2,4,2,2,6,8),FALSE),VLOOKUP($C24,PARAM!$A$11:$P$210,CHOOSE(WEEKDAY($B24,2),11,11,11,11,11,13,15),FALSE)),0) -> 0 | E24: =IFERROR(IF($A24="",VLOOKUP($C24,PARAM!$A$11:$I$210,CHOOSE(WEEKDAY($B24,2),3,3,5,3,3,7,9),FALSE),VLOOKUP($C24,PARAM!$A$11:$P$210,CHOOSE(WEEKDAY($B24,2),12,12,12,12,12,14,16),FALSE)),0) -> 0 | F24: =SUM(E24-D24) -> 0 | H24: =(HOUR(F24)*60+MINUTE(F24))/60 -> 0
B25: =B24+1 -> 42697 | D25: =IFERROR(IF($A25="",VLOOKUP($C25,PARAM!$A$11:$I$210,CHOOSE(WEEKDAY($B25,2),2,2,4,2,2,6,8),FALSE),VLOOKUP($C25,PARAM!$A$11:$P$210,CHOOSE(WEEKDAY($B25,2),11,11,11,11,11,13,15),FALSE)),0) -> 0 | E25: =IFERROR(IF($A25="",VLOOKUP($C25,PARAM!$A$11:$I$210,CHOOSE(WEEKDAY($B25,2),3,3,5,3,3,7,9),FALSE),VLOOKUP($C25,PARAM!$A$11:$P$210,CHOOSE(WEEKDAY($B25,2),12,12,12,12,12,14,16),FALSE)),0) -> 0 | F25: =SUM(E25-D25) -> 0 | H25: =(HOUR(F25)*60+MINUTE(F25))/60 -> 0
B26: =B25+1 -> 42698 | D26: =IFERROR(IF($A26="",VLOOKUP($C26,PARAM!$A$11:$I$210,CHOOSE(WEEKDAY($B26,2),2,2,4,2,2,6,8),FALSE),VLOOKUP($C26,PARAM!$A$11:$P$210,CHOOSE(WEEKDAY($B26,2),11,11,11,11,11,13,15),FALSE)),0) -> 0 | E26: =IFERROR(IF($A26="",VLOOKUP($C26,PARAM!$A$11:$I$210,CHOOSE(WEEKDAY($B26,2),3,3,5,3,3,7,9),FALSE),VLOOKUP($C26,PARAM!$A$11:$P$210,CHOOSE(WEEKDAY($B26,2),12,12,12,12,12,14,16),FALSE)),0) -> 0 | F26: =SUM(E26-D26) -> 0 | H26: =(HOUR(F26)*60+MINUTE(F26))/60 -> 0
B27: =B26+1 -> 42699 | D27: =IFERROR(IF($A27="",VLOOKUP($C27,PARAM!$A$11:$I$210,CHOOSE(WEEKDAY($B27,2),2,2,4,2,2,6,8),FALSE),VLOOKUP($C27,PARAM!$A$11:$P$210,CHOOSE(WEEKDAY($B27,2),11,11,11,11,11,13,15),FALSE)),0) -> 0 | E27: =IFERROR(IF($A27="",VLOOKUP($C27,PARAM!$A$11:$I$210,CHOOSE(WEEKDAY($B27,2),3,3,5,3,3,7,9),FALSE),VLOOKUP($C27,PARAM!$A$11:$P$210,CHOOSE(WEEKDAY($B27,2),12,12,12,12,12,14,16),FALSE)),0) -> 0 | F27: =SUM(E27-D27) -> 0 | H27: =(HOUR(F27)*60+MINUTE(F27))/60 -> 0
B28: =B27+1 -> 42700 | D28: =IFERROR(IF($A28="",VLOOKUP($C28,PARAM!$A$11:$I$210,CHOOSE(WEEKDAY($B28,2),2,2,4,2,2,6,8),FALSE),VLOOKUP($C28,PARAM!$A$11:$P$210,CHOOSE(WEEKDAY($B28,2),11,11,11,11,11,13,15),FALSE)),0) -> 0 | E28: =IFERROR(IF($A28="",VLOOKUP($C28,PARAM!$A$11:$I$210,CHOOSE(WEEKDAY($B28,2),3,3,5,3,3,7,9),FALSE),VLOOKUP($C28,PARAM!$A$11:$P$210,CHOOSE(WEEKDAY($B28,2),12,12,12,12,12,14,16),FALSE)),0) -> 0 | F28: =SUM(E28-D28) -> 0 | H28: =(HOUR(F28)*60+MINUTE(F28))/60 -> 0
B29: =B28+1 -> 42701 | C29: CR | D29: =IFERROR(IF($A29="",VLOOKUP($C29,PARAM!$A$11:$I$210,CHOOSE(WEEKDAY($B29,2),2,2,4,2,2,6,8),FALSE),VLOOKUP($C29,PARAM!$A$11:$P$210,CHOOSE(WEEKDAY($B29,2),11,11,11,11,11,13,15),FALSE)),0) -> 0 | E29: =IFERROR(IF($A29="",VLOOKUP($C29,PARAM!$A$11:$I$210,CHOOSE(WEEKDAY($B29,2),3,3,5,3,3,7,9),FALSE),VLOOKUP($C29,PARAM!$A$11:$P$210,CHOOSE(WEEKDAY($B29,2),12,12,12,12,12,14,16),FALSE)),0) -> 0 | F29: =SUM(E29-D29) -> 0 | H29: =(HOUR(F29)*60+MINUTE(F29))/60 -> 0 | J29: congé
B30: =B29+1 -> 42702 | D30: =IFERROR(IF($A30="",VLOOKUP($C30,PARAM!$A$11:$I$210,CHOOSE(WEEKDAY($B30,2),2,2,4,2,2,6,8),FALSE),VLOOKUP($C30,PARAM!$A$11:$P$210,CHOOSE(WEEKDAY($B30,2),11,11,11,11,11,13,15),FALSE)),0) -> 0 | E30: =IFERROR(IF($A30="",VLOOKUP($C30,PARAM!$A$11:$I$210,CHOOSE(WEEKDAY($B30,2),3,3,5,3,3,7,9),FALSE),VLOOKUP($C30,PARAM!$A$11:$P$210,CHOOSE(WEEKDAY($B30,2),12,12,12,12,12,14,16),FALSE)),0) -> 0 | F30: =SUM(E30-D30) -> 0 | H30: =(HOUR(F30)*60+MINUTE(F30))/60 -> 0
B31: =B30+1 -> 42703 | D31: =IFERROR(IF($A31="",VLOOKUP($C31,PARAM!$A$11:$I$210,CHOOSE(WEEKDAY($B31,2),2,2,4,2,2,6,8),FALSE),VLOOKUP($C31,PARAM!$A$11:$P$210,CHOOSE(WEEKDAY($B31,2),11,11,11,11,11,13,15),FALSE)),0) -> 0 | E31: =IFERROR(IF($A31="",VLOOKUP($C31,PARAM!$A$11:$I$210,CHOOSE(WEEKDAY($B31,2),3,3,5,3,3,7,9),FALSE),VLOOKUP($C31,PARAM!$A$11:$P$210,CHOOSE(WEEKDAY($B31,2),12,12,12,12,12,14,16),FALSE)),0) -> 0 | F31: =SUM(E31-D31) -> 0 | H31: =(HOUR(F31)*60+MINUTE(F31))/60 -> 0
B32: =B31+1 -> 42704 | C32: CC | D32: =IFERROR(IF($A32="",VLOOKUP($C32,PARAM!$A$11:$I$210,CHOOSE(WEEKDAY($B32,2),2,2,4,2,2,6,8),FALSE),VLOOKUP($C32,PARAM!$A$11:$P$210,CHOOSE(WEEKDAY($B32,2),11,11,11,11,11,13,15),FALSE)),0) -> 0 | E32: =IFERROR(IF($A32="",VLOOKUP($C32,PARAM!$A$11:$I$210,CHOOSE(WEEKDAY($B32,2),3,3,5,3,3,7,9),FALSE),VLOOKUP($C32,PARAM!$A$11:$P$210,CHOOSE(WEEKDAY($B32,2),12,12,12,12,12,14,16),FALSE)),0) -> 0 | F32: =SUM(E32-D32) -> 0 | H32: =(HOUR(F32)*60+MINUTE(F32))/60 -> 0 | J32: congé
B33: =B32+1 -> 42705 | D33: =IFERROR(IF($A33="",VLOOKUP($C33,PARAM!$A$11:$I$210,CHOOSE(WEEKDAY($B33,2),2,2,4,2,2,6,8),FALSE),VLOOKUP($C33,PARAM!$A$11:$P$210,CHOOSE(WEEKDAY($B33,2),11,11,11,11,11,13,15),FALSE)),0) -> 0 | E33: =IFERROR(IF($A33="",VLOOKUP($C33,PARAM!$A$11:$I$210,CHOOSE(WEEKDAY($B33,2),3,3,5,3,3,7,9),FALSE),VLOOKUP($C33,PARAM!$A$11:$P$210,CHOOSE(WEEKDAY($B33,2),12,12,12,12,12,14,16),FALSE)),0) -> 0 | F33: =SUM(E33-D33) -> 0 | H33: =(HOUR(F33)*60+MINUTE(F33))/60 -> 0
B34: Total | F34: =SUM(F3:F33) -> 3.7791667 | H34: =SUM(H3:H33) -> 90.7
A36: fériés dans le mois
A37: 42675 | D37: =HLOOKUP(D3,A3:F9,7-(WEEKDAY(B3,2))+1,FALSE) -> 0 | E37: =HLOOKUP(E3,A3:F9,7-(WEEKDAY(B3,2))+1,FALSE) -> 0
A38: 42685 | D38: =HLOOKUP(D13,A13:F19,7-(WEEKDAY(B13,2))+1,FALSE) -> 0.27986111 | E38: =HLOOKUP(E13,A13:F19,7-(WEEKDAY(B13,2))+1,FALSE) -> 0.53819444
F1048576: =SUM(F34) -> 3.7791667

Sheet 12
B1: PRESTATIONS DU MOIS DE : | D1: =DATE(PARAM!$B$3,RIGHT(CELL("nomfichier",D1),2),1) -> 42705
A2: Type | B2: Date | C2: Services | D2: H/Début | E2: H/Fin | F2: Nb heures | G2: Commentaires | I2: Colonne1 | J2: Colonne2
B3: =DATE(PARAM!$B$3,RIGHT(CELL("nomfichier",D1),2),1) -> 42705 | D3: =IFERROR(IF($A3="",VLOOKUP($C3,PARAM!$A$11:$I$210,CHOOSE(WEEKDAY($B3,2),2,2,4,2,2,6,8),FALSE),VLOOKUP($C3,PARAM!$A$11:$P$210,CHOOSE(WEEKDAY($B3,2),11,11,11,11,11,13,15),FALSE)),0) -> 0 | E3: =IFERROR(IF($A3="",VLOOKUP($C3,PARAM!$A$11:$I$210,CHOOSE(WEEKDAY($B3,2),3,3,5,3,3,7,9),FALSE),VLOOKUP($C3,PARAM!$A$11:$P$210,CHOOSE(WEEKDAY($B3,2),12,12,12,12,12,14,16),FALSE)),0) -> 0 | F3: =SUM(E3-D3) -> 0 | H3: =(HOUR(F3)*60+MINUTE(F3))/60 -> 0
B4: =B3+1 -> 42706 | D4: =IFERROR(IF($A4="",VLOOKUP($C4,PARAM!$A$11:$I$210,CHOOSE(WEEKDAY($B4,2),2,2,4,2,2,6,8),FALSE),VLOOKUP($C4,PARAM!$A$11:$P$210,CHOOSE(WEEKDAY($B4,2),11,11,11,11,11,13,15),FALSE)),0) -> 0 | E4: =IFERROR(IF($A4="",VLOOKUP($C4,PARAM!$A$11:$I$210,CHOOSE(WEEKDAY($B4,2),3,3,5,3,3,7,9),FALSE),VLOOKUP($C4,PARAM!$A$11:$P$210,CHOOSE(WEEKDAY($B4,2),12,12,12,12,12,14,16),FALSE)),0) -> 0 | F4: =SUM(E4-D4) -> 0 | H4: =(HOUR(F4)*60+MINUTE(F4))/60 -> 0
B5: =B4+1 -> 42707 | D5: =IFERROR(IF($A5="",VLOOKUP($C5,PARAM!$A$11:$I$210,CHOOSE(WEEKDAY($B5,2),2,2,4,2,2,6,8),FALSE),VLOOKUP($C5,PARAM!$A$11:$P$210,CHOOSE(WEEKDAY($B5,2),11,11,11,11,11,13,15),FALSE)),0) -> 0 | E5: =IFERROR(IF($A5="",VLOOKUP($C5,PARAM!$A$11:$I$210,CHOOSE(WEEKDAY($B5,2),3,3,5,3,3,7,9),FALSE),VLOOKUP($C5,PARAM!$A$11:$P$210,CHOOSE(WEEKDAY($B5,2),12,12,12,12,12,14,16),FALSE)),0) -> 0 | F5: =SUM(E5-D5) -> 0 | H5: =(HOUR(F5)*60+MINUTE(F5))/60 -> 0
B6: =B5+1 -> 42708 | C6: CR | D6: =IFERROR(IF($A6="",VLOOKUP($C6,PARAM!$A$11:$I$210,CHOOSE(WEEKDAY($B6,2),2,2,4,2,2,6,8),FALSE),VLOOKUP($C6,PARAM!$A$11:$P$210,CHOOSE(WEEKDAY($B6,2),11,11,11,11,11,13,15),FALSE)),0) -> 0 | E6: =IFERROR(IF($A6="",VLOOKUP($C6,PARAM!$A$11:$I$210,CHOOSE(WEEKDAY($B6,2),3,3,5,3,3,7,9),FALSE),VLOOKUP($C6,PARAM!$A$11:$P$210,CHOOSE(WEEKDAY($B6,2),12,12,12,12,12,14,16),FALSE)),0) -> 0 | F6: =SUM(E6-D6) -> 0 | H6: =(HOUR(F6)*60+MINUTE(F6))/60 -> 0
B7: =B6+1 -> 42709 | D7: =IFERROR(IF($A7="",VLOOKUP($C7,PARAM!$A$11:$I$210,CHOOSE(WEEKDAY($B7,2),2,2,4,2,2,6,8),FALSE),VLOOKUP($C7,PARAM!$A$11:$P$210,CHOOSE(WEEKDAY($B7,2),11,11,11,11,11,13,15),FALSE)),0) -> 0 | E7: =IFERROR(IF($A7="",VLOOKUP($C7,PARAM!$A$11:$I$210,CHOOSE(WEEKDAY($B7,2),3,3,5,3,3,7,9),FALSE),VLOOKUP($C7,PARAM!$A$11:$P$210,CHOOSE(WEEKDAY($B7,2),12,12,12,12,12,14,16),FALSE)),0) -> 0 | F7: =SUM(E7-D7) -> 0 | H7: =(HOUR(F7)*60+MINUTE(F7))/60 -> 0
B8: =B7+1 -> 42710 | D8: =IFERROR(IF($A8="",VLOOKUP($C8,PARAM!$A$11:$I$210,CHOOSE(WEEKDAY($B8,2),2,2,4,2,2,6,8),FALSE),VLOOKUP($C8,PARAM!$A$11:$P$210,CHOOSE(WEEKDAY($B8,2),11,11,11,11,11,13,15),FALSE)),0) -> 0 | E8: =IFERROR(IF($A8="",VLOOKUP($C8,PARAM!$A$11:$I$210,CHOOSE(WEEKDAY($B8,2),3,3,5,3,3,7,9),FALSE),VLOOKUP($C8,PARAM!$A$11:$P$210,CHOOSE(WEEKDAY($B8,2),12,12,12,12,12,14,16),FALSE)),0) -> 0 | F8: =SUM(E8-D8) -> 0 | H8: =(HOUR(F8)*60+MINUTE(F8))/60 -> 0
B9: =B8+1 -> 42711 | D9: =IFERROR(IF($A9="",VLOOKUP($C9,PARAM!$A$11:$I$210,CHOOSE(WEEKDAY($B9,2),2,2,4,2,2,6,8),FALSE),VLOOKUP($C9,PARAM!$A$11:$P$210,CHOOSE(WEEKDAY($B9,2),11,11,11,11,11,13,15),FALSE)),0) -> 0 | E9: =IFERROR(IF($A9="",VLOOKUP($C9,PARAM!$A$11:$I$210,CHOOSE(WEEKDAY($B9,2),3,3,5,3,3,7,9),FALSE),VLOOKUP($C9,PARAM!$A$11:$P$210,CHOOSE(WEEKDAY($B9,2),12,12,12,12,12,14,16),FALSE)),0) -> 0 | F9: =SUM(E9-D9) -> 0 | H9: =(HOUR(F9)*60+MINUTE(F9))/60 -> 0
B10: =B9+1 -> 42712 | C10: CC | D10: =IFERROR(IF($A10="",VLOOKUP($C10,PARAM!$A$11:$I$210,CHOOSE(WEEKDAY($B10,2),2,2,4,2,2,6,8),FALSE),VLOOKUP($C10,PARAM!$A$11:$P$210,CHOOSE(WEEKDAY($B10,2),11,11,11,11,11,13,15),FALSE)),0) -> 0 | E10: =IFERROR(IF($A10="",VLOOKUP($C10,PARAM!$A$11:$I$210,CHOOSE(WEEKDAY($B10,2),3,3,5,3,3,7,9),FALSE),VLOOKUP($C10,PARAM!$A$11:$P$210,CHOOSE(WEEKDAY($B10,2),12,12,12,12,12,14,16),FALSE)),0) -> 0 | F10: =SUM(E10-D10) -> 0 | H10: =(HOUR(F10)*60+MINUTE(F10))/60 -> 0
B11: =B10+1 -> 42713 | D11: =IFERROR(IF($A11="",VLOOKUP($C11,PARAM!$A$11:$I$210,CHOOSE(WEEKDAY($B11,2),2,2,4,2,2,6,8),FALSE),VLOOKUP($C11,PARAM!$A$11:$P$210,CHOOSE(WEEKDAY($B11,2),11,11,11,11,11,13,15),FALSE)),0) -> 0 | E11: =IFERROR(IF($A11="",VLOOKUP($C11,PARAM!$A$11:$I$210,CHOOSE(WEEKDAY($B11,2),3,3,5,3,3,7,9),FALSE),VLOOKUP($C11,PARAM!$A$11:$P$210,CHOOSE(WEEKDAY($B11,2),12,12,12,12,12,14,16),FALSE)),0) -> 0 | F11: =SUM(E11-D11) -> 0 | H11: =(HOUR(F11)*60+MINUTE(F11))/60 -> 0
B12: =B11+1 -> 42714 | D12: =IFERROR(IF($A12="",VLOOKUP($C12,PARAM!$A$11:$I$210,CHOOSE(WEEKDAY($B12,2),2,2,4,2,2,6,8),FALSE),VLOOKUP($C12,PARAM!$A$11:$P$210,CHOOSE(WEEKDAY($B12,2),11,11,11,11,11,13,15),FALSE)),0) -> 0 | E12: =IFERROR(IF($A12="",VLOOKUP($C12,PARAM!$A$11:$I$210,CHOOSE(WEEKDAY($B12,2),3,3,5,3,3,7,9),FALSE),VLOOKUP($C12,PARAM!$A$11:$P$210,CHOOSE(WEEKDAY($B12,2),12,12,12,12,12,14,16),FALSE)),0) -> 0 | F12: =SUM(E12-D12) -> 0 | H12: =(HOUR(F12)*60+MINUTE(F12))/60 -> 0
B13: =B12+1 -> 42715 | C13: CR | D13: =IFERROR(IF($A13="",VLOOKUP($C13,PARAM!$A$11:$I$210,CHOOSE(WEEKDAY($B13,2),2,2,4,2,2,6,8),FALSE),VLOOKUP($C13,PARAM!$A$11:$P$210,CHOOSE(WEEKDAY($B13,2),11,11,11,11,11,13,15),FALSE)),0) -> 0 | E13: =IFERROR(IF($A13="",VLOOKUP($C13,PARAM!$A$11:$I$210,CHOOSE(WEEKDAY($B13,2),3,3,5,3,3,7,9),FALSE),VLOOKUP($C13,PARAM!$A$11:$P$210,CHOOSE(WEEKDAY($B13,2),12,12,12,12,12,14,16),FALSE)),0) -> 0 | F13: =SUM(E13-D13) -> 0 | H13: =(HOUR(F13)*60+MINUTE(F13))/60 -> 0
B14: =B13+1 -> 42716 | C14: CC | D14: =IFERROR(IF($A14="",VLOOKUP($C14,PARAM!$A$11:$I$210,CHOOSE(WEEKDAY($B14,2),2,2,4,2,2,6,8),FALSE),VLOOKUP($C14,PARAM!$A$11:$P$210,CHOOSE(WEEKDAY($B14,2),11,11,11,11,11,13,15),FALSE)),0) -> 0 | E14: =IFERROR(IF($A14="",VLOOKUP($C14,PARAM!$A$11:$I$210,CHOOSE(WEEKDAY($B14,2),3,3,5,3,3,7,9),FALSE),VLOOKUP($C14,PARAM!$A$11:$P$210,CHOOSE(WEEKDAY($B14,2),12,12,12,12,12,14,16),FALSE)),0) -> 0 | F14: =SUM(E14-D14) -> 0 | H14: =(HOUR(F14)*60+MINUTE(F14))/60 -> 0
B15: =B14+1 -> 42717 | D15: =IFERROR(IF($A15="",VLOOKUP($C15,PARAM!$A$11:$I$210,CHOOSE(WEEKDAY($B15,2),2,2,4,2,2,6,8),FALSE),VLOOKUP($C15,PARAM!$A$11:$P$210,CHOOSE(WEEKDAY($B15,2),11,11,11,11,11,13,15),FALSE)),0) -> 0 | E15: =IFERROR(IF($A15="",VLOOKUP($C15,PARAM!$A$11:$I$210,CHOOSE(WEEKDAY($B15,2),3,3,5,3,3,7,9),FALSE),VLOOKUP($C15,PARAM!$A$11:$P$210,CHOOSE(WEEKDAY($B15,2),12,12,12,12,12,14,16),FALSE)),0) -> 0 | F15: =SUM(E15-D15) -> 0 | H15: =(HOUR(F15)*60+MINUTE(F15))/60 -> 0
B16: =B15+1 -> 42718 | D16: =IFERROR(IF($A16="",VLOOKUP($C16,PARAM!$A$11:$I$210,CHOOSE(WEEKDAY($B16,2),2,2,4,2,2,6,8),FALSE),VLOOKUP($C16,PARAM!$A$11:$P$210,CHOOSE(WEEKDAY($B16,2),11,11,11,11,11,13,15),FALSE)),0) -> 0 | E16: =IFERROR(IF($A16="",VLOOKUP($C16,PARAM!$A$11:$I$210,CHOOSE(WEEKDAY($B16,2),3,3,5,3,3,7,9),FALSE),VLOOKUP($C16,PARAM!$A$11:$P$210,CHOOSE(WEEKDAY($B16,2),12,12,12,12,12,14,16),FALSE)),0) -> 0 | F16: =SUM(E16-D16) -> 0 | H16: =(HOUR(F16)*60+MINUTE(F16))/60 -> 0
B17: =B16+1 -> 42719 | D17: =IFERROR(IF($A17="",VLOOKUP($C17,PARAM!$A$11:$I$210,CHOOSE(WEEKDAY($B17,2),2,2,4,2,2,6,8),FALSE),VLOOKUP($C17,PARAM!$A$11:$P$210,CHOOSE(WEEKDAY($B17,2),11,11,11,11,11,13,15),FALSE)),0) -> 0 | E17: =IFERROR(IF($A17="",VLOOKUP($C17,PARAM!$A$11:$I$210,CHOOSE(WEEKDAY($B17,2),3,3,5,3,3,7,9),FALSE),VLOOKUP($C17,PARAM!$A$11:$P$210,CHOOSE(WEEKDAY($B17,2),12,12,12,12,12,14,16),FALSE)),0) -> 0 | F17: =SUM(E17-D17) -> 0 | H17: =(HOUR(F17)*60+MINUTE(F17))/60 -> 0
B18: =B17+1 -> 42720 | D18: =IFERROR(IF($A18="",VLOOKUP($C18,PARAM!$A$11:$I$210,CHOOSE(WEEKDAY($B18,2),2,2,4,2,2,6,8),FALSE),VLOOKUP($C18,PARAM!$A$11:$P$210,CHOOSE(WEEKDAY($B18,2),11,11,11,11,11,13,15),FALSE)),0) -> 0 | E18: =IFERROR(IF($A18="",VLOOKUP($C18,PARAM!$A$11:$I$210,CHOOSE(WEEKDAY($B18,2),3,3,5,3,3,7,9),FALSE),VLOOKUP($C18,PARAM!$A$11:$P$210,CHOOSE(WEEKDAY($B18,2),12,12,12,12,12,14,16),FALSE)),0) -> 0 | F18: =SUM(E18-D18) -> 0 | H18: =(HOUR(F18)*60+MINUTE(F18))/60 -> 0
B19: =B18+1 -> 42721 | D19: =IFERROR(IF($A19="",VLOOKUP($C19,PARAM!$A$11:$I$210,CHOOSE(WEEKDAY($B19,2),2,2,4,2,2,6,8),FALSE),VLOOKUP($C19,PARAM!$A$11:$P$210,CHOOSE(WEEKDAY($B19,2),11,11,11,11,11,13,15),FALSE)),0) -> 0 | E19: =IFERROR(IF($A19="",VLOOKUP($C19,PARAM!$A$11:$I$210,CHOOSE(WEEKDAY($B19,2),3,3,5,3,3,7,9),FALSE),VLOOKUP($C19,PARAM!$A$11:$P$210,CHOOSE(WEEKDAY($B19,2),12,12,12,12,12,14,16),FALSE)),0) -> 0 | F19: =SUM(E19-D19) -> 0 | H19: =(HOUR(F19)*60+MINUTE(F19))/60 -> 0
B20: =B19+1 -> 42722 | C20: CR | D20: =IFERROR(IF($A20="",VLOOKUP($C20,PARAM!$A$11:$I$210,CHOOSE(WEEKDAY($B20,2),2,2,4,2,2,6,8),FALSE),VLOOKUP($C20,PARAM!$A$11:$P$210,CHOOSE(WEEKDAY($B20,2),11,11,11,11,11,13,15),FALSE)),0) -> 0 | E20: =IFERROR(IF($A20="",VLOOKUP($C20,PARAM!$A$11:$I$210,CHOOSE(WEEKDAY($B20,2),3,3,5,3,3,7,9),FALSE),VLOOKUP($C20,PARAM!$A$11:$P$210,CHOOSE(WEEKDAY($B20,2),12,12,12,12,12,14,16),FALSE)),0) -> 0 | F20: =SUM(E20-D20) -> 0 | H20: =(HOUR(F20)*60+MINUTE(F20))/60 -> 0
B21: =B20+1 -> 42723 | D21: =IFERROR(IF($A21="",VLOOKUP($C21,PARAM!$A$11:$I$210,CHOOSE(WEEKDAY($B21,2),2,2,4,2,2,6,8),FALSE),VLOOKUP($C21,PARAM!$A$11:$P$210,CHOOSE(WEEKDAY($B21,2),11,11,11,11,11,13,15),FALSE)),0) -> 0 | E21: =IFERROR(IF($A21="",VLOOKUP($C21,PARAM!$A$11:$I$210,CHOOSE(WEEKDAY($B21,2),3,3,5,3,3,7,9),FALSE),VLOOKUP($C21,PARAM!$A$11:$P$210,CHOOSE(WEEKDAY($B21,2),12,12,12,12,12,14,16),FALSE)),0) -> 0 | F21: =SUM(E21-D21) -> 0 | H21: =(HOUR(F21)*60+MINUTE(F21))/60 -> 0
B22: =B21+1 -> 42724 | C22: CC | D22: =IFERROR(IF($A22="",VLOOKUP($C22,PARAM!$A$11:$I$210,CHOOSE(WEEKDAY($B22,2),2,2,4,2,2,6,8),FALSE),VLOOKUP($C22,PARAM!$A$11:$P$210,CHOOSE(WEEKDAY($B22,2),11,11,11,11,11,13,15),FALSE)),0) -> 0 | E22: =IFERROR(IF($A22="",VLOOKUP($C22,PARAM!$A$11:$I$210,CHOOSE(WEEKDAY($B22,2),3,3,5,3,3,7,9),FALSE),VLOOKUP($C22,PARAM!$A$11:$P$210,CHOOSE(WEEKDAY($B22,2),12,12,12,12,12,14,16),FALSE)),0) -> 0 | F22: =SUM(E22-D22) -> 0 | H22: =(HOUR(F22)*60+MINUTE(F22))/60 -> 0
B23: =B22+1 -> 42725 | D23: =IFERROR(IF($A23="",VLOOKUP($C23,PARAM!$A$11:$I$210,CHOOSE(WEEKDAY($B23,2),2,2,4,2,2,6,8),FALSE),VLOOKUP($C23,PARAM!$A$11:$P$210,CHOOSE(WEEKDAY($B23,2),11,11,11,11,11,13,15),FALSE)),0) -> 0 | E23: =IFERROR(IF($A23="",VLOOKUP($C23,PARAM!$A$11:$I$210,CHOOSE(WEEKDAY($B23,2),3,3,5,3,3,7,9),FALSE),VLOOKUP($C23,PARAM!$A$11:$P$210,CHOOSE(WEEKDAY($B23,2),12,12,12,12,12,14,16),FALSE)),0) -> 0 | F23: =SUM(E23-D23) -> 0 | H23: =(HOUR(F23)*60+MINUTE(F23))/60 -> 0
B24: =B23+1 -> 42726 | D24: =IFERROR(IF($A24="",VLOOKUP($C24,PARAM!$A$11:$I$210,CHOOSE(WEEKDAY($B24,2),2,2,4,2,2,6,8),FALSE),VLOOKUP($C24,PARAM!$A$11:$P$210,CHOOSE(WEEKDAY($B24,2),11,11,11,11,11,13,15),FALSE)),0) -> 0 | E24: =IFERROR(IF($A24="",VLOOKUP($C24,PARAM!$A$11:$I$210,CHOOSE(WEEKDAY($B24,2),3,3,5,3,3,7,9),FALSE),VLOOKUP($C24,PARAM!$A$11:$P$210,CHOOSE(WEEKDAY($B24,2),12,12,12,12,12,14,16),FALSE)),0) -> 0 | F24: =SUM(E24-D24) -> 0 | H24: =(HOUR(F24)*60+MINUTE(F24))/60 -> 0
B25: =B24+1 -> 42727 | D25: =IFERROR(IF($A25="",VLOOKUP($C25,PARAM!$A$11:$I$210,CHOOSE(WEEKDAY($B25,2),2,2,4,2,2,6,8),FALSE),VLOOKUP($C25,PARAM!$A$11:$P$210,CHOOSE(WEEKDAY($B25,2),11,11,11,11,11,13,15),FALSE)),0) -> 0 | E25: =IFERROR(IF($A25="",VLOOKUP($C25,PARAM!$A$11:$I$210,CHOOSE(WEEKDAY($B25,2),3,3,5,3,3,7,9),FALSE),VLOOKUP($C25,PARAM!$A$11:$P$210,CHOOSE(WEEKDAY($B25,2),12,12,12,12,12,14,16),FALSE)),0) -> 0 | F25: =SUM(E25-D25) -> 0 | H25: =(HOUR(F25)*60+MINUTE(F25))/60 -> 0
B26: =B25+1 -> 42728 | D26: =IFERROR(IF($A26="",VLOOKUP($C26,PARAM!$A$11:$I$210,CHOOSE(WEEKDAY($B26,2),2,2,4,2,2,6,8),FALSE),VLOOKUP($C26,PARAM!$A$11:$P$210,CHOOSE(WEEKDAY($B26,2),11,11,11,11,11,13,15),FALSE)),0) -> 0 | E26: =IFERROR(IF($A26="",VLOOKUP($C26,PARAM!$A$11:$I$210,CHOOSE(WEEKDAY($B26,2),3,3,5,3,3,7,9),FALSE),VLOOKUP($C26,PARAM!$A$11:$P$210,CHOOSE(WEEKDAY($B26,2),12,12,12,12,12,14,16),FALSE)),0) -> 0 | F26: =SUM(E26-D26) -> 0 | H26: =(HOUR(F26)*60+MINUTE(F26))/60 -> 0
B27: =B26+1 -> 42729 | C27: CR | D27: =IFERROR(IF($A27="",VLOOKUP($C27,PARAM!$A$11:$I$210,CHOOSE(WEEKDAY($B27,2),2,2,4,2,2,6,8),FALSE),VLOOKUP($C27,PARAM!$A$11:$P$210,CHOOSE(WEEKDAY($B27,2),11,11,11,11,11,13,15),FALSE)),0) -> 0 | E27: =IFERROR(IF($A27="",VLOOKUP($C27,PARAM!$A$11:$I$210,CHOOSE(WEEKDAY($B27,2),3,3,5,3,3,7,9),FALSE),VLOOKUP($C27,PARAM!$A$11:$P$210,CHOOSE(WEEKDAY($B27,2),12,12,12,12,12,14,16),FALSE)),0) -> 0 | F27: =SUM(E27-D27) -> 0 | H27: =(HOUR(F27)*60+MINUTE(F27))/60 -> 0
B28: =B27+1 -> 42730 | D28: =IFERROR(IF($A28="",VLOOKUP($C28,PARAM!$A$11:$I$210,CHOOSE(WEEKDAY($B28,2),2,2,4,2,2,6,8),FALSE),VLOOKUP($C28,PARAM!$A$11:$P$210,CHOOSE(WEEKDAY($B28,2),11,11,11,11,11,13,15),FALSE)),0) -> 0 | E28: =IFERROR(IF($A28="",VLOOKUP($C28,PARAM!$A$11:$I$210,CHOOSE(WEEKDAY($B28,2),3,3,5,3,3,7,9),FALSE),VLOOKUP($C28,PARAM!$A$11:$P$210,CHOOSE(WEEKDAY($B28,2),12,12,12,12,12,14,16),FALSE)),0) -> 0 | F28: =SUM(E28-D28) -> 0 | H28: =(HOUR(F28)*60+MINUTE(F28))/60 -> 0
B29: =B28+1 -> 42731 | D29: =IFERROR(IF($A29="",VLOOKUP($C29,PARAM!$A$11:$I$210,CHOOSE(WEEKDAY($B29,2),2,2,4,2,2,6,8),FALSE),VLOOKUP($C29,PARAM!$A$11:$P$210,CHOOSE(WEEKDAY($B29,2),11,11,11,11,11,13,15),FALSE)),0) -> 0 | E29: =IFERROR(IF($A29="",VLOOKUP($C29,PARAM!$A$11:$I$210,CHOOSE(WEEKDAY($B29,2),3,3,5,3,3,7,9),FALSE),VLOOKUP($C29,PARAM!$A$11:$P$210,CHOOSE(WEEKDAY($B29,2),12,12,12,12,12,14,16),FALSE)),0) -> 0 | F29: =SUM(E29-D29) -> 0 | H29: =(HOUR(F29)*60+MINUTE(F29))/60 -> 0
B30: =B29+1 -> 42732 | C30: CC | D30: =IFERROR(IF($A30="",VLOOKUP($C30,PARAM!$A$11:$I$210,CHOOSE(WEEKDAY($B30,2),2,2,4,2,2,6,8),FALSE),VLOOKUP($C30,PARAM!$A$11:$P$210,CHOOSE(WEEKDAY($B30,2),11,11,11,11,11,13,15),FALSE)),0) -> 0 | E30: =IFERROR(IF($A30="",VLOOKUP($C30,PARAM!$A$11:$I$210,CHOOSE(WEEKDAY($B30,2),3,3,5,3,3,7,9),FALSE),VLOOKUP($C30,PARAM!$A$11:$P$210,CHOOSE(WEEKDAY($B30,2),12,12,12,12,12,14,16),FALSE)),0) -> 0 | F30: =SUM(E30-D30) -> 0 | H30: =(HOUR(F30)*60+MINUTE(F30))/60 -> 0
B31: =B30+1 -> 42733 | D31: =IFERROR(IF($A31="",VLOOKUP($C31,PARAM!$A$11:$I$210,CHOOSE(WEEKDAY($B31,2),2,2,4,2,2,6,8),FALSE),VLOOKUP($C31,PARAM!$A$11:$P$210,CHOOSE(WEEKDAY($B31,2),11,11,11,11,11,13,15),FALSE)),0) -> 0 | E31: =IFERROR(IF($A31="",VLOOKUP($C31,PARAM!$A$11:$I$210,CHOOSE(WEEKDAY($B31,2),3,3,5,3,3,7,9),FALSE),VLOOKUP($C31,PARAM!$A$11:$P$210,CHOOSE(WEEKDAY($B31,2),12,12,12,12,12,14,16),FALSE)),0) -> 0 | F31: =SUM(E31-D31) -> 0 | H31: =(HOUR(F31)*60+MINUTE(F31))/60 -> 0
B32: =B31+1 -> 42734 | D32: =IFERROR(IF($A32="",VLOOKUP($C32,PARAM!$A$11:$I$210,CHOOSE(WEEKDAY($B32,2),2,2,4,2,2,6,8),FALSE),VLOOKUP($C32,PARAM!$A$11:$P$210,CHOOSE(WEEKDAY($B32,2),11,11,11,11,11,13,15),FALSE)),0) -> 0 | E32: =IFERROR(IF($A32="",VLOOKUP($C32,PARAM!$A$11:$I$210,CHOOSE(WEEKDAY($B32,2),3,3,5,3,3,7,9),FALSE),VLOOKUP($C32,PARAM!$A$11:$P$210,CHOOSE(WEEKDAY($B32,2),12,12,12,12,12,14,16),FALSE)),0) -> 0 | F32: =SUM(E32-D32) -> 0 | H32: =(HOUR(F32)*60+MINUTE(F32))/60 -> 0
B33: =B32+1 -> 42735 | D33: =IFERROR(IF($A33="",VLOOKUP($C33,PARAM!$A$11:$I$210,CHOOSE(WEEKDAY($B33,2),2,2,4,2,2,6,8),FALSE),VLOOKUP($C33,PARAM!$A$11:$P$210,CHOOSE(WEEKDAY($B33,2),11,11,11,11,11,13,15),FALSE)),0) -> 0 | E33: =IFERROR(IF($A33="",VLOOKUP($C33,PARAM!$A$11:$I$210,CHOOSE(WEEKDAY($B33,2),3,3,5,3,3,7,9),FALSE),VLOOKUP($C33,PARAM!$A$11:$P$210,CHOOSE(WEEKDAY($B33,2),12,12,12,12,12,14,16),FALSE)),0) -> 0 | F33: =SUM(E33-D33) -> 0 | H33: =(HOUR(F33)*60+MINUTE(F33))/60 -> 0
B34: Total | F34: =SUM(F3:F33) -> 0 | H34: =SUM(H3:H33) -> 0
F1048576: =SUM(F34) -> 0

Sheet MODE D'EMPLOI
A1: MODE D'EMPLOI
A2: 1 | B2: Lors du lancement d'une nouvelle année, il y aura lieu de dupliquer le classeur "Total-des-heures-prestées_MODELE" en précisant l'annéee à la place de MODELE dans le nom soit : "Total-des-heures-prestées_2016". Préciser dans l'onglet PARAM l'année de traitement du classeur - cellule B3 (dans l'exemple : 2016. Le classeur se mettra automatiquement à jour sous tous ses onglets en fonction de cette année et ce paramétrage adaptera la longueur des mois en conséquence y compris pour les années bissextiles pour le mois de février.
A3: 2 | B3: Sous l'onglet PARAM se trouve également : - la grille des horaires par service et par type de journée (L ;M ; J ; V / M / S D). Il y a lieu de compléter cet horaire qui n'a pu être rempli qu'avec les éléments connus transmis par le demandeur et incomplet. L'introduction se fait en encodant l'heure et la minute sous la forme 5:24 (en séparant les heures et les minutes par ":". IL EST A NOTER QUE CES HORAIRES SONT FIXES ET NE PEUVENT ETRE CHANGES EN COURS D'ANNEE. (sinon TOUS les onglets s'adapteront au nouvel horaire) Dans les exemples reçus il y a quelques erreurs que le demandeur devra corriger (horaires différents pour un même service et une même tranche horaire). Dans le présent classeur a été conservé les données sources (mois en alpha). Dans ces onglets, les erreurs sont indiqués en rouge en colonne G. Une fois les erreurs corrigées, ces onglets pourront être supprimés. Si toutefois les horaires devaient évoluer définitvement durant l'année, il y aura lieu de créer un nouveau classeur (2016-02 par exemple) et d'adapter les horaires ; de laisser les premiers mois de l'année vides et de commencer dans le mois de changement d'horaire. A noter qu'il est possible de mettre un horaire en regard des informations autres que "Service" comme Ecolage par exemple. Bien entendu, là aussi UN horaire par information. Il existe un cas de MALADIE qui n'a pu être indiqué car 2 horaires différents. Une solution, pour autant que les cas soient rares, serait de créer MALADIE1 et MALADIE2. Il a été reservé quelques lignes pour permettre d'ajouter des informations et des services. Les 3 plages horaires ont leur couleur propre. Cette couleur se répercutera en regard des jours concernés dans les onglets mensuels. Il est ainsi facile de distinguer les différentes tranches horaires utilisées dans le mois. - la grille des horaires pour les jours de congés scolaires. Les différences entre les 2 grilles sont ; . adaptation des horaires pour les congés scolaires . suppression de l'exception horaire du mercredi qui est assimilé aux autres jours de la semaine à l'exclusion du samedi et du dimanchze. - la grille des Commentaires (11 avec donc une réserve de 6) - la grille des Types de grilles (période scolaire - période congés scolaires)
A4: 3 | B4: Il suffit de compléter - le type de grille en colonne A ( "vide" pour grille scolaire ou C pour grille congés scolaire) à l'aide de la liste déroulante - le numéro du service ou une informations dans la colonne B pour que l'horaire correspondant à la tranche horaire de la grille apparaisse.
A5: 4 | B5: Une colonne (F) "Commentaires" permet d'accueillir divers commentaires. Cette colonne est pilotée par une liste déroulante se trouvant dans l'onglat PRAM ety contient potentiellement 11 lignes dont 5 occupées .
A6: 5 | B6: La mise en page a été paramétrée pour permettre l'impression en pied de document de la date et heure d'impression ainsi que le nom du classeur.
A7: 6 | B7: Tous les onglets mensuels sont protégés (sans mot de passe) pour éviter d'abimer par erreur les formules. Il est évident que les colonnes à remplir restent accessibles. Comme il n'y a pas de mot de passe, il est facile d'enlever la protection en allant sous l'onglet "Révision" et le bouton "Oter la protection". Cela est utile s'il est nécessaire de faire évoluer l'application comme ajouter une colonne par exemple.
B8: Bon amusement !
B10: COMMENT CELA MARCHE
A11: 1 | B11: En colonne C1 de chaque mois on calcule le mois de l'onglet grâce à la formule : "=DATE(PARAM!$B$3;DROITE(CELLULE("nomfichier";C1);2);1)" Càd que la date est constituée de l'année se trouvant sous l'onglet PARAM en B3 et le mois se détermine grâce au nom de l'onglet (01 par exemple). Le nom de l'onglet est trouvé avec la fonction CELLULE. Ensuite on précise simplement le jour en indiquant 1. Il faut naturellement formaté la cellule pour obtenir l'affichage désiré. Grâce à cette façon de faire, il suffit de dupliquer l'onglet et de changer son nom pour obtenir automatiquement le mois que l'on désire.
