Workbook

Sheet RENDU
A4: Reference | B4: Oct_01 | C4: Oct_02 | D4: Oct_03 | E4: Oct_04 | F4: Oct_05 | G4: Oct_06 | H4: Oct_07 | I4: Oct_08 | J4: Oct_09 | K4: Oct_10 | L4: Oct_11 | M4: Oct_12 | N4: Oct_13 | O4: Oct_14 | P4: Oct_15 | Q4: Oct_16 | R4: Oct_17 | S4: Oct_18 | T4: Oct_19 | U4: Oct_20 | V4: Oct_21 | W4: Oct_22 | X4: Oct_23 | Y4: Oct_24 | Z4: Oct_25 | AA4: Oct_26 | AB4: Oct_27 | AC4: Oct_28 | AD4: Oct_29 | AE4: Oct_30 | AF4: Oct_31
A5: 301084 | B5: =INDEX(Oct_01!C:C,MATCH(RENDU!$A5,Oct_01!B:B,0)) -> 2500 | C5: =INDEX(Oct_02!C:C,MATCH(RENDU!$A5,Oct_02!B:B,0)) -> #N/A
A6: 408857 | B6: =INDEX(Oct_01!C:C,MATCH(RENDU!$A6,Oct_01!B:B,0)) -> 5550 | C6: =INDEX(Oct_02!C:C,MATCH(RENDU!$A6,Oct_02!B:B,0)) -> 1600
A7: 301637 | B7: =INDEX(Oct_01!C:C,MATCH(RENDU!$A7,Oct_01!B:B,0)) -> 3700 | C7: =INDEX(Oct_02!C:C,MATCH(RENDU!$A7,Oct_02!B:B,0)) -> 7400
A8: 554346 | B8: =INDEX(Oct_01!C:C,MATCH(RENDU!$A8,Oct_01!B:B,0)) -> 3550 | C8: =INDEX(Oct_02!C:C,MATCH(RENDU!$A8,Oct_02!B:B,0)) -> 3900
A9: 306730 | B9: =INDEX(Oct_01!C:C,MATCH(RENDU!$A9,Oct_01!B:B,0)) -> 3350 | C9: =INDEX(Oct_02!C:C,MATCH(RENDU!$A9,Oct_02!B:B,0)) -> 1950
A10: 028954 | B10: =INDEX(Oct_01!C:C,MATCH(RENDU!$A10,Oct_01!B:B,0)) -> 2000 | C10: =INDEX(Oct_02!C:C,MATCH(RENDU!$A10,Oct_02!B:B,0)) -> 2000
A11: 664345 | B11: =INDEX(Oct_01!C:C,MATCH(RENDU!$A11,Oct_01!B:B,0)) -> 2000 | C11: =INDEX(Oct_02!C:C,MATCH(RENDU!$A11,Oct_02!B:B,0)) -> #N/A
A12: 444159 | B12: =INDEX(Oct_01!C:C,MATCH(RENDU!$A12,Oct_01!B:B,0)) -> 2000 | C12: =INDEX(Oct_02!C:C,MATCH(RENDU!$A12,Oct_02!B:B,0)) -> 1300
A13: 404471 | B13: =INDEX(Oct_01!C:C,MATCH(RENDU!$A13,Oct_01!B:B,0)) -> 1000 | C13: =INDEX(Oct_02!C:C,MATCH(RENDU!$A13,Oct_02!B:B,0)) -> #N/A
A14: 325812 | B14: =INDEX(Oct_01!C:C,MATCH(RENDU!$A14,Oct_01!B:B,0)) -> 750 | C14: =INDEX(Oct_02!C:C,MATCH(RENDU!$A14,Oct_02!B:B,0)) -> 1650
A15: 992520 | B15: =INDEX(Oct_01!C:C,MATCH(RENDU!$A15,Oct_01!B:B,0)) -> 700 | C15: =INDEX(Oct_02!C:C,MATCH(RENDU!$A15,Oct_02!B:B,0)) -> #N/A

Sheet Oct_01
A1: Category | B1: Reference | C1: Conso
A2: A-4x4 | B2: 301084 | C2: 2500
A3: A'-4x4 | B3: 408857 | C3: 5550
A4: A'-4x4 | B4: 301637 | C4: 3700
A5: A'-4x4 | B5: 554346 | C5: 3550
A6: A'-4x4 | B6: 306730 | C6: 3350
A7: A'-4x4 | B7: 028954 | C7: 2000
A8: A'-4x4 | B8: 664345 | C8: 2000
A9: A'-4x4 | B9: 444159 | C9: 2000
A10: A'-4x4 | B10: 404471 | C10: 1000
A11: A'-4x4 | B11: 325812 | C11: 750
A12: A'-4x4 | B12: 992520 | C12: 700
A13: A'-4x4 | B13: 998832 | C13: 500
... A141: BERLINE | B141: 107375 | C141: 8350

Sheet Oct_02
A1: Category | B1: Reference | C1: Conso
A2: A_4*4 | B2: 999809 | C2: 1000
A3: A'_4*4 | B3: 301637 | C3: 7400
A4: A'_4*4 | B4: 554346 | C4: 3900
A5: A'_4*4 | B5: 028954 | C5: 2000
A6: A'_4*4 | B6: 306730 | C6: 1950
A7: A'_4*4 | B7: 325812 | C7: 1650
A8: A'_4*4 | B8: 408857 | C8: 1600
A9: A'_4*4 | B9: 444159 | C9: 1300
A10: A'_4*4 | B10: 334516 | C10: 1100
A11: A'_4*4 | B11: 993204 | C11: 1000
A12: A'_4*4 | B12: 554327 | C12: 850
A13: A'_4*4 | B13: 109656 | C13: 600
... A167: BERLINE | B167: 992631 | C167: 8250

Sheet Oct_31
A1: Category | B1: Reference | C1: Conso
A2: A'_4x4 | B2: 554346 | C2: 5700
A3: A'_4x4 | B3: 028954 | C3: 3500
A4: A'_4x4 | B4: 306730 | C4: 2750
A5: A'_4x4 | B5: 336775 | C5: 2000
A6: A'_4x4 | B6: 408857 | C6: 2000
A7: A'_4x4 | B7: 325812 | C7: 1700
A8: A'_4x4 | B8: 444159 | C8: 1500
A9: A'_4x4 | B9: 301637 | C9: 1200
A10: A'_4x4 | B10: 334516 | C10: 800
A11: A'_4x4 | B11: 554327 | C11: 650
A12: A'_4x4 | B12: 996292 | C12: 500
A13: A'_4x4 | B13: 993204 | C13: 350
... A139: BERLINE | B139: 551769 | C139: 9150
