Workbook
Name essai: #REF!
Name MEMBER: Data!$A:$A
Name MEMBER: Members!$A:$B
Name Member2: #REF!
Name Name: Data!#REF!
Name NAME: Members!$B$1:$B$100
Name name2: #REF!
Name VID: Data!$A:$A
Name VID: Members!$A$1:$A$100

Sheet Answers
A1: VID: | B1: Région
A2: 324800 | B2: AF
A3: 553542 | B3: SA
A4: 324800 | B4: CA
A5: 657396 | B5: OC
A6: 418373 | B6: OC
A7: 606964 | B7: OC
A8: 553542 | B8: OC
A9: 512878 | B9: OC
A10: 548746 | B10: AF
A11: 606964 | B11: AF
A12: 553542 | B12: AF
A13: 324800 | B13: EU
... A28: 324800 | B28: NA

Sheet Data
A1: VID | B1: NA | C1: CA | D1: SA | E1: EU | F1: ME | G1: AF | H1: AS | I1: OC
A2: 324800 | B2: =IF(VLOOKUP(A2,Answers!A2:B50,2)=$B$1,"T","") -> T | C2: =IF(VLOOKUP($A$2,Answers!$A$2:$B$50,2)=C1,"T","") | D2: =IF(VLOOKUP($A$2,Answers!$A$2:$B$50,2)=D1,"T","") | E2: =IF(VLOOKUP($A$2,Answers!$A$2:$B$50,2)=E1,"T","") | F2: =IF(VLOOKUP($A$2,Answers!$A$2:$B$50,2)=F1,"T","") | G2: =IF(VLOOKUP($A$2,Answers!$A$2:$B$50,2)=G1,"T","") | H2: =IF(VLOOKUP($A$2,Answers!$A$2:$B$50,2,FALSE)=H1,"T","") | I2: =IF(VLOOKUP($A$2,Answers!$A$2:$B$50,2,FALSE)=I1,"T","")
A3: 657396 | B3: =IF(VLOOKUP(A3,Answers!$A$2:$B$50,2,)=$B$1,"T","") | C3: =IF(VLOOKUP(A3,Answers!$A$2:$B$50,2,)=$C$1,"T","") | D3: =IF(VLOOKUP(A3,Answers!$A$2:$B$50,2,)=$D$1,"T","") | E3: =IF(VLOOKUP(A3,Answers!$A$2:$B$50,2,)=$E$1,"T","") | F3: =IF(VLOOKUP(A3,Answers!$A$2:$B$50,2,)=$F$1,"T","") | G3: =IF(VLOOKUP(A3,Answers!$A$2:$B$50,2,)=$G$1,"T","") | H3: =IF(VLOOKUP(A3,Answers!$A$2:$B$50,2,)=$H$1,"T","") | I3: =IF(VLOOKUP(A3,Answers!$A$2:$B$50,2,)=$I$1,"T","") -> T
A4: 418373 | B4: =IF(VLOOKUP(A4,Answers!$A$2:$B$50,2,)=$B$1,"T","") | C4: =IF(VLOOKUP(A4,Answers!$A$2:$B$50,2,)=$C$1,"T","") | D4: =IF(VLOOKUP(A4,Answers!$A$2:$B$50,2,)=$D$1,"T","") | E4: =IF(VLOOKUP(A4,Answers!$A$2:$B$50,2,)=$E$1,"T","") | F4: =IF(VLOOKUP(A4,Answers!$A$2:$B$50,2,)=$F$1,"T","") | G4: =IF(VLOOKUP(A4,Answers!$A$2:$B$50,2,)=$G$1,"T","") | H4: =IF(VLOOKUP(A4,Answers!$A$2:$B$50,2,)=$H$1,"T","") | I4: =IF(VLOOKUP(A4,Answers!$A$2:$B$50,2,)=$I$1,"T","") -> T
A5: 606964 | B5: =IF(VLOOKUP(A5,Answers!$A$2:$B$50,2,)=$B$1,"T","") | C5: =IF(VLOOKUP(A5,Answers!$A$2:$B$50,2,)=$C$1,"T","") | D5: =IF(VLOOKUP(A5,Answers!$A$2:$B$50,2,)=$D$1,"T","") | E5: =IF(VLOOKUP(A5,Answers!$A$2:$B$50,2,)=$E$1,"T","") | F5: =IF(VLOOKUP(A5,Answers!$A$2:$B$50,2,)=$F$1,"T","") | G5: =IF(VLOOKUP(A5,Answers!$A$2:$B$50,2,)=$G$1,"T","") | H5: =IF(VLOOKUP(A5,Answers!$A$2:$B$50,2,)=$H$1,"T","") | I5: =IF(VLOOKUP(A5,Answers!$A$2:$B$50,2,)=$I$1,"T","") -> T
A6: 553542 | B6: =IF(VLOOKUP(A6,Answers!$A$2:$B$50,2,)=$B$1,"T","") | C6: =IF(VLOOKUP(A6,Answers!$A$2:$B$50,2,)=$C$1,"T","") | D6: =IF(VLOOKUP(A6,Answers!$A$2:$B$50,2,)=$D$1,"T","") -> T | E6: =IF(VLOOKUP(A6,Answers!$A$2:$B$50,2,)=$E$1,"T","") | F6: =IF(VLOOKUP(A6,Answers!$A$2:$B$50,2,)=$F$1,"T","") | G6: =IF(VLOOKUP(A6,Answers!$A$2:$B$50,2,)=$G$1,"T","") | H6: =IF(VLOOKUP(A6,Answers!$A$2:$B$50,2,)=$H$1,"T","") | I6: =IF(VLOOKUP(A6,Answers!$A$2:$B$50,2)=$I$1,"T","")
A7: 512878 | B7: =IF(VLOOKUP(A7,Answers!$A$2:$B$50,2,)=$B$1,"T","") | C7: =IF(VLOOKUP(A7,Answers!$A$2:$B$50,2,)=$C$1,"T","") | D7: =IF(VLOOKUP(A7,Answers!$A$2:$B$50,2,)=$D$1,"T","") | E7: =IF(VLOOKUP(A7,Answers!$A$2:$B$50,2,)=$E$1,"T","") | F7: =IF(VLOOKUP(A7,Answers!$A$2:$B$50,2,)=$F$1,"T","") | G7: =IF(VLOOKUP(A7,Answers!$A$2:$B$50,2,)=$G$1,"T","") | H7: =IF(VLOOKUP(A7,Answers!$A$2:$B$50,2,)=$H$1,"T","") | I7: =IF(VLOOKUP(A7,Answers!$A$2:$B$50,2,)=$I$1,"T","") -> T
A8: 548746 | B8: =IF(VLOOKUP(A8,Answers!$A$2:$B$50,2,)=$B$1,"T","") | C8: =IF(VLOOKUP(A8,Answers!$A$2:$B$50,2,)=$C$1,"T","") | D8: =IF(VLOOKUP(A8,Answers!$A$2:$B$50,2,)=$D$1,"T","") | E8: =IF(VLOOKUP(A8,Answers!$A$2:$B$50,2,)=$E$1,"T","") | F8: =IF(VLOOKUP(A8,Answers!$A$2:$B$50,2,)=$F$1,"T","") | G8: =IF(VLOOKUP(A8,Answers!$A$2:$B$50,2,)=$G$1,"T","") -> T | H8: =IF(VLOOKUP(A8,Answers!$A$2:$B$50,2,)=$H$1,"T","") | I8: =IF(VLOOKUP(A8,Answers!$A$2:$B$50,2,)=$I$1,"T","")
A9: 463764 | B9: =IF(VLOOKUP(A9,Answers!$A$2:$B$50,2,)=$B$1,"T","") | C9: =IF(VLOOKUP(A9,Answers!$A$2:$B$50,2,)=$C$1,"T","") | D9: =IF(VLOOKUP(A9,Answers!$A$2:$B$50,2,)=$D$1,"T","") | E9: =IF(VLOOKUP(A9,Answers!$A$2:$B$50,2,)=$E$1,"T","") | F9: =IF(VLOOKUP(A9,Answers!$A$2:$B$50,2,)=$F$1,"T","") | G9: =IF(VLOOKUP(A9,Answers!$A$2:$B$50,2,)=$G$1,"T","") -> T | H9: =IF(VLOOKUP(A9,Answers!$A$2:$B$50,2,)=$H$1,"T","") | I9: =IF(VLOOKUP(A9,Answers!$A$2:$B$50,2,)=$I$1,"T","")
A10: 583032 | B10: =IF(VLOOKUP(A10,Answers!$A$2:$B$50,2,)=$B$1,"T","") | C10: =IF(VLOOKUP(A10,Answers!$A$2:$B$50,2,)=$C$1,"T","") | D10: =IF(VLOOKUP(A10,Answers!$A$2:$B$50,2,)=$D$1,"T","") | E10: =IF(VLOOKUP(A10,Answers!$A$2:$B$50,2,)=$E$1,"T","") | F10: =IF(VLOOKUP(A10,Answers!$A$2:$B$50,2,)=$F$1,"T","") | G10: =IF(VLOOKUP(A10,Answers!$A$2:$B$50,2,)=$G$1,"T","") -> T | H10: =IF(VLOOKUP(A10,Answers!$A$2:$B$50,2,)=$H$1,"T","") | I10: =IF(VLOOKUP(A10,Answers!$A$2:$B$50,2,)=$I$1,"T","")
A11: 198187 | B11: =IF(VLOOKUP(A11,Answers!$A$2:$B$50,2,)=$B$1,"T","") | C11: =IF(VLOOKUP(A11,Answers!$A$2:$B$50,2,)=$C$1,"T","") | D11: =IF(VLOOKUP(A11,Answers!$A$2:$B$50,2,)=$D$1,"T","") | E11: =IF(VLOOKUP(A11,Answers!$A$2:$B$50,2,)=$E$1,"T","") | F11: =IF(VLOOKUP(A11,Answers!$A$2:$B$50,2,)=$F$1,"T","") | G11: =IF(VLOOKUP(A11,Answers!$A$2:$B$50,2,)=$G$1,"T","") -> T | H11: =IF(VLOOKUP(A11,Answers!$A$2:$B$50,2,)=$H$1,"T","") | I11: =IF(VLOOKUP(A11,Answers!$A$2:$B$50,2,)=$I$1,"T","")
A12: 628010 | B12: =IF(VLOOKUP(A12,Answers!$A$2:$B$50,2,)=$B$1,"T","") | C12: =IF(VLOOKUP(A12,Answers!$A$2:$B$50,2,)=$C$1,"T","") | D12: =IF(VLOOKUP(A12,Answers!$A$2:$B$50,2,)=$D$1,"T","") | E12: =IF(VLOOKUP(A12,Answers!$A$2:$B$50,2,)=$E$1,"T","") | F12: =IF(VLOOKUP(A12,Answers!$A$2:$B$50,2,)=$F$1,"T","") | G12: =IF(VLOOKUP(A12,Answers!$A$2:$B$50,2,)=$G$1,"T","") -> T | H12: =IF(VLOOKUP(A12,Answers!$A$2:$B$50,2,)=$H$1,"T","") | I12: =IF(VLOOKUP(A12,Answers!$A$2:$B$50,2,)=$I$1,"T","")
A13: 626590 | B13: =IF(VLOOKUP(A13,Answers!$A$2:$B$50,2,)=$B$1,"T","") | C13: =IF(VLOOKUP(A13,Answers!$A$2:$B$50,2,)=$C$1,"T","") | D13: =IF(VLOOKUP(A13,Answers!$A$2:$B$50,2,)=$D$1,"T","") | E13: =IF(VLOOKUP(A13,Answers!$A$2:$B$50,2,)=$E$1,"T","") | F13: =IF(VLOOKUP(A13,Answers!$A$2:$B$50,2,)=$F$1,"T","") | G13: =IF(VLOOKUP(A13,Answers!$A$2:$B$50,2,)=$G$1,"T","") -> T | H13: =IF(VLOOKUP(A13,Answers!$A$2:$B$50,2,)=$H$1,"T","") | I13: =IF(VLOOKUP(A13,Answers!$A$2:$B$50,2,)=$I$1,"T","")
A14: 596345 | B14: =IF(VLOOKUP(A14,Answers!$A$2:$B$50,2,)=$B$1,"T","") | C14: =IF(VLOOKUP(A14,Answers!$A$2:$B$50,2,)=$C$1,"T","") | D14: =IF(VLOOKUP(A14,Answers!$A$2:$B$50,2,)=$D$1,"T","") | E14: =IF(VLOOKUP(A14,Answers!$A$2:$B$50,2,)=$E$1,"T","") | F14: =IF(VLOOKUP(A14,Answers!$A$2:$B$50,2,)=$F$1,"T","") | G14: =IF(VLOOKUP(A14,Answers!$A$2:$B$50,2,)=$G$1,"T","") -> T | H14: =IF(VLOOKUP(A14,Answers!$A$2:$B$50,2,)=$H$1,"T","") | I14: =IF(VLOOKUP(A14,Answers!$A$2:$B$50,2,)=$I$1,"T","")
A15: 612741 | B15: =IF(VLOOKUP(A15,Answers!$A$2:$B$50,2,)=$B$1,"T","") | C15: =IF(VLOOKUP(A15,Answers!$A$2:$B$50,2,)=$C$1,"T","") | D15: =IF(VLOOKUP(A15,Answers!$A$2:$B$50,2,)=$D$1,"T","") | E15: =IF(VLOOKUP(A15,Answers!$A$2:$B$50,2,)=$E$1,"T","") | F15: =IF(VLOOKUP(A15,Answers!$A$2:$B$50,2,)=$F$1,"T","") | G15: =IF(VLOOKUP(A15,Answers!$A$2:$B$50,2,)=$G$1,"T","") -> T | H15: =IF(VLOOKUP(A15,Answers!$A$2:$B$50,2,)=$H$1,"T","") | I15: =IF(VLOOKUP(A15,Answers!$A$2:$B$50,2,)=$I$1,"T","")
A16: 640294 | B16: =IF(VLOOKUP(A16,Answers!$A$2:$B$50,2,)=$B$1,"T","") | C16: =IF(VLOOKUP(A16,Answers!$A$2:$B$50,2,)=$C$1,"T","") | D16: =IF(VLOOKUP(A16,Answers!$A$2:$B$50,2,)=$D$1,"T","") | E16: =IF(VLOOKUP(A16,Answers!$A$2:$B$50,2,)=$E$1,"T","") | F16: =IF(VLOOKUP(A16,Answers!$A$2:$B$50,2,)=$F$1,"T","") | G16: =IF(VLOOKUP(A16,Answers!$A$2:$B$50,2,)=$G$1,"T","") -> T | H16: =IF(VLOOKUP(A16,Answers!$A$2:$B$50,2,)=$H$1,"T","") | I16: =IF(VLOOKUP(A16,Answers!$A$2:$B$50,2,)=$I$1,"T","")

Sheet Members
A1: =IFERROR(__xludf.DUMMYFUNCTION("importrange(""https://docs.google.com/spreadsheets/d/18VBk_jIs_Z5CgglBzebBZWPw35HTpPw24ChF7MRTC7I/edit?usp=sharing"",""HQ ATC Members!A:B"")"),"VID") -> VID | B1: =IFERROR(__xludf.DUMMYFUNCTION("""COMPUTED_VALUE"""),"Name") -> Name
A2: =IFERROR(__xludf.DUMMYFUNCTION("""COMPUTED_VALUE"""),529524) -> 529524 | B2: =IFERROR(__xludf.DUMMYFUNCTION("""COMPUTED_VALUE"""),"Baptiste Sella") -> Baptiste Sella
A3: =IFERROR(__xludf.DUMMYFUNCTION("""COMPUTED_VALUE"""),227945) -> 227945 | B3: =IFERROR(__xludf.DUMMYFUNCTION("""COMPUTED_VALUE"""),"Makis Giantsidis") -> Makis Giantsidis
A4: =IFERROR(__xludf.DUMMYFUNCTION("""COMPUTED_VALUE"""),281593) -> 281593 | B4: =IFERROR(__xludf.DUMMYFUNCTION("""COMPUTED_VALUE"""),"Naif Alloush") -> Naif Alloush
A5: =IFERROR(__xludf.DUMMYFUNCTION("""COMPUTED_VALUE"""),434813) -> 434813 | B5: =IFERROR(__xludf.DUMMYFUNCTION("""COMPUTED_VALUE"""),"Iñigo Izaguirre") -> Iñigo Izaguirre
A6: =IFERROR(__xludf.DUMMYFUNCTION("""COMPUTED_VALUE"""),494745) -> 494745 | B6: =IFERROR(__xludf.DUMMYFUNCTION("""COMPUTED_VALUE"""),"Marvin Rochow") -> Marvin Rochow
A7: =IFERROR(__xludf.DUMMYFUNCTION("""COMPUTED_VALUE"""),534081) -> 534081 | B7: =IFERROR(__xludf.DUMMYFUNCTION("""COMPUTED_VALUE"""),"Adrian Maximo") -> Adrian Maximo
A8: =IFERROR(__xludf.DUMMYFUNCTION("""COMPUTED_VALUE"""),588006) -> 588006 | B8: =IFERROR(__xludf.DUMMYFUNCTION("""COMPUTED_VALUE"""),"Leopold Przybylski") -> Leopold Przybylski
A9: =IFERROR(__xludf.DUMMYFUNCTION("""COMPUTED_VALUE"""),598172) -> 598172 | B9: =IFERROR(__xludf.DUMMYFUNCTION("""COMPUTED_VALUE"""),"Santiago Idarraga") -> Santiago Idarraga
A10: =IFERROR(__xludf.DUMMYFUNCTION("""COMPUTED_VALUE"""),606964) -> 606964 | B10: =IFERROR(__xludf.DUMMYFUNCTION("""COMPUTED_VALUE"""),"Victor Rincon") -> Victor Rincon
A11: =IFERROR(__xludf.DUMMYFUNCTION("""COMPUTED_VALUE"""),411824) -> 411824 | B11: =IFERROR(__xludf.DUMMYFUNCTION("""COMPUTED_VALUE"""),"Andreas Tinis") -> Andreas Tinis | F11: DO NOT DELETE
A12: =IFERROR(__xludf.DUMMYFUNCTION("""COMPUTED_VALUE"""),542277) -> 542277 | B12: =IFERROR(__xludf.DUMMYFUNCTION("""COMPUTED_VALUE"""),"Elias Gonzalez") -> Elias Gonzalez
A13: =IFERROR(__xludf.DUMMYFUNCTION("""COMPUTED_VALUE"""),512878) -> 512878 | B13: =IFERROR(__xludf.DUMMYFUNCTION("""COMPUTED_VALUE"""),"Kanin Pornsinsiriruk") -> Kanin Pornsinsiriruk
A14: =IFERROR(__xludf.DUMMYFUNCTION("""COMPUTED_VALUE"""),613247) -> 613247 | B14: =IFERROR(__xludf.DUMMYFUNCTION("""COMPUTED_VALUE"""),"Javier Uceda") -> Javier Uceda
A15: =IFERROR(__xludf.DUMMYFUNCTION("""COMPUTED_VALUE"""),573867) -> 573867 | B15: =IFERROR(__xludf.DUMMYFUNCTION("""COMPUTED_VALUE"""),"Timo Frisch") -> Timo Frisch
A16: =IFERROR(__xludf.DUMMYFUNCTION("""COMPUTED_VALUE"""),596345) -> 596345 | B16: =IFERROR(__xludf.DUMMYFUNCTION("""COMPUTED_VALUE"""),"Nikoloz Okitashvili") -> Nikoloz Okitashvili
A17: =IFERROR(__xludf.DUMMYFUNCTION("""COMPUTED_VALUE"""),324800) -> 324800 | B17: =IFERROR(__xludf.DUMMYFUNCTION("""COMPUTED_VALUE"""),"Abdelkarim") -> Abdelkarim
A18: =IFERROR(__xludf.DUMMYFUNCTION("""COMPUTED_VALUE"""),418373) -> 418373 | B18: =IFERROR(__xludf.DUMMYFUNCTION("""COMPUTED_VALUE""")," Mohammed Al Ahmed ") -> Mohammed Al Ahmed
A19: =IFERROR(__xludf.DUMMYFUNCTION("""COMPUTED_VALUE"""),553542) -> 553542 | B19: =IFERROR(__xludf.DUMMYFUNCTION("""COMPUTED_VALUE"""),"Marcelo Saraiva") -> Marcelo Saraiva
A20: =IFERROR(__xludf.DUMMYFUNCTION("""COMPUTED_VALUE"""),595574) -> 595574 | B20: =IFERROR(__xludf.DUMMYFUNCTION("""COMPUTED_VALUE"""),"Joaquín Ampuero") -> Joaquín Ampuero
A21: =IFERROR(__xludf.DUMMYFUNCTION("""COMPUTED_VALUE"""),612939) -> 612939 | B21: =IFERROR(__xludf.DUMMYFUNCTION("""COMPUTED_VALUE"""),"Almaz Akbaralyev") -> Almaz Akbaralyev
A22: =IFERROR(__xludf.DUMMYFUNCTION("""COMPUTED_VALUE"""),583032) -> 583032 | B22: =IFERROR(__xludf.DUMMYFUNCTION("""COMPUTED_VALUE"""),"Juan Cardona") -> Juan Cardona
A23: =IFERROR(__xludf.DUMMYFUNCTION("""COMPUTED_VALUE"""),198187) -> 198187 | B23: =IFERROR(__xludf.DUMMYFUNCTION("""COMPUTED_VALUE"""),"Carlo Preziosi") -> Carlo Preziosi
A24: =IFERROR(__xludf.DUMMYFUNCTION("""COMPUTED_VALUE"""),397034) -> 397034 | B24: =IFERROR(__xludf.DUMMYFUNCTION("""COMPUTED_VALUE"""),"Roberto Sestito") -> Roberto Sestito
A25: =IFERROR(__xludf.DUMMYFUNCTION("""COMPUTED_VALUE"""),496402) -> 496402 | B25: =IFERROR(__xludf.DUMMYFUNCTION("""COMPUTED_VALUE"""),"Natan Fonseca") -> Natan Fonseca
A26: =IFERROR(__xludf.DUMMYFUNCTION("""COMPUTED_VALUE"""),548746) -> 548746 | B26: =IFERROR(__xludf.DUMMYFUNCTION("""COMPUTED_VALUE"""),"Joao Vittor") -> Joao Vittor
A27: =IFERROR(__xludf.DUMMYFUNCTION("""COMPUTED_VALUE"""),629074) -> 629074 | B27: =IFERROR(__xludf.DUMMYFUNCTION("""COMPUTED_VALUE"""),"Piero Mancuso") -> Piero Mancuso
A28: =IFERROR(__xludf.DUMMYFUNCTION("""COMPUTED_VALUE"""),187023) -> 187023 | B28: =IFERROR(__xludf.DUMMYFUNCTION("""COMPUTED_VALUE"""),"Udo Korbanka") -> Udo Korbanka
A29: =IFERROR(__xludf.DUMMYFUNCTION("""COMPUTED_VALUE"""),257054) -> 257054 | B29: =IFERROR(__xludf.DUMMYFUNCTION("""COMPUTED_VALUE"""),"Eddy Gamboa") -> Eddy Gamboa
A30: =IFERROR(__xludf.DUMMYFUNCTION("""COMPUTED_VALUE"""),528685) -> 528685 | B30: =IFERROR(__xludf.DUMMYFUNCTION("""COMPUTED_VALUE"""),"Kourosh Asefi ") -> Kourosh Asefi
A31: =IFERROR(__xludf.DUMMYFUNCTION("""COMPUTED_VALUE"""),612741) -> 612741 | B31: =IFERROR(__xludf.DUMMYFUNCTION("""COMPUTED_VALUE"""),"Boris Yakunin") -> Boris Yakunin
A32: =IFERROR(__xludf.DUMMYFUNCTION("""COMPUTED_VALUE"""),657396) -> 657396 | B32: =IFERROR(__xludf.DUMMYFUNCTION("""COMPUTED_VALUE"""),"Mohamed Abuidress") -> Mohamed Abuidress
A33: =IFERROR(__xludf.DUMMYFUNCTION("""COMPUTED_VALUE"""),660425) -> 660425 | B33: =IFERROR(__xludf.DUMMYFUNCTION("""COMPUTED_VALUE"""),"Frederich Girald") -> Frederich Girald
A34: =IFERROR(__xludf.DUMMYFUNCTION("""COMPUTED_VALUE"""),628010) -> 628010 | B34: =IFERROR(__xludf.DUMMYFUNCTION("""COMPUTED_VALUE"""),"David Kucharski") -> David Kucharski
A35: =IFERROR(__xludf.DUMMYFUNCTION("""COMPUTED_VALUE"""),640294) -> 640294 | B35: =IFERROR(__xludf.DUMMYFUNCTION("""COMPUTED_VALUE"""),"Hugo Morand") -> Hugo Morand
A36: =IFERROR(__xludf.DUMMYFUNCTION("""COMPUTED_VALUE"""),626590) -> 626590 | B36: =IFERROR(__xludf.DUMMYFUNCTION("""COMPUTED_VALUE"""),"Sergio Herrero") -> Sergio Herrero
A37: =IFERROR(__xludf.DUMMYFUNCTION("""COMPUTED_VALUE"""),660992) -> 660992 | B37: =IFERROR(__xludf.DUMMYFUNCTION("""COMPUTED_VALUE"""),"Julio Tung") -> Julio Tung
A38: =IFERROR(__xludf.DUMMYFUNCTION("""COMPUTED_VALUE"""),610578) -> 610578 | B38: =IFERROR(__xludf.DUMMYFUNCTION("""COMPUTED_VALUE"""),"Alexander Ryabchuk ") -> Alexander Ryabchuk
A39: =IFERROR(__xludf.DUMMYFUNCTION("""COMPUTED_VALUE"""),589966) -> 589966 | B39: =IFERROR(__xludf.DUMMYFUNCTION("""COMPUTED_VALUE"""),"AliReza Zand") -> AliReza Zand
A40: =IFERROR(__xludf.DUMMYFUNCTION("""COMPUTED_VALUE"""),651355) -> 651355 | B40: =IFERROR(__xludf.DUMMYFUNCTION("""COMPUTED_VALUE"""),"Mustafa Alsaif") -> Mustafa Alsaif
...

Sheet Detail8
A1: Timestamp | B1: Email address | C1: VID: | D1: Event: | E1: ATC Position: | F1: Date: | G1: Start Time: | H1: End Time: | I1: Tracker link: | J1: Comments: | K1: 2nd Tracker link (if needed): | L1: Status: | M1: Duration
A2: 45276.485 | B2: almaz.akbaralyev@ivao.aero | C2: 612939 | D2: [25th Anniversary] The Oceania and Asia Leg 02 | E2: ZZZZ_CTR | F2: 11/11/0222 | G2: 0.45833333 | H2: 0.5 | I2: xxxx | J2: reported later | L2: Accepted | M2: 0.041666667
A3: 45051.158 | B3: abdelkarim.halouani@ivao.aero | C3: 324800 | D3: [25th Anniversary] Europe and Africa - Leg 03 | E3: DAAG_APP | F3: 41368 | G3: 0.64027778 | H3: 0.77361111 | I3: https://tracker.ivao.aero/sessions/52108864 | L3: Accepted | M3: 0.13333333
A4: 45164.65 | B4: abdelkarim.halouani@ivao.aero | C4: 324800 | D4: [25th Anniversary] Americas- Leg 11 | E4: MDCS_CTR | F4: 44965 | G4: 0.94375 | H4: 0.0041666667 | I4: https://tracker.ivao.aero/sessions/53089507 | L4: Accepted | M4: -0.93958333
A5: 45028.585 | B5: mohamed.abuidrees@ivao.aero | C5: 657396 | D5: [12 APR | 09z] [HQ] Fly with a Governor - Leg 29 | E5: WMKK_TWR | F5: 45028 | G5: 0.37291667 | H5: 0.45833333 | I5: https://tracker.ivao.aero/sessions/51891094 | J5: Good session. | L5: Accepted | M5: 0.085416667
A6: 45028.594 | B6: mohammed.al.ahmed@ivao.aero | C6: 418373 | D6: [12 APR | 09z] [HQ] Fly with a Governor - Leg 29 | E6: WMKK_APP | F6: 45028 | G6: 0.36111111 | H6: 0.46736111 | I6: https://tracker.ivao.aero/sessions/51890996 | L6: Accepted | M6: 0.10625
A7: 45028.625 | B7: victor.rincon@ivao.aero | C7: 606964 | D7: [12 APR | 09z] [HQ] Fly with a Governor - Leg 29 | E7: WMKK_GND | F7: 45028 | G7: 0.375 | H7: 0.45833333 | I7: https://tracker.ivao.aero/sessions/51891112 | L7: Accepted | M7: 0.083333333
A8: 45028.626 | B8: marcelo.saraiva@ivao.aero | C8: 553542 | D8: [12 APR | 09z] [HQ] Fly with a Governor - Leg 29 | E8: WMFC_CTR | F8: 45028 | G8: 0.375 | H8: 0.5 | I8: https://tracker.ivao.aero/sessions/51891106 | L8: Accepted | M8: 0.125
A9: 45029.074 | B9: kanin.pornsinsiriruk@ivao.aero | C9: 512878 | D9: [12 APR | 09z] [HQ] Fly with a Governor - Leg 29 | E9: WSJC_CTR | F9: 45028 | G9: 0.39027778 | H9: 0.99930556 | I9: https://tracker.ivao.aero/sessions/51891239 | L9: Accepted | M9: 0.60902778
A10: 45037.79 | B10: joao.vitor.previatti@ivao.aero | C10: 548746 | D10: [25th Anniversary] Europe and Africa Leg 02 | E10: FNLU_TWR | F10: 45037 | G10: 0.54305556 | H10: 0.62430556 | I10: https://tracker.ivao.aero/sessions/51978327 | L10: Accepted | M10: 0.08125
A11: 45037.791 | B11: victor.rincon@ivao.aero | C11: 606964 | D11: [25th Anniversary] Europe and Africa Leg 02 | E11: FNLU_APP | F11: 45037 | G11: 0.54166667 | H11: 0.66666667 | I11: https://tracker.ivao.aero/sessions/51978235 | J11: - | L11: Accepted | M11: 0.125
A12: 45037.838 | B12: marcelo.saraiva@ivao.aero | C12: 553542 | D12: [25th Anniversary] Europe and Africa Leg 02 | E12: FCCC_CTR | F12: 45037 | G12: 0.55208333 | H12: 0.70208333 | I12: https://tracker.ivao.aero/sessions/51978471 | L12: Accepted | M12: 0.15
A13: 45037.871 | B13: abdelkarim.halouani@ivao.aero | C13: 324800 | D13: [25th Anniversary] Europe and Africa Leg 02 | E13: LFNU_APP | F13: 45037 | G13: 0.66041667 | H13: 0.74097222 | I13: https://tracker.ivao.aero/sessions/51980019 | J13: HQ ATC Group | L13: Accepted | M13: 0.080555556
A14: 45037.926 | B14: brais.carnero@ivao.aero | C14: 463764 | D14: [25th Anniversary] Europe and Africa Leg 02 | E14: FNLU_APP | F14: 45037 | G14: 0.53125 | H14: 0.64166667 | I14: https://tracker.ivao.aero/sessions/51978166 | L14: Accepted | M14: 0.11041667
A15: 45037.927 | B15: juan.david.cardona.lopez@ivao.aero | C15: 583032 | D15: [25th Anniversary] Europe and Africa Leg 02 | E15: FCCC_CTR | F15: 45037 | G15: 0.70208333 | H15: 0.78472222 | I15: https://tracker.ivao.aero/sessions/51980771 | L15: Accepted | M15: 0.082638889
A16: 45037.937 | B16: hugo.morand@ivao.aero | C16: 640294 | D16: [25th Anniversary] Europe and Africa Leg 02 | E16: FNAN_CTR | F16: 45037 | G16: 0.70833333 | H16: 0.79166667 | I16: https://tracker.ivao.aero/sessions/51980536 | L16: Accepted | M16: 0.083333333
A17: 45037.971 | B17: carlo.preziosi@ivao.aero | C17: 198187 | D17: [25th Anniversary] Europe and Africa Leg 02 | E17: FCCC_CTR | F17: 45037 | G17: 0.78611111 | H17: 0.84166667 | I17: https://tracker.ivao.aero/sessions/51982329 | J17: Great work! Great project! Glad to be a part of it. | L17: Accepted | M17: 0.055555556
A18: 45037.986 | B18: david.kucharski@ivao.aero | C18: 628010 | D18: [25th Anniversary] Europe and Africa Leg 02 | E18: HSSK_TWR | F18: 45037 | G18: 0.67222222 | H18: 0.85972222 | I18: https://tracker.ivao.aero/sessions/51980261 | L18: Accepted | M18: 0.1875
A19: 45037.996 | B19: sergio.herrero@ivao.aero | C19: 626590 | D19: [25th Anniversary] Europe and Africa Leg 02 | E19: FNLU_GND | F19: 45037 | G19: 0.625 | H19: 0.71458333 | I19: https://tracker.ivao.aero/sessions/51979418 | L19: Accepted | M19: 0.089583333
A20: 45038.014 | B20: mohammed.al.ahmed@ivao.aero | C20: 418373 | D20: [25th Anniversary] Europe and Africa Leg 02 | E20: FNAN_CTR | F20: 45037 | G20: 0.61597222 | H20: 0.63055556 | I20: https://tracker.ivao.aero/sessions/51978190 | L20: Accepted | M20: 0.014583333
A21: 45038.024 | B21: nikoloz.okitashvili@ivao.aero | C21: 596345 | D21: [25th Anniversary] Europe and Africa Leg 02 | E21: HSSS_CTR | F21: 45037 | G21: 0.77430556 | H21: 0.84375 | I21: https://tracker.ivao.aero/sessions/51982132 | L21: Accepted | M21: 0.069444444
A22: 45038.025 | B22: mohammed.al.ahmed@ivao.aero | C22: 418373 | D22: [25th Anniversary] Europe and Africa Leg 02 | E22: HSSK_APP | F22: 45037 | G22: 0.67569444 | H22: 0.85833333 | I22: https://tracker.ivao.aero/sessions/51980320 | L22: Accepted | M22: 0.18263889
A23: 45038.071 | B23: juan.david.cardona.lopez@ivao.aero | C23: 583032 | D23: [25th Anniversary] Europe and Africa Leg 02 | E23: HSSS_CTR | F23: 45037 | G23: 0.84375 | H23: 0.90555556 | I23: https://tracker.ivao.aero/sessions/51983387 | L23: Accepted | M23: 0.061805556
A24: 45038.522 | B24: boris.yakunin@ivao.aero | C24: 612741 | D24: [25th Anniversary] Europe and Africa Leg 02 | E24: HSSS_CTR | F24: 45037 | G24: 0.64375 | H24: 0.77430556 | I24: https://tracker.ivao.aero/sessions/51979880 | J24: I was really pleased with the coordination within the group and with the ability to control somewhere outside of my division (XR). Overall, only positive emotions. Thanks for creating such a great project :) | L24: Accepted | M24: 0.13055556
A25: 45050.544 | B25: hugo.morand@ivao.aero | C25: 640294 | D25: [25th Anniversary] Europe and Africa Leg 02 | E25: FNAN_CTR | F25: 45037 | G25: 0.68888889 | H25: 0.79375 | I25: https://tracker.ivao.aero/sessions/51980536 | L25: Accepted | M25: 0.10486111
A26: 45047.688 | B26: julio.tung@ivao.aero | C26: 660992 | D26: [25th Anniversary] The Oceania and Asia Leg 03 | E26: Any, including delivery due to hard stop at 0900z | F26: 45050 | G26: 0.20833333 | H26: 0.375 | I26: https://tools.ivao.aero/event/HQ/book/2825 | J26: Need to close at 0900z sharp, so definitely not radar. Ground/tower/delivery/approach are all completely fine | L26: Accepted | M26: 0.16666667
A27: 45050.445 | B27: kanin.pornsinsiriruk@ivao.aero | C27: 512878 | D27: [25th Anniversary] The Oceania and Asia Leg 03 | E27: VHHH_GND,VVHM_CTR | F27: 45050 | G27: 0.22361111 | H27: 0.31319444 | I27: https://tracker.ivao.aero/sessions/52106206, https://tracker.ivao.aero/sessions/52106420 | L27: Accepted | M27: 0.089583333
A28: 45050.704 | B28: alexander.ryabchuk@ivao.aero | C28: 610578 | D28: [25th Anniversary] Europe and Africa - Leg 03 | E28: HSSS_CTR | F28: 45050 | G28: 0.45833333 | H28: 0.57638889 | I28: https://tracker.ivao.aero/sessions/52107426 | L28: Accepted | M28: 0.11805556
A29: 45050.768 | B29: brais.carnero@ivao.aero | C29: 463764 | D29: [25th Anniversary] Europe and Africa - Leg 03 | E29: HSSK_DEL | F29: 45050 | G29: 0.45069444 | H29: 0.58958333 | I29: https://tracker.ivao.aero/sessions/52107376 | L29: Accepted | M29: 0.13888889
A30: 45050.816 | B30: marcelo.saraiva@ivao.aero | C30: 553542 | D30: [25th Anniversary] Europe and Africa - Leg 03 | E30: HSSS_CYR | F30: 45050 | G30: 0.57708333 | H30: 0.68611111 | I30: https://tracker.ivao.aero/sessions/52108608 | L30: Accepted | M30: 0.10902778
A31: 45050.918 | B31: mohamed.abuidrees@ivao.aero | C31: 657396 | D31: [25th Anniversary] Europe and Africa - Leg 03 | E31: HSSK_GND/HSSK_TWR | F31: 45050 | G31: 0.49652778 | H31: 0.58194444 | I31: https://tracker.ivao.aero/sessions/52107764 https://tracker.ivao.aero/sessions/52107998 | L31: Accepted | M31: 0.085416667
A32: 45051.085 | B32: carlo.preziosi@ivao.aero | C32: 198187 | D32: [25th Anniversary] Europe and Africa - Leg 03 | E32: HSSK_APP | F32: 45050 | G32: 0.57986111 | H32: 0.6875 | I32: https://tracker.ivao.aero/sessions/52108651 | J32: Thank you guys! :-)) | L32: Accepted | M32: 0.10763889
A33: 45052.725 | B33: mohammed.al.ahmed@ivao.aero | C33: 418373 | D33: [25th Anniversary] Europe and Africa - Leg 03 | E33: HSSK_TWR | F33: 45050 | G33: 0.45069444 | H33: 0.52222222 | I33: https://tracker.ivao.aero/sessions/52107374 | L33: Accepted | M33: 0.071527778
A34: 45064.801 | B34: timo.frisch@ivao.aero | C34: 573867 | D34: [25th Anniversary] The Oceania and Asia Leg 03 | E34: WMFC_CTR | F34: 45064 | G34: 0.22916667 | H34: 0.44236111 | I34: https://tracker.ivao.aero/sessions/52249194 | L34: Accepted | M34: 0.21319444
A35: 45064.808 | B35: javier.uceda@ivao.aero | C35: 613247 | D35: [25th Anniversary] Europe and Africa - Leg 04 | E35: WSSS_TWR | F35: 45064 | G35: 0.32847222 | H35: 0.40694444 | I35: https://tracker.ivao.aero/sessions/52249722 | J35: Asia Leg 4 | L35: Accepted | M35: 0.078472222
A36: 45064.923 | B36: abdelkarim.halouani@ivao.aero | C36: 324800 | D36: [25th Anniversary] Europe and Africa - Leg 04 | E36: DAAA_S_CTR | F36: 45064 | G36: 0.69444444 | H36: 0.75347222 | I36: https://tracker.ivao.aero/sessions/52253863 | J36: HQ ATC Groupe | L36: Accepted | M36: 0.059027778
A37: 45066.055 | B37: victor.rincon@ivao.aero | C37: 606964 | D37: 25th Anniversary] Americas- Leg 04 | E37: SEGU_APP | F37: 45064 | G37: 0 | H37: 0.125 | I37: https://tracker.ivao.aero/sessions/52257436 | L37: Accepted | M37: 0.125
A38: 45081.749 | B38: marcelo.saraiva@ivao.aero | C38: 553542 | D38: [25th Anniversary] Europe and Africa - Leg 04 | E38: WSJC_CTR | F38: 45064 | G38: 0.23263889 | H38: 0.32013889 | I38: https://tracker.ivao.aero/sessions/52249215 | L38: Accepted | M38: 0.0875
A39: 45093.321 | B39: santiago.idarraga.ceballos@ivao.aero | C39: 598172 | D39: 25th Anniversary] Americas- Leg 04 | E39: SEFG_CTR | F39: 45064 | G39: 0.72847222 | H39: 0.85902778 | I39: https://tracker.ivao.aero/sessions/52254422 | L39: Accepted | M39: 0.13055556
A40: 45073.72 | B40: victor.rincon@ivao.aero | C40: 606964 | D40: [HQ] Discover Shangai | E40: ZSSS_APP and ZSHA_CTR | F40: 45073 | G40: 0.5 | H40: 0.625 | I40: https://tracker.ivao.aero/sessions/52330755 https://tracker.ivao.aero/sessions/52331465 | L40: Accepted | M40: 0.125
...

Sheet Detail7-198187
A1: Timestamp | B1: Email address | C1: VID: | D1: Event: | E1: ATC Position: | F1: Date: | G1: Start Time: | H1: End Time: | I1: Tracker link: | J1: Comments: | K1: 2nd Tracker link (if needed): | L1: Status: | M1: Duration
A2: 45037.971 | B2: carlo.preziosi@ivao.aero | C2: 198187 | D2: [25th Anniversary] Europe and Africa Leg 02 | E2: FCCC_CTR | F2: 45037 | G2: 0.78611111 | H2: 0.84166667 | I2: https://tracker.ivao.aero/sessions/51982329 | J2: Great work! Great project! Glad to be a part of it. | L2: Accepted | M2: 0.055555556
A3: 45051.085 | B3: carlo.preziosi@ivao.aero | C3: 198187 | D3: [25th Anniversary] Europe and Africa - Leg 03 | E3: HSSK_APP | F3: 45050 | G3: 0.57986111 | H3: 0.6875 | I3: https://tracker.ivao.aero/sessions/52108651 | J3: Thank you guys! :-)) | L3: Accepted | M3: 0.10763889
A4: 45108.48 | B4: carlo.preziosi@ivao.aero | C4: 198187 | D4: [25th Anniversary] The Oceania and Asia Leg 07 | E4: OIIX_S2_CTR | F4: 45107 | G4: 0.74861111 | H4: 0.79930556 | I4: https://tracker.ivao.aero/sessions/52622694 | J4: I have to leave my position before the end of scheduled session due to request by EXE to check VL1 in SCFZ_CTR. For info I got no traffics when leaving. | L4: Accepted | M4: 0.050694444
A5: 45264.99 | B5: carlo.preziosi@ivao.aero | C5: 198187 | D5: [25th Anniversary] Americas- Leg 12 | E5: MDSD_GND | F5: 45177 | G5: 0.88333333 | H5: 0.92986111 | I5: https://tracker.ivao.aero/sessions/53215304 | J5: Sorry for delay | L5: Accepted | M5: 0.046527778
A6: 45264.991 | B6: carlo.preziosi@ivao.aero | C6: 198187 | D6: [25th Anniversary] Americas- Leg 12 | E6: MDSD_TWR | F6: 45177 | G6: 0.92986111 | H6: 0.98888889 | I6: https://tracker.ivao.aero/sessions/53215745 | J6: Sorry for delay | L6: Accepted | M6: 0.059027778
A7: 45265.009 | B7: carlo.preziosi@ivao.aero | C7: 198187 | D7: 25th Anniversary America Edition Leg 14 | E7: MUHA_APP | F7: 45204 | G7: 0.75763889 | H7: 0.95 | I7: https://tracker.ivao.aero/sessions/53434465 | L7: Accepted | M7: 0.19236111
A8: 45265.002 | B8: carlo.preziosi@ivao.aero | C8: 198187 | D8: Lapland | E8: EFKT_APP | F8: 45263 | G8: 0.70555556 | H8: 0.79375 | I8: https://tracker.ivao.aero/sessions/53963187 https://tracker.ivao.aero/sessions/53964167 | J8: 1 Aurora disconnection at 18.06z | L8: Accepted | M8: 0.088194444
A9: 45278.143 | B9: carlo.preziosi@ivao.aero | C9: 198187 | D9: Silver Skies | E9: LIPP_NE2_CTR | F9: 45276 | G9: 0.62430556 | H9: 0.75486111 | I9: https://tracker.ivao.aero/sessions/54075265 | L9: Accepted | M9: 0.13055556
A10: 45303.08 | B10: carlo.preziosi@ivao.aero | C10: 198187 | D10: 11/01/2024 | FWAG - Leg 47 | E10: MDSD_TWR | F10: 45302 | G10: 0.86319444 | H10: 0.94930556 | I10: https://tracker.ivao.aero/sessions/54342874 | J10: Thank you guys! | L10: Accepted | M10: 0.086111111
A11: 45309.2 | B11: carlo.preziosi@ivao.aero | C11: 198187 | D11: 17/01/2024 | FWAG - Leg 48 | E11: MDCS_CTR | F11: 45308 | G11: 0.96111111 | H11: 0.049305556 | I11: https://tracker.ivao.aero/sessions/54410180 | J11: Thank you guys! :-)) | L11: Accepted | M11: -0.91180556
A12: 45313.109 | B12: carlo.preziosi@ivao.aero | C12: 198187 | D12: 21/01/2024 | [HQ] Discover Antigua | E12: TRPG_TWR | F12: 45312 | G12: 0.87708333 | H12: 0.92291667 | I12: https://tracker.ivao.aero/sessions/54454762 | L12: Accepted | M12: 0.045833333
A13: 45313.11 | B13: carlo.preziosi@ivao.aero | C13: 198187 | D13: 21/01/2024 | [HQ] Discover Antigua | E13: TAPA_TWR | F13: 45312 | G13: 0.92361111 | H13: 0.98055556 | I13: https://tracker.ivao.aero/sessions/54455373 | L13: Accepted | M13: 0.056944444
A14: 45321.06 | B14: carlo.preziosi@ivao.aero | C14: 198187 | D14: 28/01/2024 Margarita MSE | E14: SYGC_CTR | F14: 45319 | G14: 0.90625 | H14: 0.98125 | I14: https://tracker.ivao.aero/sessions/54529609 | L14: Accepted | M14: 0.075
A15: 45330.493 | B15: carlo.preziosi@ivao.aero | C15: 198187 | D15: 07/02/2024 | FWAG - Leg 49 | E15: MUHA_APP | F15: 45329 | G15: 0.92013889 | H15: 0.014583333 | I15: https://tracker.ivao.aero/sessions/54631359 | L15: Accepted | M15: -0.90555556
A16: 45332.134 | B16: carlo.preziosi@ivao.aero | C16: 198187 | D16: 09/02/2024 | The 2nd Connect Event | E16: MDSD_TWR | F16: 45331 | G16: 0.79097222 | H16: 0.0069444444 | I16: https://tracker.ivao.aero/sessions/54648443 | L16: Accepted | M16: -0.78402778
A17: 45353.599 | B17: carlo.preziosi@ivao.aero | C17: 198187 | D17: 01/03/2024 | Warsaw Single Runway Operations | E17: EPWW_E_CTR | F17: 45352 | G17: 0.58333333 | H17: 0.66666667 | I17: https://tracker.ivao.aero/sessions/54868613 | J17: Thank you guys! | L17: Accepted
A18: 45353.904 | B18: carlo.preziosi@ivao.aero | C18: 198187 | D18: 02/03/2024 | Discover Aden | E18: OYSC_CTR | F18: 45353 | G18: 0.58541667 | H18: 0.71319444 | I18: https://tracker.ivao.aero/sessions/54880182 | J18: Thank you guys! :-)) | L18: Accepted
A19: 45369.663 | B19: carlo.preziosi@ivao.aero | C19: 198187 | D19: 17/03/2024 | Mashhad RFE | E19: OIMM_APP | F19: 45368 | G19: 0.58541667 | H19: 0.62916667 | I19: https://tracker.ivao.aero/sessions/55034907 | L19: Accepted
A20: 45376.626 | B20: carlo.preziosi@ivao.aero | C20: 198187 | D20: 24/03/2024 | Indian Ocean Crossing | E20: VLVT_CTR | F20: 45375 | G20: 0.47152778 | H20: 0.53958333 | I20: https://tracker.ivao.aero/sessions/55103731 | L20: Accepted
A21: 45376.627 | B21: carlo.preziosi@ivao.aero | C21: 198187 | D21: 24/03/2024 | Indian Ocean Crossing | E21: VECF_OC_CTR | F21: 45375 | G21: 0.54027778 | H21: 0.66666667 | I21: https://tracker.ivao.aero/sessions/55104766 | L21: Accepted
