Workbook

Sheet Poutre iso precontrainte
D1: Determination de l'effort de precontrainte P et de l'exencricité e0 d'une poutre isostatique
E5: Caracteristiques
E6: Geometrique
E7: H(m) | H7: ='Caracteristiques geometriques'!E19 -> 0.8
E8: V (m) | H8: ='Caracteristiques geometriques'!E20 -> 0.34
E9: V' (m) | H9: ='Caracteristiques geometriques'!E21 -> 0.46
E10: Igz (m4) | H10: ='Caracteristiques geometriques'!E22 -> 0.023093333
E11: Rendement | H11: ='Caracteristiques geometriques'!E23 -> 0.36913896
E12: d' (m) | H12: 0.1
E13: Materiaux
E14: Fck (Mpa) | H14: 40
E15: σt (Mpa) | H15: 0
E16: σc (Mpa) | H16: =0.6*H14 -> 24 | J16: (combinaison caracteristique)
E17: Fyk (Mpa) | H17: 500
E18: Solicitations
E19: Mmax (MN.m) | H19: 1.5
E20: Mmin (MN.m) | H20: 0.5
E24: Calculs | K24: Verification | R24: On s'impose e0
E25: P (MN) | H25: =(H19-H20)/(H11*H7)+('Caracteristiques geometriques'!F$16/'Poutre iso precontrainte'!H7:I7)*('Poutre iso precontrainte'!H8:I8*'Poutre iso precontrainte'!H15:I15+'Poutre iso precontrainte'!H9:I9*'Poutre iso precontrainte'!H15:I15) -> 3.3862587 | K25: Section | R25: On autorise une contrainte de traction non nulle
E26: e0 (m) (1) | H26: =H11*H8-(H19/H25)-((H11*'Caracteristiques geometriques'!F16*'Poutre iso precontrainte'!H8:I8*'Poutre iso precontrainte'!H15:I15)/'Poutre iso precontrainte'!H25:I25) -> -0.31745951 | K26: =IF(H26>-(H9-H12),"La section est SOUS CRITIQUE","La section est SUR CRITIQUE") -> La section est SOUS CRITIQUE | R26: Calculs
E27: e0 (m) (2) | H27: =-H11*H9-(H20/H25)+((H11*'Caracteristiques geometriques'!F16*'Poutre iso precontrainte'!H9:I9*'Poutre iso precontrainte'!H15:I15)/'Poutre iso precontrainte'!H25:I25) -> -0.31745951 | R27: e0 (m) | U27: =-(H9-H12) -> -0.36
E28: Verification | R28: σt (Mpa) | U28: =-0.3*H14^(2/3) -> -3.5088213
R29: P sur (MN) | U29: =(H19+H11*'Caracteristiques geometriques'!F16*H8*U28)/(H11*H8+H9-H12) -> 2.7267296
R30: Verification
K31: Contrainte de compression du beton | R31: Contrainte de compression du beton
J32: avec Mmax | K32: σc sup | N32: =H25/'Caracteristiques geometriques'!F16+H25*H26/(H10/H8)+H19/(H10/H8) -> 14.722864 | O32: Mpa | Q32: avec Mmax | R32: σc sup | U32: =U29/'Caracteristiques geometriques'!F16+U29*U27/(H10/H8)+(H19/(H10/H8)) -> 14.448823 | V32: Mpa
J33: avec Mmin | K33: σc inf | N33: =H25/'Caracteristiques geometriques'!F16-H25*H26/(H10/H9)-H20/(H10/H9) -> 19.919169 | O33: Mpa | Q33: avec Mmin | R33: σc inf | U33: =U29/'Caracteristiques geometriques'!F16-U29*U27/(H10/H9)-(H20/(H10/H9)) -> 16.410347 | V33: Mpa
K35: =IF(AND(N32,N33<H16),"La contrainte de compression est vérifié","PB! La contrainte de compression est dépassée") -> La contrainte de compression est vérifié
R36: =IF(AND(U32,U33<H16),"La contrainte de compression est vérifié","PB! La contrainte de compression est dépassée") -> La contrainte de compression est vérifié
G38: Pas d'effort de traction
G39: Pas d'aciers passifs | O39: =+N32 -> 14.722864 | P39: Mpa | Q39: Effort de traction | X39: =U32 -> 14.448823 | Y39: Mpa
G40: Pas de fissurations | Q40: Aciers passifs
Q41: Fissurations
M47: 0
U48: =U28 -> -3.5088213 | V48: Mpa
K49: Diagramme sous Mmax | T49: Diagramme sous Mmax
R51: Aciers passifs a mettre en œuvre
R52: Hc | U52: =-'Caracteristiques geometriques'!E19*U48/X39 -> 0.19427583 | V52: m
R53: Bt | U53: =U52*T64 -> 0.077710331 | V53: m²
R54: NBt | U54: =-U48*U53*U52/2 -> 0.026486757 | V54: MN
R55: As acier passifs | U55: =(U53/1000+(U54/(-U48))*(H14/H17))*100*100 -> 6.8159989 | V55: cm²
S60: NBt | V60: Hc
T64: =0.4 -> 0.4

Sheet Caracteristiques geometriques
B2: Caracteristiques geometrique de la poutre
D5: b (m) | E5: h (m) | F5: Si (m) | G5: dz (m) | H5: Si*dz (m3) | I5: Izi | J5: Iz
B6: Rectangle | C6: 1 | D6: 0.8 | E6: 0.2 | F6: =D6*E6 -> 0.16 | G6: 0.1 | H6: =F6*G6 -> 0.016 | I6: =(D6*E6^3)/12 -> 0.00053333333 | J6: =I6+F6*G6^2 -> 0.0021333333
B7: Rectangle | C7: 2 | D7: 0.4 | E7: 0.6 | F7: =D7*E7 -> 0.24 | G7: 0.5 | H7: =F7*G7 -> 0.12 | I7: =(D7*E7^3)/12 -> 0.0072 | J7: =I7+F7*G7^2 -> 0.0672
B8: Rectangle | C8: 3 | D8: 0 | E8: 0 | F8: =D8*E8 -> 0 | G8: 0 | H8: =F8*G8 -> 0 | I8: =(D8*E8^3)/12 -> 0 | J8: =I8+F8*G8^2 -> 0
B9: Rectangle | C9: 4 | F9: =D9*E9 -> 0 | H9: =F9*G9 -> 0 | I9: =(D9*E9^3)/12 -> 0 | J9: =I9+F9*G9^2 -> 0
B10: Rectangle | C10: 5 | F10: =D10*E10 -> 0 | H10: =F10*G10 -> 0 | I10: =(D10*E10^3)/12 -> 0 | J10: =I10+F10*G10^2 -> 0
B11: Triangle | C11: 1 | D11: 0 | E11: 0 | F11: =(D11*E11)/2 -> 0 | G11: 0 | H11: =(F11*G11) -> 0 | I11: =(D11*E11^3)/36 -> 0 | J11: =I11+F11*G11^2 -> 0
B12: Triangle | C12: 2 | D12: 0 | E12: 0 | F12: =(D12*E12)/2 -> 0 | G12: 0 | H12: =(F12*G12) -> 0 | I12: =(D12*E12^3)/36 -> 0 | J12: =I12+F12*G12^2 -> 0
B13: Triangle | C13: 3 | F13: =(D13*E13)/2 -> 0 | H13: =(F13*G13) -> 0 | I13: =(D13*E13^3)/36 -> 0 | J13: =I13+F13*G13^2 -> 0
B14: Triangle | C14: 4 | F14: =(D14*E14)/2 -> 0 | H14: =(F14*G14) -> 0 | I14: =(D14*E14^3)/36 -> 0 | J14: =I14+F14*G14^2 -> 0
B15: Triangle | C15: 5 | F15: =(D15*E15)/2 -> 0 | H15: =(F15*G15) -> 0 | I15: =(D15*E15^3)/36 -> 0 | J15: =I15+F15*G15^2 -> 0
E16: S totale = | F16: =SUM(F6:F15) -> 0.4 | H16: =SUM(H6:H15) -> 0.136 | I16: Igz poutre = | J16: =SUM(J6:J15) -> 0.069333333
B18: Caracteristiques
B19: H (m) | E19: 0.8
B20: V (m) | E20: =H16/F16 -> 0.34
B21: V' (m) | E21: =E19-E20 -> 0.46
B22: Igz (m4) | E22: =J$16-F16*(E20^2) -> 0.023093333
B23: Rendement | E23: =E$22/(F16*E20*E21) -> 0.36913896

Sheet Feuil3
