Workbook

Sheet Sommaire
H1: 43101
B2: Sommaire de l'état d'avancement : | H2: =TODAY() -> 43679
D3: Au calendrier | H3: =DATEDIF(H1,H2,"m") -> 19
D5: =DATEDIF(H1,H2,"m")&" Mois" -> 19 Mois | F5: =+H3/48 -> 0.39583333 | H5: 12000
B7: Cibles par axe | D7: Résultats | F7: % de cible | G7: Enjeux
B9: 1 | C9: Logements sociaux et communautaires | D9: =LOOKUP(9^9,BD!D5:D52) -> 2233 | F9: =LOOKUP(9^9,BD!E5:E52) -> 0 | G9: Cible globale de 6000 unités. Léger retard de 300 unités ED dans le rythme des engagements. A combler en 2020-2021.
B11: 2 | C11: Inclusion (volet abordable) | D11: =LOOKUP(9^9,BD!F5:F52) -> 860 | F11: =LOOKUP(9^9,BD!G5:G52) -> #N/A | G11: Cible globale de 1000 unités. Devrait être atteinte en 2019.
B13: 3 | C13: Innovation - logements abordables | D13: =LOOKUP(9^9,BD!H5:H52) -> 451 | F13: =LOOKUP(9^9,BD!I5:I52) -> #N/A | G13: Cible globale de 1000 unités. Devrait être atteinte en 2020.
B15: 4 | C15: Sauvegarde d'unités abordable et sociales | D15: =LOOKUP(9^9,BD!J5:J52) -> 108 | F15: =LOOKUP(9^9,BD!K5:K52) -> #N/A | G15: Cible globale de 1000 unités. Accélération prévue avec les modifications apportées au programme d'aide à la rénovation majeur (Ville), et l'arrivée des programmes fédéreaux de refinancement de logements sociaux en 2020.
B17: 5 | C17: Développement et aide à l'acquisition de propriétés abordables | D17: =LOOKUP(9^9,BD!L5:L52) -> 1756 | F17: =LOOKUP(9^9,BD!M5:M52) -> #N/A | G17: Cible globale de 3500 ménages ou unités. Retard dans le programme Accès Condo de la SHDM (148 unités sur 500 visées), compensé par la progression du programme d'aide à l'acquisition résidentielle.
C19: Total | D19: =SUM(D9:D18) -> 5408 | F19: =+D19/H5 -> 0.45066667

Sheet BD
A1: Service de l'habitation
A2: Cibles et résultats : Stratégie 12 000 logements
A3: /mois | B3: 43101 | E3: 6000 | G3: 1000 | I3: 1000 | K3: 1000 | M3: 3500 | N3: 12000
A4: Mois | B4: Temps écoulé | D4: Axe 1 | E4: % | F4: Axe 2 | G4: % | H4: Axe 3 | I4: % | J4: Axe 4 | K4: % | L4: Axe 5 | M4: % | N4: Total | O4: %
A5: =EOMONTH($B$3,0) -> 43131 | B5: =+C5/C52 -> 0.020833333 | C5: 1 | D5: 0 | E5: =+D5/$E$3 -> 0 | F5: 29 | H5: 0 | N5: =D5+F5+H5+J5+L5 -> 29 | O5: =+N5/12000 -> 0.0024166667
A6: =EOMONTH($B$3,C5) -> 43159 | B6: =+C6/C52 -> 0.041666667 | C6: 2 | D6: =28+42 -> 70 | E6: =+D6/$E$3 -> 0.011666667 | F6: 29 | H6: 0 | N6: =D6+F6+H6+J6+L6 -> 99 | O6: =+N6/12000 -> 0.00825
A7: =EOMONTH($B$3,C6) -> 43190 | B7: =+C7/C52 -> 0.0625 | C7: 3 | D7: =28+91 -> 119 | E7: =+D7/$E$3 -> 0.019833333 | F7: 29 | H7: 0 | N7: =D7+F7+H7+J7+L7 -> 148 | O7: =+N7/12000 -> 0.012333333
A8: =EOMONTH($B$3,C7) -> 43220 | B8: =+C8/C52 -> 0.083333333 | C8: 4 | D8: =214+28 -> 242 | E8: =+D8/$E$3 -> 0.040333333 | F8: 112 | H8: 0 | N8: =D8+F8+H8+J8+L8 -> 354 | O8: =+N8/12000 -> 0.0295
A9: =EOMONTH($B$3,C8) -> 43251 | B9: =+C9/C52 -> 0.10416667 | C9: 5 | D9: 242 | E9: =+D9/$E$3 -> 0.040333333 | F9: 162 | H9: 0 | N9: =D9+F9+H9+J9+L9 -> 404 | O9: =+N9/12000 -> 0.033666667
A10: =EOMONTH($B$3,C9) -> 43281 | B10: =+C10/C52 -> 0.125 | C10: 6 | D10: 291 | E10: =+D10/$E$3 -> 0.0485 | F10: 193 | H10: 0 | N10: =D10+F10+H10+J10+L10 -> 484 | O10: =+N10/12000 -> 0.040333333
A11: =EOMONTH($B$3,C10) -> 43312 | B11: =+C11/C52 -> 0.14583333 | C11: 7 | D11: 316 | E11: =+D11/$E$3 -> 0.052666667 | F11: 237 | H11: 0 | N11: =D11+F11+H11+J11+L11 -> 553 | O11: =+N11/12000 -> 0.046083333
A12: =EOMONTH($B$3,C11) -> 43343 | B12: =+C12/C52 -> 0.16666667 | C12: 8 | D12: 393 | E12: =+D12/$E$3 -> 0.0655 | F12: 237 | H12: 151 | N12: =D12+F12+H12+J12+L12 -> 781 | O12: =+N12/12000 -> 0.065083333
A13: =EOMONTH($B$3,C12) -> 43373 | B13: =+C13/C52 -> 0.1875 | C13: 9 | D13: 827 | E13: =+D13/$E$3 -> 0.13783333 | F13: 237 | H13: 295 | N13: =D13+F13+H13+J13+L13 -> 1359 | O13: =+N13/12000 -> 0.11325
A14: =EOMONTH($B$3,C13) -> 43404 | B14: =+C14/C52 -> 0.20833333 | C14: 10 | D14: 832 | E14: =+D14/$E$3 -> 0.13866667 | F14: 237 | H14: 295 | J14: 108 | L14: 450 | N14: =D14+F14+H14+J14+L14 -> 1922 | O14: =+N14/12000 -> 0.16016667
A15: =EOMONTH($B$3,C14) -> 43434 | B15: =+C15/C52 -> 0.22916667 | C15: 11 | D15: 832 | E15: =+D15/$E$3 -> 0.13866667 | F15: 237 | H15: 451 | J15: 108 | L15: 693 | N15: =D15+F15+H15+J15+L15 -> 2321 | O15: =+N15/12000 -> 0.19341667
A16: =EOMONTH($B$3,C15) -> 43465 | B16: =+C16/C52 -> 0.25 | C16: 12 | D16: 1053 | E16: =+D16/$E$3 -> 0.1755 | F16: 613 | H16: 451 | J16: 108 | L16: 904 | N16: =D16+F16+H16+J16+L16 -> 3129 | O16: =+N16/12000 -> 0.26075
A17: =EOMONTH($B$3,C16) -> 43496 | B17: =+C17/C52 -> 0.27083333 | C17: 13 | D17: 2073 | E17: =+D17/$E$3 -> 0.3455 | F17: 237 | H17: 451 | J17: 108 | L17: 953 | N17: =D17+F17+H17+J17+L17 -> 3822 | O17: =+N17/12000 -> 0.3185
A18: =EOMONTH($B$3,C17) -> 43524 | B18: =+C18/C52 -> 0.29166667 | C18: 14 | D18: 2093 | E18: =+D18/$E$3 -> 0.34883333 | F18: 237 | H18: 451 | J18: 108 | L18: 1080 | N18: =D18+F18+H18+J18+L18 -> 3969 | O18: =+N18/12000 -> 0.33075
A19: =EOMONTH($B$3,C18) -> 43555 | B19: =+C19/C52 -> 0.3125 | C19: 15 | D19: 2093 | E19: =+D19/$E$3 -> 0.34883333 | F19: 237 | H19: 451 | J19: 108 | L19: 1080 | N19: =D19+F19+H19+J19+L19 -> 3969 | O19: =+N19/12000 -> 0.33075
A20: =EOMONTH($B$3,C19) -> 43585 | B20: =+C20/C52 -> 0.33333333 | C20: 16 | D20: 2093 | E20: =+D20/$E$3 -> 0.34883333 | F20: 237 | H20: 451 | J20: 108 | L20: 1080 | N20: =D20+F20+H20+J20+L20 -> 3969 | O20: =+N20/12000 -> 0.33075
A21: =EOMONTH($B$3,C20) -> 43616 | B21: =+C21/C52 -> 0.35416667 | C21: 17 | D21: 2233 | E21: =+D21/$E$3 -> 0.37216667 | F21: 860 | H21: 451 | J21: 108 | L21: 1684 | N21: =D21+F21+H21+J21+L21 -> 5336 | O21: =+N21/12000 -> 0.44466667
A22: =EOMONTH($B$3,C21) -> 43646 | B22: =+C22/C52 -> 0.375 | C22: 18 | D22: 2233 | E22: =+D22/$E$3 -> 0.37216667 | F22: 860 | H22: 451 | J22: 108 | L22: 1756 | N22: =D22+F22+H22+J22+L22 -> 5408 | O22: =+N22/12000 -> 0.45066667
A23: =EOMONTH($B$3,C22) -> 43677 | B23: =+C23/C52 -> 0.39583333 | C23: 19 | E23: =+D23/$E$3 -> 0 | N23: =D23+F23+H23+J23+L23 -> 0 | O23: =+N23/12000 -> 0
A24: =EOMONTH($B$3,C23) -> 43708 | B24: =+C24/C52 -> 0.41666667 | C24: 20 | E24: =+D24/$E$3 -> 0 | N24: =D24+F24+H24+J24+L24 -> 0 | O24: =+N24/12000 -> 0
A25: =EOMONTH($B$3,C24) -> 43738 | B25: =+C25/C52 -> 0.4375 | C25: 21 | E25: =+D25/$E$3 -> 0 | N25: =D25+F25+H25+J25+L25 -> 0 | O25: =+N25/12000 -> 0
A26: =EOMONTH($B$3,C25) -> 43769 | B26: =+C26/C52 -> 0.45833333 | C26: 22 | E26: =+D26/$E$3 -> 0 | N26: =D26+F26+H26+J26+L26 -> 0 | O26: =+N26/12000 -> 0
A27: =EOMONTH($B$3,C26) -> 43799 | B27: =+C27/C52 -> 0.47916667 | C27: 23 | E27: =+D27/$E$3 -> 0 | N27: =D27+F27+H27+J27+L27 -> 0 | O27: =+N27/12000 -> 0
A28: =EOMONTH($B$3,C27) -> 43830 | B28: =+C28/C52 -> 0.5 | C28: 24 | E28: =+D28/$E$3 -> 0 | N28: =D28+F28+H28+J28+L28 -> 0 | O28: =+N28/12000 -> 0
A29: =EOMONTH($B$3,C28) -> 43861 | B29: =+C29/C52 -> 0.52083333 | C29: 25 | E29: =+D29/$E$3 -> 0 | N29: =D29+F29+H29+J29+L29 -> 0 | O29: =+N29/12000 -> 0
A30: =EOMONTH($B$3,C29) -> 43890 | B30: =+C30/C52 -> 0.54166667 | C30: 26 | E30: =+D30/$E$3 -> 0 | N30: =D30+F30+H30+J30+L30 -> 0 | O30: =+N30/12000 -> 0
A31: =EOMONTH($B$3,C30) -> 43921 | B31: =+C31/C52 -> 0.5625 | C31: 27 | E31: =+D31/$E$3 -> 0 | N31: =D31+F31+H31+J31+L31 -> 0 | O31: =+N31/12000 -> 0
A32: =EOMONTH($B$3,C31) -> 43951 | B32: =+C32/C52 -> 0.58333333 | C32: 28 | E32: =+D32/$E$3 -> 0 | N32: =D32+F32+H32+J32+L32 -> 0 | O32: =+N32/12000 -> 0
A33: =EOMONTH($B$3,C32) -> 43982 | B33: =+C33/C52 -> 0.60416667 | C33: 29 | E33: =+D33/$E$3 -> 0 | N33: =D33+F33+H33+J33+L33 -> 0 | O33: =+N33/12000 -> 0
A34: =EOMONTH($B$3,C33) -> 44012 | B34: =+C34/C52 -> 0.625 | C34: 30 | E34: =+D34/$E$3 -> 0 | N34: =D34+F34+H34+J34+L34 -> 0 | O34: =+N34/12000 -> 0
A35: =EOMONTH($B$3,C34) -> 44043 | B35: =+C35/C52 -> 0.64583333 | C35: 31 | E35: =+D35/$E$3 -> 0 | N35: =D35+F35+H35+J35+L35 -> 0 | O35: =+N35/12000 -> 0
A36: =EOMONTH($B$3,C35) -> 44074 | B36: =+C36/C52 -> 0.66666667 | C36: 32 | E36: =+D36/$E$3 -> 0 | N36: =D36+F36+H36+J36+L36 -> 0 | O36: =+N36/12000 -> 0
A37: =EOMONTH($B$3,C36) -> 44104 | B37: =+C37/C52 -> 0.6875 | C37: 33 | E37: =+D37/$E$3 -> 0 | N37: =D37+F37+H37+J37+L37 -> 0 | O37: =+N37/12000 -> 0
A38: =EOMONTH($B$3,C37) -> 44135 | B38: =+C38/C52 -> 0.70833333 | C38: 34 | E38: =+D38/$E$3 -> 0 | N38: =D38+F38+H38+J38+L38 -> 0 | O38: =+N38/12000 -> 0
A39: =EOMONTH($B$3,C38) -> 44165 | B39: =+C39/C52 -> 0.72916667 | C39: 35 | E39: =+D39/$E$3 -> 0 | N39: =D39+F39+H39+J39+L39 -> 0 | O39: =+N39/12000 -> 0
A40: =EOMONTH($B$3,C39) -> 44196 | B40: =+C40/C52 -> 0.75 | C40: 36 | E40: =+D40/$E$3 -> 0 | N40: =D40+F40+H40+J40+L40 -> 0 | O40: =+N40/12000 -> 0
A41: =EOMONTH($B$3,C40) -> 44227 | B41: =+C41/C52 -> 0.77083333 | C41: 37 | E41: =+D41/$E$3 -> 0 | N41: =D41+F41+H41+J41+L41 -> 0 | O41: =+N41/12000 -> 0
A42: =EOMONTH($B$3,C41) -> 44255 | B42: =+C42/C52 -> 0.79166667 | C42: 38 | E42: =+D42/$E$3 -> 0 | N42: =D42+F42+H42+J42+L42 -> 0 | O42: =+N42/12000 -> 0
A43: =EOMONTH($B$3,C42) -> 44286 | B43: =+C43/C52 -> 0.8125 | C43: 39 | E43: =+D43/$E$3 -> 0 | N43: =D43+F43+H43+J43+L43 -> 0 | O43: =+N43/12000 -> 0
A44: =EOMONTH($B$3,C43) -> 44316 | B44: =+C44/C52 -> 0.83333333 | C44: 40 | E44: =+D44/$E$3 -> 0 | N44: =D44+F44+H44+J44+L44 -> 0 | O44: =+N44/12000 -> 0
A45: =EOMONTH($B$3,C44) -> 44347 | B45: =+C45/C52 -> 0.85416667 | C45: 41 | E45: =+D45/$E$3 -> 0 | N45: =D45+F45+H45+J45+L45 -> 0 | O45: =+N45/12000 -> 0
A46: =EOMONTH($B$3,C45) -> 44377 | B46: =+C46/C52 -> 0.875 | C46: 42 | E46: =+D46/$E$3 -> 0 | N46: =D46+F46+H46+J46+L46 -> 0 | O46: =+N46/12000 -> 0
A47: =EOMONTH($B$3,C46) -> 44408 | B47: =+C47/C52 -> 0.89583333 | C47: 43 | E47: =+D47/$E$3 -> 0 | N47: =D47+F47+H47+J47+L47 -> 0 | O47: =+N47/12000 -> 0
A48: =EOMONTH($B$3,C47) -> 44439 | B48: =+C48/C52 -> 0.91666667 | C48: 44 | E48: =+D48/$E$3 -> 0 | N48: =D48+F48+H48+J48+L48 -> 0 | O48: =+N48/12000 -> 0
A49: =EOMONTH($B$3,C48) -> 44469 | B49: =+C49/C52 -> 0.9375 | C49: 45 | E49: =+D49/$E$3 -> 0 | N49: =D49+F49+H49+J49+L49 -> 0 | O49: =+N49/12000 -> 0
A50: =EOMONTH($B$3,C49) -> 44500 | B50: =+C50/C52 -> 0.95833333 | C50: 46 | E50: =+D50/$E$3 -> 0 | N50: =D50+F50+H50+J50+L50 -> 0 | O50: =+N50/12000 -> 0
A51: =EOMONTH($B$3,C50) -> 44530 | B51: =+C51/C52 -> 0.97916667 | C51: 47 | E51: =+D51/$E$3 -> 0 | N51: =D51+F51+H51+J51+L51 -> 0 | O51: =+N51/12000 -> 0
A52: =EOMONTH($B$3,C51) -> 44561 | B52: =+C52/C52 -> 1 | C52: 48 | E52: =+D52/$E$3 -> 0 | N52: =D52+F52+H52+J52+L52 -> 0 | O52: =+N52/12000 -> 0

Sheet BD (1)
A1: Service de l'habitation
A2: Cibles et résultats : Stratégie 12 000 logements
A3: /mois
A4: Mois | B4: Temps écoulé | D4: Axe 1 | E4: % | F4: Axe 2 | G4: % | H4: Axe 3 | I4: % | J4: Axe 4 | K4: % | L4: Axe 5 | M4: % | N4: Total | O4: %
A5: 43131 | B5: =+C5/C52 -> 0.020833333 | C5: 1 | D5: 0 | F5: 29 | H5: 0 | N5: =D5+F5+H5+J5+L5 -> 29 | O5: =+N5/12000 -> 0.0024166667
A6: 43159 | B6: =+C6/C52 -> 0.041666667 | C6: 2 | D6: =28+42 -> 70 | F6: 29 | H6: 0 | N6: =D6+F6+H6+J6+L6 -> 99 | O6: =+N6/12000 -> 0.00825
A7: 43190 | B7: =+C7/C52 -> 0.0625 | C7: 3 | D7: =28+91 -> 119 | F7: 29 | H7: 0 | N7: =D7+F7+H7+J7+L7 -> 148 | O7: =+N7/12000 -> 0.012333333
A8: 43220 | B8: =+C8/C52 -> 0.083333333 | C8: 4 | D8: =214+28 -> 242 | F8: 112 | H8: 0 | N8: =D8+F8+H8+J8+L8 -> 354 | O8: =+N8/12000 -> 0.0295
A9: 43251 | B9: =+C9/C52 -> 0.10416667 | C9: 5 | D9: 242 | F9: 162 | H9: 0 | N9: =D9+F9+H9+J9+L9 -> 404 | O9: =+N9/12000 -> 0.033666667
A10: 43281 | B10: =+C10/C52 -> 0.125 | C10: 6 | D10: 291 | F10: 193 | H10: 0 | N10: =D10+F10+H10+J10+L10 -> 484 | O10: =+N10/12000 -> 0.040333333
A11: 43312 | B11: =+C11/C52 -> 0.14583333 | C11: 7 | D11: 316 | F11: 237 | H11: 0 | N11: =D11+F11+H11+J11+L11 -> 553 | O11: =+N11/12000 -> 0.046083333
A12: 43343 | B12: =+C12/C52 -> 0.16666667 | C12: 8 | D12: 393 | F12: 237 | H12: 151 | N12: =D12+F12+H12+J12+L12 -> 781 | O12: =+N12/12000 -> 0.065083333
A13: 43373 | B13: =+C13/C52 -> 0.1875 | C13: 9 | D13: 827 | F13: 237 | H13: 295 | N13: =D13+F13+H13+J13+L13 -> 1359 | O13: =+N13/12000 -> 0.11325
A14: 43404 | B14: =+C14/C52 -> 0.20833333 | C14: 10 | D14: 832 | F14: 237 | H14: 295 | J14: 108 | L14: 450 | N14: =D14+F14+H14+J14+L14 -> 1922 | O14: =+N14/12000 -> 0.16016667
A15: 43434 | B15: =+C15/C52 -> 0.22916667 | C15: 11 | D15: 832 | F15: 237 | H15: 451 | J15: 108 | L15: 693 | N15: =D15+F15+H15+J15+L15 -> 2321 | O15: =+N15/12000 -> 0.19341667
A16: 43465 | B16: =+C16/C52 -> 0.25 | C16: 12 | D16: 1053 | F16: 613 | H16: 451 | J16: 108 | L16: 904 | N16: =D16+F16+H16+J16+L16 -> 3129 | O16: =+N16/12000 -> 0.26075
A17: 43496 | B17: =+C17/C52 -> 0.27083333 | C17: 13 | D17: 2073 | F17: 237 | H17: 451 | J17: 108 | L17: 953 | N17: =D17+F17+H17+J17+L17 -> 3822 | O17: =+N17/12000 -> 0.3185
A18: 43524 | B18: =+C18/C52 -> 0.29166667 | C18: 14 | D18: 2093 | F18: 237 | H18: 451 | J18: 108 | L18: 1080 | N18: =D18+F18+H18+J18+L18 -> 3969 | O18: =+N18/12000 -> 0.33075
A19: 43555 | B19: =+C19/C52 -> 0.3125 | C19: 15 | D19: 2093 | F19: 237 | H19: 451 | J19: 108 | L19: 1080 | N19: =D19+F19+H19+J19+L19 -> 3969 | O19: =+N19/12000 -> 0.33075
A20: 43585 | B20: =+C20/C52 -> 0.33333333 | C20: 16 | D20: 2093 | F20: 237 | H20: 451 | J20: 108 | L20: 1080 | N20: =D20+F20+H20+J20+L20 -> 3969 | O20: =+N20/12000 -> 0.33075
A21: 43616 | B21: =+C21/C52 -> 0.35416667 | C21: 17 | D21: 2233 | F21: 860 | H21: 451 | J21: 108 | L21: 1684 | N21: =D21+F21+H21+J21+L21 -> 5336 | O21: =+N21/12000 -> 0.44466667
A22: 43646 | B22: =+C22/C52 -> 0.375 | C22: 18 | D22: 2233 | F22: 860 | H22: 451 | J22: 108 | L22: 1756 | N22: =D22+F22+H22+J22+L22 -> 5408 | O22: =+N22/12000 -> 0.45066667
A23: 43677 | B23: =+C23/C52 -> 0.39583333 | C23: 19 | N23: =D23+F23+H23+J23+L23 -> 0 | O23: =+N23/12000 -> 0
A24: 43708 | B24: =+C24/C52 -> 0.41666667 | C24: 20 | N24: =D24+F24+H24+J24+L24 -> 0 | O24: =+N24/12000 -> 0
A25: 43738 | B25: =+C25/C52 -> 0.4375 | C25: 21 | N25: =D25+F25+H25+J25+L25 -> 0 | O25: =+N25/12000 -> 0
A26: 43769 | B26: =+C26/C52 -> 0.45833333 | C26: 22 | N26: =D26+F26+H26+J26+L26 -> 0 | O26: =+N26/12000 -> 0
A27: 43799 | B27: =+C27/C52 -> 0.47916667 | C27: 23 | N27: =D27+F27+H27+J27+L27 -> 0 | O27: =+N27/12000 -> 0
A28: 43830 | B28: =+C28/C52 -> 0.5 | C28: 24 | N28: =D28+F28+H28+J28+L28 -> 0 | O28: =+N28/12000 -> 0
A29: 43861 | B29: =+C29/C52 -> 0.52083333 | C29: 25 | N29: =D29+F29+H29+J29+L29 -> 0 | O29: =+N29/12000 -> 0
A30: 43890 | B30: =+C30/C52 -> 0.54166667 | C30: 26 | N30: =D30+F30+H30+J30+L30 -> 0 | O30: =+N30/12000 -> 0
A31: 43921 | B31: =+C31/C52 -> 0.5625 | C31: 27 | N31: =D31+F31+H31+J31+L31 -> 0 | O31: =+N31/12000 -> 0
A32: 43951 | B32: =+C32/C52 -> 0.58333333 | C32: 28 | N32: =D32+F32+H32+J32+L32 -> 0 | O32: =+N32/12000 -> 0
A33: 43982 | B33: =+C33/C52 -> 0.60416667 | C33: 29 | N33: =D33+F33+H33+J33+L33 -> 0 | O33: =+N33/12000 -> 0
A34: 44012 | B34: =+C34/C52 -> 0.625 | C34: 30 | N34: =D34+F34+H34+J34+L34 -> 0 | O34: =+N34/12000 -> 0
A35: 44043 | B35: =+C35/C52 -> 0.64583333 | C35: 31 | N35: =D35+F35+H35+J35+L35 -> 0 | O35: =+N35/12000 -> 0
A36: 44074 | B36: =+C36/C52 -> 0.66666667 | C36: 32 | N36: =D36+F36+H36+J36+L36 -> 0 | O36: =+N36/12000 -> 0
A37: 44104 | B37: =+C37/C52 -> 0.6875 | C37: 33 | N37: =D37+F37+H37+J37+L37 -> 0 | O37: =+N37/12000 -> 0
A38: 44135 | B38: =+C38/C52 -> 0.70833333 | C38: 34 | N38: =D38+F38+H38+J38+L38 -> 0 | O38: =+N38/12000 -> 0
A39: 44165 | B39: =+C39/C52 -> 0.72916667 | C39: 35 | N39: =D39+F39+H39+J39+L39 -> 0 | O39: =+N39/12000 -> 0
A40: 44196 | B40: =+C40/C52 -> 0.75 | C40: 36 | N40: =D40+F40+H40+J40+L40 -> 0 | O40: =+N40/12000 -> 0
A41: 44227 | B41: =+C41/C52 -> 0.77083333 | C41: 37 | N41: =D41+F41+H41+J41+L41 -> 0 | O41: =+N41/12000 -> 0
A42: 44255 | B42: =+C42/C52 -> 0.79166667 | C42: 38 | N42: =D42+F42+H42+J42+L42 -> 0 | O42: =+N42/12000 -> 0
A43: 44286 | B43: =+C43/C52 -> 0.8125 | C43: 39 | N43: =D43+F43+H43+J43+L43 -> 0 | O43: =+N43/12000 -> 0
A44: 44316 | B44: =+C44/C52 -> 0.83333333 | C44: 40 | N44: =D44+F44+H44+J44+L44 -> 0 | O44: =+N44/12000 -> 0
A45: 44347 | B45: =+C45/C52 -> 0.85416667 | C45: 41 | N45: =D45+F45+H45+J45+L45 -> 0 | O45: =+N45/12000 -> 0
A46: 44377 | B46: =+C46/C52 -> 0.875 | C46: 42 | N46: =D46+F46+H46+J46+L46 -> 0 | O46: =+N46/12000 -> 0
A47: 44408 | B47: =+C47/C52 -> 0.89583333 | C47: 43 | N47: =D47+F47+H47+J47+L47 -> 0 | O47: =+N47/12000 -> 0
A48: 44439 | B48: =+C48/C52 -> 0.91666667 | C48: 44 | N48: =D48+F48+H48+J48+L48 -> 0 | O48: =+N48/12000 -> 0
A49: 44469 | B49: =+C49/C52 -> 0.9375 | C49: 45 | N49: =D49+F49+H49+J49+L49 -> 0 | O49: =+N49/12000 -> 0
A50: 44500 | B50: =+C50/C52 -> 0.95833333 | C50: 46 | N50: =D50+F50+H50+J50+L50 -> 0 | O50: =+N50/12000 -> 0
A51: 44530 | B51: =+C51/C52 -> 0.97916667 | C51: 47 | N51: =D51+F51+H51+J51+L51 -> 0 | O51: =+N51/12000 -> 0
A52: 44561 | B52: =+C52/C52 -> 1 | C52: 48 | N52: =D52+F52+H52+J52+L52 -> 0 | O52: =+N52/12000 -> 0
