Workbook

Sheet janvier
A1: 1
B2: =DATE(paramètres!C3,A1,1) -> 41275 | K2: =WEEKDAY(DATE(paramètres!C3,A1,1),1) -> 3 | L2: =K2+1 -> 4 | M2: =L2+1 -> 5 | N2: =M2+1 -> 6 | O2: =N2+1 -> 7 | P2: =O2+1 -> 8 | Q2: =P2+1 -> 9
B3: Lu | C3: Mar | D3: Mer | E3: Jeu | F3: Ven | G3: Sam | H3: Dim | K3: =DATE(paramètres!C3,A1,1) -> 41275 | L3: =K3+1 -> 41276 | M3: =L3+1 -> 41277 | N3: =M3+1 -> 41278 | O3: =N3+1 -> 41279 | P3: =O3+1 -> 41280 | Q3: =P3+1 -> 41281
B4: =DATE(paramètres!C3,A1,1)-WEEKDAY(DATE(paramètres!C3,A1,1),2)+1 -> 41274 | C4: =B4+1 -> 41275 | D4: =C4+1 -> 41276 | E4: =D4+1 -> 41277 | F4: =E4+1 -> 41278 | G4: =F4+1 -> 41279 | H4: =G4+1 -> 41280 | J4: 9h00
B5: =H4+1 -> 41281 | C5: =B5+1 -> 41282 | D5: =C5+1 -> 41283 | E5: =D5+1 -> 41284 | F5: =E5+1 -> 41285 | G5: =F5+1 -> 41286 | H5: =G5+1 -> 41287
B6: =H5+1 -> 41288 | C6: =B6+1 -> 41289 | D6: =C6+1 -> 41290 | E6: =D6+1 -> 41291 | F6: =E6+1 -> 41292 | G6: =F6+1 -> 41293 | H6: =G6+1 -> 41294 | J6: 10h00
B7: =H6+1 -> 41295 | C7: =B7+1 -> 41296 | D7: =C7+1 -> 41297 | E7: =D7+1 -> 41298 | F7: =E7+1 -> 41299 | G7: =F7+1 -> 41300 | H7: =G7+1 -> 41301
B8: =H7+1 -> 41302 | C8: =B8+1 -> 41303 | D8: =C8+1 -> 41304 | E8: =D8+1 -> 41305 | F8: =E8+1 -> 41306 | G8: =F8+1 -> 41307 | H8: =G8+1 -> 41308 | J8: 11h00
B9: =H8+1 -> 41309 | C9: =B9+1 -> 41310 | D9: =C9+1 -> 41311 | E9: =D9+1 -> 41312 | F9: =E9+1 -> 41313 | G9: =F9+1 -> 41314 | H9: =G9+1 -> 41315
J10: 12h00
J12: 13h00
J14: 14h00
J16: 15h00
J18: 16h00
J20: 17h00
J22: 18h00

Sheet février
A1: 2
B2: =DATE(paramètres!C3,A1,1) -> 41306 | K2: =WEEKDAY(DATE(paramètres!C3,A1,1),1) -> 6 | L2: =K2+1 -> 7 | M2: =L2+1 -> 8 | N2: =M2+1 -> 9 | O2: =N2+1 -> 10 | P2: =O2+1 -> 11 | Q2: =P2+1 -> 12
B3: Lu | C3: Mar | D3: Mer | E3: Jeu | F3: Ven | G3: Sam | H3: Dim | K3: =DATE(paramètres!C3,A1,1) -> 41306 | L3: =K3+1 -> 41307 | M3: =L3+1 -> 41308 | N3: =M3+1 -> 41309 | O3: =N3+1 -> 41310 | P3: =O3+1 -> 41311 | Q3: =P3+1 -> 41312
B4: =DATE(paramètres!C3,A1,1)-WEEKDAY(DATE(paramètres!C3,A1,1),2)+1 -> 41302 | C4: =B4+1 -> 41303 | D4: =C4+1 -> 41304 | E4: =D4+1 -> 41305 | F4: =E4+1 -> 41306 | G4: =F4+1 -> 41307 | H4: =G4+1 -> 41308 | J4: 9h00
B5: =H4+1 -> 41309 | C5: =B5+1 -> 41310 | D5: =C5+1 -> 41311 | E5: =D5+1 -> 41312 | F5: =E5+1 -> 41313 | G5: =F5+1 -> 41314 | H5: =G5+1 -> 41315
B6: =H5+1 -> 41316 | C6: =B6+1 -> 41317 | D6: =C6+1 -> 41318 | E6: =D6+1 -> 41319 | F6: =E6+1 -> 41320 | G6: =F6+1 -> 41321 | H6: =G6+1 -> 41322 | J6: 10h00
B7: =H6+1 -> 41323 | C7: =B7+1 -> 41324 | D7: =C7+1 -> 41325 | E7: =D7+1 -> 41326 | F7: =E7+1 -> 41327 | G7: =F7+1 -> 41328 | H7: =G7+1 -> 41329
B8: =H7+1 -> 41330 | C8: =B8+1 -> 41331 | D8: =C8+1 -> 41332 | E8: =D8+1 -> 41333 | F8: =E8+1 -> 41334 | G8: =F8+1 -> 41335 | H8: =G8+1 -> 41336 | J8: 11h00
B9: =H8+1 -> 41337 | C9: =B9+1 -> 41338 | D9: =C9+1 -> 41339 | E9: =D9+1 -> 41340 | F9: =E9+1 -> 41341 | G9: =F9+1 -> 41342 | H9: =G9+1 -> 41343
J10: 12h00
J12: 13h00
J14: 14h00
J16: 15h00
J18: 16h00
J20: 17h00
J22: 18h00

Sheet mars
A1: 3
B2: =DATE(paramètres!C3,A1,1) -> 41334 | K2: =WEEKDAY(DATE(paramètres!C3,A1,1),1) -> 6 | L2: =K2+1 -> 7 | M2: =L2+1 -> 8 | N2: =M2+1 -> 9 | O2: =N2+1 -> 10 | P2: =O2+1 -> 11 | Q2: =P2+1 -> 12
B3: Lu | C3: Mar | D3: Mer | E3: Jeu | F3: Ven | G3: Sam | H3: Dim | K3: =DATE(paramètres!C3,A1,1) -> 41334 | L3: =K3+1 -> 41335 | M3: =L3+1 -> 41336 | N3: =M3+1 -> 41337 | O3: =N3+1 -> 41338 | P3: =O3+1 -> 41339 | Q3: =P3+1 -> 41340
B4: =DATE(paramètres!C3,A1,1)-WEEKDAY(DATE(paramètres!C3,A1,1),2)+1 -> 41330 | C4: =B4+1 -> 41331 | D4: =C4+1 -> 41332 | E4: =D4+1 -> 41333 | F4: =E4+1 -> 41334 | G4: =F4+1 -> 41335 | H4: =G4+1 -> 41336 | J4: 9h00
B5: =H4+1 -> 41337 | C5: =B5+1 -> 41338 | D5: =C5+1 -> 41339 | E5: =D5+1 -> 41340 | F5: =E5+1 -> 41341 | G5: =F5+1 -> 41342 | H5: =G5+1 -> 41343
B6: =H5+1 -> 41344 | C6: =B6+1 -> 41345 | D6: =C6+1 -> 41346 | E6: =D6+1 -> 41347 | F6: =E6+1 -> 41348 | G6: =F6+1 -> 41349 | H6: =G6+1 -> 41350 | J6: 10h00
B7: =H6+1 -> 41351 | C7: =B7+1 -> 41352 | D7: =C7+1 -> 41353 | E7: =D7+1 -> 41354 | F7: =E7+1 -> 41355 | G7: =F7+1 -> 41356 | H7: =G7+1 -> 41357
B8: =H7+1 -> 41358 | C8: =B8+1 -> 41359 | D8: =C8+1 -> 41360 | E8: =D8+1 -> 41361 | F8: =E8+1 -> 41362 | G8: =F8+1 -> 41363 | H8: =G8+1 -> 41364 | J8: 11h00
B9: =H8+1 -> 41365 | C9: =B9+1 -> 41366 | D9: =C9+1 -> 41367 | E9: =D9+1 -> 41368 | F9: =E9+1 -> 41369 | G9: =F9+1 -> 41370 | H9: =G9+1 -> 41371
J10: 12h00
J12: 13h00
J14: 14h00
J16: 15h00
J18: 16h00
J20: 17h00
J22: 18h00

Sheet avril
A1: 4
B2: =DATE(paramètres!C3,A1,1) -> 41365 | K2: =WEEKDAY(DATE(paramètres!C3,A1,1),1) -> 2 | L2: =K2+1 -> 3 | M2: =L2+1 -> 4 | N2: =M2+1 -> 5 | O2: =N2+1 -> 6 | P2: =O2+1 -> 7 | Q2: =P2+1 -> 8
B3: Lu | C3: Mar | D3: Mer | E3: Jeu | F3: Ven | G3: Sam | H3: Dim | K3: =DATE(paramètres!C3,A1,1) -> 41365 | L3: =K3+1 -> 41366 | M3: =L3+1 -> 41367 | N3: =M3+1 -> 41368 | O3: =N3+1 -> 41369 | P3: =O3+1 -> 41370 | Q3: =P3+1 -> 41371
B4: =DATE(paramètres!C3,A1,1)-WEEKDAY(DATE(paramètres!C3,A1,1),2)+1 -> 41365 | C4: =B4+1 -> 41366 | D4: =C4+1 -> 41367 | E4: =D4+1 -> 41368 | F4: =E4+1 -> 41369 | G4: =F4+1 -> 41370 | H4: =G4+1 -> 41371 | J4: 9h00
B5: =H4+1 -> 41372 | C5: =B5+1 -> 41373 | D5: =C5+1 -> 41374 | E5: =D5+1 -> 41375 | F5: =E5+1 -> 41376 | G5: =F5+1 -> 41377 | H5: =G5+1 -> 41378
B6: =H5+1 -> 41379 | C6: =B6+1 -> 41380 | D6: =C6+1 -> 41381 | E6: =D6+1 -> 41382 | F6: =E6+1 -> 41383 | G6: =F6+1 -> 41384 | H6: =G6+1 -> 41385 | J6: 10h00
B7: =H6+1 -> 41386 | C7: =B7+1 -> 41387 | D7: =C7+1 -> 41388 | E7: =D7+1 -> 41389 | F7: =E7+1 -> 41390 | G7: =F7+1 -> 41391 | H7: =G7+1 -> 41392
B8: =H7+1 -> 41393 | C8: =B8+1 -> 41394 | D8: =C8+1 -> 41395 | E8: =D8+1 -> 41396 | F8: =E8+1 -> 41397 | G8: =F8+1 -> 41398 | H8: =G8+1 -> 41399 | J8: 11h00
B9: =H8+1 -> 41400 | C9: =B9+1 -> 41401 | D9: =C9+1 -> 41402 | E9: =D9+1 -> 41403 | F9: =E9+1 -> 41404 | G9: =F9+1 -> 41405 | H9: =G9+1 -> 41406
J10: 12h00
J12: 13h00
J14: 14h00
J16: 15h00
J18: 16h00
J20: 17h00
J22: 18h00

Sheet mai
A1: 5
B2: =DATE(paramètres!C3,A1,1) -> 41395 | K2: =WEEKDAY(DATE(paramètres!C3,A1,1),1) -> 4 | L2: =K2+1 -> 5 | M2: =L2+1 -> 6 | N2: =M2+1 -> 7 | O2: =N2+1 -> 8 | P2: =O2+1 -> 9 | Q2: =P2+1 -> 10
B3: Lu | C3: Mar | D3: Mer | E3: Jeu | F3: Ven | G3: Sam | H3: Dim | K3: =DATE(paramètres!C3,A1,1) -> 41395 | L3: =K3+1 -> 41396 | M3: =L3+1 -> 41397 | N3: =M3+1 -> 41398 | O3: =N3+1 -> 41399 | P3: =O3+1 -> 41400 | Q3: =P3+1 -> 41401
B4: =DATE(paramètres!C3,A1,1)-WEEKDAY(DATE(paramètres!C3,A1,1),2)+1 -> 41393 | C4: =B4+1 -> 41394 | D4: =C4+1 -> 41395 | E4: =D4+1 -> 41396 | F4: =E4+1 -> 41397 | G4: =F4+1 -> 41398 | H4: =G4+1 -> 41399 | J4: 9h00
B5: =H4+1 -> 41400 | C5: =B5+1 -> 41401 | D5: =C5+1 -> 41402 | E5: =D5+1 -> 41403 | F5: =E5+1 -> 41404 | G5: =F5+1 -> 41405 | H5: =G5+1 -> 41406
B6: =H5+1 -> 41407 | C6: =B6+1 -> 41408 | D6: =C6+1 -> 41409 | E6: =D6+1 -> 41410 | F6: =E6+1 -> 41411 | G6: =F6+1 -> 41412 | H6: =G6+1 -> 41413 | J6: 10h00
B7: =H6+1 -> 41414 | C7: =B7+1 -> 41415 | D7: =C7+1 -> 41416 | E7: =D7+1 -> 41417 | F7: =E7+1 -> 41418 | G7: =F7+1 -> 41419 | H7: =G7+1 -> 41420
B8: =H7+1 -> 41421 | C8: =B8+1 -> 41422 | D8: =C8+1 -> 41423 | E8: =D8+1 -> 41424 | F8: =E8+1 -> 41425 | G8: =F8+1 -> 41426 | H8: =G8+1 -> 41427 | J8: 11h00
B9: =H8+1 -> 41428 | C9: =B9+1 -> 41429 | D9: =C9+1 -> 41430 | E9: =D9+1 -> 41431 | F9: =E9+1 -> 41432 | G9: =F9+1 -> 41433 | H9: =G9+1 -> 41434
J10: 12h00
J12: 13h00
J14: 14h00
J16: 15h00
J18: 16h00
J20: 17h00
J22: 18h00

Sheet juin
A1: 6
B2: =DATE(paramètres!C3,A1,1) -> 41426 | K2: =WEEKDAY(DATE(paramètres!C3,A1,1),1) -> 7 | L2: =K2+1 -> 8 | M2: =L2+1 -> 9 | N2: =M2+1 -> 10 | O2: =N2+1 -> 11 | P2: =O2+1 -> 12 | Q2: =P2+1 -> 13
B3: Lu | C3: Mar | D3: Mer | E3: Jeu | F3: Ven | G3: Sam | H3: Dim | K3: =DATE(paramètres!C3,A1,1) -> 41426 | L3: =K3+1 -> 41427 | M3: =L3+1 -> 41428 | N3: =M3+1 -> 41429 | O3: =N3+1 -> 41430 | P3: =O3+1 -> 41431 | Q3: =P3+1 -> 41432
B4: =DATE(paramètres!C3,A1,1)-WEEKDAY(DATE(paramètres!C3,A1,1),2)+1 -> 41421 | C4: =B4+1 -> 41422 | D4: =C4+1 -> 41423 | E4: =D4+1 -> 41424 | F4: =E4+1 -> 41425 | G4: =F4+1 -> 41426 | H4: =G4+1 -> 41427 | J4: 9h00
B5: =H4+1 -> 41428 | C5: =B5+1 -> 41429 | D5: =C5+1 -> 41430 | E5: =D5+1 -> 41431 | F5: =E5+1 -> 41432 | G5: =F5+1 -> 41433 | H5: =G5+1 -> 41434
B6: =H5+1 -> 41435 | C6: =B6+1 -> 41436 | D6: =C6+1 -> 41437 | E6: =D6+1 -> 41438 | F6: =E6+1 -> 41439 | G6: =F6+1 -> 41440 | H6: =G6+1 -> 41441 | J6: 10h00
B7: =H6+1 -> 41442 | C7: =B7+1 -> 41443 | D7: =C7+1 -> 41444 | E7: =D7+1 -> 41445 | F7: =E7+1 -> 41446 | G7: =F7+1 -> 41447 | H7: =G7+1 -> 41448
B8: =H7+1 -> 41449 | C8: =B8+1 -> 41450 | D8: =C8+1 -> 41451 | E8: =D8+1 -> 41452 | F8: =E8+1 -> 41453 | G8: =F8+1 -> 41454 | H8: =G8+1 -> 41455 | J8: 11h00
B9: =H8+1 -> 41456 | C9: =B9+1 -> 41457 | D9: =C9+1 -> 41458 | E9: =D9+1 -> 41459 | F9: =E9+1 -> 41460 | G9: =F9+1 -> 41461 | H9: =G9+1 -> 41462
J10: 12h00
J12: 13h00
J14: 14h00
J16: 15h00
J18: 16h00
J20: 17h00
J22: 18h00

Sheet juillet
A1: 7
B2: =DATE(paramètres!C3,A1,1) -> 41456 | K2: =WEEKDAY(DATE(paramètres!C3,A1,1),1) -> 2 | L2: =K2+1 -> 3 | M2: =L2+1 -> 4 | N2: =M2+1 -> 5 | O2: =N2+1 -> 6 | P2: =O2+1 -> 7 | Q2: =P2+1 -> 8
B3: Lu | C3: Mar | D3: Mer | E3: Jeu | F3: Ven | G3: Sam | H3: Dim | K3: =DATE(paramètres!C3,A1,1) -> 41456 | L3: =K3+1 -> 41457 | M3: =L3+1 -> 41458 | N3: =M3+1 -> 41459 | O3: =N3+1 -> 41460 | P3: =O3+1 -> 41461 | Q3: =P3+1 -> 41462
B4: =DATE(paramètres!C3,A1,1)-WEEKDAY(DATE(paramètres!C3,A1,1),2)+1 -> 41456 | C4: =B4+1 -> 41457 | D4: =C4+1 -> 41458 | E4: =D4+1 -> 41459 | F4: =E4+1 -> 41460 | G4: =F4+1 -> 41461 | H4: =G4+1 -> 41462 | J4: 9h00
B5: =H4+1 -> 41463 | C5: =B5+1 -> 41464 | D5: =C5+1 -> 41465 | E5: =D5+1 -> 41466 | F5: =E5+1 -> 41467 | G5: =F5+1 -> 41468 | H5: =G5+1 -> 41469
B6: =H5+1 -> 41470 | C6: =B6+1 -> 41471 | D6: =C6+1 -> 41472 | E6: =D6+1 -> 41473 | F6: =E6+1 -> 41474 | G6: =F6+1 -> 41475 | H6: =G6+1 -> 41476 | J6: 10h00
B7: =H6+1 -> 41477 | C7: =B7+1 -> 41478 | D7: =C7+1 -> 41479 | E7: =D7+1 -> 41480 | F7: =E7+1 -> 41481 | G7: =F7+1 -> 41482 | H7: =G7+1 -> 41483
B8: =H7+1 -> 41484 | C8: =B8+1 -> 41485 | D8: =C8+1 -> 41486 | E8: =D8+1 -> 41487 | F8: =E8+1 -> 41488 | G8: =F8+1 -> 41489 | H8: =G8+1 -> 41490 | J8: 11h00
B9: =H8+1 -> 41491 | C9: =B9+1 -> 41492 | D9: =C9+1 -> 41493 | E9: =D9+1 -> 41494 | F9: =E9+1 -> 41495 | G9: =F9+1 -> 41496 | H9: =G9+1 -> 41497
J10: 12h00
J12: 13h00
J14: 14h00
J16: 15h00
J18: 16h00
J20: 17h00
J22: 18h00

Sheet août
A1: 8
B2: =DATE(paramètres!C3,A1,1) -> 41487 | K2: =WEEKDAY(DATE(paramètres!C3,A1,1),1) -> 5 | L2: =K2+1 -> 6 | M2: =L2+1 -> 7 | N2: =M2+1 -> 8 | O2: =N2+1 -> 9 | P2: =O2+1 -> 10 | Q2: =P2+1 -> 11
B3: Lu | C3: Mar | D3: Mer | E3: Jeu | F3: Ven | G3: Sam | H3: Dim | K3: =DATE(paramètres!C3,A1,1) -> 41487 | L3: =K3+1 -> 41488 | M3: =L3+1 -> 41489 | N3: =M3+1 -> 41490 | O3: =N3+1 -> 41491 | P3: =O3+1 -> 41492 | Q3: =P3+1 -> 41493
B4: =DATE(paramètres!C3,A1,1)-WEEKDAY(DATE(paramètres!C3,A1,1),2)+1 -> 41484 | C4: =B4+1 -> 41485 | D4: =C4+1 -> 41486 | E4: =D4+1 -> 41487 | F4: =E4+1 -> 41488 | G4: =F4+1 -> 41489 | H4: =G4+1 -> 41490 | J4: 9h00
B5: =H4+1 -> 41491 | C5: =B5+1 -> 41492 | D5: =C5+1 -> 41493 | E5: =D5+1 -> 41494 | F5: =E5+1 -> 41495 | G5: =F5+1 -> 41496 | H5: =G5+1 -> 41497
B6: =H5+1 -> 41498 | C6: =B6+1 -> 41499 | D6: =C6+1 -> 41500 | E6: =D6+1 -> 41501 | F6: =E6+1 -> 41502 | G6: =F6+1 -> 41503 | H6: =G6+1 -> 41504 | J6: 10h00
B7: =H6+1 -> 41505 | C7: =B7+1 -> 41506 | D7: =C7+1 -> 41507 | E7: =D7+1 -> 41508 | F7: =E7+1 -> 41509 | G7: =F7+1 -> 41510 | H7: =G7+1 -> 41511
B8: =H7+1 -> 41512 | C8: =B8+1 -> 41513 | D8: =C8+1 -> 41514 | E8: =D8+1 -> 41515 | F8: =E8+1 -> 41516 | G8: =F8+1 -> 41517 | H8: =G8+1 -> 41518 | J8: 11h00
B9: =H8+1 -> 41519 | C9: =B9+1 -> 41520 | D9: =C9+1 -> 41521 | E9: =D9+1 -> 41522 | F9: =E9+1 -> 41523 | G9: =F9+1 -> 41524 | H9: =G9+1 -> 41525
J10: 12h00
J12: 13h00
J14: 14h00
J16: 15h00
J18: 16h00
J20: 17h00
J22: 18h00

Sheet septembre
A1: 9
B2: =DATE(paramètres!C3,A1,1) -> 41518 | K2: =WEEKDAY(DATE(paramètres!C3,A1,1),1) -> 1 | L2: =K2+1 -> 2 | M2: =L2+1 -> 3 | N2: =M2+1 -> 4 | O2: =N2+1 -> 5 | P2: =O2+1 -> 6 | Q2: =P2+1 -> 7
B3: Lu | C3: Mar | D3: Mer | E3: Jeu | F3: Ven | G3: Sam | H3: Dim | K3: =DATE(paramètres!C3,A1,1) -> 41518 | L3: =K3+1 -> 41519 | M3: =L3+1 -> 41520 | N3: =M3+1 -> 41521 | O3: =N3+1 -> 41522 | P3: =O3+1 -> 41523 | Q3: =P3+1 -> 41524
B4: =DATE(paramètres!C3,A1,1)-WEEKDAY(DATE(paramètres!C3,A1,1),2)+1 -> 41512 | C4: =B4+1 -> 41513 | D4: =C4+1 -> 41514 | E4: =D4+1 -> 41515 | F4: =E4+1 -> 41516 | G4: =F4+1 -> 41517 | H4: =G4+1 -> 41518 | J4: 9h00
B5: =H4+1 -> 41519 | C5: =B5+1 -> 41520 | D5: =C5+1 -> 41521 | E5: =D5+1 -> 41522 | F5: =E5+1 -> 41523 | G5: =F5+1 -> 41524 | H5: =G5+1 -> 41525
B6: =H5+1 -> 41526 | C6: =B6+1 -> 41527 | D6: =C6+1 -> 41528 | E6: =D6+1 -> 41529 | F6: =E6+1 -> 41530 | G6: =F6+1 -> 41531 | H6: =G6+1 -> 41532 | J6: 10h00
B7: =H6+1 -> 41533 | C7: =B7+1 -> 41534 | D7: =C7+1 -> 41535 | E7: =D7+1 -> 41536 | F7: =E7+1 -> 41537 | G7: =F7+1 -> 41538 | H7: =G7+1 -> 41539
B8: =H7+1 -> 41540 | C8: =B8+1 -> 41541 | D8: =C8+1 -> 41542 | E8: =D8+1 -> 41543 | F8: =E8+1 -> 41544 | G8: =F8+1 -> 41545 | H8: =G8+1 -> 41546 | J8: 11h00
B9: =H8+1 -> 41547 | C9: =B9+1 -> 41548 | D9: =C9+1 -> 41549 | E9: =D9+1 -> 41550 | F9: =E9+1 -> 41551 | G9: =F9+1 -> 41552 | H9: =G9+1 -> 41553
J10: 12h00
J12: 13h00
J14: 14h00
J16: 15h00
J18: 16h00
J20: 17h00
J22: 18h00

Sheet octobre
A1: 10
B2: =DATE(paramètres!C3,A1,1) -> 41548 | K2: =WEEKDAY(DATE(paramètres!C3,A1,1),1) -> 3 | L2: =K2+1 -> 4 | M2: =L2+1 -> 5 | N2: =M2+1 -> 6 | O2: =N2+1 -> 7 | P2: =O2+1 -> 8 | Q2: =P2+1 -> 9
B3: Lu | C3: Mar | D3: Mer | E3: Jeu | F3: Ven | G3: Sam | H3: Dim | K3: =DATE(paramètres!C3,A1,1) -> 41548 | L3: =K3+1 -> 41549 | M3: =L3+1 -> 41550 | N3: =M3+1 -> 41551 | O3: =N3+1 -> 41552 | P3: =O3+1 -> 41553 | Q3: =P3+1 -> 41554
B4: =DATE(paramètres!C3,A1,1)-WEEKDAY(DATE(paramètres!C3,A1,1),2)+1 -> 41547 | C4: =B4+1 -> 41548 | D4: =C4+1 -> 41549 | E4: =D4+1 -> 41550 | F4: =E4+1 -> 41551 | G4: =F4+1 -> 41552 | H4: =G4+1 -> 41553 | J4: 9h00
B5: =H4+1 -> 41554 | C5: =B5+1 -> 41555 | D5: =C5+1 -> 41556 | E5: =D5+1 -> 41557 | F5: =E5+1 -> 41558 | G5: =F5+1 -> 41559 | H5: =G5+1 -> 41560
B6: =H5+1 -> 41561 | C6: =B6+1 -> 41562 | D6: =C6+1 -> 41563 | E6: =D6+1 -> 41564 | F6: =E6+1 -> 41565 | G6: =F6+1 -> 41566 | H6: =G6+1 -> 41567 | J6: 10h00
B7: =H6+1 -> 41568 | C7: =B7+1 -> 41569 | D7: =C7+1 -> 41570 | E7: =D7+1 -> 41571 | F7: =E7+1 -> 41572 | G7: =F7+1 -> 41573 | H7: =G7+1 -> 41574
B8: =H7+1 -> 41575 | C8: =B8+1 -> 41576 | D8: =C8+1 -> 41577 | E8: =D8+1 -> 41578 | F8: =E8+1 -> 41579 | G8: =F8+1 -> 41580 | H8: =G8+1 -> 41581 | J8: 11h00
B9: =H8+1 -> 41582 | C9: =B9+1 -> 41583 | D9: =C9+1 -> 41584 | E9: =D9+1 -> 41585 | F9: =E9+1 -> 41586 | G9: =F9+1 -> 41587 | H9: =G9+1 -> 41588
J10: 12h00
J12: 13h00
J14: 14h00
J16: 15h00
J18: 16h00
J20: 17h00
J22: 18h00

Sheet novembre
A1: 11
B2: =DATE(paramètres!C3,A1,1) -> 41579 | K2: =WEEKDAY(DATE(paramètres!C3,A1,1),1) -> 6 | L2: =K2+1 -> 7 | M2: =L2+1 -> 8 | N2: =M2+1 -> 9 | O2: =N2+1 -> 10 | P2: =O2+1 -> 11 | Q2: =P2+1 -> 12
B3: Lu | C3: Mar | D3: Mer | E3: Jeu | F3: Ven | G3: Sam | H3: Dim | K3: =DATE(paramètres!C3,A1,1) -> 41579 | L3: =K3+1 -> 41580 | M3: =L3+1 -> 41581 | N3: =M3+1 -> 41582 | O3: =N3+1 -> 41583 | P3: =O3+1 -> 41584 | Q3: =P3+1 -> 41585
B4: =DATE(paramètres!C3,A1,1)-WEEKDAY(DATE(paramètres!C3,A1,1),2)+1 -> 41575 | C4: =B4+1 -> 41576 | D4: =C4+1 -> 41577 | E4: =D4+1 -> 41578 | F4: =E4+1 -> 41579 | G4: =F4+1 -> 41580 | H4: =G4+1 -> 41581 | J4: 9h00
B5: =H4+1 -> 41582 | C5: =B5+1 -> 41583 | D5: =C5+1 -> 41584 | E5: =D5+1 -> 41585 | F5: =E5+1 -> 41586 | G5: =F5+1 -> 41587 | H5: =G5+1 -> 41588
B6: =H5+1 -> 41589 | C6: =B6+1 -> 41590 | D6: =C6+1 -> 41591 | E6: =D6+1 -> 41592 | F6: =E6+1 -> 41593 | G6: =F6+1 -> 41594 | H6: =G6+1 -> 41595 | J6: 10h00
B7: =H6+1 -> 41596 | C7: =B7+1 -> 41597 | D7: =C7+1 -> 41598 | E7: =D7+1 -> 41599 | F7: =E7+1 -> 41600 | G7: =F7+1 -> 41601 | H7: =G7+1 -> 41602
B8: =H7+1 -> 41603 | C8: =B8+1 -> 41604 | D8: =C8+1 -> 41605 | E8: =D8+1 -> 41606 | F8: =E8+1 -> 41607 | G8: =F8+1 -> 41608 | H8: =G8+1 -> 41609 | J8: 11h00
B9: =H8+1 -> 41610 | C9: =B9+1 -> 41611 | D9: =C9+1 -> 41612 | E9: =D9+1 -> 41613 | F9: =E9+1 -> 41614 | G9: =F9+1 -> 41615 | H9: =G9+1 -> 41616
J10: 12h00
J12: 13h00
J14: 14h00
J16: 15h00
J18: 16h00
J20: 17h00
J22: 18h00

Sheet décembre
A1: 12
B2: =DATE(paramètres!C3,A1,1) -> 41609 | K2: =WEEKDAY(DATE(paramètres!C3,A1,1),1) -> 1 | L2: =K2+1 -> 2 | M2: =L2+1 -> 3 | N2: =M2+1 -> 4 | O2: =N2+1 -> 5 | P2: =O2+1 -> 6 | Q2: =P2+1 -> 7
B3: Lu | C3: Mar | D3: Mer | E3: Jeu | F3: Ven | G3: Sam | H3: Dim | K3: =DATE(paramètres!C3,A1,1) -> 41609 | L3: =K3+1 -> 41610 | M3: =L3+1 -> 41611 | N3: =M3+1 -> 41612 | O3: =N3+1 -> 41613 | P3: =O3+1 -> 41614 | Q3: =P3+1 -> 41615
B4: =DATE(paramètres!C3,A1,1)-WEEKDAY(DATE(paramètres!C3,A1,1),2)+1 -> 41603 | C4: =B4+1 -> 41604 | D4: =C4+1 -> 41605 | E4: =D4+1 -> 41606 | F4: =E4+1 -> 41607 | G4: =F4+1 -> 41608 | H4: =G4+1 -> 41609 | J4: 9h00
B5: =H4+1 -> 41610 | C5: =B5+1 -> 41611 | D5: =C5+1 -> 41612 | E5: =D5+1 -> 41613 | F5: =E5+1 -> 41614 | G5: =F5+1 -> 41615 | H5: =G5+1 -> 41616
B6: =H5+1 -> 41617 | C6: =B6+1 -> 41618 | D6: =C6+1 -> 41619 | E6: =D6+1 -> 41620 | F6: =E6+1 -> 41621 | G6: =F6+1 -> 41622 | H6: =G6+1 -> 41623 | J6: 10h00
B7: =H6+1 -> 41624 | C7: =B7+1 -> 41625 | D7: =C7+1 -> 41626 | E7: =D7+1 -> 41627 | F7: =E7+1 -> 41628 | G7: =F7+1 -> 41629 | H7: =G7+1 -> 41630
B8: =H7+1 -> 41631 | C8: =B8+1 -> 41632 | D8: =C8+1 -> 41633 | E8: =D8+1 -> 41634 | F8: =E8+1 -> 41635 | G8: =F8+1 -> 41636 | H8: =G8+1 -> 41637 | J8: 11h00
B9: =H8+1 -> 41638 | C9: =B9+1 -> 41639 | D9: =C9+1 -> 41640 | E9: =D9+1 -> 41641 | F9: =E9+1 -> 41642 | G9: =F9+1 -> 41643 | H9: =G9+1 -> 41644
J10: 12h00
J12: 13h00
J14: 14h00
J16: 15h00
J18: 16h00
J20: 17h00
J22: 18h00

Sheet paramètres
C3: 2013
