Workbook
Name aaaaa: OFFSET(#REF!,0,0,COUNTA(#REF!))
Name actif_circulant_0: #REF!
Name actif_circulant_1: #REF!
Name actif_immobilise_0: #REF!
Name actif_immobilise_1: #REF!
Name actifs: #REF!
Name affiliation: #REF!
Name année: [1]Accueil!$A$4:$A$26
Name azazexzexce: #REF!
Name B1175670: #REF!
Name B11756700: #REF!
Name ben: #REF!
Name ben_net: #REF!
Name bggggg: #REF!
Name capital_0: #REF!
Name capital_1: #REF!
Name carburants: #REF!
Name D.C.O.T: #REF!
Name dette_0: #REF!
Name dette_1: #REF!
Name dettes_1: #REF!
Name dettes_2: #REF!
Name devis: #REF!
Name erty: #REF!
Name etap: #REF!
Name etape: #REF!
Name fact: #REF!
Name ffpro: #REF!
Name Foire: OFFSET([3]Données!$D$2,0,0,COUNTA([3]Données!$D$1:$D$65536))
Name fpro: #REF!
Name frt: #REF!
Name mmmoooommmooo: #REF!
Name mmmpmmmm: #REF!
Name momomomomom: #REF!
Name Opérations: OFFSET([3]Données!$E$2,0,0,COUNTA([3]Données!$E$1:$E$65536))
Name passifs: #REF!
Name passifs_0: #REF!
Name per_nette: #REF!
Name pmpmpmm: #REF!
Name qsdfggg: #REF!
Name som: #REF!
Name titre_b_final: #REF!
Name titre_b_initial: #REF!
Name titre_resultat: #REF!
Name total: #REF!
Name total_1: #REF!
Name total_2: #REF!
Name total_3: #REF!
Name type: '[4]gestion de depenses'!$R$191:$R$223
Name uiuiuiuiuiuiui: #REF!
Name ukuioyuio: #REF!
Name Vendeurs: OFFSET([3]Données!$A$2,0,0,COUNTA([3]Données!$A$1:$A$65536))

Sheet Gestion des Fournisseurs
A1: 1
A2: 2
A3: 3
A4: 4
A5: 5
A6: 6
A7: 7
A8: 10
C10: Afficher les zones de listes déroulantes (contrôle de formulaire groupés) lorsque je clique sur le bouton "Afficher". Et les masquer ainsi que le bouton" Masquer "quand je clique sur le bouton "Masquer "
A13: =+VLOOKUP(A1,'Etat Des Fournisseurs'!$C$8:$M$40,2,0) -> Fournisseur1
A14: =+VLOOKUP(A2,'Etat Des Fournisseurs'!$C$8:$M$40,2,0) -> Fournisseur2
A15: =+VLOOKUP(A3,'Etat Des Fournisseurs'!$C$8:$M$40,2,0) -> Fournisseur3
A16: =+VLOOKUP(A4,'Etat Des Fournisseurs'!$C$8:$M$40,2,0) -> Fournisseur4
A17: =+VLOOKUP(A5,'Etat Des Fournisseurs'!$C$8:$M$40,2,0) -> Fournisseur5
A18: =+VLOOKUP(A6,'Etat Des Fournisseurs'!$C$8:$M$40,2,0) -> Fournisseur6
A19: =+VLOOKUP(A7,'Etat Des Fournisseurs'!$C$8:$M$40,2,0) -> Fournisseur7
A20: =+VLOOKUP(A8,'Etat Des Fournisseurs'!$C$8:$M$40,2,0) -> Fournisseur10
A21: =+'Etat Des Fournisseurs'!L42 -> 17149
A22: =+VLOOKUP(A1,'Etat Des Fournisseurs'!$C$8:$M$40,10,0) -> 21
A23: =+VLOOKUP(A2,'Etat Des Fournisseurs'!$C$8:$M$40,10,0) -> 2
A24: =+VLOOKUP(A3,'Etat Des Fournisseurs'!$C$8:$M$40,10,0) -> 0
A25: =+VLOOKUP(A4,'Etat Des Fournisseurs'!$C$8:$M$40,10,0) -> 0
A26: =+VLOOKUP(A5,'Etat Des Fournisseurs'!$C$8:$M$40,10,0) -> 125
A27: =+VLOOKUP(A6,'Etat Des Fournisseurs'!$C$8:$M$40,10,0) -> 0
A28: =+VLOOKUP(A7,'Etat Des Fournisseurs'!$C$8:$M$40,10,0) -> 0
A29: =+VLOOKUP(A8,'Etat Des Fournisseurs'!$C$8:$M$40,10,0) -> 7001
A30: =+'Etat Des Fournisseurs'!M42 -> -3801
A31: =+VLOOKUP(A1,'Etat Des Fournisseurs'!$C$8:$M$40,11,0) -> 21
A32: =+VLOOKUP(A2,'Etat Des Fournisseurs'!$C$8:$M$40,11,0) -> 2
A33: =+VLOOKUP(A3,'Etat Des Fournisseurs'!$C$8:$M$40,11,0) -> 0
A34: =+VLOOKUP(A4,'Etat Des Fournisseurs'!$C$8:$M$40,11,0) -> 0
A35: =+VLOOKUP(A5,'Etat Des Fournisseurs'!$C$8:$M$40,11,0) -> -125
A36: =+VLOOKUP(A6,'Etat Des Fournisseurs'!$C$8:$M$40,11,0) -> 0
A37: =+VLOOKUP(A7,'Etat Des Fournisseurs'!$C$8:$M$40,11,0) -> 0
A38: =+VLOOKUP(A8,'Etat Des Fournisseurs'!$C$8:$M$40,11,0) -> -3698

Sheet Etat Des Fournisseurs
R3: 4
D4: Ajouter Un Fournisseur
D5: Fournisseur | F5: Renseignement | L5: Annuel | Q5: 1 | R5: Janvier
F6: Date Début | G6: Produit Livré | H6: Adresse | J6: Téléphone | L6: Montant | M6: Solde | Q6: 2 | R6: Février
C8: 1 | D8: Fournisseur1 | L8: 21 | M8: 21 | Q8: 3 | R8: Mars
C9: 2 | D9: Fournisseur2 | L9: 2 | M9: 2 | Q9: 4 | R9: Avril
C10: 3 | D10: Fournisseur3 | L10: 0 | M10: 0 | Q10: 5 | R10: Mai
C11: 4 | D11: Fournisseur4 | L11: 0 | M11: 0 | Q11: 6 | R11: Juin
C12: 5 | D12: Fournisseur5 | L12: 125 | M12: -125 | Q12: 7 | R12: Juillet
C13: 6 | D13: Fournisseur6 | L13: 0 | M13: 0 | Q13: 8 | R13: Août
C14: 7 | D14: Fournisseur7 | L14: 0 | M14: 0 | Q14: 9 | R14: Septembre
C15: 8 | D15: Fournisseur8 | L15: 0 | M15: 0 | Q15: 10 | R15: Octobre
C16: 9 | D16: Fournisseur9 | L16: 0 | M16: 0 | Q16: 11 | R16: Novembre
C17: 10 | D17: Fournisseur10 | L17: 7001 | M17: -3698 | Q17: 12 | R17: Décembre
C18: 11 | D18: Fournisseur11 | L18: 0 | M18: 0
C19: 12 | D19: Fournisseur12 | L19: 0 | M19: 0
C20: 13 | D20: Fournisseur13 | L20: 0 | M20: 0
C21: 14 | D21: Fournisseur14 | L21: 0 | M21: 0
C22: 15 | D22: Fournisseur15 | L22: 0 | M22: 0
C23: 16 | D23: Fournisseur16 | L23: 0 | M23: 0
C24: 17 | D24: Fournisseur17 | L24: 0 | M24: 0
C25: 18 | D25: Fournisseur18 | L25: 0 | M25: 0
C26: 19 | D26: Fournisseur19 | L26: 0 | M26: 0
C27: 20 | D27: Fournisseur20 | L27: 0 | M27: 0
C28: 21 | D28: Fournisseur21 | L28: 0 | M28: 0
C29: 22 | D29: Fournisseur22 | L29: 0 | M29: 0
... C40: 33 | D40: Fournisseur33 | L40: 10000 | M40: -1
L42: =SUM(L8:L40) -> 17149 | M42: =SUM(M8:M40) -> -3801
