Workbook
Name NUMERO: Feuil1!$A$2:$A$38

Sheet Feuil1
A1: NUM. | B1: NOM
A2: 1 | B2: NOM1
A3: 2 | B3: NOM2
A4: 3 | B4: NOM3
A5: 4 | B5: NOM4
A6: 5 | B6: NOM5
A7: 6 | B7: NOM6
A8: 7 | B8: NOM7
A9: 8 | B9: NOM8
A10: 9 | B10: NOM9
A11: 10 | B11: NOM10
A12: 11 | B12: NOM11
A13: 12 | B13: NOM12
... A38: 37 | B38: NOM37

Sheet Feuil2
A1: NUM. | B1: NOM
A2: 2 | B2: =VLOOKUP(A2,Feuil1!A2:B38,2,FALSE) -> NOM2

Sheet RECAP
A1: N° | B1: NOMS
A2: 6 | B2: ALLO
A3: 10 | B3: SIME
A4: 12 | B4: FAO
A5: 24 | B5: TITRE
A6: 16 | B6: SAM
A7: 22 | B7: RED
A8: 26 | B8: BEL 1
A9: 8 | B9: BEL 2
A10: 14 | B10: AMO
A11: 2 | B11: DAY
A12: 17 | B12: BIRE
A13: 5 | B13: ROUA
... A34: 15 | B34: VERSE

Sheet 2
A1: N° | B1: NOM A AFFICHER
A2: 6 | B2: =VLOOKUP(A2,RECAP!A$2:B$34,2,0) -> ALLO
A3: 10 | B3: =VLOOKUP(A3,RECAP!A$2:B$34,2,0) -> SIME
A4: 12 | B4: =VLOOKUP(A4,RECAP!A$2:B$34,2,0) -> FAO
A5: 24 | B5: =VLOOKUP(A5,RECAP!A$2:B$34,2,0) -> TITRE
A6: 16 | B6: =VLOOKUP(A6,RECAP!A$2:B$34,2,0) -> SAM
A7: 22 | B7: =VLOOKUP(A7,RECAP!A$2:B$34,2,0) -> RED
A8: 26 | B8: =VLOOKUP(A8,RECAP!A$2:B$34,2,0) -> BEL 1
A9: 8 | B9: =VLOOKUP(A9,RECAP!A$2:B$34,2,0) -> BEL 2
A10: 14 | B10: =VLOOKUP(A10,RECAP!A$2:B$34,2,0) -> AMO
A11: 2 | B11: =VLOOKUP(A11,RECAP!A$2:B$34,2,0) -> DAY
A12: 17 | B12: =VLOOKUP(A12,RECAP!A$2:B$34,2,0) -> BIRE
A13: 5 | B13: =VLOOKUP(A13,RECAP!A$2:B$34,2,0) -> ROUA
... A34: 15 | B34: =VLOOKUP(A34,RECAP!A$2:B$34,2,0) -> VERSE
