Workbook
Name ______ebt02: [2]model!$R$174
Name ______ebt99: [3]model!$L$178
Name ______IPO2: [4]sum2!$I$50
Name ______ni2001: [2]model!$P$177
Name ______ni2002: [2]model!$R$177
Name ______PFY1: [5]SBInput!$J$1:$J$65536
Name ______PFY2: [5]SBInput!$K$1:$K$65536
Name ______tax02: [2]model!$R$176
Name ______tax99: [3]model!$L$180
Name _____ebt02: [2]model!$R$174
Name _____ebt99: [3]model!$L$178
Name _____IPO2: [4]sum2!$I$50
Name _____ni2001: [2]model!$P$177
Name _____ni2002: [2]model!$R$177
Name _____PFY1: [5]SBInput!$J$1:$J$65536
Name _____PFY2: [5]SBInput!$K$1:$K$65536
Name _____tax02: [2]model!$R$176
Name _____tax99: [3]model!$L$180
Name ____ebt02: [2]model!$R$174
Name ____ebt99: [3]model!$L$178
Name ____IPO2: [4]sum2!$I$50
Name ____ni2001: [2]model!$P$177
Name ____ni2002: [2]model!$R$177
Name ____PFY1: [5]SBInput!$J$1:$J$65536
Name ____PFY2: [5]SBInput!$K$1:$K$65536
Name ____tax02: [2]model!$R$176
Name ____tax99: [3]model!$L$180
Name ___ebt02: [2]model!$R$174
Name ___ebt99: [3]model!$L$178
Name ___IPO2: [4]sum2!$I$50
Name ___ni2001: [2]model!$P$177
Name ___ni2002: [2]model!$R$177
Name ___PFY1: [5]SBInput!$J$1:$J$65536
Name ___PFY2: [5]SBInput!$K$1:$K$65536
Name ___tax02: [2]model!$R$176
Name ___tax99: [3]model!$L$180
Name __ebt02: [2]model!$R$174
Name __ebt99: [3]model!$L$178
Name __IPO2: [4]sum2!$I$50
Name __ni2001: [2]model!$P$177
Name __ni2002: [2]model!$R$177
Name __PFY1: [5]SBInput!$J$1:$J$65536
Name __PFY2: [5]SBInput!$K$1:$K$65536
Name __tax02: [2]model!$R$176
Name __tax99: [3]model!$L$180
Name _0405: [6]ExRates!$D$30:$AB$54
Name _0506: [6]ExRates!$D$57:$AB$81
Name _0607: [6]ExRates!$D$84:$AB$108
Name _0708: [6]ExRates!$D$111:$AB$135
Name _ebt99: [3]model!$L$178
Name _ni2002: [2]model!$R$177
Name _PFY1: [5]SBInput!$J$1:$J$65536
Name _PFY2: [5]SBInput!$K$1:$K$65536
Name _tax02: [2]model!$R$176
Name accc: [7]SBInput!$G$182
Name AccountsPayable: [5]SBInput!$G$105:$M$105
Name AccountsReceivable: [5]SBInput!$G$96:$M$96
Name acqepsdate: [8]Input!$F$24
Name acqepsdate1: [8]Input!$F$25
Name acqepsdate2: [8]Input!$F$26

Sheet Synthèse
H1: http://forum.excel-pratique.com/excel/matrice-conditionnelle-multi-onglets-t44750.html
B47: Evolution par Entité
C48: En m€
B49: Entités | C49: Stock | D49: Clients | E49: Fourn. | F49: Réel vs M-12 | G49: Moy. cumulée vs. N-1
B50: R_P2 | C50: =OFFSET(INDIRECT("'" & $B50&"'!b6"),MATCH(LEFT($C$49,4)&"*?",INDIRECT("'" & $B50&"'!$B$8:$B$10"),0)+1,MATCH(Synthèse!$C$59,INDIRECT("'" & $B50&"'!$R$7:$AB$7"),0)+15,,) -> 0 | D50: =OFFSET(INDIRECT("'" & $B50&"'!b6"),MATCH(LEFT($D$49,4)&"*?",INDIRECT("'" & $B50&"'!$B$8:$B$10"),0)+1,MATCH(Synthèse!$C$59,INDIRECT("'" & $B50&"'!$R$7:$AB$7"),0)+15,,) -> 0 | E50: =OFFSET(INDIRECT("'" & $B50&"'!b6"),MATCH(LEFT($E$49,4)&"*?",INDIRECT("'" & $B50&"'!$B$8:$B$10"),0)+1,MATCH(Synthèse!$C$59,INDIRECT("'" & $B50&"'!$R$7:$AB$7"),0)+15,,) -> 0 | F50: =OFFSET(INDIRECT("'" & $B50&"'!b6"),MATCH($F$49,INDIRECT("'" & $B50&"'!$B$8:$B$10"),0)+1,MATCH(Synthèse!$C$59,INDIRECT("'" & $B50&"'!$R$7:$Af$7"),0)+15,,) -> #N/A | G50: =OFFSET(INDIRECT("'" & $B50&"'!b6"),MATCH(RIGHT($G$49,3)&"*?",INDIRECT("'" & $B50&"'!$B$8:$B$10"),0)+1,MATCH(Synthèse!$C$59,INDIRECT("'" & $B50&"'!$R$7:$Af$7"),0)+15,,) -> #N/A
B51: R_P23 | C51: =OFFSET(INDIRECT("'" & $B51&"'!b6"),MATCH(LEFT($C$49,4)&"*?",INDIRECT("'" & $B51&"'!$B$8:$B$10"),0)+1,MATCH(Synthèse!$C$59,INDIRECT("'" & $B51&"'!$R$7:$AB$7"),0)+15,,) -> 1.121 | D51: =OFFSET(INDIRECT("'" & $B51&"'!b6"),MATCH(LEFT($D$49,4)&"*?",INDIRECT("'" & $B51&"'!$B$8:$B$10"),0)+1,MATCH(Synthèse!$C$59,INDIRECT("'" & $B51&"'!$R$7:$AB$7"),0)+15,,) -> 2.467 | E51: =OFFSET(INDIRECT("'" & $B51&"'!b6"),MATCH(LEFT($E$49,4)&"*?",INDIRECT("'" & $B51&"'!$B$8:$B$10"),0)+1,MATCH(Synthèse!$C$59,INDIRECT("'" & $B51&"'!$R$7:$AB$7"),0)+15,,) -> -1.85 | F51: =OFFSET(INDIRECT("'" & $B51&"'!b6"),MATCH(RIGHT($F$49,3)&"*?",INDIRECT("'" & $B51&"'!$B$8:$B$10"),0)+1,MATCH(Synthèse!$C$59,INDIRECT("'" & $B51&"'!$R$7:$Af$7"),0)+15,,) -> #N/A | G51: =OFFSET(INDIRECT("'" & $B51&"'!b6"),MATCH(RIGHT($G$49,3)&"*?",INDIRECT("'" & $B51&"'!$B$8:$B$10"),0)+1,MATCH(Synthèse!$C$59,INDIRECT("'" & $B51&"'!$R$7:$Af$7"),0)+15,,) -> #N/A
B52: R_P235 | C52: =OFFSET(INDIRECT("'" & $B52&"'!b6"),MATCH(LEFT($C$49,4)&"*?",INDIRECT("'" & $B52&"'!$B$8:$B$10"),0)+1,MATCH(Synthèse!$C$59,INDIRECT("'" & $B52&"'!$R$7:$AB$7"),0)+15,,) -> 4.4031409 | D52: =Q47 -> 0 | E52: =OFFSET(INDIRECT("'" & $B52&"'!b6"),MATCH(LEFT($E$49,4)&"*?",INDIRECT("'" & $B52&"'!$B$8:$B$10"),0)+1,MATCH(Synthèse!$C$59,INDIRECT("'" & $B52&"'!$R$7:$AB$7"),0)+15,,) -> -2.0386664 | F52: =OFFSET(INDIRECT("'" & $B52&"'!b6"),MATCH(RIGHT($F$49,3)&"*?",INDIRECT("'" & $B52&"'!$B$8:$B$10"),0)+1,MATCH(Synthèse!$C$59,INDIRECT("'" & $B52&"'!$R$7:$Af$7"),0)+15,,) -> #N/A | G52: =OFFSET(INDIRECT("'" & $B52&"'!b6"),MATCH(RIGHT($G$49,3)&"*?",INDIRECT("'" & $B52&"'!$B$8:$B$10"),0)+1,MATCH(Synthèse!$C$59,INDIRECT("'" & $B52&"'!$R$7:$Af$7"),0)+15,,) -> #N/A
B53: R_P26 | C53: =OFFSET(INDIRECT("'" & $B53&"'!b6"),MATCH(LEFT($C$49,4)&"*?",INDIRECT("'" & $B53&"'!$B$8:$B$10"),0)+1,MATCH(Synthèse!$C$59,INDIRECT("'" & $B53&"'!$R$7:$AB$7"),0)+15,,) -> 3.926 | D53: =OFFSET(INDIRECT("'" & $B53&"'!b6"),MATCH(LEFT($D$49,4)&"*?",INDIRECT("'" & $B53&"'!$B$8:$B$10"),0)+1,MATCH(Synthèse!$C$59,INDIRECT("'" & $B53&"'!$R$7:$AB$7"),0)+15,,) -> 13.449 | E53: =OFFSET(INDIRECT("'" & $B53&"'!b6"),MATCH(LEFT($E$49,4)&"*?",INDIRECT("'" & $B53&"'!$B$8:$B$10"),0)+1,MATCH(Synthèse!$C$59,INDIRECT("'" & $B53&"'!$R$7:$AB$7"),0)+15,,) -> -9.187 | F53: =OFFSET(INDIRECT("'" & $B53&"'!b6"),MATCH(RIGHT($F$49,3)&"*?",INDIRECT("'" & $B53&"'!$B$8:$B$10"),0)+1,MATCH(Synthèse!$C$59,INDIRECT("'" & $B53&"'!$R$7:$Af$7"),0)+15,,) -> #N/A | G53: =OFFSET(INDIRECT("'" & $B53&"'!b6"),MATCH(RIGHT($G$49,3)&"*?",INDIRECT("'" & $B53&"'!$B$8:$B$10"),0)+1,MATCH(Synthèse!$C$59,INDIRECT("'" & $B53&"'!$R$7:$Af$7"),0)+15,,) -> #N/A
B54: R_P24 | C54: =OFFSET(INDIRECT("'" & $B54&"'!b6"),MATCH(LEFT($C$49,4)&"*?",INDIRECT("'" & $B54&"'!$B$8:$B$10"),0)+1,MATCH(Synthèse!$C$59,INDIRECT("'" & $B54&"'!$R$7:$AB$7"),0)+15,,) -> 169.94247 | D54: =OFFSET(INDIRECT("'" & $B54&"'!b6"),MATCH(LEFT($D$49,4)&"*?",INDIRECT("'" & $B54&"'!$B$8:$B$10"),0)+1,MATCH(Synthèse!$C$59,INDIRECT("'" & $B54&"'!$R$7:$AB$7"),0)+15,,) -> 128.28786 | E54: =OFFSET(INDIRECT("'" & $B54&"'!b6"),MATCH(LEFT($E$49,4)&"*?",INDIRECT("'" & $B54&"'!$B$8:$B$10"),0)+1,MATCH(Synthèse!$C$59,INDIRECT("'" & $B54&"'!$R$7:$AB$7"),0)+15,,) -> -81.16559 | F54: =OFFSET(INDIRECT("'" & $B54&"'!b6"),MATCH(RIGHT($F$49,3)&"*?",INDIRECT("'" & $B54&"'!$B$8:$B$10"),0)+1,MATCH(Synthèse!$C$59,INDIRECT("'" & $B54&"'!$R$7:$Af$7"),0)+15,,) -> #N/A | G54: =OFFSET(INDIRECT("'" & $B54&"'!b6"),MATCH(RIGHT($G$49,3)&"*?",INDIRECT("'" & $B54&"'!$B$8:$B$10"),0)+1,MATCH(Synthèse!$C$59,INDIRECT("'" & $B54&"'!$R$7:$Af$7"),0)+15,,) -> #N/A
B55: R_P21 | C55: =OFFSET(INDIRECT("'" & $B55&"'!b6"),MATCH(LEFT($C$49,4)&"*?",INDIRECT("'" & $B55&"'!$B$8:$B$10"),0)+1,MATCH(Synthèse!$C$59,INDIRECT("'" & $B55&"'!$R$7:$AB$7"),0)+15,,) -> 2.0476648 | D55: =OFFSET(INDIRECT("'" & $B55&"'!b6"),MATCH(LEFT($D$49,4)&"*?",INDIRECT("'" & $B55&"'!$B$8:$B$10"),0)+1,MATCH(Synthèse!$C$59,INDIRECT("'" & $B55&"'!$R$7:$AB$7"),0)+15,,) -> 8.9131202 | E55: =OFFSET(INDIRECT("'" & $B55&"'!b6"),MATCH(LEFT($E$49,4)&"*?",INDIRECT("'" & $B55&"'!$B$8:$B$10"),0)+1,MATCH(Synthèse!$C$59,INDIRECT("'" & $B55&"'!$R$7:$AB$7"),0)+15,,) -> -2.6279385 | F55: =OFFSET(INDIRECT("'" & $B55&"'!b6"),MATCH(RIGHT($F$49,3)&"*?",INDIRECT("'" & $B55&"'!$B$8:$B$10"),0)+1,MATCH(Synthèse!$C$59,INDIRECT("'" & $B55&"'!$R$7:$Af$7"),0)+15,,) -> #N/A | G55: =OFFSET(INDIRECT("'" & $B55&"'!b6"),MATCH(RIGHT($G$49,3)&"*?",INDIRECT("'" & $B55&"'!$B$8:$B$10"),0)+1,MATCH(Synthèse!$C$59,INDIRECT("'" & $B55&"'!$R$7:$Af$7"),0)+15,,) -> #N/A
C57: Variable avec la date en C59 | F57: Donnée "figée" en colonne
B59: Période à changer | C59: 41487

Sheet R_P2
B1: Vivescia
B2: Reporting BFR - Septembre 2013
B3: P2 - Siclaé
O4: FY13 | AC4: FY14
R5: FY14
B6: BFR | E6: Réel | O6: Réel | P6: Moy. | R6: Réel | AC6: Budget | AD6: Moy. | AE6: Variations
B7: En m€ | C7: 40695 | D7: 41061 | E7: 41122 | F7: 41153 | G7: 41183 | H7: 41214 | I7: 41244 | J7: 41275 | K7: 41306 | L7: 41334 | M7: 41365 | N7: 41395 | O7: 41426 | P7: 12 mois | Q7: Cumulé [A] | R7: 41487 | S7: 41518 | T7: 41548 | U7: 41579 | V7: 41609 | W7: 41640 | X7: 41671 | Y7: 41699 | Z7: 41730 | AA7: 41760 | AB7: 41791 | AC7: 41791 | AD7: Cumulé [B] | AE7: Moy. cumulée vs. N-1 | AF7: Réel vs M-12
B8: Stock | C8: 211.03968 | D8: 250.52498 | E8: 194.22348 | F8: 201.50254 | G8: 199.91893 | H8: 203.5829 | I8: 219.26691 | J8: 217.91669 | K8: 223.00144 | L8: 225.17198 | M8: 209.7962 | N8: 192.58549 | O8: 304.23422 | P8: 215.45202 | Q8: 197.86301 | R8: 0 | S8: 0 | T8: 0 | U8: 0 | V8: 0 | W8: 0 | X8: 0 | Y8: 0 | Z8: 0 | AA8: 0 | AB8: 0 | AC8: 0 | AD8: 0 | AE8: -197.86301 | AF8: -201.50254
B9: Clients | C9: 245.0453 | D9: 301.33808 | E9: 239.03264 | F9: 194.25389 | G9: 192.36856 | H9: 188.49035 | I9: 181.9679 | J9: 189.31919 | K9: 198.15011 | L9: 201.60853 | M9: 211.00336 | N9: 207.74716 | O9: 327.82303 | P9: 214.23311 | Q9: 216.64327 | R9: 0 | S9: 0 | T9: 0 | U9: 0 | V9: 0 | W9: 0 | X9: 0 | Y9: 0 | Z9: 0 | AA9: 0 | AB9: 0 | AC9: 0 | AD9: 0 | AE9: -216.64327 | AF9: -194.25389
B10: Fournisseurs | C10: -217.62651 | D10: -249.96021 | E10: -151.13024 | F10: -111.39144 | G10: -104.17549 | H10: -106.18152 | I10: -106.57599 | J10: -105.84581 | K10: -104.03851 | L10: -115.5669 | M10: -107.4361 | N10: -118.22806 | O10: -346.82576 | P10: -135.71051 | Q10: -131.26084 | R10: 0 | S10: 0 | T10: 0 | U10: 0 | V10: 0 | W10: 0 | X10: 0 | Y10: 0 | Z10: 0 | AA10: 0 | AB10: 0 | AC10: 0 | AD10: 0 | AE10: 131.26084 | AF10: 111.39144
B11: BFR TOTAL | C11: -217.62651 | D11: -249.96021 | E11: -151.13024 | F11: -111.39144 | G11: -104.17549 | H11: -106.18152 | I11: -106.57599 | J11: -105.84581 | K11: -104.03851 | L11: -115.5669 | M11: -107.4361 | N11: -118.22806 | O11: -346.82576 | P11: -135.71051 | Q11: -131.26084 | R11: 0 | S11: 0 | T11: 0 | U11: 0 | V11: 0 | W11: 0 | X11: 0 | Y11: 0 | Z11: 0 | AA11: 0 | AB11: 0 | AC11: 0 | AD11: 0 | AE11: 131.26084 | AF11: 111.39144
B17: DONNER A INTEGRER DANS LA SYNTHESE

Sheet R_P23
B1: Vivescia
B2: Reporting BFR - Septembre 2013
B3: P23 - Groupe ARD
O4: FY13 | AC4: FY14
R5: FY14
B6: BFR | E6: Réel | O6: Réel | P6: Moy. | R6: Réel | AC6: Budget | AD6: Moy. | AE6: Variations
B7: En m€ | C7: 40695 | D7: 41061 | E7: 41122 | F7: 41153 | G7: 41183 | H7: 41214 | I7: 41244 | J7: 41275 | K7: 41306 | L7: 41334 | M7: 41365 | N7: 41395 | O7: 41426 | P7: 12 mois | Q7: Cumulé [A] | R7: 41487 | S7: 41518 | T7: 41548 | U7: 41579 | V7: 41609 | W7: 41640 | X7: 41671 | Y7: 41699 | Z7: 41730 | AA7: 41760 | AB7: 41791 | AC7: 41791 | AD7: Cumulé [B] | AE7: Moy. cumulée vs. N-1 | AF7: Réel vs M-12
B8: Stock | C8: 0.568 | D8: 0.516 | E8: 0.708 | F8: 0.461 | G8: 0.452 | H8: 0.468 | I8: 1.201 | J8: 0.948 | K8: 0.622 | L8: 0.751 | M8: 0.667 | N8: 0.766 | O8: 1.079 | P8: 0.73591667 | Q8: 0.5845 | R8: 1.121 | S8: 1.312 | T8: 0 | U8: 0 | V8: 0 | W8: 0 | X8: 0 | Y8: 0 | Z8: 0 | AA8: 0 | AB8: 0 | AC8: 0.517 | AD8: 1.2165 | AE8: 0.632 | AF8: 0.851
B9: Clients | C9: 2.5345 | D9: 2.546 | E9: 2.718 | F9: 4.104 | G9: 4.681 | H9: 3.196 | I9: 1.662 | J9: 2.115 | K9: 2.065 | L9: 2.783 | M9: 2.041 | N9: 2.022 | O9: 1.454 | P9: 2.6299167 | Q9: 3.411 | R9: 2.467 | S9: 2.764 | T9: 0 | U9: 0 | V9: 0 | W9: 0 | X9: 0 | Y9: 0 | Z9: 0 | AA9: 0 | AB9: 0 | AC9: 5.673 | AD9: 2.6155 | AE9: -0.7955 | AF9: -1.34
B10: Fournisseurs | C10: -1.8535 | D10: -2.019 | E10: -2.058 | F10: -2.119 | G10: -2.371 | H10: -1.698 | I10: -1.745 | J10: -1.53 | K10: -1.8 | L10: -1.794 | M10: -1.58 | N10: -1.733 | O10: -1.956 | P10: -1.8701667 | Q10: -2.0885 | R10: -1.85 | S10: -1.998 | T10: 0 | U10: 0 | V10: 0 | W10: 0 | X10: 0 | Y10: 0 | Z10: 0 | AA10: 0 | AB10: 0 | AC10: -2.869 | AD10: -1.924 | AE10: 0.1645 | AF10: 0.121
B11: BFR TOTAL | C11: -1.8535 | D11: -2.019 | E11: -2.058 | F11: -2.119 | G11: -2.371 | H11: -1.698 | I11: -1.745 | J11: -1.53 | K11: -1.8 | L11: -1.794 | M11: -1.58 | N11: -1.733 | O11: -1.956 | P11: -1.8701667 | Q11: -2.0885 | R11: -1.85 | S11: -1.998 | T11: 0 | U11: 0 | V11: 0 | W11: 0 | X11: 0 | Y11: 0 | Z11: 0 | AA11: 0 | AB11: 0 | AC11: -2.869 | AD11: -1.924 | AE11: 0.1645 | AF11: 0.121
B17: DONNER A INTEGRER DANS LA SYNTHESE

Sheet R_P235
B1: Vivescia
B2: Reporting BFR - Septembre 2013
B3: P235 - Groupe Soliance
O4: FY13 | AC4: FY14
R5: FY14
B6: BFR | E6: Réel | O6: Réel | P6: Moy. | R6: Réel | AC6: Budget | AD6: Moy. | AE6: Variations
B7: En m€ | C7: 40695 | D7: 41061 | E7: 41122 | F7: 41153 | G7: 41183 | H7: 41214 | I7: 41244 | J7: 41275 | K7: 41306 | L7: 41334 | M7: 41365 | N7: 41395 | O7: 41426 | P7: 12 mois | Q7: Cumulé [A] | R7: 41487 | S7: 41518 | T7: 41548 | U7: 41579 | V7: 41609 | W7: 41640 | X7: 41671 | Y7: 41699 | Z7: 41730 | AA7: 41760 | AB7: 41791 | AC7: 41791 | AD7: Cumulé [B] | AE7: Moy. cumulée vs. N-1 | AF7: Réel vs M-12
B8: Stock | C8: 3.4063263 | D8: 4.2106958 | E8: 3.9879622 | F8: 4.5486984 | G8: 5.0455159 | H8: 4.9379396 | I8: 4.9982274 | J8: 4.7065092 | K8: 4.8205886 | L8: 4.9519953 | M8: 4.80244 | N8: 4.5848616 | O8: 4.6156086 | P8: 4.6656924 | Q8: 4.2683303 | R8: 4.4031409 | S8: 4.3498641 | T8: 0 | U8: 0 | V8: 0 | W8: 0 | X8: 0 | Y8: 0 | Z8: 0 | AA8: 0 | AB8: 0 | AC8: 4.2143226 | AD8: 4.3765025 | AE8: 0.10817224 | AF8: -0.19883425
B9: Clients | C9: 2.9411606 | D9: 4.0385417 | E9: 2.8118129 | F9: 2.6430967 | G9: 3.0902838 | H9: 3.8089025 | I9: 3.1577981 | J9: 4.1459262 | K9: 3.5532318 | L9: 3.8455205 | M9: 3.6771028 | N9: 3.3448022 | O9: 2.6613547 | P9: 3.2959704 | Q9: 2.7274548 | R9: 2.3263597 | S9: 3.1995098 | T9: 0 | U9: 0 | V9: 0 | W9: 0 | X9: 0 | Y9: 0 | Z9: 0 | AA9: 0 | AB9: 0 | AC9: 5.6447742 | AD9: 2.7629347 | AE9: 0.035479924 | AF9: 0.55641314
B10: Fournisseurs | C10: -1.9676109 | D10: -2.962054 | E10: -2.2877903 | F10: -2.1160812 | G10: -3.8232802 | H10: -3.2015648 | I10: -2.7388846 | J10: -2.8669631 | K10: -2.3579513 | L10: -2.4990761 | M10: -2.5556499 | N10: -2.1248398 | O10: -2.1184373 | P10: -2.5815257 | Q10: -2.2019358 | R10: -2.0386664 | S10: -2.3719674 | T10: 0 | U10: 0 | V10: 0 | W10: 0 | X10: 0 | Y10: 0 | Z10: 0 | AA10: 0 | AB10: 0 | AC10: -4.9156774 | AD10: -2.2053169 | AE10: -0.003381143 | AF10: -0.25588621
B11: BFR TOTAL | C11: -1.9676109 | D11: -2.962054 | E11: -2.2877903 | F11: -2.1160812 | G11: -3.8232802 | H11: -3.2015648 | I11: -2.7388846 | J11: -2.8669631 | K11: -2.3579513 | L11: -2.4990761 | M11: -2.5556499 | N11: -2.1248398 | O11: -2.1184373 | P11: -2.5815257 | Q11: -2.2019358 | R11: -2.0386664 | S11: -2.3719674 | T11: 0 | U11: 0 | V11: 0 | W11: 0 | X11: 0 | Y11: 0 | Z11: 0 | AA11: 0 | AB11: 0 | AC11: -4.9156774 | AD11: -2.2053169 | AE11: -0.003381143 | AF11: -0.25588621
B17: DONNER A INTEGRER DANS LA SYNTHESE

Sheet R_P26
B1: Vivescia
B2: Reporting BFR - Septembre 2013
B3: P26 - Pôle Nutrition Animale
O4: FY13 | AC4: FY14
R5: FY14
B6: BFR | E6: Réel | O6: Réel | P6: Moy. | R6: Réel | AC6: Budget | AD6: Moy. | AE6: Variations
B7: En m€ | C7: 40695 | D7: 41061 | E7: 41122 | F7: 41153 | G7: 41183 | H7: 41214 | I7: 41244 | J7: 41275 | K7: 41306 | L7: 41334 | M7: 41365 | N7: 41395 | O7: 41426 | P7: 12 mois | Q7: Cumulé [A] | R7: 41487 | S7: 41518 | T7: 41548 | U7: 41579 | V7: 41609 | W7: 41640 | X7: 41671 | Y7: 41699 | Z7: 41730 | AA7: 41760 | AB7: 41791 | AC7: 41791 | AD7: Cumulé [B] | AE7: Moy. cumulée vs. N-1 | AF7: Réel vs M-12
B8: Stock | C8: 3.896 | D8: 4.011 | E8: 4.501 | F8: 4.787 | G8: 4.797 | H8: 5.061 | I8: 5.049 | J8: 4.75 | K8: 4.753 | L8: 4.664 | M8: 4.482 | N8: 4.027 | O8: 3.904 | P8: 4.6063333 | Q8: 4.644 | R8: 3.926 | S8: 4.497 | T8: 0 | U8: 0 | V8: 0 | W8: 0 | X8: 0 | Y8: 0 | Z8: 0 | AA8: 0 | AB8: 0 | AC8: 4.007 | AD8: 4.2115 | AE8: -0.4325 | AF8: -0.29
B9: Clients | C9: 12.168 | D9: 12.088 | E9: 12.815 | F9: 13.625 | G9: 14.927 | H9: 14.863 | I9: 15.545 | J9: 15.403 | K9: 15.516 | L9: 15.026 | M9: 14.207 | N9: 14.034 | O9: 12.01 | P9: 14.232167 | Q9: 13.22 | R9: 13.449 | S9: 13.534 | T9: 0 | U9: 0 | V9: 0 | W9: 0 | X9: 0 | Y9: 0 | Z9: 0 | AA9: 0 | AB9: 0 | AC9: 13.473 | AD9: 13.4915 | AE9: 0.2715 | AF9: -0.091
B10: Fournisseurs | C10: -8.694 | D10: -8.995 | E10: -8.604 | F10: -10.403 | G10: -11.372 | H10: -11.474 | I10: -11.049 | J10: -10.887 | K10: -9.88 | L10: -10.342 | M10: -9.522 | N10: -8.957 | O10: -8.382 | P10: -9.9563333 | Q10: -9.5035 | R10: -9.187 | S10: -10.111 | T10: 0 | U10: 0 | V10: 0 | W10: 0 | X10: 0 | Y10: 0 | Z10: 0 | AA10: 0 | AB10: 0 | AC10: -10.031 | AD10: -9.649 | AE10: -0.1455 | AF10: 0.292
B11: BFR TOTAL | C11: -8.694 | D11: -8.995 | E11: -8.604 | F11: -10.403 | G11: -11.372 | H11: -11.474 | I11: -11.049 | J11: -10.887 | K11: -9.88 | L11: -10.342 | M11: -9.522 | N11: -8.957 | O11: -8.382 | P11: -9.9563333 | Q11: -9.5035 | R11: -9.187 | S11: -10.111 | T11: 0 | U11: 0 | V11: 0 | W11: 0 | X11: 0 | Y11: 0 | Z11: 0 | AA11: 0 | AB11: 0 | AC11: -10.031 | AD11: -9.649 | AE11: -0.1455 | AF11: 0.292
B17: DONNER A INTEGRER DANS LA SYNTHESE

Sheet R_P24
B1: Vivescia
B2: Reporting BFR - Septembre 2013
B3: P24 - Pôle Malterie
O4: FY13 | AC4: FY14
R5: FY14
B6: BFR | E6: Réel | O6: Réel | P6: Moy. | R6: Réel | AC6: Budget | AD6: Moy. | AE6: Variations
B7: En m€ | C7: 40695 | D7: 41061 | E7: 41122 | F7: 41153 | G7: 41183 | H7: 41214 | I7: 41244 | J7: 41275 | K7: 41306 | L7: 41334 | M7: 41365 | N7: 41395 | O7: 41426 | P7: 12 mois | Q7: Cumulé [A] | R7: 41487 | S7: 41518 | T7: 41548 | U7: 41579 | V7: 41609 | W7: 41640 | X7: 41671 | Y7: 41699 | Z7: 41730 | AA7: 41760 | AB7: 41791 | AC7: 41791 | AD7: Cumulé [B] | AE7: Moy. cumulée vs. N-1 | AF7: Réel vs M-12
B8: Stock | C8: 127.5986 | D8: 161.34911 | E8: 167.60926 | F8: 174.66335 | G8: 173.60246 | H8: 176.81841 | I8: 189.76924 | J8: 187.07221 | K8: 193.35849 | L8: 194.75516 | M8: 180.25074 | N8: 163.33396 | O8: 152.11668 | P8: 176.7466 | Q8: 171.1363 | R8: 169.94247 | S8: 169.1916 | T8: 0 | U8: 0 | V8: 0 | W8: 0 | X8: 0 | Y8: 0 | Z8: 0 | AA8: 0 | AB8: 0 | AC8: 159.42209 | AD8: 169.56704 | AE8: -1.569268 | AF8: -5.471751
B9: Clients | C9: 101.53762 | D9: 151.71141 | E9: 185.98321 | F9: 138.14441 | G9: 133.40381 | H9: 131.18175 | I9: 127.69745 | J9: 127.03823 | K9: 135.41284 | L9: 142.43837 | M9: 151.96616 | N9: 151.2183 | O9: 101.65839 | P9: 142.67718 | Q9: 162.06381 | R9: 128.28786 | S9: 113.54193 | T9: 0 | U9: 0 | V9: 0 | W9: 0 | X9: 0 | Y9: 0 | Z9: 0 | AA9: 0 | AB9: 0 | AC9: 111.68697 | AD9: 120.9149 | AE9: -41.148914 | AF9: -24.602476
B10: Fournisseurs | C10: -77.394232 | D10: -97.934269 | E10: -118.11349 | F10: -69.61201 | G10: -67.202461 | H10: -70.941331 | I10: -78.459629 | J10: -69.581943 | K10: -69.813679 | L10: -74.872344 | M10: -75.223735 | N10: -88.334923 | O10: -107.43442 | P10: -83.975288 | Q10: -93.862749 | R10: -81.16559 | S10: -77.873464 | T10: 0 | U10: 0 | V10: 0 | W10: 0 | X10: 0 | Y10: 0 | Z10: 0 | AA10: 0 | AB10: 0 | AC10: -115.45589 | AD10: -79.519527 | AE10: 14.343222 | AF10: -8.2614538
B11: BFR TOTAL | C11: -77.394232 | D11: -97.934269 | E11: -118.11349 | F11: -69.61201 | G11: -67.202461 | H11: -70.941331 | I11: -78.459629 | J11: -69.581943 | K11: -69.813679 | L11: -74.872344 | M11: -75.223735 | N11: -88.334923 | O11: -107.43442 | P11: -83.975288 | Q11: -93.862749 | R11: -81.16559 | S11: -77.873464 | T11: 0 | U11: 0 | V11: 0 | W11: 0 | X11: 0 | Y11: 0 | Z11: 0 | AA11: 0 | AB11: 0 | AC11: -115.45589 | AD11: -79.519527 | AE11: 14.343222 | AF11: -8.2614538
B17: DONNER A INTEGRER DANS LA SYNTHESE

Sheet R_P21
B1: Vivescia
B2: Reporting BFR - Septembre 2013
B3: P21 - Pôle Maïserie
O4: FY13 | AC4: FY14
R5: FY14
B6: BFR | E6: Réel | O6: Réel | P6: Moy. | R6: Réel | AC6: Budget | AD6: Moy. | AE6: Variations
B7: En m€ | C7: 40695 | D7: 41061 | E7: 41122 | F7: 41153 | G7: 41183 | H7: 41214 | I7: 41244 | J7: 41275 | K7: 41306 | L7: 41334 | M7: 41365 | N7: 41395 | O7: 41426 | P7: 12 mois | Q7: Cumulé [A] | R7: 41487 | S7: 41518 | T7: 41548 | U7: 41579 | V7: 41609 | W7: 41640 | X7: 41671 | Y7: 41699 | Z7: 41730 | AA7: 41760 | AB7: 41791 | AC7: 41791 | AD7: Cumulé [B] | AE7: Moy. cumulée vs. N-1 | AF7: Réel vs M-12
B8: Stock | C8: 1.8263498 | D8: 2.4690064 | E8: 2.3517569 | F8: 2.4819898 | G8: 1.9734595 | H8: 2.0830577 | I8: 2.6179362 | J8: 2.3649788 | K8: 2.1713669 | L8: 1.7593192 | M8: 1.8245227 | N8: 2.0801634 | O8: 1.9634301 | P8: 2.1686448 | Q8: 2.4168733 | R8: 2.0476648 | S8: 1.6002297 | T8: 0 | U8: 0 | V8: 0 | W8: 0 | X8: 0 | Y8: 0 | Z8: 0 | AA8: 0 | AB8: 0 | AC8: 1.9853781 | AD8: 1.8239472 | AE8: -0.59292611 | AF8: -0.88176015
B9: Clients | C9: 7.60934 | D9: 7.8885907 | E9: 7.3062261 | F9: 7.8948902 | G9: 7.9439693 | H9: 7.8756964 | I9: 7.1552705 | J9: 7.5830324 | K9: 8.6995392 | L9: 10.130133 | M9: 9.6721912 | N9: 9.2845577 | O9: 8.5972814 | P9: 8.2874178 | Q9: 7.6005581 | R9: 8.9131202 | S9: 8.3540878 | T9: 0 | U9: 0 | V9: 0 | W9: 0 | X9: 0 | Y9: 0 | Z9: 0 | AA9: 0 | AB9: 0 | AC9: 7.661607 | AD9: 8.633604 | AE9: 1.0330459 | AF9: 0.45919763
B10: Fournisseurs | C10: -0.9899896 | D10: -2.2906257 | E10: -2.1835147 | F10: -1.8508489 | G10: -1.6592486 | H10: -1.4381248 | I10: -2.0256848 | J10: -1.3269001 | K10: -1.4488781 | L10: -1.6489831 | M10: -2.5950948 | N10: -2.3362928 | O10: -1.2264039 | P10: -1.8269574 | Q10: -2.0171818 | R10: -2.6279385 | S10: -1.0195274 | T10: 0 | U10: 0 | V10: 0 | W10: 0 | X10: 0 | Y10: 0 | Z10: 0 | AA10: 0 | AB10: 0 | AC10: -4.3777015 | AD10: -1.823733 | AE10: 0.1934488 | AF10: 0.83132144
B11: BFR TOTAL | C11: -0.9899896 | D11: -2.2906257 | E11: -2.1835147 | F11: -1.8508489 | G11: -1.6592486 | H11: -1.4381248 | I11: -2.0256848 | J11: -1.3269001 | K11: -1.4488781 | L11: -1.6489831 | M11: -2.5950948 | N11: -2.3362928 | O11: -1.2264039 | P11: -1.8269574 | Q11: -2.0171818 | R11: -2.6279385 | S11: -1.0195274 | T11: 0 | U11: 0 | V11: 0 | W11: 0 | X11: 0 | Y11: 0 | Z11: 0 | AA11: 0 | AB11: 0 | AC11: -4.3777015 | AD11: -1.823733 | AE11: 0.1934488 | AF11: 0.83132144
B17: DONNER A INTEGRER DANS LA SYNTHESE
