Workbook
Name Nbr_de_ligne: Tableau22[[#Totals],[Article]]
Name Nbr_de_ligne: Tableau2[[#Totals],[Article]]
Name Segment_Article: #N/A
Name Segment_Article1: #N/A
Name Zone_Impr_1: OFFSET(Mon_Tableau!XEW1048569,,1,Mon_Tableau!A1048574,5)
Name Zone_Impr_1: OFFSET(RESULTAT!XEW1048569,,1,RESULTAT!A1048574,5)

Sheet Mon_Tableau
B9: Titre de mon Tableau
B10: Article | C10: Colonne_2 | D10: Colonne_3 | E10: Colonne_4 | F10: Colonne_5
B11: Article_01 | C11: =RANDBETWEEN(100,300) -> 113 | D11: =RANDBETWEEN(300,500) -> 363 | E11: =RANDBETWEEN(400,800) -> 424 | F11: =RANDBETWEEN(600,900) -> 783
B12: Article_01 | C12: =RANDBETWEEN(100,300) -> 150 | D12: =RANDBETWEEN(300,500) -> 397 | E12: =RANDBETWEEN(400,800) -> 481 | F12: =RANDBETWEEN(600,900) -> 632
B13: Article_01 | C13: =RANDBETWEEN(100,300) -> 220 | D13: =RANDBETWEEN(300,500) -> 461 | E13: =RANDBETWEEN(400,800) -> 791 | F13: =RANDBETWEEN(600,900) -> 698
B14: Article_01 | C14: =RANDBETWEEN(100,300) -> 194 | D14: =RANDBETWEEN(300,500) -> 321 | E14: =RANDBETWEEN(400,800) -> 680 | F14: =RANDBETWEEN(600,900) -> 717
B15: Article_01 | C15: =RANDBETWEEN(100,300) -> 284 | D15: =RANDBETWEEN(300,500) -> 337 | E15: =RANDBETWEEN(400,800) -> 729 | F15: =RANDBETWEEN(600,900) -> 697
B16: Article_01 | C16: =RANDBETWEEN(100,300) -> 260 | D16: =RANDBETWEEN(300,500) -> 408 | E16: =RANDBETWEEN(400,800) -> 749 | F16: =RANDBETWEEN(600,900) -> 868
B17: Article_02 | C17: =RANDBETWEEN(100,300) -> 222 | D17: =RANDBETWEEN(300,500) -> 492 | E17: =RANDBETWEEN(400,800) -> 497 | F17: =RANDBETWEEN(600,900) -> 860
B18: Article_02 | C18: =RANDBETWEEN(100,300) -> 154 | D18: =RANDBETWEEN(300,500) -> 492 | E18: =RANDBETWEEN(400,800) -> 715 | F18: =RANDBETWEEN(600,900) -> 801
B19: Article_02 | C19: =RANDBETWEEN(100,300) -> 116 | D19: =RANDBETWEEN(300,500) -> 346 | E19: =RANDBETWEEN(400,800) -> 660 | F19: =RANDBETWEEN(600,900) -> 819
B20: Article_02 | C20: =RANDBETWEEN(100,300) -> 180 | D20: =RANDBETWEEN(300,500) -> 481 | E20: =RANDBETWEEN(400,800) -> 524 | F20: =RANDBETWEEN(600,900) -> 633
B21: Article_02 | C21: =RANDBETWEEN(100,300) -> 293 | D21: =RANDBETWEEN(300,500) -> 422 | E21: =RANDBETWEEN(400,800) -> 625 | F21: =RANDBETWEEN(600,900) -> 738
B22: Article_02 | C22: =RANDBETWEEN(100,300) -> 111 | D22: =RANDBETWEEN(300,500) -> 308 | E22: =RANDBETWEEN(400,800) -> 644 | F22: =RANDBETWEEN(600,900) -> 765
... B130: Article_20 | C130: =RANDBETWEEN(100,300) -> 149 | D130: =RANDBETWEEN(300,500) -> 311 | E130: =RANDBETWEEN(400,800) -> 536 | F130: =RANDBETWEEN(600,900) -> 861
B131: =SUBTOTAL(103,Tableau2[Article]) -> 12 | C131: =SUBTOTAL(109,Tableau2[Colonne_2]) -> 2075 | D131: =SUBTOTAL(109,Tableau2[Colonne_3]) -> 5011 | E131: =SUBTOTAL(109,Tableau2[Colonne_4]) -> 7375 | F131: =SUBTOTAL(109,Tableau2[Colonne_5]) -> 8997

Sheet RESULTAT
I2: sans l'impression du segment
B8: Titre de mon Tableau
B9: Article | C9: Colonne_2 | D9: Colonne_3 | E9: Colonne_4 | F9: Colonne_5
B10: Article_01 | C10: =RANDBETWEEN(100,300) -> 245 | D10: =RANDBETWEEN(300,500) -> 390 | E10: =RANDBETWEEN(400,800) -> 757 | F10: =RANDBETWEEN(600,900) -> 818
B11: Article_01 | C11: =RANDBETWEEN(100,300) -> 243 | D11: =RANDBETWEEN(300,500) -> 313 | E11: =RANDBETWEEN(400,800) -> 620 | F11: =RANDBETWEEN(600,900) -> 863
B12: Article_01 | C12: =RANDBETWEEN(100,300) -> 224 | D12: =RANDBETWEEN(300,500) -> 459 | E12: =RANDBETWEEN(400,800) -> 590 | F12: =RANDBETWEEN(600,900) -> 847
B13: Article_01 | C13: =RANDBETWEEN(100,300) -> 237 | D13: =RANDBETWEEN(300,500) -> 413 | E13: =RANDBETWEEN(400,800) -> 401 | F13: =RANDBETWEEN(600,900) -> 738
B14: Article_01 | C14: =RANDBETWEEN(100,300) -> 217 | D14: =RANDBETWEEN(300,500) -> 377 | E14: =RANDBETWEEN(400,800) -> 422 | F14: =RANDBETWEEN(600,900) -> 621
B15: Article_01 | C15: =RANDBETWEEN(100,300) -> 232 | D15: =RANDBETWEEN(300,500) -> 337 | E15: =RANDBETWEEN(400,800) -> 426 | F15: =RANDBETWEEN(600,900) -> 630
B16: Article_02 | C16: =RANDBETWEEN(100,300) -> 279 | D16: =RANDBETWEEN(300,500) -> 395 | E16: =RANDBETWEEN(400,800) -> 541 | F16: =RANDBETWEEN(600,900) -> 863
B17: Article_02 | C17: =RANDBETWEEN(100,300) -> 178 | D17: =RANDBETWEEN(300,500) -> 397 | E17: =RANDBETWEEN(400,800) -> 684 | F17: =RANDBETWEEN(600,900) -> 793
B18: Article_02 | C18: =RANDBETWEEN(100,300) -> 252 | D18: =RANDBETWEEN(300,500) -> 343 | E18: =RANDBETWEEN(400,800) -> 408 | F18: =RANDBETWEEN(600,900) -> 772
B19: Article_02 | C19: =RANDBETWEEN(100,300) -> 251 | D19: =RANDBETWEEN(300,500) -> 402 | E19: =RANDBETWEEN(400,800) -> 598 | F19: =RANDBETWEEN(600,900) -> 724
B20: Article_02 | C20: =RANDBETWEEN(100,300) -> 116 | D20: =RANDBETWEEN(300,500) -> 418 | E20: =RANDBETWEEN(400,800) -> 608 | F20: =RANDBETWEEN(600,900) -> 705
B21: Article_02 | C21: =RANDBETWEEN(100,300) -> 216 | D21: =RANDBETWEEN(300,500) -> 319 | E21: =RANDBETWEEN(400,800) -> 484 | F21: =RANDBETWEEN(600,900) -> 787
... B129: Article_20 | C129: =RANDBETWEEN(100,300) -> 141 | D129: =RANDBETWEEN(300,500) -> 306 | E129: =RANDBETWEEN(400,800) -> 612 | F129: =RANDBETWEEN(600,900) -> 647
B130: =SUBTOTAL(103,Tableau22[Article]) -> 18 | C130: =SUBTOTAL(109,Tableau22[Colonne_2]) -> 4091 | D130: =SUBTOTAL(109,Tableau22[Colonne_3]) -> 7086 | E130: =SUBTOTAL(109,Tableau22[Colonne_4]) -> 10253 | F130: =SUBTOTAL(109,Tableau22[Colonne_5]) -> 13449

Sheet Notes
B2: RESULTATS DES FORMULES | C2: FORMULES "TEXTE" | D2: Info
B3: =OFFSET(Mon_Tableau!A9,,1) -> Titre de mon Tableau | C3: =_xlfn.FORMULATEXT(B3) -> =DECALER(Mon_Tableau!A9;;1) | D3: = valeur de B8
B5: =OFFSET(Mon_Tableau!A9,,5) -> 0 | C5: =_xlfn.FORMULATEXT(B5) -> =DECALER(Mon_Tableau!A9;;5) | D5: = valeur de F8
B7: =OFFSET(Mon_Tableau!A11,,1) -> Article_01 | C7: =_xlfn.FORMULATEXT(B7) -> =DECALER(Mon_Tableau!A11;;1) | D7: = valeur de la première ligne (cachée ou PAS) du tableau
B9: =COUNTA(Mon_Tableau!B:B)-3 -> 120 | C9: =_xlfn.FORMULATEXT(B9) -> =NBVAL(Mon_Tableau!B:B)-3 | D9: = nombre d'articles dans le tableau sans critères actifs
B11: =Nbr_de_ligne -> 12 | C11: =_xlfn.FORMULATEXT(B11) -> =Nbr_de_ligne | D11: = nombre de lignes selon critère(s)
B13: =Nbr_de_ligne+3 -> 15 | C13: =_xlfn.FORMULATEXT(B13) -> =Nbr_de_ligne+3 | D13: = nombre de lignes selon critère(s) + les lignes d'entête et celle du total
B15: =OFFSET(Mon_Tableau!A9,1,1,B13,5) -> Article_01 | C15: =_xlfn.FORMULATEXT(B15) -> =DECALER(Mon_Tableau!A9;1;1;B13;5) | D15: = Nomalement, la zone dîmpression !!!!
