Workbook
Name An: 'recap horaires'!$B$1
Name An: 'recap horaires'!$B$1
Name férié: Données!$A$4:$A$16

Sheet recap horaires
B3: Periode | D3: Prise de service | E3: Interv. s/site | F3: Pause déjeuner | G3: Reprise | H3: Fin d'interv. | I3: Fin de service | J3: Total vacation | K3: Horaire théorique | L3: Crédit heures | M3: Débit heures | N3: OBS
L4: report n-1 | M4: report n-1
A5: mois | B5: année | L5: 0.024305556
A6: janvier | B6: 2014 | C6: =DATE(B6,MONTH(1&A6),1) -> 40178 | D6: =IF(OR($N6={"Récup","Congé annuels","arrêt maladie"}),0,VLOOKUP($C6,Données!$C$6:$K$1468,COLUMN()-2)) -> 0 | E6: =IF(OR($N6={"Récup","Congé annuels","arrêt maladie"}),0,VLOOKUP($C6,Données!$C$6:$K$1468,COLUMN()-2)) -> 0 | F6: =IF(OR($N6={"Récup","Congé annuels","arrêt maladie"}),0,VLOOKUP($C6,Données!$C$6:$K$1468,COLUMN()-2)) -> 0 | G6: =IF(OR($N6={"Récup","Congé annuels","arrêt maladie"}),0,VLOOKUP($C6,Données!$C$6:$K$1468,COLUMN()-2)) -> 0 | H6: =IF(OR($N6={"Récup","Congé annuels","arrêt maladie"}),0,VLOOKUP($C6,Données!$C$6:$K$1468,COLUMN()-2)) -> 0 | I6: =IF(OR($N6={"Récup","Congé annuels","arrêt maladie"}),0,VLOOKUP($C6,Données!$C$6:$K$1468,COLUMN()-2)) -> 0 | J6: =IF(OR($N6={"Récup","Congé annuels","arrêt maladie"}),0,VLOOKUP($C6,Données!$C$6:$K$1468,COLUMN()-2)) -> 0 | K6: =IF(OR($N6={"Récup","Congé annuels","arrêt maladie"}),0,VLOOKUP($C6,Données!$C$6:$K$1468,COLUMN()-2)) -> 0 | L6: =SUM(J6-K6) -> 0 | M6: =IF(L6<0,L6,0) -> 0 | N6: =VLOOKUP(C6,Données!C6:L36,10) -> 0
C7: =C6+1 -> 40179 | D7: =IF(OR($N7={"Récup","Congé annuels","arrêt maladie"}),0,VLOOKUP($C7,Données!$C$6:$K$1468,COLUMN()-2)) -> 0.33333333 | E7: =IF(OR($N7={"Récup","Congé annuels","arrêt maladie"}),0,VLOOKUP($C7,Données!$C$6:$K$1468,COLUMN()-2)) -> 0 | F7: =IF(OR($N7={"Récup","Congé annuels","arrêt maladie"}),0,VLOOKUP($C7,Données!$C$6:$K$1468,COLUMN()-2)) -> 0.5 | G7: =IF(OR($N7={"Récup","Congé annuels","arrêt maladie"}),0,VLOOKUP($C7,Données!$C$6:$K$1468,COLUMN()-2)) -> 0.54166667 | H7: =IF(OR($N7={"Récup","Congé annuels","arrêt maladie"}),0,VLOOKUP($C7,Données!$C$6:$K$1468,COLUMN()-2)) -> 0 | I7: =IF(OR($N7={"Récup","Congé annuels","arrêt maladie"}),0,VLOOKUP($C7,Données!$C$6:$K$1468,COLUMN()-2)) -> 0.70833333 | J7: =IF(OR($N7={"Récup","Congé annuels","arrêt maladie"}),0,VLOOKUP($C7,Données!$C$6:$K$1468,COLUMN()-2)) -> 0.33333333 | K7: =IF(OR($N7={"Récup","Congé annuels","arrêt maladie"}),0,VLOOKUP($C7,Données!$C$6:$K$1468,COLUMN()-2, FALSE)) -> 0.29166667 | L7: =SUM(J7-K7) -> 0.041666667 | M7: =IF(L7<0,L7,0) -> 0 | N7: =VLOOKUP(C7,Données!C7:L37,10) -> 0 | P7: arrêt maladie
C8: =C7+1 -> 40180 | D8: =IF(OR($N8={"Récup","Congé annuels","arrêt maladie"}),0,VLOOKUP($C8,Données!$C$6:$K$1468,COLUMN()-2)) -> 0.33333333 | E8: =IF(OR($N8={"Récup","Congé annuels","arrêt maladie"}),0,VLOOKUP($C8,Données!$C$6:$K$1468,COLUMN()-2)) -> 0 | F8: =IF(OR($N8={"Récup","Congé annuels","arrêt maladie"}),0,VLOOKUP($C8,Données!$C$6:$K$1468,COLUMN()-2)) -> 0.5 | G8: =IF(OR($N8={"Récup","Congé annuels","arrêt maladie"}),0,VLOOKUP($C8,Données!$C$6:$K$1468,COLUMN()-2)) -> 0.54166667 | H8: =IF(OR($N8={"Récup","Congé annuels","arrêt maladie"}),0,VLOOKUP($C8,Données!$C$6:$K$1468,COLUMN()-2)) -> 0 | I8: =IF(OR($N8={"Récup","Congé annuels","arrêt maladie"}),0,VLOOKUP($C8,Données!$C$6:$K$1468,COLUMN()-2)) -> 0.70833333 | J8: =IF(OR($N8={"Récup","Congé annuels","arrêt maladie"}),0,VLOOKUP($C8,Données!$C$6:$K$1468,COLUMN()-2)) -> 0.33333333 | K8: =IF(OR($N8={"Récup","Congé annuels","arrêt maladie"}),0,VLOOKUP($C8,Données!$C$6:$K$1468,COLUMN()-2, FALSE)) -> 0.29166667 | L8: =SUM(J8-K8) -> 0.041666667 | M8: =IF(L8<0,L8,0) -> 0
C9: =C8+1 -> 40181 | D9: =IF(OR($N9={"Récup","Congé annuels","arrêt maladie"}),0,VLOOKUP($C9,Données!$C$6:$K$1468,COLUMN()-2)) -> 0 | E9: =IF(OR($N9={"Récup","Congé annuels","arrêt maladie"}),0,VLOOKUP($C9,Données!$C$6:$K$1468,COLUMN()-2)) -> 0 | F9: =IF(OR($N9={"Récup","Congé annuels","arrêt maladie"}),0,VLOOKUP($C9,Données!$C$6:$K$1468,COLUMN()-2)) -> 0 | G9: =IF(OR($N9={"Récup","Congé annuels","arrêt maladie"}),0,VLOOKUP($C9,Données!$C$6:$K$1468,COLUMN()-2)) -> 0 | H9: =IF(OR($N9={"Récup","Congé annuels","arrêt maladie"}),0,VLOOKUP($C9,Données!$C$6:$K$1468,COLUMN()-2)) -> 0 | I9: =IF(OR($N9={"Récup","Congé annuels","arrêt maladie"}),0,VLOOKUP($C9,Données!$C$6:$K$1468,COLUMN()-2)) -> 0 | J9: =IF(OR($N9={"Récup","Congé annuels","arrêt maladie"}),0,VLOOKUP($C9,Données!$C$6:$K$1468,COLUMN()-2)) -> 0 | K9: =IF(OR($N9={"Récup","Congé annuels","arrêt maladie"}),0,VLOOKUP($C9,Données!$C$6:$K$1468,COLUMN()-2, FALSE)) -> 0 | L9: =SUM(J9-K9) -> 0 | M9: =IF(L9<0,L9,0) -> 0 | N9: =VLOOKUP(C9,Données!C9:L39,10) -> 0
C10: =C9+1 -> 40182 | D10: =IF(OR($N10={"Récup","Congé annuels","arrêt maladie"}),0,VLOOKUP($C10,Données!$C$6:$K$1468,COLUMN()-2)) -> 0 | E10: =IF(OR($N10={"Récup","Congé annuels","arrêt maladie"}),0,VLOOKUP($C10,Données!$C$6:$K$1468,COLUMN()-2)) -> 0 | F10: =IF(OR($N10={"Récup","Congé annuels","arrêt maladie"}),0,VLOOKUP($C10,Données!$C$6:$K$1468,COLUMN()-2)) -> 0 | G10: =IF(OR($N10={"Récup","Congé annuels","arrêt maladie"}),0,VLOOKUP($C10,Données!$C$6:$K$1468,COLUMN()-2)) -> 0 | H10: =IF(OR($N10={"Récup","Congé annuels","arrêt maladie"}),0,VLOOKUP($C10,Données!$C$6:$K$1468,COLUMN()-2)) -> 0 | I10: =IF(OR($N10={"Récup","Congé annuels","arrêt maladie"}),0,VLOOKUP($C10,Données!$C$6:$K$1468,COLUMN()-2)) -> 0 | J10: =IF(OR($N10={"Récup","Congé annuels","arrêt maladie"}),0,VLOOKUP($C10,Données!$C$6:$K$1468,COLUMN()-2)) -> 0 | K10: =IF(OR($N10={"Récup","Congé annuels","arrêt maladie"}),0,VLOOKUP($C10,Données!$C$6:$K$1468,COLUMN()-2, FALSE)) -> 0 | L10: =SUM(J10-K10) -> 0 | M10: =IF(L10<0,L10,0) -> 0 | N10: =VLOOKUP(C10,Données!C10:L40,10) -> 0 | P10: congés annuel
C11: =C10+1 -> 40183 | D11: =IF(OR($N11={"Récup","Congé annuels","arrêt maladie"}),0,VLOOKUP($C11,Données!$C$6:$K$1468,COLUMN()-2)) -> 0.35416667 | E11: =IF(OR($N11={"Récup","Congé annuels","arrêt maladie"}),0,VLOOKUP($C11,Données!$C$6:$K$1468,COLUMN()-2)) -> 0 | F11: =IF(OR($N11={"Récup","Congé annuels","arrêt maladie"}),0,VLOOKUP($C11,Données!$C$6:$K$1468,COLUMN()-2)) -> 0.54166667 | G11: =IF(OR($N11={"Récup","Congé annuels","arrêt maladie"}),0,VLOOKUP($C11,Données!$C$6:$K$1468,COLUMN()-2)) -> 0.58333333 | H11: =IF(OR($N11={"Récup","Congé annuels","arrêt maladie"}),0,VLOOKUP($C11,Données!$C$6:$K$1468,COLUMN()-2)) -> 0 | I11: =IF(OR($N11={"Récup","Congé annuels","arrêt maladie"}),0,VLOOKUP($C11,Données!$C$6:$K$1468,COLUMN()-2)) -> 0.6875 | J11: =IF(OR($N11={"Récup","Congé annuels","arrêt maladie"}),0,VLOOKUP($C11,Données!$C$6:$K$1468,COLUMN()-2)) -> 0.29166667 | K11: =IF(OR($N11={"Récup","Congé annuels","arrêt maladie"}),0,VLOOKUP($C11,Données!$C$6:$K$1468,COLUMN()-2, FALSE)) -> 0.29166667 | L11: =SUM(J11-K11) -> -1.110223e-16 | M11: =IF(L11<0,ABS(L11),0) -> 1.110223e-16 | N11: =VLOOKUP(C11,Données!C11:L41,10) -> 0
C12: =C11+1 -> 40184 | D12: =IF(OR($N12={"Récup","Congé annuels","arrêt maladie"}),0,VLOOKUP($C12,Données!$C$6:$K$1468,COLUMN()-2)) -> 0.35416667 | E12: =IF(OR($N12={"Récup","Congé annuels","arrêt maladie"}),0,VLOOKUP($C12,Données!$C$6:$K$1468,COLUMN()-2)) -> 0 | F12: =IF(OR($N12={"Récup","Congé annuels","arrêt maladie"}),0,VLOOKUP($C12,Données!$C$6:$K$1468,COLUMN()-2)) -> 0.54166667 | G12: =IF(OR($N12={"Récup","Congé annuels","arrêt maladie"}),0,VLOOKUP($C12,Données!$C$6:$K$1468,COLUMN()-2)) -> 0.58333333 | H12: =IF(OR($N12={"Récup","Congé annuels","arrêt maladie"}),0,VLOOKUP($C12,Données!$C$6:$K$1468,COLUMN()-2)) -> 0 | I12: =IF(OR($N12={"Récup","Congé annuels","arrêt maladie"}),0,VLOOKUP($C12,Données!$C$6:$K$1468,COLUMN()-2)) -> 0.6875 | J12: =IF(OR($N12={"Récup","Congé annuels","arrêt maladie"}),0,VLOOKUP($C12,Données!$C$6:$K$1468,COLUMN()-2)) -> 0.29166667 | K12: =IF(OR($N12={"Récup","Congé annuels","arrêt maladie"}),0,VLOOKUP($C12,Données!$C$6:$K$1468,COLUMN()-2, FALSE)) -> 0.29166667 | L12: =SUM(J12-K12) -> -1.110223e-16 | M12: =IF(L12<0,ABS(L12),0) -> 1.110223e-16 | N12: =VLOOKUP(C12,Données!C12:L42,10) -> 0
C13: =C12+1 -> 40185 | D13: =IF(OR($N13={"Récup","Congé annuels","arrêt maladie"}),0,VLOOKUP($C13,Données!$C$6:$K$1468,COLUMN()-2)) -> 0.375 | E13: =IF(OR($N13={"Récup","Congé annuels","arrêt maladie"}),0,VLOOKUP($C13,Données!$C$6:$K$1468,COLUMN()-2)) -> 0 | F13: =IF(OR($N13={"Récup","Congé annuels","arrêt maladie"}),0,VLOOKUP($C13,Données!$C$6:$K$1468,COLUMN()-2)) -> 0.54166667 | G13: =IF(OR($N13={"Récup","Congé annuels","arrêt maladie"}),0,VLOOKUP($C13,Données!$C$6:$K$1468,COLUMN()-2)) -> 0.58333333 | H13: =IF(OR($N13={"Récup","Congé annuels","arrêt maladie"}),0,VLOOKUP($C13,Données!$C$6:$K$1468,COLUMN()-2)) -> 0 | I13: =IF(OR($N13={"Récup","Congé annuels","arrêt maladie"}),0,VLOOKUP($C13,Données!$C$6:$K$1468,COLUMN()-2)) -> 0.66666667 | J13: =IF(OR($N13={"Récup","Congé annuels","arrêt maladie"}),0,VLOOKUP($C13,Données!$C$6:$K$1468,COLUMN()-2)) -> 0.25 | K13: =IF(OR($N13={"Récup","Congé annuels","arrêt maladie"}),0,VLOOKUP($C13,Données!$C$6:$K$1468,COLUMN()-2, FALSE)) -> 0.29166667 | L13: =SUM(J13-K13) -> -0.041666667 | M13: =IF(L13<0,ABS(L13),0) -> 0.041666667 | N13: =VLOOKUP(C13,Données!C13:L43,10) -> 0 | P13: récup
C14: =C13+1 -> 40186 | D14: =IF(OR($N14={"Récup","Congé annuels","arrêt maladie"}),0,VLOOKUP($C14,Données!$C$6:$K$1468,COLUMN()-2)) -> 0.35416667 | E14: =IF(OR($N14={"Récup","Congé annuels","arrêt maladie"}),0,VLOOKUP($C14,Données!$C$6:$K$1468,COLUMN()-2)) -> 0 | F14: =IF(OR($N14={"Récup","Congé annuels","arrêt maladie"}),0,VLOOKUP($C14,Données!$C$6:$K$1468,COLUMN()-2)) -> 0.54166667 | G14: =IF(OR($N14={"Récup","Congé annuels","arrêt maladie"}),0,VLOOKUP($C14,Données!$C$6:$K$1468,COLUMN()-2)) -> 0.58333333 | H14: =IF(OR($N14={"Récup","Congé annuels","arrêt maladie"}),0,VLOOKUP($C14,Données!$C$6:$K$1468,COLUMN()-2)) -> 0 | I14: =IF(OR($N14={"Récup","Congé annuels","arrêt maladie"}),0,VLOOKUP($C14,Données!$C$6:$K$1468,COLUMN()-2)) -> 0.6875 | J14: =IF(OR($N14={"Récup","Congé annuels","arrêt maladie"}),0,VLOOKUP($C14,Données!$C$6:$K$1468,COLUMN()-2)) -> 0.29166667 | K14: =IF(OR($N14={"Récup","Congé annuels","arrêt maladie"}),0,VLOOKUP($C14,Données!$C$6:$K$1468,COLUMN()-2, FALSE)) -> 0.29166667 | L14: =SUM(J14-K14) -> -1.110223e-16 | M14: =IF(L14<0,ABS(L14),0) -> 1.110223e-16 | N14: =VLOOKUP(C14,Données!C14:L44,10) -> 0
C15: =C14+1 -> 40187 | D15: =IF(OR($N15={"Récup","Congé annuels","arrêt maladie"}),0,VLOOKUP($C15,Données!$C$6:$K$1468,COLUMN()-2)) -> 0.35416667 | E15: =IF(OR($N15={"Récup","Congé annuels","arrêt maladie"}),0,VLOOKUP($C15,Données!$C$6:$K$1468,COLUMN()-2)) -> 0 | F15: =IF(OR($N15={"Récup","Congé annuels","arrêt maladie"}),0,VLOOKUP($C15,Données!$C$6:$K$1468,COLUMN()-2)) -> 0.54166667 | G15: =IF(OR($N15={"Récup","Congé annuels","arrêt maladie"}),0,VLOOKUP($C15,Données!$C$6:$K$1468,COLUMN()-2)) -> 0.58333333 | H15: =IF(OR($N15={"Récup","Congé annuels","arrêt maladie"}),0,VLOOKUP($C15,Données!$C$6:$K$1468,COLUMN()-2)) -> 0 | I15: =IF(OR($N15={"Récup","Congé annuels","arrêt maladie"}),0,VLOOKUP($C15,Données!$C$6:$K$1468,COLUMN()-2)) -> 0.6875 | J15: =IF(OR($N15={"Récup","Congé annuels","arrêt maladie"}),0,VLOOKUP($C15,Données!$C$6:$K$1468,COLUMN()-2)) -> 0.29166667 | K15: =IF(OR($N15={"Récup","Congé annuels","arrêt maladie"}),0,VLOOKUP($C15,Données!$C$6:$K$1468,COLUMN()-2, FALSE)) -> 0.29166667 | L15: =SUM(J15-K15) -> -1.110223e-16 | M15: =IF(L15<0,ABS(L15),0) -> 1.110223e-16 | N15: =VLOOKUP(C15,Données!C15:L45,10) -> 0 | P15: indiquer les récup. dans la colonne débit
C16: =C15+1 -> 40188 | D16: =IF(OR($N16={"Récup","Congé annuels","arrêt maladie"}),0,VLOOKUP($C16,Données!$C$6:$K$1468,COLUMN()-2)) -> 0 | E16: =IF(OR($N16={"Récup","Congé annuels","arrêt maladie"}),0,VLOOKUP($C16,Données!$C$6:$K$1468,COLUMN()-2)) -> 0 | F16: =IF(OR($N16={"Récup","Congé annuels","arrêt maladie"}),0,VLOOKUP($C16,Données!$C$6:$K$1468,COLUMN()-2)) -> 0 | G16: =IF(OR($N16={"Récup","Congé annuels","arrêt maladie"}),0,VLOOKUP($C16,Données!$C$6:$K$1468,COLUMN()-2)) -> 0 | H16: =IF(OR($N16={"Récup","Congé annuels","arrêt maladie"}),0,VLOOKUP($C16,Données!$C$6:$K$1468,COLUMN()-2)) -> 0 | I16: =IF(OR($N16={"Récup","Congé annuels","arrêt maladie"}),0,VLOOKUP($C16,Données!$C$6:$K$1468,COLUMN()-2)) -> 0 | J16: =IF(OR($N16={"Récup","Congé annuels","arrêt maladie"}),0,VLOOKUP($C16,Données!$C$6:$K$1468,COLUMN()-2)) -> 0 | K16: =IF(OR($N16={"Récup","Congé annuels","arrêt maladie"}),0,VLOOKUP($C16,Données!$C$6:$K$1468,COLUMN()-2, FALSE)) -> 0 | L16: =SUM(J16-K16) -> 0 | M16: =IF(L16<0,ABS(L16),0) -> 0 | N16: =VLOOKUP(C16,Données!C16:L46,10) -> 0
C17: =C16+1 -> 40189 | D17: =IF(OR($N17={"Récup","Congé annuels","arrêt maladie"}),0,VLOOKUP($C17,Données!$C$6:$K$1468,COLUMN()-2)) -> 0 | E17: =IF(OR($N17={"Récup","Congé annuels","arrêt maladie"}),0,VLOOKUP($C17,Données!$C$6:$K$1468,COLUMN()-2)) -> 0 | F17: =IF(OR($N17={"Récup","Congé annuels","arrêt maladie"}),0,VLOOKUP($C17,Données!$C$6:$K$1468,COLUMN()-2)) -> 0 | G17: =IF(OR($N17={"Récup","Congé annuels","arrêt maladie"}),0,VLOOKUP($C17,Données!$C$6:$K$1468,COLUMN()-2)) -> 0 | H17: =IF(OR($N17={"Récup","Congé annuels","arrêt maladie"}),0,VLOOKUP($C17,Données!$C$6:$K$1468,COLUMN()-2)) -> 0 | I17: =IF(OR($N17={"Récup","Congé annuels","arrêt maladie"}),0,VLOOKUP($C17,Données!$C$6:$K$1468,COLUMN()-2)) -> 0 | J17: =IF(OR($N17={"Récup","Congé annuels","arrêt maladie"}),0,VLOOKUP($C17,Données!$C$6:$K$1468,COLUMN()-2)) -> 0 | K17: =IF(OR($N17={"Récup","Congé annuels","arrêt maladie"}),0,VLOOKUP($C17,Données!$C$6:$K$1468,COLUMN()-2, FALSE)) -> 0 | L17: =SUM(J17-K17) -> 0 | M17: =IF(L17<0,ABS(L17),0) -> 0 | N17: =VLOOKUP(C17,Données!C17:L47,10) -> 0
C18: =C17+1 -> 40190 | D18: =IF(OR($N18={"Récup","Congé annuels","arrêt maladie"}),0,VLOOKUP($C18,Données!$C$6:$K$1468,COLUMN()-2)) -> 0 | E18: =IF(OR($N18={"Récup","Congé annuels","arrêt maladie"}),0,VLOOKUP($C18,Données!$C$6:$K$1468,COLUMN()-2)) -> 0 | F18: =IF(OR($N18={"Récup","Congé annuels","arrêt maladie"}),0,VLOOKUP($C18,Données!$C$6:$K$1468,COLUMN()-2)) -> 0 | G18: =IF(OR($N18={"Récup","Congé annuels","arrêt maladie"}),0,VLOOKUP($C18,Données!$C$6:$K$1468,COLUMN()-2)) -> 0 | H18: =IF(OR($N18={"Récup","Congé annuels","arrêt maladie"}),0,VLOOKUP($C18,Données!$C$6:$K$1468,COLUMN()-2)) -> 0 | I18: =IF(OR($N18={"Récup","Congé annuels","arrêt maladie"}),0,VLOOKUP($C18,Données!$C$6:$K$1468,COLUMN()-2)) -> 0 | J18: =IF(OR($N18={"Récup","Congé annuels","arrêt maladie"}),0,VLOOKUP($C18,Données!$C$6:$K$1468,COLUMN()-2)) -> 0 | K18: =IF(OR($N18={"Récup","Congés annuel","arrêt maladie"}),0,VLOOKUP($C18,Données!$C$6:$K$1468,COLUMN()-2, FALSE)) -> 0 | L18: =SUM(J18-K18) -> 0 | M18: =IF(L18<0,ABS(L18),0) -> 0 | N18: =VLOOKUP(C18,Données!C18:L48,10) -> Congés annuel | P18: 1/2 journée = 3h30
C19: =C18+1 -> 40191 | D19: =IF(OR($N19={"Récup","Congé annuels","arrêt maladie"}),0,VLOOKUP($C19,Données!$C$6:$K$1468,COLUMN()-2)) -> 0 | E19: =IF(OR($N19={"Récup","Congé annuels","arrêt maladie"}),0,VLOOKUP($C19,Données!$C$6:$K$1468,COLUMN()-2)) -> 0 | F19: =IF(OR($N19={"Récup","Congé annuels","arrêt maladie"}),0,VLOOKUP($C19,Données!$C$6:$K$1468,COLUMN()-2)) -> 0 | G19: =IF(OR($N19={"Récup","Congé annuels","arrêt maladie"}),0,VLOOKUP($C19,Données!$C$6:$K$1468,COLUMN()-2)) -> 0 | H19: =IF(OR($N19={"Récup","Congé annuels","arrêt maladie"}),0,VLOOKUP($C19,Données!$C$6:$K$1468,COLUMN()-2)) -> 0 | I19: =IF(OR($N19={"Récup","Congé annuels","arrêt maladie"}),0,VLOOKUP($C19,Données!$C$6:$K$1468,COLUMN()-2)) -> 0 | J19: =IF(OR($N19={"Récup","Congé annuels","arrêt maladie"}),0,VLOOKUP($C19,Données!$C$6:$K$1468,COLUMN()-2)) -> 0 | K19: =IF(OR($N19={"Récup","Congés annuel","arrêt maladie"}),0,VLOOKUP($C19,Données!$C$6:$K$1468,COLUMN()-2, FALSE)) -> 0 | L19: =SUM(J19-K19) -> 0 | M19: =IF(L19<0,ABS(L19),0) -> 0 | N19: =VLOOKUP(C19,Données!C19:L49,10) -> Congés annuel | P19: 1 journée = 7h00
C20: =C19+1 -> 40192 | D20: =IF(OR($N20={"Récup","Congé annuels","arrêt maladie"}),0,VLOOKUP($C20,Données!$C$6:$K$1468,COLUMN()-2)) -> 0 | E20: =IF(OR($N20={"Récup","Congé annuels","arrêt maladie"}),0,VLOOKUP($C20,Données!$C$6:$K$1468,COLUMN()-2)) -> 0 | F20: =IF(OR($N20={"Récup","Congé annuels","arrêt maladie"}),0,VLOOKUP($C20,Données!$C$6:$K$1468,COLUMN()-2)) -> 0 | G20: =IF(OR($N20={"Récup","Congé annuels","arrêt maladie"}),0,VLOOKUP($C20,Données!$C$6:$K$1468,COLUMN()-2)) -> 0 | H20: =IF(OR($N20={"Récup","Congé annuels","arrêt maladie"}),0,VLOOKUP($C20,Données!$C$6:$K$1468,COLUMN()-2)) -> 0 | I20: =IF(OR($N20={"Récup","Congé annuels","arrêt maladie"}),0,VLOOKUP($C20,Données!$C$6:$K$1468,COLUMN()-2)) -> 0 | J20: =IF(OR($N20={"Récup","Congé annuels","arrêt maladie"}),0,VLOOKUP($C20,Données!$C$6:$K$1468,COLUMN()-2)) -> 0 | K20: =IF(OR($N20={"Récup","Congés annuel","arrêt maladie"}),0,VLOOKUP($C20,Données!$C$6:$K$1468,COLUMN()-2, FALSE)) -> 0 | L20: =SUM(J20-K20) -> 0 | M20: =IF(L20<0,ABS(L20),0) -> 0 | N20: =VLOOKUP(C20,Données!C20:L50,10) -> Congés annuel
C21: =C20+1 -> 40193 | D21: =IF(OR($N21={"Récup","Congé annuels","arrêt maladie"}),0,VLOOKUP($C21,Données!$C$6:$K$1468,COLUMN()-2)) -> 0 | E21: =IF(OR($N21={"Récup","Congé annuels","arrêt maladie"}),0,VLOOKUP($C21,Données!$C$6:$K$1468,COLUMN()-2)) -> 0 | F21: =IF(OR($N21={"Récup","Congé annuels","arrêt maladie"}),0,VLOOKUP($C21,Données!$C$6:$K$1468,COLUMN()-2)) -> 0 | G21: =IF(OR($N21={"Récup","Congé annuels","arrêt maladie"}),0,VLOOKUP($C21,Données!$C$6:$K$1468,COLUMN()-2)) -> 0 | H21: =IF(OR($N21={"Récup","Congé annuels","arrêt maladie"}),0,VLOOKUP($C21,Données!$C$6:$K$1468,COLUMN()-2)) -> 0 | I21: =IF(OR($N21={"Récup","Congé annuels","arrêt maladie"}),0,VLOOKUP($C21,Données!$C$6:$K$1468,COLUMN()-2)) -> 0 | J21: =IF(OR($N21={"Récup","Congé annuels","arrêt maladie"}),0,VLOOKUP($C21,Données!$C$6:$K$1468,COLUMN()-2)) -> 0 | K21: =IF(OR($N21={"Récup","Congés annuel","arrêt maladie"}),0,VLOOKUP($C21,Données!$C$6:$K$1468,COLUMN()-2, FALSE)) -> 0 | L21: =SUM(J21-K21) -> 0 | M21: =IF(L21<0,ABS(L21),0) -> 0 | N21: =VLOOKUP(C21,Données!C21:L51,10) -> arrêt maladie
C22: =C21+1 -> 40194 | D22: =IF(OR($N22={"Récup","Congé annuels","arrêt maladie"}),0,VLOOKUP($C22,Données!$C$6:$K$1468,COLUMN()-2)) -> 0 | E22: =IF(OR($N22={"Récup","Congé annuels","arrêt maladie"}),0,VLOOKUP($C22,Données!$C$6:$K$1468,COLUMN()-2)) -> 0 | F22: =IF(OR($N22={"Récup","Congé annuels","arrêt maladie"}),0,VLOOKUP($C22,Données!$C$6:$K$1468,COLUMN()-2)) -> 0 | G22: =IF(OR($N22={"Récup","Congé annuels","arrêt maladie"}),0,VLOOKUP($C22,Données!$C$6:$K$1468,COLUMN()-2)) -> 0 | H22: =IF(OR($N22={"Récup","Congé annuels","arrêt maladie"}),0,VLOOKUP($C22,Données!$C$6:$K$1468,COLUMN()-2)) -> 0 | I22: =IF(OR($N22={"Récup","Congé annuels","arrêt maladie"}),0,VLOOKUP($C22,Données!$C$6:$K$1468,COLUMN()-2)) -> 0 | J22: =IF(OR($N22={"Récup","Congé annuels","arrêt maladie"}),0,VLOOKUP($C22,Données!$C$6:$K$1468,COLUMN()-2)) -> 0 | K22: =IF(OR($N22={"Récup","Congés annuel","arrêt maladie"}),0,VLOOKUP($C22,Données!$C$6:$K$1468,COLUMN()-2, FALSE)) -> 0 | L22: =SUM(J22-K22) -> 0 | M22: =IF(L22<0,ABS(L22),0) -> 0 | N22: =VLOOKUP(C22,Données!C22:L52,10) -> Congés annuel | P22: jours fériés
C23: =C22+1 -> 40195 | D23: =IF(OR($N23={"Récup","Congé annuels","arrêt maladie"}),0,VLOOKUP($C23,Données!$C$6:$K$1468,COLUMN()-2)) -> 0 | E23: =IF(OR($N23={"Récup","Congé annuels","arrêt maladie"}),0,VLOOKUP($C23,Données!$C$6:$K$1468,COLUMN()-2)) -> 0 | F23: =IF(OR($N23={"Récup","Congé annuels","arrêt maladie"}),0,VLOOKUP($C23,Données!$C$6:$K$1468,COLUMN()-2)) -> 0 | G23: =IF(OR($N23={"Récup","Congé annuels","arrêt maladie"}),0,VLOOKUP($C23,Données!$C$6:$K$1468,COLUMN()-2)) -> 0 | H23: =IF(OR($N23={"Récup","Congé annuels","arrêt maladie"}),0,VLOOKUP($C23,Données!$C$6:$K$1468,COLUMN()-2)) -> 0 | I23: =IF(OR($N23={"Récup","Congé annuels","arrêt maladie"}),0,VLOOKUP($C23,Données!$C$6:$K$1468,COLUMN()-2)) -> 0 | J23: =IF(OR($N23={"Récup","Congé annuels","arrêt maladie"}),0,VLOOKUP($C23,Données!$C$6:$K$1468,COLUMN()-2)) -> 0 | K23: =IF(OR($N23={"Récup","Congé annuels","arrêt maladie"}),0,VLOOKUP($C23,Données!$C$6:$K$1468,COLUMN()-2, FALSE)) -> 0 | L23: =SUM(J23-K23) -> 0 | M23: =IF(L23<0,ABS(L23),0) -> 0 | N23: =VLOOKUP(C23,Données!C23:L53,10) -> 0
C24: =C23+1 -> 40196 | D24: =IF(OR($N24={"Récup","Congé annuels","arrêt maladie"}),0,VLOOKUP($C24,Données!$C$6:$K$1468,COLUMN()-2)) -> 0 | E24: =IF(OR($N24={"Récup","Congé annuels","arrêt maladie"}),0,VLOOKUP($C24,Données!$C$6:$K$1468,COLUMN()-2)) -> 0 | F24: =IF(OR($N24={"Récup","Congé annuels","arrêt maladie"}),0,VLOOKUP($C24,Données!$C$6:$K$1468,COLUMN()-2)) -> 0 | G24: =IF(OR($N24={"Récup","Congé annuels","arrêt maladie"}),0,VLOOKUP($C24,Données!$C$6:$K$1468,COLUMN()-2)) -> 0 | H24: =IF(OR($N24={"Récup","Congé annuels","arrêt maladie"}),0,VLOOKUP($C24,Données!$C$6:$K$1468,COLUMN()-2)) -> 0 | I24: =IF(OR($N24={"Récup","Congé annuels","arrêt maladie"}),0,VLOOKUP($C24,Données!$C$6:$K$1468,COLUMN()-2)) -> 0 | J24: =IF(OR($N24={"Récup","Congé annuels","arrêt maladie"}),0,VLOOKUP($C24,Données!$C$6:$K$1468,COLUMN()-2)) -> 0 | K24: =IF(OR($N24={"Récup","Congé annuels","arrêt maladie"}),0,VLOOKUP($C24,Données!$C$6:$K$1468,COLUMN()-2, FALSE)) -> 0 | L24: =SUM(J24-K24) -> 0 | M24: =IF(L24<0,ABS(L24),0) -> 0 | N24: =VLOOKUP(C24,Données!C24:L54,10) -> 0
C25: =C24+1 -> 40197 | D25: =IF(OR($N25={"Récup","Congé annuels","arrêt maladie"}),0,VLOOKUP($C25,Données!$C$6:$K$1468,COLUMN()-2)) -> 0 | E25: =IF(OR($N25={"Récup","Congé annuels","arrêt maladie"}),0,VLOOKUP($C25,Données!$C$6:$K$1468,COLUMN()-2)) -> 0 | F25: =IF(OR($N25={"Récup","Congé annuels","arrêt maladie"}),0,VLOOKUP($C25,Données!$C$6:$K$1468,COLUMN()-2)) -> 0 | G25: =IF(OR($N25={"Récup","Congé annuels","arrêt maladie"}),0,VLOOKUP($C25,Données!$C$6:$K$1468,COLUMN()-2)) -> 0 | H25: =IF(OR($N25={"Récup","Congé annuels","arrêt maladie"}),0,VLOOKUP($C25,Données!$C$6:$K$1468,COLUMN()-2)) -> 0 | I25: =IF(OR($N25={"Récup","Congé annuels","arrêt maladie"}),0,VLOOKUP($C25,Données!$C$6:$K$1468,COLUMN()-2)) -> 0 | J25: =IF(OR($N25={"Récup","Congé annuels","arrêt maladie"}),0,VLOOKUP($C25,Données!$C$6:$K$1468,COLUMN()-2)) -> 0 | K25: =IF(OR($N25={"Récup","Congé annuels","arrêt maladie"}),0,VLOOKUP($C25,Données!$C$6:$K$1468,COLUMN()-2, FALSE)) -> 0.29166667 | L25: =SUM(J25-K25) -> -0.29166667 | M25: =IF(L25<0,ABS(L25),0) -> 0.29166667 | N25: =VLOOKUP(C25,Données!C25:L55,10) -> 0
C26: =C25+1 -> 40198 | D26: =IF(OR($N26={"Récup","Congé annuels","arrêt maladie"}),0,VLOOKUP($C26,Données!$C$6:$K$1468,COLUMN()-2)) -> 0 | E26: =IF(OR($N26={"Récup","Congé annuels","arrêt maladie"}),0,VLOOKUP($C26,Données!$C$6:$K$1468,COLUMN()-2)) -> 0 | F26: =IF(OR($N26={"Récup","Congé annuels","arrêt maladie"}),0,VLOOKUP($C26,Données!$C$6:$K$1468,COLUMN()-2)) -> 0 | G26: =IF(OR($N26={"Récup","Congé annuels","arrêt maladie"}),0,VLOOKUP($C26,Données!$C$6:$K$1468,COLUMN()-2)) -> 0 | H26: =IF(OR($N26={"Récup","Congé annuels","arrêt maladie"}),0,VLOOKUP($C26,Données!$C$6:$K$1468,COLUMN()-2)) -> 0 | I26: =IF(OR($N26={"Récup","Congé annuels","arrêt maladie"}),0,VLOOKUP($C26,Données!$C$6:$K$1468,COLUMN()-2)) -> 0 | J26: =IF(OR($N26={"Récup","Congé annuels","arrêt maladie"}),0,VLOOKUP($C26,Données!$C$6:$K$1468,COLUMN()-2)) -> 0 | K26: =IF(OR($N26={"Récup","Congé annuels","arrêt maladie"}),0,VLOOKUP($C26,Données!$C$6:$K$1468,COLUMN()-2, FALSE)) -> 0.29166667 | L26: =SUM(J26-K26) -> -0.29166667 | M26: =IF(L26<0,ABS(L26),0) -> 0.29166667 | N26: =VLOOKUP(C26,Données!C26:L56,10) -> 0
C27: =C26+1 -> 40199 | D27: =IF(OR($N27={"Récup","Congé annuels","arrêt maladie"}),0,VLOOKUP($C27,Données!$C$6:$K$1468,COLUMN()-2)) -> 0 | E27: =IF(OR($N27={"Récup","Congé annuels","arrêt maladie"}),0,VLOOKUP($C27,Données!$C$6:$K$1468,COLUMN()-2)) -> 0 | F27: =IF(OR($N27={"Récup","Congé annuels","arrêt maladie"}),0,VLOOKUP($C27,Données!$C$6:$K$1468,COLUMN()-2)) -> 0 | G27: =IF(OR($N27={"Récup","Congé annuels","arrêt maladie"}),0,VLOOKUP($C27,Données!$C$6:$K$1468,COLUMN()-2)) -> 0 | H27: =IF(OR($N27={"Récup","Congé annuels","arrêt maladie"}),0,VLOOKUP($C27,Données!$C$6:$K$1468,COLUMN()-2)) -> 0 | I27: =IF(OR($N27={"Récup","Congé annuels","arrêt maladie"}),0,VLOOKUP($C27,Données!$C$6:$K$1468,COLUMN()-2)) -> 0 | J27: =IF(OR($N27={"Récup","Congé annuels","arrêt maladie"}),0,VLOOKUP($C27,Données!$C$6:$K$1468,COLUMN()-2)) -> 0 | K27: =IF(OR($N27={"Récup","Congé annuels","arrêt maladie"}),0,VLOOKUP($C27,Données!$C$6:$K$1468,COLUMN()-2, FALSE)) -> 0.29166667 | L27: =SUM(J27-K27) -> -0.29166667 | M27: =IF(L27<0,ABS(L27),0) -> 0.29166667 | N27: =VLOOKUP(C27,Données!C27:L57,10) -> 0
C28: =C27+1 -> 40200 | D28: =IF(OR($N28={"Récup","Congé annuels","arrêt maladie"}),0,VLOOKUP($C28,Données!$C$6:$K$1468,COLUMN()-2)) -> 0 | E28: =IF(OR($N28={"Récup","Congé annuels","arrêt maladie"}),0,VLOOKUP($C28,Données!$C$6:$K$1468,COLUMN()-2)) -> 0 | F28: =IF(OR($N28={"Récup","Congé annuels","arrêt maladie"}),0,VLOOKUP($C28,Données!$C$6:$K$1468,COLUMN()-2)) -> 0 | G28: =IF(OR($N28={"Récup","Congé annuels","arrêt maladie"}),0,VLOOKUP($C28,Données!$C$6:$K$1468,COLUMN()-2)) -> 0 | H28: =IF(OR($N28={"Récup","Congé annuels","arrêt maladie"}),0,VLOOKUP($C28,Données!$C$6:$K$1468,COLUMN()-2)) -> 0 | I28: =IF(OR($N28={"Récup","Congé annuels","arrêt maladie"}),0,VLOOKUP($C28,Données!$C$6:$K$1468,COLUMN()-2)) -> 0 | J28: =IF(OR($N28={"Récup","Congé annuels","arrêt maladie"}),0,VLOOKUP($C28,Données!$C$6:$K$1468,COLUMN()-2)) -> 0 | K28: =IF(OR($N28={"Récup","Congé annuels","arrêt maladie"}),0,VLOOKUP($C28,Données!$C$6:$K$1468,COLUMN()-2, FALSE)) -> 0.29166667 | L28: =SUM(J28-K28) -> -0.29166667 | M28: =IF(L28<0,ABS(L28),0) -> 0.29166667 | N28: =VLOOKUP(C28,Données!C28:L58,10) -> 0
C29: =C28+1 -> 40201 | D29: =IF(OR($N29={"Récup","Congé annuels","arrêt maladie"}),0,VLOOKUP($C29,Données!$C$6:$K$1468,COLUMN()-2)) -> 0 | E29: =IF(OR($N29={"Récup","Congé annuels","arrêt maladie"}),0,VLOOKUP($C29,Données!$C$6:$K$1468,COLUMN()-2)) -> 0 | F29: =IF(OR($N29={"Récup","Congé annuels","arrêt maladie"}),0,VLOOKUP($C29,Données!$C$6:$K$1468,COLUMN()-2)) -> 0 | G29: =IF(OR($N29={"Récup","Congé annuels","arrêt maladie"}),0,VLOOKUP($C29,Données!$C$6:$K$1468,COLUMN()-2)) -> 0 | H29: =IF(OR($N29={"Récup","Congé annuels","arrêt maladie"}),0,VLOOKUP($C29,Données!$C$6:$K$1468,COLUMN()-2)) -> 0 | I29: =IF(OR($N29={"Récup","Congé annuels","arrêt maladie"}),0,VLOOKUP($C29,Données!$C$6:$K$1468,COLUMN()-2)) -> 0 | J29: =IF(OR($N29={"Récup","Congé annuels","arrêt maladie"}),0,VLOOKUP($C29,Données!$C$6:$K$1468,COLUMN()-2)) -> 0 | K29: =IF(OR($N29={"Récup","Congé annuels","arrêt maladie"}),0,VLOOKUP($C29,Données!$C$6:$K$1468,COLUMN()-2, FALSE)) -> 0.29166667 | L29: =SUM(J29-K29) -> -0.29166667 | M29: =IF(L29<0,ABS(L29),0) -> 0.29166667 | N29: =VLOOKUP(C29,Données!C29:L59,10) -> 0
C30: =C29+1 -> 40202 | D30: =IF(OR($N30={"Récup","Congé annuels","arrêt maladie"}),0,VLOOKUP($C30,Données!$C$6:$K$1468,COLUMN()-2)) -> 0 | E30: =IF(OR($N30={"Récup","Congé annuels","arrêt maladie"}),0,VLOOKUP($C30,Données!$C$6:$K$1468,COLUMN()-2)) -> 0 | F30: =IF(OR($N30={"Récup","Congé annuels","arrêt maladie"}),0,VLOOKUP($C30,Données!$C$6:$K$1468,COLUMN()-2)) -> 0 | G30: =IF(OR($N30={"Récup","Congé annuels","arrêt maladie"}),0,VLOOKUP($C30,Données!$C$6:$K$1468,COLUMN()-2)) -> 0 | H30: =IF(OR($N30={"Récup","Congé annuels","arrêt maladie"}),0,VLOOKUP($C30,Données!$C$6:$K$1468,COLUMN()-2)) -> 0 | I30: =IF(OR($N30={"Récup","Congé annuels","arrêt maladie"}),0,VLOOKUP($C30,Données!$C$6:$K$1468,COLUMN()-2)) -> 0 | J30: =IF(OR($N30={"Récup","Congé annuels","arrêt maladie"}),0,VLOOKUP($C30,Données!$C$6:$K$1468,COLUMN()-2)) -> 0 | K30: =IF(OR($N30={"Récup","Congé annuels","arrêt maladie"}),0,VLOOKUP($C30,Données!$C$6:$K$1468,COLUMN()-2, FALSE)) -> 0 | L30: =SUM(J30-K30) -> 0 | M30: =IF(L30<0,ABS(L30),0) -> 0 | N30: =VLOOKUP(C30,Données!C30:L60,10) -> 0
C31: =C30+1 -> 40203 | D31: =IF(OR($N31={"Récup","Congé annuels","arrêt maladie"}),0,VLOOKUP($C31,Données!$C$6:$K$1468,COLUMN()-2)) -> 0 | E31: =IF(OR($N31={"Récup","Congé annuels","arrêt maladie"}),0,VLOOKUP($C31,Données!$C$6:$K$1468,COLUMN()-2)) -> 0 | F31: =IF(OR($N31={"Récup","Congé annuels","arrêt maladie"}),0,VLOOKUP($C31,Données!$C$6:$K$1468,COLUMN()-2)) -> 0 | G31: =IF(OR($N31={"Récup","Congé annuels","arrêt maladie"}),0,VLOOKUP($C31,Données!$C$6:$K$1468,COLUMN()-2)) -> 0 | H31: =IF(OR($N31={"Récup","Congé annuels","arrêt maladie"}),0,VLOOKUP($C31,Données!$C$6:$K$1468,COLUMN()-2)) -> 0 | I31: =IF(OR($N31={"Récup","Congé annuels","arrêt maladie"}),0,VLOOKUP($C31,Données!$C$6:$K$1468,COLUMN()-2)) -> 0 | J31: =IF(OR($N31={"Récup","Congé annuels","arrêt maladie"}),0,VLOOKUP($C31,Données!$C$6:$K$1468,COLUMN()-2)) -> 0 | K31: =IF(OR($N31={"Récup","Congé annuels","arrêt maladie"}),0,VLOOKUP($C31,Données!$C$6:$K$1468,COLUMN()-2, FALSE)) -> 0 | L31: =SUM(J31-K31) -> 0 | M31: =IF(L31<0,ABS(L31),0) -> 0 | N31: =VLOOKUP(C31,Données!C31:L61,10) -> 0
C32: =C31+1 -> 40204 | D32: =IF(OR($N32={"Récup","Congé annuels","arrêt maladie"}),0,VLOOKUP($C32,Données!$C$6:$K$1468,COLUMN()-2)) -> 0 | E32: =IF(OR($N32={"Récup","Congé annuels","arrêt maladie"}),0,VLOOKUP($C32,Données!$C$6:$K$1468,COLUMN()-2)) -> 0 | F32: =IF(OR($N32={"Récup","Congé annuels","arrêt maladie"}),0,VLOOKUP($C32,Données!$C$6:$K$1468,COLUMN()-2)) -> 0 | G32: =IF(OR($N32={"Récup","Congé annuels","arrêt maladie"}),0,VLOOKUP($C32,Données!$C$6:$K$1468,COLUMN()-2)) -> 0 | H32: =IF(OR($N32={"Récup","Congé annuels","arrêt maladie"}),0,VLOOKUP($C32,Données!$C$6:$K$1468,COLUMN()-2)) -> 0 | I32: =IF(OR($N32={"Récup","Congé annuels","arrêt maladie"}),0,VLOOKUP($C32,Données!$C$6:$K$1468,COLUMN()-2)) -> 0 | J32: =IF(OR($N32={"Récup","Congé annuels","arrêt maladie"}),0,VLOOKUP($C32,Données!$C$6:$K$1468,COLUMN()-2)) -> 0 | K32: =IF(OR($N32={"Récup","Congé annuels","arrêt maladie"}),0,VLOOKUP($C32,Données!$C$6:$K$1468,COLUMN()-2, FALSE)) -> 0.29166667 | L32: =SUM(J32-K32) -> -0.29166667 | M32: =IF(L32<0,ABS(L32),0) -> 0.29166667 | N32: =VLOOKUP(C32,Données!C32:L62,10) -> 0
C33: =IFERROR(IF(MONTH(C32+1)=MONTH(1&$A$6),C32+1,""),"") -> 40205 | D33: =IF(OR($N33={"Récup","Congé annuels","arrêt maladie"}),0,VLOOKUP($C33,Données!$C$6:$K$1468,COLUMN()-2)) -> 0 | E33: =IF(OR($N33={"Récup","Congé annuels","arrêt maladie"}),0,VLOOKUP($C33,Données!$C$6:$K$1468,COLUMN()-2)) -> 0 | F33: =IF(OR($N33={"Récup","Congé annuels","arrêt maladie"}),0,VLOOKUP($C33,Données!$C$6:$K$1468,COLUMN()-2)) -> 0 | G33: =IF(OR($N33={"Récup","Congé annuels","arrêt maladie"}),0,VLOOKUP($C33,Données!$C$6:$K$1468,COLUMN()-2)) -> 0 | H33: =IF(OR($N33={"Récup","Congé annuels","arrêt maladie"}),0,VLOOKUP($C33,Données!$C$6:$K$1468,COLUMN()-2)) -> 0 | I33: =IF(OR($N33={"Récup","Congé annuels","arrêt maladie"}),0,VLOOKUP($C33,Données!$C$6:$K$1468,COLUMN()-2)) -> 0 | J33: =IF(OR($N33={"Récup","Congé annuels","arrêt maladie"}),0,VLOOKUP($C33,Données!$C$6:$K$1468,COLUMN()-2)) -> 0 | K33: =IF(OR($N33={"Récup","Congé annuels","arrêt maladie"}),0,VLOOKUP($C33,Données!$C$6:$K$1468,COLUMN()-2, FALSE)) -> 0.29166667 | L33: =SUM(J33-K33) -> -0.29166667 | M33: =IF(L33<0,ABS(L33),0) -> 0.29166667 | N33: =VLOOKUP(C33,Données!C33:L63,10) -> 0
C34: =IFERROR(IF(MONTH(C33+1)=MONTH(1&$A$6),C33+1,""),"") -> 40206 | D34: =IF(OR($N34={"Récup","Congé annuels","arrêt maladie"}),0,VLOOKUP($C34,Données!$C$6:$K$1468,COLUMN()-2)) -> 0 | E34: =IF(OR($N34={"Récup","Congé annuels","arrêt maladie"}),0,VLOOKUP($C34,Données!$C$6:$K$1468,COLUMN()-2)) -> 0 | F34: =IF(OR($N34={"Récup","Congé annuels","arrêt maladie"}),0,VLOOKUP($C34,Données!$C$6:$K$1468,COLUMN()-2)) -> 0 | G34: =IF(OR($N34={"Récup","Congé annuels","arrêt maladie"}),0,VLOOKUP($C34,Données!$C$6:$K$1468,COLUMN()-2)) -> 0 | H34: =IF(OR($N34={"Récup","Congé annuels","arrêt maladie"}),0,VLOOKUP($C34,Données!$C$6:$K$1468,COLUMN()-2)) -> 0 | I34: =IF(OR($N34={"Récup","Congé annuels","arrêt maladie"}),0,VLOOKUP($C34,Données!$C$6:$K$1468,COLUMN()-2)) -> 0 | J34: =IF(OR($N34={"Récup","Congé annuels","arrêt maladie"}),0,VLOOKUP($C34,Données!$C$6:$K$1468,COLUMN()-2)) -> 0 | K34: =IF(OR($N34={"Récup","Congé annuels","arrêt maladie"}),0,VLOOKUP($C34,Données!$C$6:$K$1468,COLUMN()-2, FALSE)) -> 0.29166667 | L34: =SUM(J34-K34) -> -0.29166667 | M34: =IF(L34<0,ABS(L34),0) -> 0.29166667 | N34: =VLOOKUP(C34,Données!C34:L64,10) -> 0
C35: =IFERROR(IF(MONTH(C34+1)=MONTH(1&$A$6),C34+1,""),"") -> 40207 | D35: =IF(OR($N35={"Récup","Congé annuels","arrêt maladie"}),0,VLOOKUP($C35,Données!$C$6:$K$1468,COLUMN()-2)) -> 0 | E35: =IF(OR($N35={"Récup","Congé annuels","arrêt maladie"}),0,VLOOKUP($C35,Données!$C$6:$K$1468,COLUMN()-2)) -> 0 | F35: =IF(OR($N35={"Récup","Congé annuels","arrêt maladie"}),0,VLOOKUP($C35,Données!$C$6:$K$1468,COLUMN()-2)) -> 0 | G35: =IF(OR($N35={"Récup","Congé annuels","arrêt maladie"}),0,VLOOKUP($C35,Données!$C$6:$K$1468,COLUMN()-2)) -> 0 | H35: =IF(OR($N35={"Récup","Congé annuels","arrêt maladie"}),0,VLOOKUP($C35,Données!$C$6:$K$1468,COLUMN()-2)) -> 0 | I35: =IF(OR($N35={"Récup","Congé annuels","arrêt maladie"}),0,VLOOKUP($C35,Données!$C$6:$K$1468,COLUMN()-2)) -> 0 | J35: =IF(OR($N35={"Récup","Congé annuels","arrêt maladie"}),0,VLOOKUP($C35,Données!$C$6:$K$1468,COLUMN()-2)) -> 0 | K35: =IF(OR($N35={"Récup","Congé annuels","arrêt maladie"}),0,VLOOKUP($C35,Données!$C$6:$K$1468,COLUMN()-2, FALSE)) -> 0.29166667 | L35: =SUM(J35-K35) -> -0.29166667 | M35: =IF(L35<0,ABS(L35),0) -> 0.29166667 | N35: =VLOOKUP(C35,Données!C35:L65,10) -> 0
C36: =IFERROR(IF(MONTH(C35+1)=MONTH(1&$A$6),C35+1,""),"") -> 40208 | D36: =IF(OR($N36={"Récup","Congé annuels","arrêt maladie"}),0,VLOOKUP($C36,Données!$C$6:$K$1468,COLUMN()-2)) -> 0 | E36: =IF(OR($N36={"Récup","Congé annuels","arrêt maladie"}),0,VLOOKUP($C36,Données!$C$6:$K$1468,COLUMN()-2)) -> 0 | F36: =IF(OR($N36={"Récup","Congé annuels","arrêt maladie"}),0,VLOOKUP($C36,Données!$C$6:$K$1468,COLUMN()-2)) -> 0 | G36: =IF(OR($N36={"Récup","Congé annuels","arrêt maladie"}),0,VLOOKUP($C36,Données!$C$6:$K$1468,COLUMN()-2)) -> 0 | H36: =IF(OR($N36={"Récup","Congé annuels","arrêt maladie"}),0,VLOOKUP($C36,Données!$C$6:$K$1468,COLUMN()-2)) -> 0 | I36: =IF(OR($N36={"Récup","Congé annuels","arrêt maladie"}),0,VLOOKUP($C36,Données!$C$6:$K$1468,COLUMN()-2)) -> 0 | J36: =IF(OR($N36={"Récup","Congé annuels","arrêt maladie"}),0,VLOOKUP($C36,Données!$C$6:$K$1468,COLUMN()-2)) -> 0 | K36: =IF(OR($N36={"Récup","Congé annuels","arrêt maladie"}),0,VLOOKUP($C36,Données!$C$6:$K$1468,COLUMN()-2, FALSE)) -> 0.29166667 | L36: =SUM(J36-K36) -> -0.29166667 | M36: =IF(L36<0,ABS(L36),0) -> 0.29166667 | N36: =VLOOKUP(C36,Données!C36:L66,10) -> 0
L37: =IF(SUM(L5:L36)>0,SUM(L5:L36),"0") -> 0 | M37: =SUM(M6:M36) -> 2.9583333 | N37: =L37-M37 -> -2.9583333
L38: cumul crédit | M38: cumul débit | N38: =IF(N37<0,"crédit","débit") -> crédit
N39: à reporter
C41: Congés disponibles = | D41: =30-COUNTIF(Données!L:L,"Congés annuel") -> 26 | E41: jours
C42: Nombre de jour arret maladie = | D42: =COUNTIF(Données!L:L,"arrêt maladie") =COUNTIF(Données!$N$6:$N$1468,"maladie") =COUNTIF(Données!$N$6:$N$1468,"maladie") -> FALSE

Sheet Données
C2: Periode | D2: Prise de service | E2: Interv. s/site | F2: Pause déjeuner | G2: Reprise | H2: Fin d'interv. | I2: Fin de service | J2: Total vacation | K2: Horaire théorique | L2: OBSERVATION | N2: Congés annuel
A3: férié | N3: Récup
A4: =DATE('recap horaires'!$B$6,1,1) -> 40178 | B4: janvier | N4: arrêt maladie
A5: =FLOOR(DATE('recap horaires'!$B$6,5,DAY(MINUTE(An/38)/2+56)),7)-34+7*('recap horaires'!$B$6=2079) -> 40286 | B5: février
A6: =A5+1 -> 40287 | B6: mars | C6: 40178 | K6: 0
A7: =DATE('recap horaires'!$B$6,5,1) -> 40298 | B7: avril | C7: 40179 | D7: 0.33333333 | F7: 0.5 | G7: 0.54166667 | I7: 0.70833333 | J7: =(I7-D7)-(G7-F7) -> 0.33333333 | K7: 0.29166667
A8: =DATE('recap horaires'!$B$6,5,8) -> 40305 | B8: mai | C8: 40180 | D8: 0.33333333 | F8: 0.5 | G8: 0.54166667 | I8: 0.70833333 | J8: =(I8-D8)-(G8-F8) -> 0.33333333 | K8: 0.29166667
A9: =A5+39 -> 40325 | B9: juin | C9: 40181 | K9: 0
A10: =A5+49 -> 40335 | B10: juillet | C10: 40182 | K10: 0
A11: =A10+1 -> 40336 | B11: août | C11: 40183 | D11: 0.35416667 | F11: 0.54166667 | G11: 0.58333333 | I11: 0.6875 | J11: =(I11-D11)-(G11-F11) -> 0.29166667 | K11: 0.29166667
A12: =DATE('recap horaires'!$B$6,7,14) -> 40372 | B12: septembre | C12: 40184 | D12: 0.35416667 | F12: 0.54166667 | G12: 0.58333333 | I12: 0.6875 | J12: =(I12-D12)-(G12-F12) -> 0.29166667 | K12: 0.29166667
A13: =DATE('recap horaires'!$B$6,8,15) -> 40404 | B13: octobre | C13: 40185 | D13: 0.375 | F13: 0.54166667 | G13: 0.58333333 | I13: 0.66666667 | J13: =(I13-D13)-(G13-F13) -> 0.25 | K13: 0.29166667
A14: =DATE('recap horaires'!$B$6,11,1) -> 40482 | B14: novembre | C14: 40186 | D14: 0.35416667 | F14: 0.54166667 | G14: 0.58333333 | I14: 0.6875 | J14: =(I14-D14)-(G14-F14) -> 0.29166667 | K14: 0.29166667
A15: =DATE('recap horaires'!$B$6,11,11) -> 40492 | B15: décembre | C15: 40187 | D15: 0.35416667 | F15: 0.54166667 | G15: 0.58333333 | I15: 0.6875 | J15: =(I15-D15)-(G15-F15) -> 0.29166667 | K15: 0.29166667
A16: =DATE('recap horaires'!$B$6,12,25) -> 40536 | C16: 40188 | K16: 0
C17: 40189 | K17: 0
C18: 40190 | J18: =(I18-D18)-(G18-F18) -> 0 | K18: 0.29166667 | L18: Congés annuel
C19: 40191 | J19: =(I19-D19)-(G19-F19) -> 0 | K19: 0.29166667 | L19: Congés annuel
C20: 40192 | J20: =(I20-D20)-(G20-F20) -> 0 | K20: 0.29166667 | L20: Congés annuel
C21: 40193 | J21: =(I21-D21)-(G21-F21) -> 0 | K21: 0.29166667 | L21: arrêt maladie
C22: 40194 | J22: =(I22-D22)-(G22-F22) -> 0 | K22: 0.29166667 | L22: Congés annuel
C23: 40195 | K23: 0
C24: 40196 | K24: 0
C25: 40197 | J25: =(I25-D25)-(G25-F25) -> 0 | K25: 0.29166667
C26: 40198 | J26: =(I26-D26)-(G26-F26) -> 0 | K26: 0.29166667
C27: 40199 | J27: =(I27-D27)-(G27-F27) -> 0 | K27: 0.29166667
C28: 40200 | J28: =(I28-D28)-(G28-F28) -> 0 | K28: 0.29166667
C29: 40201 | J29: =(I29-D29)-(G29-F29) -> 0 | K29: 0.29166667
C30: 40202 | K30: 0
C31: 40203 | K31: 0
C32: 40204 | K32: 0.29166667
C33: 40205 | J33: =(I33-D33)-(G33-F33) -> 0 | K33: 0.29166667
C34: 40206 | J34: =(I34-D34)-(G34-F34) -> 0 | K34: 0.29166667
C35: 40207 | J35: =(I35-D35)-(G35-F35) -> 0 | K35: 0.29166667
C36: 40208 | J36: =(I36-D36)-(G36-F36) -> 0 | K36: 0.29166667
C37: 40209 | K37: 0
C38: 40210 | K38: 0
C39: 40211 | J39: =(I39-D39)-(G39-F39) -> 0 | K39: 0.29166667
C40: 40212 | J40: =(I40-D40)-(G40-F40) -> 0 | K40: 0.29166667
C41: 40213 | J41: =(I41-D41)-(G41-F41) -> 0 | K41: 0.29166667
C42: 40214 | J42: =(I42-D42)-(G42-F42) -> 0 | K42: 0.29166667
C43: 40215 | J43: =(I43-D43)-(G43-F43) -> 0 | K43: 0.29166667
C44: 40216 | K44: 0
C45: 40217 | K45: 0
C46: 40218 | J46: =(I46-D46)-(G46-F46) -> 0 | K46: 0.29166667
C47: 40219 | J47: =(I47-D47)-(G47-F47) -> 0 | K47: 0.29166667
C48: 40220 | J48: =(I48-D48)-(G48-F48) -> 0 | K48: 0.29166667
C49: 40221 | J49: =(I49-D49)-(G49-F49) -> 0 | K49: 0.29166667
C50: 40222 | J50: =(I50-D50)-(G50-F50) -> 0 | K50: 0.29166667
C51: 40223 | K51: 0
C52: 40224 | K52: 0
C53: 40225 | J53: =(I53-D53)-(G53-F53) -> 0 | K53: 0.29166667
C54: 40226 | J54: =(I54-D54)-(G54-F54) -> 0 | K54: 0.29166667
C55: 40227 | J55: =(I55-D55)-(G55-F55) -> 0 | K55: 0.29166667
C56: 40228 | J56: =(I56-D56)-(G56-F56) -> 0 | K56: 0.29166667
C57: 40229 | J57: =(I57-D57)-(G57-F57) -> 0 | K57: 0.29166667
C58: 40230 | K58: 0
C59: 40231 | K59: 0
C60: 40232 | J60: =(I60-D60)-(G60-F60) -> 0 | K60: 0.29166667
C61: 40233 | J61: =(I61-D61)-(G61-F61) -> 0 | K61: 0.29166667
C62: 40234 | J62: =(I62-D62)-(G62-F62) -> 0 | K62: 0.29166667
C63: 40235 | J63: =(I63-D63)-(G63-F63) -> 0 | K63: 0.29166667
C64: 40236 | J64: =(I64-D64)-(G64-F64) -> 0 | K64: 0.29166667
C65: 40237 | K65: 0
C66: 40238 | K66: 0
C67: 40239 | J67: =(I67-D67)-(G67-F67) -> 0 | K67: 0.29166667
C68: 40240 | J68: =(I68-D68)-(G68-F68) -> 0 | K68: 0.29166667
C69: 40241 | J69: =(I69-D69)-(G69-F69) -> 0 | K69: 0.29166667
C70: 40242 | J70: =(I70-D70)-(G70-F70) -> 0 | K70: 0.29166667
C71: 40243 | J71: =(I71-D71)-(G71-F71) -> 0 | K71: 0.29166667
C72: 40244 | K72: 0
C73: 40245 | K73: 0
C74: 40246 | J74: =(I74-D74)-(G74-F74) -> 0 | K74: 0.29166667
C75: 40247 | J75: =(I75-D75)-(G75-F75) -> 0 | K75: 0.29166667
C76: 40248 | J76: =(I76-D76)-(G76-F76) -> 0 | K76: 0.29166667
C77: 40249 | J77: =(I77-D77)-(G77-F77) -> 0 | K77: 0.29166667
C78: 40250 | J78: =(I78-D78)-(G78-F78) -> 0 | K78: 0.29166667
C79: 40251 | K79: 0
C80: 40252 | K80: 0
C81: 40253 | J81: =(I81-D81)-(G81-F81) -> 0 | K81: 0.29166667
C82: 40254 | J82: =(I82-D82)-(G82-F82) -> 0 | K82: 0.29166667
C83: 40255 | J83: =(I83-D83)-(G83-F83) -> 0 | K83: 0.29166667
C84: 40256 | J84: =(I84-D84)-(G84-F84) -> 0 | K84: 0.29166667
C85: 40257 | J85: =(I85-D85)-(G85-F85) -> 0 | K85: 0.29166667
C86: 40258 | K86: 0
C87: 40259 | K87: 0
C88: 40260 | J88: =(I88-D88)-(G88-F88) -> 0 | K88: 0.29166667
C89: 40261 | J89: =(I89-D89)-(G89-F89) -> 0 | K89: 0.29166667
C90: 40262 | J90: =(I90-D90)-(G90-F90) -> 0 | K90: 0.29166667
C91: 40263 | J91: =(I91-D91)-(G91-F91) -> 0 | K91: 0.29166667
C92: 40264 | J92: =(I92-D92)-(G92-F92) -> 0 | K92: 0.29166667
C93: 40265 | K93: 0
C94: 40266 | K94: 0
C95: 40267 | J95: =(I95-D95)-(G95-F95) -> 0 | K95: 0.29166667
C96: 40268 | J96: =(I96-D96)-(G96-F96) -> 0 | K96: 0.29166667
C97: 40269 | J97: =(I97-D97)-(G97-F97) -> 0 | K97: 0.29166667
C98: 40270 | J98: =(I98-D98)-(G98-F98) -> 0 | K98: 0.29166667
C99: 40271 | J99: =(I99-D99)-(G99-F99) -> 0 | K99: 0.29166667
C100: 40272 | K100: 0
C101: 40273 | K101: 0
...

Sheet Feuil3
