Workbook
Name An: 'recap horaires'!$B$1
Name An: 'recap horaires'!$B$1
Name férié: Données!$A$4:$A$16

Sheet recap horaires
B3: Periode | D3: Prise de service | E3: Interv. s/site | F3: Pause déjeuner | G3: Reprise | H3: Fin d'interv. | I3: Fin de service | J3: Total vacation | K3: Horaire théorique | L3: Crédit heures | M3: Débit heures | N3: ESI
L4: report n-1 | M4: report n-1
A5: mois | B5: année | L5: 1.5243056
A6: janvier | B6: 2014 | C6: =DATE(B6,MONTH(1&A6),1) -> 41640 | D6: =VLOOKUP(C6,Données!C6:K1468,2) -> 0 | F6: =VLOOKUP(C6,Données!C6:K1468,4) -> 0 | G6: =VLOOKUP(C6,Données!C6:K1468,5) -> 0 | I6: =VLOOKUP(C6,Données!C6:K1468,7) -> 0 | J6: =(I6-D6)-(G6-F6) -> 0
C7: =C6+1 -> 41641 | D7: =VLOOKUP(C7,Données!C7:K1469,2) -> 0 | F7: =VLOOKUP(C7,Données!C7:K1469,4) -> 0 | G7: =VLOOKUP(C7,Données!C7:K1469,5) -> 0 | I7: =VLOOKUP(C7,Données!C7:K1469,7) -> 0 | J7: =(I7-D7)-(G7-F7) -> 0 | K7: 0.29166667 | L7: =J7-K7 -> -0.29166667 | P7: arrêt maladie
C8: =C7+1 -> 41642 | D8: =VLOOKUP(C8,Données!C8:K1470,2) -> 0 | F8: =VLOOKUP(C8,Données!C8:K1470,4) -> 0 | G8: =VLOOKUP(C8,Données!C8:K1470,5) -> 0 | I8: =VLOOKUP(C8,Données!C8:K1470,7) -> 0 | J8: =(I8-D8)-(G8-F8) -> 0 | K8: 0.29166667 | L8: =J8-K8 -> -0.29166667
C9: =C8+1 -> 41643 | D9: =VLOOKUP(C9,Données!C9:K1471,2) -> 0 | F9: =VLOOKUP(C9,Données!C9:K1471,4) -> 0 | G9: =VLOOKUP(C9,Données!C9:K1471,5) -> 0 | I9: =VLOOKUP(C9,Données!C9:K1471,7) -> 0 | J9: =(I9-D9)-(G9-F9) -> 0 | K9: 0.375 | L9: =J9-K9 -> -0.375
C10: =C9+1 -> 41644 | D10: =VLOOKUP(C10,Données!C10:K1472,2) -> 0 | F10: =VLOOKUP(C10,Données!C10:K1472,4) -> 0 | G10: =VLOOKUP(C10,Données!C10:K1472,5) -> 0 | I10: =VLOOKUP(C10,Données!C10:K1472,7) -> 0 | J10: =(I10-D10)-(G10-F10) -> 0 | K10: 0.41666667 | L10: =J10-K10 -> -0.41666667 | P10: congés annuels
C11: =C10+1 -> 41645 | D11: =VLOOKUP(C11,Données!C11:K1473,2) -> 0 | F11: =VLOOKUP(C11,Données!C11:K1473,4) -> 0 | G11: =VLOOKUP(C11,Données!C11:K1473,5) -> 0 | I11: =VLOOKUP(C11,Données!C11:K1473,7) -> 0 | J11: =(I11-D11)-(G11-F11) -> 0 | K11: 0.29166667 | L11: =J11-K11 -> -0.29166667
C12: =C11+1 -> 41646 | D12: =VLOOKUP(C12,Données!C12:K1474,2) -> 0 | F12: =VLOOKUP(C12,Données!C12:K1474,4) -> 0 | G12: =VLOOKUP(C12,Données!C12:K1474,5) -> 0 | I12: =VLOOKUP(C12,Données!C12:K1474,7) -> 0 | J12: =(I12-D12)-(G12-F12) -> 0 | K12: 0.29166667 | L12: =J12-K12 -> -0.29166667
C13: =C12+1 -> 41647 | D13: =VLOOKUP(C13,Données!C13:K1475,2) -> 0 | F13: =VLOOKUP(C13,Données!C13:K1475,4) -> 0 | G13: =VLOOKUP(C13,Données!C13:K1475,5) -> 0 | I13: =VLOOKUP(C13,Données!C13:K1475,7) -> 0 | J13: =(I13-D13)-(G13-F13) -> 0 | K13: 0.29166667 | L13: =J13-K13 -> -0.29166667 | P13: récup
C14: =C13+1 -> 41648 | D14: =VLOOKUP(C14,Données!C14:K1476,2) -> 0 | F14: =VLOOKUP(C14,Données!C14:K1476,4) -> 0 | G14: =VLOOKUP(C14,Données!C14:K1476,5) -> 0 | I14: =VLOOKUP(C14,Données!C14:K1476,7) -> 0 | J14: =(I14-D14)-(G14-F14) -> 0 | K14: 0.29166667 | L14: =J14-K14 -> -0.29166667
C15: =C14+1 -> 41649 | D15: =VLOOKUP(C15,Données!C15:K1477,2) -> 0 | F15: =VLOOKUP(C15,Données!C15:K1477,4) -> 0 | G15: =VLOOKUP(C15,Données!C15:K1477,5) -> 0 | I15: =VLOOKUP(C15,Données!C15:K1477,7) -> 0 | J15: =(I15-D15)-(G15-F15) -> 0 | K15: 0.29166667 | L15: =J15-K15 -> -0.29166667 | P15: indiquer les récup. dans la colonne débit
C16: =C15+1 -> 41650 | D16: =VLOOKUP(C16,Données!C16:K1478,2) -> 0 | F16: =VLOOKUP(C16,Données!C16:K1478,4) -> 0 | G16: =VLOOKUP(C16,Données!C16:K1478,5) -> 0 | I16: =VLOOKUP(C16,Données!C16:K1478,7) -> 0 | J16: =(I16-D16)-(G16-F16) -> 0 | K16: 0.29166667 | L16: =J16-K16 -> -0.29166667
C17: =C16+1 -> 41651 | D17: =VLOOKUP(C17,Données!C17:K1479,2) -> 0 | F17: =VLOOKUP(C17,Données!C17:K1479,4) -> 0 | G17: =VLOOKUP(C17,Données!C17:K1479,5) -> 0 | I17: =VLOOKUP(C17,Données!C17:K1479,7) -> 0 | J17: =(I17-D17)-(G17-F17) -> 0 | K17: 0.29166667 | L17: =J17-K17 -> -0.29166667
C18: =C17+1 -> 41652 | D18: =VLOOKUP(C18,Données!C18:K1480,2) -> 0 | F18: =VLOOKUP(C18,Données!C18:K1480,4) -> 0 | G18: =VLOOKUP(C18,Données!C18:K1480,5) -> 0 | I18: =VLOOKUP(C18,Données!C18:K1480,7) -> 0 | J18: =(I18-D18)-(G18-F18) -> 0 | K18: 0.29166667 | L18: =J18-K18 -> -0.29166667 | P18: 1/2 journée = 3h30
C19: =C18+1 -> 41653 | D19: =VLOOKUP(C19,Données!C19:K1481,2) -> 0 | F19: =VLOOKUP(C19,Données!C19:K1481,4) -> 0 | G19: =VLOOKUP(C19,Données!C19:K1481,5) -> 0 | I19: =VLOOKUP(C19,Données!C19:K1481,7) -> 0 | J19: =(I19-D19)-(G19-F19) -> 0 | K19: 0.29166667 | L19: =J19-K19 -> -0.29166667 | P19: 1 journée = 7h00
C20: =C19+1 -> 41654 | D20: =VLOOKUP(C20,Données!C20:K1482,2) -> 0 | F20: =VLOOKUP(C20,Données!C20:K1482,4) -> 0 | G20: =VLOOKUP(C20,Données!C20:K1482,5) -> 0 | I20: =VLOOKUP(C20,Données!C20:K1482,7) -> 0 | J20: =(I20-D20)-(G20-F20) -> 0 | K20: 0.29166667 | L20: =J20-K20 -> -0.29166667
C21: =C20+1 -> 41655 | D21: =VLOOKUP(C21,Données!C21:K1483,2) -> 0 | F21: =VLOOKUP(C21,Données!C21:K1483,4) -> 0 | G21: =VLOOKUP(C21,Données!C21:K1483,5) -> 0 | I21: =VLOOKUP(C21,Données!C21:K1483,7) -> 0 | J21: =(I21-D21)-(G21-F21) -> 0 | K21: 0.29166667 | L21: =J21-K21 -> -0.29166667
C22: =C21+1 -> 41656 | D22: =VLOOKUP(C22,Données!C22:K1484,2) -> 0 | F22: =VLOOKUP(C22,Données!C22:K1484,4) -> 0 | G22: =VLOOKUP(C22,Données!C22:K1484,5) -> 0 | I22: =VLOOKUP(C22,Données!C22:K1484,7) -> 0 | J22: =(I22-D22)-(G22-F22) -> 0 | K22: 0.29166667 | L22: =J22-K22 -> -0.29166667 | P22: jours fériés
C23: =C22+1 -> 41657 | D23: =VLOOKUP(C23,Données!C23:K1485,2) -> 0 | F23: =VLOOKUP(C23,Données!C23:K1485,4) -> 0 | G23: =VLOOKUP(C23,Données!C23:K1485,5) -> 0 | I23: =VLOOKUP(C23,Données!C23:K1485,7) -> 0 | J23: =(I23-D23)-(G23-F23) -> 0 | K23: 0.29166667 | L23: =J23-K23 -> -0.29166667
C24: =C23+1 -> 41658 | D24: =VLOOKUP(C24,Données!C24:K1486,2) -> 0 | F24: =VLOOKUP(C24,Données!C24:K1486,4) -> 0 | G24: =VLOOKUP(C24,Données!C24:K1486,5) -> 0 | I24: =VLOOKUP(C24,Données!C24:K1486,7) -> 0 | J24: =(I24-D24)-(G24-F24) -> 0 | K24: 0.29166667 | L24: =J24-K24 -> -0.29166667
C25: =C24+1 -> 41659 | D25: =VLOOKUP(C25,Données!C25:K1487,2) -> 0 | F25: =VLOOKUP(C25,Données!C25:K1487,4) -> 0 | G25: =VLOOKUP(C25,Données!C25:K1487,5) -> 0 | I25: =VLOOKUP(C25,Données!C25:K1487,7) -> 0 | J25: =(I25-D25)-(G25-F25) -> 0 | K25: 0.29166667 | L25: =J25-K25 -> -0.29166667
C26: =C25+1 -> 41660 | D26: =VLOOKUP(C26,Données!C26:K1488,2) -> 0 | F26: =VLOOKUP(C26,Données!C26:K1488,4) -> 0 | G26: =VLOOKUP(C26,Données!C26:K1488,5) -> 0 | I26: =VLOOKUP(C26,Données!C26:K1488,7) -> 0 | J26: =(I26-D26)-(G26-F26) -> 0 | K26: 0.29166667 | L26: =J26-K26 -> -0.29166667
C27: =C26+1 -> 41661 | D27: =VLOOKUP(C27,Données!C27:K1489,2) -> 0 | F27: =VLOOKUP(C27,Données!C27:K1489,4) -> 0 | G27: =VLOOKUP(C27,Données!C27:K1489,5) -> 0 | I27: =VLOOKUP(C27,Données!C27:K1489,7) -> 0 | J27: =(I27-D27)-(G27-F27) -> 0 | K27: 0.29166667 | L27: =J27-K27 -> -0.29166667
C28: =C27+1 -> 41662 | D28: =VLOOKUP(C28,Données!C28:K1490,2) -> 0 | F28: =VLOOKUP(C28,Données!C28:K1490,4) -> 0 | G28: =VLOOKUP(C28,Données!C28:K1490,5) -> 0 | I28: =VLOOKUP(C28,Données!C28:K1490,7) -> 0 | J28: =(I28-D28)-(G28-F28) -> 0 | K28: 0.29166667 | L28: =J28-K28 -> -0.29166667
C29: =C28+1 -> 41663 | D29: =VLOOKUP(C29,Données!C29:K1491,2) -> 0 | F29: =VLOOKUP(C29,Données!C29:K1491,4) -> 0 | G29: =VLOOKUP(C29,Données!C29:K1491,5) -> 0 | I29: =VLOOKUP(C29,Données!C29:K1491,7) -> 0 | J29: =(I29-D29)-(G29-F29) -> 0 | K29: 0.29166667 | L29: =J29-K29 -> -0.29166667
C30: =C29+1 -> 41664 | D30: =VLOOKUP(C30,Données!C30:K1492,2) -> 0 | F30: =VLOOKUP(C30,Données!C30:K1492,4) -> 0 | G30: =VLOOKUP(C30,Données!C30:K1492,5) -> 0 | I30: =VLOOKUP(C30,Données!C30:K1492,7) -> 0 | J30: =(I30-D30)-(G30-F30) -> 0 | K30: 0.29166667 | L30: =J30-K30 -> -0.29166667
C31: =C30+1 -> 41665 | D31: =VLOOKUP(C31,Données!C31:K1493,2) -> 0 | F31: =VLOOKUP(C31,Données!C31:K1493,4) -> 0 | G31: =VLOOKUP(C31,Données!C31:K1493,5) -> 0 | I31: =VLOOKUP(C31,Données!C31:K1493,7) -> 0 | J31: =(I31-D31)-(G31-F31) -> 0 | K31: 0.29166667 | L31: =J31-K31 -> -0.29166667
C32: =C31+1 -> 41666 | D32: =VLOOKUP(C32,Données!C32:K1494,2) -> 0 | F32: =VLOOKUP(C32,Données!C32:K1494,4) -> 0 | G32: =VLOOKUP(C32,Données!C32:K1494,5) -> 0 | I32: =VLOOKUP(C32,Données!C32:K1494,7) -> 0 | J32: =(I32-D32)-(G32-F32) -> 0 | K32: 0.29166667 | L32: =J32-K32 -> -0.29166667
C33: =IFERROR(IF(MONTH(C32+1)=MONTH(1&$A$6),C32+1,""),"") -> 41667 | D33: =VLOOKUP(C33,Données!C33:K1495,2) -> 0 | F33: =VLOOKUP(C33,Données!C33:K1495,4) -> 0 | G33: =VLOOKUP(C33,Données!C33:K1495,5) -> 0 | I33: =VLOOKUP(C33,Données!C33:K1495,7) -> 0 | J33: =(I33-D33)-(G33-F33) -> 0 | K33: 0.29166667 | L33: =J33-K33 -> -0.29166667
C34: =IFERROR(IF(MONTH(C33+1)=MONTH(1&$A$6),C33+1,""),"") -> 41668 | D34: =VLOOKUP(C34,Données!C34:K1496,2) -> 0 | F34: =VLOOKUP(C34,Données!C34:K1496,4) -> 0 | G34: =VLOOKUP(C34,Données!C34:K1496,5) -> 0 | I34: =VLOOKUP(C34,Données!C34:K1496,7) -> 0 | J34: =(I34-D34)-(G34-F34) -> 0 | K34: 0.29166667 | L34: =J34-K34 -> -0.29166667
C35: =IFERROR(IF(MONTH(C34+1)=MONTH(1&$A$6),C34+1,""),"") -> 41669 | D35: =VLOOKUP(C35,Données!C35:K1497,2) -> 0 | F35: =VLOOKUP(C35,Données!C35:K1497,4) -> 0 | G35: =VLOOKUP(C35,Données!C35:K1497,5) -> 0 | I35: =VLOOKUP(C35,Données!C35:K1497,7) -> 0 | J35: =(I35-D35)-(G35-F35) -> 0 | K35: 0.29166667 | L35: =J35-K35 -> -0.29166667
C36: =IFERROR(IF(MONTH(C35+1)=MONTH(1&$A$6),C35+1,""),"") -> 41670 | D36: =VLOOKUP(C36,Données!C36:K1498,2) -> 0 | F36: =VLOOKUP(C36,Données!C36:K1498,4) -> 0 | G36: =VLOOKUP(C36,Données!C36:K1498,5) -> 0 | I36: =VLOOKUP(C36,Données!C36:K1498,7) -> 0 | J36: =(I36-D36)-(G36-F36) -> 0 | K36: 0.29166667 | L36: =J36-K36 -> -0.29166667
L37: =SUM(L5:L36) -> -7.4340278 | M37: =SUM(M5:M36) -> 0 | N37: =ABS(L37-M37) -> 7.4340278
L38: cumul crédit | M38: cumul débit | N38: =IF(L37>M37,"crédit","débit") -> débit
N39: à reporter

Sheet Données
C2: Periode | D2: Prise de service | E2: Interv. s/site | F2: Pause déjeuner | G2: Reprise | H2: Fin d'interv. | I2: Fin de service | J2: Total vacation | K2: Horaire théorique
A3: férié
A4: =DATE('recap horaires'!$B$6,1,1) -> 41640 | B4: janvier
A5: =FLOOR(DATE('recap horaires'!$B$6,5,DAY(MINUTE(An/38)/2+56)),7)-34+7*('recap horaires'!$B$6=2079) -> 41749 | B5: février
A6: =A5+1 -> 41750 | B6: mars | C6: 41639
A7: =DATE('recap horaires'!$B$6,5,1) -> 41760 | B7: avril | C7: 41640 | K7: 0.29166667
A8: =DATE('recap horaires'!$B$6,5,8) -> 41767 | B8: mai | C8: 41641 | K8: 0.29166667
A9: =A5+39 -> 41788 | B9: juin | C9: 41642 | K9: 0.29166667
A10: =A5+49 -> 41798 | B10: juillet | C10: 41643
A11: =A10+1 -> 41799 | B11: août | C11: 41644
A12: =DATE('recap horaires'!$B$6,7,14) -> 41834 | B12: septembre | C12: 41645 | K12: 0.29166667
A13: =DATE('recap horaires'!$B$6,8,15) -> 41866 | B13: octobre | C13: 41646 | K13: 0.29166667
A14: =DATE('recap horaires'!$B$6,11,1) -> 41944 | B14: novembre | C14: 41647 | K14: 0.29166667
A15: =DATE('recap horaires'!$B$6,11,11) -> 41954 | B15: décembre | C15: 41648 | K15: 0.29166667
A16: =DATE('recap horaires'!$B$6,12,25) -> 41998 | C16: 41649 | K16: 0.29166667
C17: 41650
C18: 41651
C19: 41652 | K19: 0.29166667
C20: 41653 | K20: 0.29166667
C21: 41654 | K21: 0.29166667
C22: 41655 | K22: 0.29166667
C23: 41656 | K23: 0.29166667
C24: 41657
C25: 41658
C26: 41659 | K26: 0.29166667
C27: 41660 | K27: 0.29166667
C28: 41661 | K28: 0.29166667
C29: 41662 | K29: 0.29166667
C30: 41663 | K30: 0.29166667
C31: 41664
C32: 41665
C33: 41666 | K33: 0.29166667
C34: 41667 | K34: 0.29166667
C35: 41668 | K35: 0.29166667
C36: 41669 | K36: 0.29166667
C37: 41670 | K37: 0.29166667
C38: 41671
C39: 41672
C40: 41673 | K40: 0.29166667
C41: 41674 | K41: 0.29166667
...

Sheet Feuil3
