Workbook

Sheet Demandes
A1: N° TIERS | B1: Tiers n°2 ? | C1: Statut_Dl
A2: 83769 | B2: 987654 | D2: doit ramener " rien" , car aucun des tiers dans feuille Contrat
A3: 74595 | B3: 987659 | D3: doit ramener " rien" , car aucun des tiers dans feuille Contrat
A4: 502488 | D4: doit ramener "ok" , car tiers 1 trouvé dans feuille contrat
A5: 846593 | D5: doit ramener "ok" , car tiers 1 trouvé dans feuille contrat
A6: 700695 | B6: 123456 | D6: doit ramener "ok" , car tiers 2 trouvé dans feuille contrat
C7: =IF(A7<>"",VLOOKUP(A7,Contrats!A:A,1,FALSE),"")
C8: =IF(A8<>"",VLOOKUP(A8,Contrats!A:A,1,FALSE),"")
C9: =IF(A9<>"",VLOOKUP(A9,Contrats!A:A,1,FALSE),"")
C10: =IF(A10<>"",VLOOKUP(A10,Contrats!A:A,1,FALSE),"")
C11: =IF(A11<>"",VLOOKUP(A11,Contrats!A:A,1,FALSE),"")
C12: =IF(A12<>"",VLOOKUP(A12,Contrats!A:A,1,FALSE),"")
C13: =IF(A13<>"",VLOOKUP(A13,Contrats!A:A,1,FALSE),"")
C14: =IF(A14<>"",VLOOKUP(A14,Contrats!A:A,1,FALSE),"")
C15: =IF(A15<>"",VLOOKUP(A15,Contrats!A:A,1,FALSE),"")
C16: =IF(A16<>"",VLOOKUP(A16,Contrats!A:A,1,FALSE),"")
C17: =IF(A17<>"",VLOOKUP(A17,Contrats!A:A,1,FALSE),"")
C18: =IF(A18<>"",VLOOKUP(A18,Contrats!A:A,1,FALSE),"")
... C97: =IF(A97<>"",VLOOKUP(A97,Contrats!A:A,1,FALSE),"")
C98: =IF(#REF!<>"",VLOOKUP(B98,Contrats!A:A,1,FALSE),"") -> #REF!

Sheet LISTE DEROULANTE
A1: Territoire | B1: Commune groupé | C1: ESI OI Libellé de l'OI | D1: Libellé de l'OI | E1: Nature | F1: Destination | G1: Nb de locaux | J1: Liste déroulante Commune | L1: Chargé(e)s de Site / Itinérants | P1: Statut DL
A2: PB | B2: ALLOUVILLE BELLEFOSSE | C2: (00)10101 ALLOUVILLE-BELLEFOSSE ALLOUVILLE-BELLEFOSSE | D2: ALLOUVILLE-BELLEFOSSE | E2: GARA | F2: STA | G2: 6 | J2: ALLOUVILLE BELLEFOSSE | L2: Amandine DIONNET (BC) | P2: A enregistrer
A3: PB | B3: ALLOUVILLE BELLEFOSSE | C3: (00)10201 ALLOUVILLE B/FOSSE R.LES ORMES ALLOUVILLE B/FOSSE R.LES ORMES | D3: ALLOUVILLE B/FOSSE R.LES ORMES | E3: GARA | F3: STA | G3: 12 | J3: AMBRUMESNIL | L3: Amandine DUVIEUX (PC) | P3: Enregistrée
A4: PB | B4: AMBRUMESNIL | C4: 40201 AMBRUMESNIL les Pommiers AMBRUMESNIL les Pommiers | D4: AMBRUMESNIL les Pommiers | E4: GARA | F4: STA | G4: 10 | J4: ARELAUNE EN SEINE | L4: Amélie BULTEL (RE) | P4: En cours de proposition
A5: LH | B5: ARELAUNE EN SEINE | C5: 4010203 MAILLERAYE S/SEINE(LA)RN 313-3 MAILLERAYE S/SEINE(LA)RN 313-3 | D5: MAILLERAYE S/SEINE(LA)RN 313-3 | E5: GARA | F5: STA | G5: 13 | J5: ARQUES LA BATAILLE | L5: Anna HERRY (PC) | P5: Satisfaite
A6: PB | B6: ARQUES LA BATAILLE | C6: 260201 ARQUES LA BATAILLE RES G.FERAY ARQUES LA BATAILLE RES G.FERAY | D6: ARQUES LA BATAILLE RES G.FERAY | E6: GARA | F6: STA | G6: 6 | J6: AUFFAY | L6: Anne-Marie DE BARROS (RE)
A7: PB | B7: ARQUES LA BATAILLE | C7: 260201 ARQUES LA BATAILLE RES G.FERAY ARQUES LA BATAILLE RES G.FERAY | D7: ARQUES LA BATAILLE RES G.FERAY | E7: PARK | F7: STA | G7: 15 | J7: BACQUEVILLE EN CAUX | L7: Bastien DELVINQUIERE (PC)
A8: PB | B8: AUFFAY | C8: (0)340203 AUFFAY LE CLOS JACQUET 3EME TR | D8: AUFFAY LE CLOS JACQUET 3EME TR | E8: GARA | F8: STA | G8: 15 | J8: BERVILLE | L8: Bonita FRANCIS (PC)
A9: PB | B9: BACQUEVILLE EN CAUX | C9: 510102 BACQUEVILLE EN CAUX BACQUEVILLE EN CAUX | D9: BACQUEVILLE EN CAUX | E9: GARA | F9: STA | G9: 1 | J9: BEUZEVILLE LA GRENIER | L9: Carole MOUTIER (PC)
A10: PB | B10: BERVILLE | C10: 870101 BERVILLE EN CAUX (8 LOGTS) BERVILLE EN CAUX (8 LOGTS) | D10: BERVILLE EN CAUX (8 LOGTS) | E10: GARA | F10: STA | G10: 6 | J10: BLANGY SUR BRESLE | L10: Catherine LE CORFEC (BC)
A11: LH | B11: BEUZEVILLE LA GRENIER | C11: 900102 BEUZEVILLE LA GRENIER VILLAGE BEUZEVILLE LA GRENIER VILLAGE | D11: BEUZEVILLE LA GRENIER VILLAGE | E11: GARA | F11: STA | G11: 8 | J11: BOIS GUILLAUME | L11: Cécile FERRAND (BC) | N11: {=VLOOKUP($G11,#REF!,7,'LISTE DEROULANTE'!N16FAUX)} -> #REF!
A12: PB | B12: BLANGY SUR BRESLE | C12: 1010203 BLANGY/BRESLE RES CAMP COMTOIS BLANGY/BRESLE RES CAMP COMTOIS | D12: BLANGY/BRESLE RES CAMP COMTOIS | E12: GARA | F12: STA | G12: 8 | J12: BOISSAY | L12: Christelle DUPRE (PC)
A13: PB | B13: BLANGY SUR BRESLE | C13: 1010401 BLANGY/BRESLE FERME FONTAINE 1 BLANGY/BRESLE FERME FONTAINE 1 | D13: BLANGY/BRESLE FERME FONTAINE 1 | E13: GARA | F13: STA | G13: 8 | J13: BOLBEC | L13: Clara SOULIER (RE)
A14: PB | B14: BLANGY SUR BRESLE | C14: 1010402 BLANGY/BRESLE FERME FONTAINE 2 BLANGY/BRESLE FERME FONTAINE 2 | D14: BLANGY/BRESLE FERME FONTAINE 2 | E14: GARA | F14: STA | G14: 2 | J14: BOOS | L14: Corinne BAILLET (BC)
A15: PB | B15: BLANGY SUR BRESLE | C15: 1010501 BLANGY/BRESLE LA GARGATTE 1 BLANGY/BRESLE LA GARGATTE 1 | D15: BLANGY/BRESLE LA GARGATTE 1 | E15: GARA | F15: STA | G15: 8 | J15: BREAUTE | L15: David PASTUREK (RE)
A16: PB | B16: BLANGY SUR BRESLE | C16: 1010502 BLANGY/BRESLE LA GARGATTE 2 BLANGY/BRESLE LA GARGATTE 2 | D16: BLANGY/BRESLE LA GARGATTE 2 | E16: GARA | F16: STA | G16: 20 | J16: CANTELEU | L16: Delphin BATANTOU (RE)
A17: PB | B17: BOIS GUILLAUME | C17: 1080101 BOISGUILLAUME RUE D.LEROY BOISGUILLAUME RUE D.LEROY | D17: BOISGUILLAUME RUE D.LEROY | E17: GARA | F17: STA | G17: 6 | H17: Wahiba BELKHEIR | J17: CANY BARVILLE | L17: Dolorès PORET (BC)
A18: PB | B18: BOIS GUILLAUME | C18: 1080202 BOISGUILLAUME TABLE PIERRE 2 BOISGUILLAUME TABLE PIERRE 2 | D18: BOISGUILLAUME TABLE PIERRE 2 | E18: GARA | F18: STA | G18: 16 | H18: Wahiba BELKHEIR | J18: CLASVILLE | L18: Dylan DIAS (BC)
A19: PB | B19: BOIS GUILLAUME | C19: 1080301 BOISGUILLAUME L'AUBELIERE BOISGUILLAUME L'AUBELIERE | D19: BOISGUILLAUME L'AUBELIERE | E19: GARA | F19: STA | G19: 47 | H19: Wahiba BELKHEIR | J19: CLERES | L19: Edith QUEVILLY (RE)
A20: PB | B20: BOIS GUILLAUME | C20: 1080401 BOISGUILLAUME P.FORET 1 BOISGUILLAUME P.FORET 1 | D20: BOISGUILLAUME P.FORET 1 | E20: GARA | F20: STA | G20: 23 | H20: Wahiba BELKHEIR | J20: CRIQUETOT SUR LONGUEVILLE | L20: Edouard DECHEN (RE)
A21: PB | B21: BOIS GUILLAUME | C21: 1080402 BOISGUILLAUME P.FORET 2 BOISGUILLAUME P.FORET 2 | D21: BOISGUILLAUME P.FORET 2 | E21: GARA | F21: STA | G21: 19 | H21: Wahiba BELKHEIR | J21: CRIQUIERS | L21: Elisabeth PRONIER (PC)
A22: PB | B22: BOISSAY | C22: 1130101 BOISSAY BOISSAY | D22: BOISSAY | E22: GARA | F22: STA | G22: 1 | J22: CROIX MARE | L22: Elise FERRAND (BC)
A23: LH | B23: BOLBEC | C23: 1140201 BOLBEC RUE DU 19 MARS 1962 BOLBEC RUE DU 19 MARS 1962 | D23: BOLBEC RUE DU 19 MARS 1962 | E23: PARK | F23: STA | G23: 21 | J23: DARNETAL | L23: Emeline HIARD (RE)
A24: LH | B24: BOLBEC | C24: 1140302 BOLBEC CH.DES OISEAUX 2 BOLBEC CH.DES OISEAUX 2 | D24: BOLBEC CH.DES OISEAUX 2 | E24: GARA | F24: STA | G24: 15 | J24: DEVILLE LES ROUEN | L24: Faustine DERVIEUX (PC)
A25: LH | B25: BOLBEC | C25: 1140304 BOLBEC CH.DES OISEAUX 3 GAR. BOLBEC CH.DES OISEAUX 3 GAR. | D25: BOLBEC CH.DES OISEAUX 3 GAR. | E25: GARA | F25: STA | G25: 10 | J25: DIEPPE | L25: Halliou DIALLO (RE)
A26: LH | B26: BOLBEC | C26: 1140605 BOLBEC AZARIAS SELLE BOLBEC AZARIAS SELLE | D26: BOLBEC AZARIAS SELLE | E26: GARA | F26: STA | G26: 29 | J26: DOUDEVILLE | L26: Hélène SOULARD (BC)
A27: LH | B27: BOLBEC | C27: 1140701 BOLBEC LE BEAU SOLEIL BOLBEC LE BEAU SOLEIL | D27: BOLBEC LE BEAU SOLEIL | E27: GARA | F27: STA | G27: 12 | J27: DUCLAIR | L27: Isabelle RODRIGUES (BC)
A28: LH | B28: BOLBEC | C28: 1142301 BOLBEC RESIDENCE LES POMMIERS BOLBEC RESIDENCE LES POMMIERS | D28: BOLBEC RESIDENCE LES POMMIERS | E28: GARA | F28: STA | G28: 17 | J28: ELBEUF | L28: Jean-Jacques CADAU (RE)
A29: LH | B29: BOLBEC | C29: 1142301 BOLBEC RESIDENCE LES POMMIERS BOLBEC RESIDENCE LES POMMIERS | D29: BOLBEC RESIDENCE LES POMMIERS | E29: PARK | F29: STA | G29: 24 | J29: ELETOT | L29: Jenny DE MIRANDA (RE)
A30: RO | B30: BOOS | C30: 1160101 BOOS RUE HELENE BOUCHER | D30: BOOS RUE HELENE BOUCHER | E30: PARK | F30: STA | G30: 29 | J30: EPINAY SUR DUCLAIR | L30: Julie ANFRY (PC)
A31: RO | B31: BOOS | C31: 1160201 BOOS RUE DE LA PLAINE | D31: BOOS RUE DE LA PLAINE | E31: GARA | F31: STA | G31: 6 | J31: ETOUTTEVILLE | L31: Julien DECUGIS (PC)
A32: LH | B32: BREAUTE | C32: 1410201 BREAUTE RUE DU PRIEURE BREAUTE RUE DU PRIEURE | D32: BREAUTE RUE DU PRIEURE | E32: GARA | F32: STA | G32: 5 | J32: EU | L32: Karine BENSIFI (RE)
A33: LH | B33: BREAUTE | C33: 1410301 BREAUTE LA GARE BREAUTE LA GARE | D33: BREAUTE LA GARE | E33: GARA | F33: STA | G33: 1 | J33: FECAMP | L33: Katia CROISSANT (PC)
A34: RO | B34: CANTELEU | C34: 1570211 CANTELEU Q.SUD GARAGES | D34: CANTELEU Q.SUD GARAGES | E34: GARA | F34: STA | G34: 25 | H34: Sarah BERTHEAU | J34: FORGES LES EAUX | L34: Laëtitia DANI (RE)
A35: RO | B35: CANTELEU | C35: 1570303 CANTELEU Q.NORD ILN | D35: CANTELEU Q.NORD ILN | E35: GARA | F35: STA | G35: 38 | H35: Sarah BERTHEAU | J35: FOUCARMONT | L35: Manon FINET (RE)
A36: RO | B36: CANTELEU | C36: 1570303 CANTELEU Q.NORD ILN | D36: CANTELEU Q.NORD ILN | E36: PARK | F36: STA | G36: 16 | H36: Sarah BERTHEAU | J36: FRANQUEVILLE ST PIERRE | L36: Maryse FONDIMARE (PC)
A37: RO | B37: CANTELEU | C37: 1570501 CANTELEU CENTRE VILLE | D37: CANTELEU CENTRE VILLE | E37: GARA | F37: STA | G37: 59 | H37: David PASTUREK | J37: GAILLEFONTAINE | L37: Mehdi SBAA (PC)
A38: RO | B38: CANTELEU | C38: 1570602 CANTELEU Résidence R. FAUCON | D38: CANTELEU Résidence R. FAUCON | E38: GARA | F38: STA | G38: 5 | J38: GAINNEVILLE | L38: Mélanie LARABI (RE)
A39: RO | B39: CANTELEU | C39: 1570602 CANTELEU Résidence R. FAUCON | D39: CANTELEU Résidence R. FAUCON | E39: PARK | F39: STA | G39: 60 | J39: GERVILLE | L39: Mélanie LUCAS (PC)
A40: RO | B40: CANTELEU | C40: 1570801 CANTELEU QUARTIER MOLIERE | D40: CANTELEU QUARTIER MOLIERE | E40: GARA | F40: STA | G40: 50 | H40: Sarah BERTHEAU | J40: GODERVILLE | L40: Mélanie RIDEL (BC)
...

Sheet Contrats
A2: N° de Tiers
A3: 123456
A4: 502488
A5: 846593
