Workbook

Sheet Demandes
A1: N° TIERS | B1: Tiers n°2 ? | C1: Statut_Dl
A2: 83769 | B2: 987654 | D2: doit ramener " rien" , car aucun des tiers dans feuille Contrat
A3: 74595 | B3: 987659 | D3: doit ramener " rien" , car aucun des tiers dans feuille Contrat
A4: 502488 | D4: doit ramener "ok" , car tiers 1 trouvé dans feuille contrat
A5: 846593 | D5: doit ramener "ok" , car tiers 1 trouvé dans feuille contrat
A6: 700695 | B6: 123456 | D6: doit ramener "ok" , car tiers 2 trouvé dans feuille contrat
C7: =IF(A7<>"",VLOOKUP(A7,Contrats!A:A,1,FALSE),"")
C8: =IF(A8<>"",VLOOKUP(A8,Contrats!A:A,1,FALSE),"")
C9: =IF(A9<>"",VLOOKUP(A9,Contrats!A:A,1,FALSE),"")
C10: =IF(A10<>"",VLOOKUP(A10,Contrats!A:A,1,FALSE),"")
C11: =IF(A11<>"",VLOOKUP(A11,Contrats!A:A,1,FALSE),"")
C12: =IF(A12<>"",VLOOKUP(A12,Contrats!A:A,1,FALSE),"")
C13: =IF(A13<>"",VLOOKUP(A13,Contrats!A:A,1,FALSE),"")
C14: =IF(A14<>"",VLOOKUP(A14,Contrats!A:A,1,FALSE),"")
C15: =IF(A15<>"",VLOOKUP(A15,Contrats!A:A,1,FALSE),"")
C16: =IF(A16<>"",VLOOKUP(A16,Contrats!A:A,1,FALSE),"")
C17: =IF(A17<>"",VLOOKUP(A17,Contrats!A:A,1,FALSE),"")
C18: =IF(A18<>"",VLOOKUP(A18,Contrats!A:A,1,FALSE),"")
... C97: =IF(A97<>"",VLOOKUP(A97,Contrats!A:A,1,FALSE),"")
C98: =IF(#REF!<>"",VLOOKUP(B98,Contrats!A:A,1,FALSE),"") -> #REF!

Sheet LISTE DEROULANTE
A1: Territoire | B1: Commune groupé | C1: ESI OI Libellé de l'OI | D1: Libellé de l'OI | E1: Nature | F1: Destination | G1: Nb de locaux | J1: Liste déroulante Commune | L1: Chargé(e)s de Site / Itinérants | P1: Statut DL
A2: PB | B2: ALLOUVILLE BELLEFOSSE | C2: (00)10101 ALLOUVILLE-BELLEFOSSE ALLOUVILLE-BELLEFOSSE | D2: ALLOUVILLE-BELLEFOSSE | E2: GARA | F2: STA | G2: 6 | J2: ALLOUVILLE BELLEFOSSE | L2: Amandine DIONNET (BC) | P2: A enregistrer
A3: PB | B3: ALLOUVILLE BELLEFOSSE | C3: (00)10201 ALLOUVILLE B/FOSSE R.LES ORMES ALLOUVILLE B/FOSSE R.LES ORMES | D3: ALLOUVILLE B/FOSSE R.LES ORMES | E3: GARA | F3: STA | G3: 12 | J3: AMBRUMESNIL | L3: Amandine DUVIEUX (PC) | P3: Enregistrée
A4: PB | B4: AMBRUMESNIL | C4: 40201 AMBRUMESNIL les Pommiers AMBRUMESNIL les Pommiers | D4: AMBRUMESNIL les Pommiers | E4: GARA | F4: STA | G4: 10 | J4: ARELAUNE EN SEINE | L4: Amélie BULTEL (RE) | P4: En cours de proposition
A5: LH | B5: ARELAUNE EN SEINE | C5: 4010203 MAILLERAYE S/SEINE(LA)RN 313-3 MAILLERAYE S/SEINE(LA)RN 313-3 | D5: MAILLERAYE S/SEINE(LA)RN 313-3 | E5: GARA | F5: STA | G5: 13 | J5: ARQUES LA BATAILLE | L5: Anna HERRY (PC) | P5: Satisfaite
A6: PB | B6: ARQUES LA BATAILLE | C6: 260201 ARQUES LA BATAILLE RES G.FERAY ARQUES LA BATAILLE RES G.FERAY | D6: ARQUES LA BATAILLE RES G.FERAY | E6: GARA | F6: STA | G6: 6 | J6: AUFFAY | L6: Anne-Marie DE BARROS (RE)
A7: PB | B7: ARQUES LA BATAILLE | C7: 260201 ARQUES LA BATAILLE RES G.FERAY ARQUES LA BATAILLE RES G.FERAY | D7: ARQUES LA BATAILLE RES G.FERAY | E7: PARK | F7: STA | G7: 15 | J7: BACQUEVILLE EN CAUX | L7: Bastien DELVINQUIERE (PC)
A8: PB | B8: AUFFAY | C8: (0)340203 AUFFAY LE CLOS JACQUET 3EME TR | D8: AUFFAY LE CLOS JACQUET 3EME TR | E8: GARA | F8: STA | G8: 15 | J8: BERVILLE | L8: Bonita FRANCIS (PC)
A9: PB | B9: BACQUEVILLE EN CAUX | C9: 510102 BACQUEVILLE EN CAUX BACQUEVILLE EN CAUX | D9: BACQUEVILLE EN CAUX | E9: GARA | F9: STA | G9: 1 | J9: BEUZEVILLE LA GRENIER | L9: Carole MOUTIER (PC)
A10: PB | B10: BERVILLE | C10: 870101 BERVILLE EN CAUX (8 LOGTS) BERVILLE EN CAUX (8 LOGTS) | D10: BERVILLE EN CAUX (8 LOGTS) | E10: GARA | F10: STA | G10: 6 | J10: BLANGY SUR BRESLE | L10: Catherine LE CORFEC (BC)
A11: LH | B11: BEUZEVILLE LA GRENIER | C11: 900102 BEUZEVILLE LA GRENIER VILLAGE BEUZEVILLE LA GRENIER VILLAGE | D11: BEUZEVILLE LA GRENIER VILLAGE | E11: GARA | F11: STA | G11: 8 | J11: BOIS GUILLAUME | L11: Cécile FERRAND (BC) | N11: {=VLOOKUP($G11,#REF!,7,'LISTE DEROULANTE'!N16FAUX)} -> #REF!
A12: PB | B12: BLANGY SUR BRESLE | C12: 1010203 BLANGY/BRESLE RES CAMP COMTOIS BLANGY/BRESLE RES CAMP COMTOIS | D12: BLANGY/BRESLE RES CAMP COMTOIS | E12: GARA | F12: STA | G12: 8 | J12: BOISSAY | L12: Christelle DUPRE (PC)
A13: PB | B13: BLANGY SUR BRESLE | C13: 1010401 BLANGY/BRESLE FERME FONTAINE 1 BLANGY/BRESLE FERME FONTAINE 1 | D13: BLANGY/BRESLE FERME FONTAINE 1 | E13: GARA | F13: STA | G13: 8 | J13: BOLBEC | L13: Clara SOULIER (RE)
A14: PB | B14: BLANGY SUR BRESLE | C14: 1010402 BLANGY/BRESLE FERME FONTAINE 2 BLANGY/BRESLE FERME FONTAINE 2 | D14: BLANGY/BRESLE FERME FONTAINE 2 | E14: GARA | F14: STA | G14: 2 | J14: BOOS | L14: Corinne BAILLET (BC)
A15: PB | B15: BLANGY SUR BRESLE | C15: 1010501 BLANGY/BRESLE LA GARGATTE 1 BLANGY/BRESLE LA GARGATTE 1 | D15: BLANGY/BRESLE LA GARGATTE 1 | E15: GARA | F15: STA | G15: 8 | J15: BREAUTE | L15: David PASTUREK (RE)
A16: PB | B16: BLANGY SUR BRESLE | C16: 1010502 BLANGY/BRESLE LA GARGATTE 2 BLANGY/BRESLE LA GARGATTE 2 | D16: BLANGY/BRESLE LA GARGATTE 2 | E16: GARA | F16: STA | G16: 20 | J16: CANTELEU | L16: Delphin BATANTOU (RE)
A17: PB | B17: BOIS GUILLAUME | C17: 1080101 BOISGUILLAUME RUE D.LEROY BOISGUILLAUME RUE D.LEROY | D17: BOISGUILLAUME RUE D.LEROY | E17: GARA | F17: STA | G17: 6 | H17: Wahiba BELKHEIR | J17: CANY BARVILLE | L17: Dolorès PORET (BC)
A18: PB | B18: BOIS GUILLAUME | C18: 1080202 BOISGUILLAUME TABLE PIERRE 2 BOISGUILLAUME TABLE PIERRE 2 | D18: BOISGUILLAUME TABLE PIERRE 2 | E18: GARA | F18: STA | G18: 16 | H18: Wahiba BELKHEIR | J18: CLASVILLE | L18: Dylan DIAS (BC)
A19: PB | B19: BOIS GUILLAUME | C19: 1080301 BOISGUILLAUME L'AUBELIERE BOISGUILLAUME L'AUBELIERE | D19: BOISGUILLAUME L'AUBELIERE | E19: GARA | F19: STA | G19: 47 | H19: Wahiba BELKHEIR | J19: CLERES | L19: Edith QUEVILLY (RE)
A20: PB | B20: BOIS GUILLAUME | C20: 1080401 BOISGUILLAUME P.FORET 1 BOISGUILLAUME P.FORET 1 | D20: BOISGUILLAUME P.FORET 1 | E20: GARA | F20: STA | G20: 23 | H20: Wahiba BELKHEIR | J20: CRIQUETOT SUR LONGUEVILLE | L20: Edouard DECHEN (RE)
A21: PB | B21: BOIS GUILLAUME | C21: 1080402 BOISGUILLAUME P.FORET 2 BOISGUILLAUME P.FORET 2 | D21: BOISGUILLAUME P.FORET 2 | E21: GARA | F21: STA | G21: 19 | H21: Wahiba BELKHEIR | J21: CRIQUIERS | L21: Elisabeth PRONIER (PC)
A22: PB | B22: BOISSAY | C22: 1130101 BOISSAY BOISSAY | D22: BOISSAY | E22: GARA | F22: STA | G22: 1 | J22: CROIX MARE | L22: Elise FERRAND (BC)
A23: LH | B23: BOLBEC | C23: 1140201 BOLBEC RUE DU 19 MARS 1962 BOLBEC RUE DU 19 MARS 1962 | D23: BOLBEC RUE DU 19 MARS 1962 | E23: PARK | F23: STA | G23: 21 | J23: DARNETAL | L23: Emeline HIARD (RE)
A24: LH | B24: BOLBEC | C24: 1140302 BOLBEC CH.DES OISEAUX 2 BOLBEC CH.DES OISEAUX 2 | D24: BOLBEC CH.DES OISEAUX 2 | E24: GARA | F24: STA | G24: 15 | J24: DEVILLE LES ROUEN | L24: Faustine DERVIEUX (PC)
A25: LH | B25: BOLBEC | C25: 1140304 BOLBEC CH.DES OISEAUX 3 GAR. BOLBEC CH.DES OISEAUX 3 GAR. | D25: BOLBEC CH.DES OISEAUX 3 GAR. | E25: GARA | F25: STA | G25: 10 | J25: DIEPPE | L25: Halliou DIALLO (RE)
A26: LH | B26: BOLBEC | C26: 1140605 BOLBEC AZARIAS SELLE BOLBEC AZARIAS SELLE | D26: BOLBEC AZARIAS SELLE | E26: GARA | F26: STA | G26: 29 | J26: DOUDEVILLE | L26: Hélène SOULARD (BC)
A27: LH | B27: BOLBEC | C27: 1140701 BOLBEC LE BEAU SOLEIL BOLBEC LE BEAU SOLEIL | D27: BOLBEC LE BEAU SOLEIL | E27: GARA | F27: STA | G27: 12 | J27: DUCLAIR | L27: Isabelle RODRIGUES (BC)
A28: LH | B28: BOLBEC | C28: 1142301 BOLBEC RESIDENCE LES POMMIERS BOLBEC RESIDENCE LES POMMIERS | D28: BOLBEC RESIDENCE LES POMMIERS | E28: GARA | F28: STA | G28: 17 | J28: ELBEUF | L28: Jean-Jacques CADAU (RE)
A29: LH | B29: BOLBEC | C29: 1142301 BOLBEC RESIDENCE LES POMMIERS BOLBEC RESIDENCE LES POMMIERS | D29: BOLBEC RESIDENCE LES POMMIERS | E29: PARK | F29: STA | G29: 24 | J29: ELETOT | L29: Jenny DE MIRANDA (RE)
A30: RO | B30: BOOS | C30: 1160101 BOOS RUE HELENE BOUCHER | D30: BOOS RUE HELENE BOUCHER | E30: PARK | F30: STA | G30: 29 | J30: EPINAY SUR DUCLAIR | L30: Julie ANFRY (PC)
A31: RO | B31: BOOS | C31: 1160201 BOOS RUE DE LA PLAINE | D31: BOOS RUE DE LA PLAINE | E31: GARA | F31: STA | G31: 6 | J31: ETOUTTEVILLE | L31: Julien DECUGIS (PC)
A32: LH | B32: BREAUTE | C32: 1410201 BREAUTE RUE DU PRIEURE BREAUTE RUE DU PRIEURE | D32: BREAUTE RUE DU PRIEURE | E32: GARA | F32: STA | G32: 5 | J32: EU | L32: Karine BENSIFI (RE)
A33: LH | B33: BREAUTE | C33: 1410301 BREAUTE LA GARE BREAUTE LA GARE | D33: BREAUTE LA GARE | E33: GARA | F33: STA | G33: 1 | J33: FECAMP | L33: Katia CROISSANT (PC)
A34: RO | B34: CANTELEU | C34: 1570211 CANTELEU Q.SUD GARAGES | D34: CANTELEU Q.SUD GARAGES | E34: GARA | F34: STA | G34: 25 | H34: Sarah BERTHEAU | J34: FORGES LES EAUX | L34: Laëtitia DANI (RE)
A35: RO | B35: CANTELEU | C35: 1570303 CANTELEU Q.NORD ILN | D35: CANTELEU Q.NORD ILN | E35: GARA | F35: STA | G35: 38 | H35: Sarah BERTHEAU | J35: FOUCARMONT | L35: Manon FINET (RE)
A36: RO | B36: CANTELEU | C36: 1570303 CANTELEU Q.NORD ILN | D36: CANTELEU Q.NORD ILN | E36: PARK | F36: STA | G36: 16 | H36: Sarah BERTHEAU | J36: FRANQUEVILLE ST PIERRE | L36: Maryse FONDIMARE (PC)
A37: RO | B37: CANTELEU | C37: 1570501 CANTELEU CENTRE VILLE | D37: CANTELEU CENTRE VILLE | E37: GARA | F37: STA | G37: 59 | H37: David PASTUREK | J37: GAILLEFONTAINE | L37: Mehdi SBAA (PC)
A38: RO | B38: CANTELEU | C38: 1570602 CANTELEU Résidence R. FAUCON | D38: CANTELEU Résidence R. FAUCON | E38: GARA | F38: STA | G38: 5 | J38: GAINNEVILLE | L38: Mélanie LARABI (RE)
A39: RO | B39: CANTELEU | C39: 1570602 CANTELEU Résidence R. FAUCON | D39: CANTELEU Résidence R. FAUCON | E39: PARK | F39: STA | G39: 60 | J39: GERVILLE | L39: Mélanie LUCAS (PC)
A40: RO | B40: CANTELEU | C40: 1570801 CANTELEU QUARTIER MOLIERE | D40: CANTELEU QUARTIER MOLIERE | E40: GARA | F40: STA | G40: 50 | H40: Sarah BERTHEAU | J40: GODERVILLE | L40: Mélanie RIDEL (BC)
A41: RO | B41: CANTELEU | C41: 1571303 CANTELEU PLAINE BAS JARDINS | D41: CANTELEU PLAINE BAS JARDINS | E41: PARK | F41: STA | G41: 20 | H41: Olivier MARTIN TRICOT | J41: GONFREVILLE L ORCHER | L41: Nadia HAMMADI (RE)
A42: RO | B42: CANTELEU | C42: 1571304 CANTELEU BAS JARDINS 2 | D42: CANTELEU BAS JARDINS 2 | E42: GARA | F42: STA | G42: 20 | H42: Olivier MARTIN TRICOT | J42: GOURNAY EN BRAY | L42: Nora AMLAH (RE)
A43: RO | B43: CANTELEU | C43: 1571304 CANTELEU BAS JARDINS 2 | D43: CANTELEU BAS JARDINS 2 | E43: PARK | F43: STA | G43: 5 | H43: Olivier MARTIN TRICOT | J43: GRAND COURONNE | L43: Nora MENARD (BC)
A44: RO | B44: CANTELEU | C44: 1571401 CANTELEU PIERRE CORNEILLE | D44: CANTELEU PIERRE CORNEILLE | E44: GARA | F44: STA | G44: 16 | J44: GRUGNY | L44: Océane ROUSSET BARDOUX (RE)
A45: RO | B45: CANTELEU | C45: 1571501 CANTELEU MARYSE BASTIE (pas de dde à enregistrer, les locs se garent où ils veulent) | D45: CANTELEU MARYSE BASTIE | E45: GARA | F45: STA | G45: 10 | J45: HARFLEUR | L45: Olivier MARTIN TRICOT abs. E.COCHINARD (RE)
A46: RO | B46: CANTELEU | C46: 1571601 CANTELEU RES.MARCEL LETESSIER | D46: CANTELEU RES.MARCEL LETESSIER | E46: GARA | F46: STA | G46: 20 | J46: HENOUVILLE | L46: Paméla NORMAND (RE)
A47: RO | B47: CANTELEU | C47: 1571602 CANTELEU RESIDENCE VOLTAIRE | D47: CANTELEU RESIDENCE VOLTAIRE | E47: GARA | F47: STA | G47: 6 | J47: ISNEAUVILLE | L47: Sandrine SIEUX (BC)
A48: RO | B48: CANTELEU | C48: 1571602 CANTELEU RESIDENCE VOLTAIRE | D48: CANTELEU RESIDENCE VOLTAIRE | E48: PARK | F48: STA | G48: 26 | J48: LA CERLANGUE | L48: Sarah BERTHEAU (RE)
A49: RO | B49: CANTELEU | C49: 1571901 CANTELEU Rue de la Valette | D49: CANTELEU Rue de la Valette | E49: GARA | F49: STA | G49: 15 | J49: LA CHAUSSEE | L49: Sarah DONO (RE)
A50: RO | B50: CANTELEU | C50: 1572001 CANTELEU RESIDENCE CERISIER | D50: CANTELEU RESIDENCE CERISIER | E50: GARA | F50: STA | G50: 6 | H50: David PASTUREK | J50: LA GAILLARDE | L50: Sylvie BENARD (BC)
A51: RO | B51: CANTELEU | C51: 1572001 CANTELEU RESIDENCE CERISIER | D51: CANTELEU RESIDENCE CERISIER | E51: PARK | F51: STA | G51: 22 | H51: David PASTUREK | J51: LE GRAND QUEVILLY | L51: Valérie HALBY (BC)
A52: PB | B52: CANY BARVILLE | C52: 1590103 CANY BARVILLE COLOMBIER 2 CANY BARVILLE COLOMBIER 2 | D52: CANY BARVILLE COLOMBIER 2 | E52: GARA | F52: STA | G52: 5 | J52: LE HAVRE | L52: Wahiba BELKHEIR (BC)
A53: PB | B53: CANY BARVILLE | C53: 1591101 CANY BARVILLE DOMAINE ST ANDRE CANY BARVILLE DOMAINE ST ANDRE | D53: CANY BARVILLE DOMAINE ST ANDRE | E53: GARA | F53: STA | G53: 6 | J53: LE HOULME | L53: Sandra LODDE (PC)
A54: RO | B54: CAUDEBEC LES ELBEUF | C54: 1650201 ILOT JULES FERRY | D54: CAUDEBEC LES ELBEUF jules ferry | E54: PARK | F54: STA | G54: 86 | H54: elodie celerier | J54: CAUDEBEC LES ELBEUF | L54: Yohan LIBERGE (PC)
A55: PB | B55: CLASVILLE | C55: 1760101 CLASVILLE - Le Clos Belleville CLASVILLE - Le Clos Belleville | D55: CLASVILLE - Le Clos Belleville | E55: GARA | F55: STA | G55: 7 | J55: LE MESNIL ESNARD
A56: PB | B56: CLASVILLE | C56: 1760102 CLASVILLE 2 Le Clos Belleville CLASVILLE 2 Le Clos Belleville | D56: CLASVILLE 2 Le Clos Belleville | E56: GARA | F56: STA | G56: 2 | J56: LE MESNIL LIEUBRAY
A57: PB | B57: CLERES | C57: 1790501 CLERES LE CLOS DES CYGNES CLERES LE CLOS DES CYGNES | D57: CLERES LE CLOS DES CYGNES | E57: GARA | F57: STA | G57: 12 | H57: Sylvie BENARD | J57: LE PETIT QUEVILLY
A58: PB | B58: CLERES | C58: 1790601 CLERES LA CLERETTE CLERES LA CLERETTE | D58: CLERES LA CLERETTE | E58: GARA | F58: STA | G58: 7 | H58: Sylvie BENARD | J58: LE TRAIT
A59: PB | B59: CLERES | C59: 1790601 CLERES LA CLERETTE CLERES LA CLERETTE | D59: CLERES LA CLERETTE | E59: PARK | F59: STA | G59: 13 | H59: Sylvie BENARD | J59: LE TREPORT
A60: PB | B60: CRIQUETOT SUR LONGUEVILLE | C60: 1970101 CRIQUETOT SUR LONGUEVILLE CRIQUETOT SUR LONGUEVILLE | D60: CRIQUETOT SUR LONGUEVILLE | E60: GARA | F60: STA | G60: 2 | J60: LES GRANDES VENTES
A61: PB | B61: CRIQUIERS | C61: 1990101 CRIQUIERS LOT. DE L'AN 2000 CRIQUIERS LOT. DE L'AN 2000 | D61: CRIQUIERS LOT. DE L'AN 2000 | E61: GARA | F61: STA | G61: 12 | J61: LONDINIERES
A62: PB | B62: CROIX MARE | C62: 2030101 CROIXMARE CROIXMARE | D62: CROIXMARE | E62: GARA | F62: STA | G62: 8 | J62: LONGUEVILLE SUR SCIE
A63: RO | B63: DARNETAL | C63: 2120101 DARNETAL RUE DE VERDUN 1 | D63: DARNETAL RUE DE VERDUN 1 | E63: GARA | F63: STA | G63: 20 | J63: MAROMME
A64: RO | B64: DARNETAL | C64: 2120102 DARNETAL RUE DE VERDUN 2 | D64: DARNETAL RUE DE VERDUN 2 | E64: GARA | F64: STA | G64: 76 | J64: MARTIN EGLISE
A65: RO | B65: DARNETAL | C65: 2120601 DARNETAL RESIDENCE DE L'OREE | D65: DARNETAL RESIDENCE DE L'OREE | E65: PARK | F65: STA | G65: 32 | J65: MESNIERES EN BRAY
A66: PB | B66: DEVILLE LES ROUEN | C66: 2160201 DEVILLE L/ROUEN LE TRONQUAY 1 DEVILLE L/ROUEN LE TRONQUAY 1 | D66: DEVILLE L/ROUEN LE TRONQUAY 1 | E66: GARA | F66: STA | G66: 3 | J66: MEULERS
A67: PB | B67: DEVILLE LES ROUEN | C67: 2160202 DEVILLE L/ROUEN LE TRONQUAY 2 DEVILLE L/ROUEN LE TRONQUAY 2 | D67: DEVILLE L/ROUEN LE TRONQUAY 2 | E67: GARA | F67: STA | G67: 6 | J67: MILLEBOSC
A68: PB | B68: DEVILLE LES ROUEN | C68: 2160204 DEVILLE L/ROUEN LE TRONQUAY 4 DEVILLE L/ROUEN LE TRONQUAY 4 | D68: DEVILLE L/ROUEN LE TRONQUAY 4 | E68: GARA | F68: STA | G68: 15 | J68: MONT ST AIGNAN
A69: PB | B69: DEVILLE LES ROUEN | C69: 2160301 DEVILLE L/ROUEN LE CAILLY DEVILLE L/ROUEN LE CAILLY | D69: DEVILLE L/ROUEN LE CAILLY | E69: GARA | F69: STA | G69: 32 | J69: MONTIVILLIERS LES ESI NE CORRESPONDENT PAS A LA NUMEROTATION SUR LE GROUPE (CF TABLEAUX DE CORRESPONDANCE)
A70: PB | B70: DEVILLE LES ROUEN | C70: 2160501 DEVILLE L/ROUEN QUART.FRESNEL DEVILLE L/ROUEN QUART.FRESNEL | D70: DEVILLE L/ROUEN QUART.FRESNEL | E70: GARA | F70: COM | G70: 1 | J70: MONTVILLE
A71: PB | B71: DEVILLE LES ROUEN | C71: 2160501 DEVILLE L/ROUEN QUART.FRESNEL DEVILLE L/ROUEN QUART.FRESNEL | D71: DEVILLE L/ROUEN QUART.FRESNEL | E71: GARA | F71: STA | G71: 10 | J71: OFFRANVILLE
... A98: PB | B98: DUCLAIR | C98: 2220303 DUCLAIR VERGERS DU BAC 2 DUCLAIR VERGERS DU BAC 2 | D98: DUCLAIR VERGERS DU BAC 2 | E98: GARA | F98: STA | G98: 5 | J98: TOURVILLE LA RIVIERE
A99: RO | B99: ELBEUF | C99: 2310101 ELBEUF RESID VUES SUR SEINE | D99: ELBEUF RESID VUES SUR SEINE | E99: GARA | F99: STA | G99: 16 | H99: Laetitia DANI | J99: TURRETOT
A100: RO | B100: ELBEUF | C100: 2310201 ELBEUF ILOT U | D100: ELBEUF ILOT U | E100: GARA | F100: STA | G100: 12 | H100: Laetitia DANI | J100: VAL DE SAANE
A101: RO | B101: ELBEUF | C101: 2310401 ELBEUF RUE VICTOR GRANDIN | D101: ELBEUF RUE VICTOR GRANDIN | E101: GARA | F101: STA | G101: 17 | H101: Laetitia DANI | J101: VEULES LES ROSES
A102: RO | B102: ELBEUF | C102: 2310402 ELBEUF GRANDIN NOURY | D102: ELBEUF GRANDIN NOURY | E102: GARA | F102: STA | G102: 47 | H102: Laetitia DANI | J102: YMARE
A103: RO | B103: ELBEUF | C103: 2310801 ELBEUF 77 RTE BOURGTHEROULDE | D103: ELBEUF 77 RTE BOURGTHEROULDE | E103: PARK | F103: STA | G103: 2 | H103: Laetitia DANI | J103: YVETOT
A104: RO | B104: ELBEUF | C104: 2311401 ELBEUF RES DU DUCHE D'ELBEUF | D104: ELBEUF RES DU DUCHE D'ELBEUF | E104: PARK | F104: STA | G104: 21 | H104: Laetitia DANI
A105: RO | B105: ELBEUF | C105: 2311601 ELBEUF RES DES CHARMES | D105: ELBEUF RES DES CHARMES | E105: PARK | F105: STA | G105: 25 | H105: Laetitia DANI
A106: RO | B106: ELBEUF | C106: 2311701 ELBEUF OLIVIER ET SUCHETET | D106: ELBEUF OLIVIER ET SUCHETET | E106: PARK | F106: STA | G106: 13 | H106: Laetitia DANI
A107: RO | B107: ELBEUF | C107: 2311702 ELBEUF OLIVIER ET SUCHETET | D107: ELBEUF OLIVIER ET SUCHETET | E107: PARK | F107: STA | G107: 48 | H107: Laetitia DANI
A108: RO | B108: ELBEUF | C108: 2311801 ELBEUF LA FILATURE | D108: ELBEUF LA FILATURE | E108: GARA | F108: STA | G108: 3 | H108: Laetitia DANI
A109: RO | B109: ELBEUF | C109: 2311801 ELBEUF LA FILATURE | D109: ELBEUF LA FILATURE | E109: PARK | F109: STA | G109: 38 | H109: Laetitia DANI
A110: PB | B110: ELETOT | C110: 2320201 ELETOT RESIDENCE LA HETRAIE ELETOT RESIDENCE LA HETRAIE | D110: ELETOT RESIDENCE LA HETRAIE | E110: GARA | F110: STA | G110: 6
A111: PB | B111: EPINAY SUR DUCLAIR | C111: 2370101 EPINAY SUR DUCLAIR EPINAY SUR DUCLAIR | D111: EPINAY SUR DUCLAIR | E111: GARA | F111: STA | G111: 8
A112: PB | B112: ETOUTTEVILLE | C112: 2530101 ETOUTTEVILLE ETOUTTEVILLE | D112: ETOUTTEVILLE | E112: GARA | F112: STA | G112: 9
A113: PB | B113: EU | C113: 2550102 EU QUARTIER JACQUES ANQUETIL 2 EU QUARTIER JACQUES ANQUETIL 2 | D113: EU QUARTIER JACQUES ANQUETIL 2 | E113: GARA | F113: STA | G113: 4
A114: PB | B114: EU | C114: 2550104 EU AVENUE JACQUES ANQUETIL EU AVENUE JACQUES ANQUETIL | D114: EU AVENUE JACQUES ANQUETIL | E114: GARA | F114: STA | G114: 4
A115: PB | B115: EU | C115: 2550201 EU LA CAVALERIE DU ROI EU LA CAVALERIE DU ROI | D115: EU LA CAVALERIE DU ROI | E115: GARA | F115: STA | G115: 8
A116: PB | B116: EU | C116: 2550201 EU LA CAVALERIE DU ROI EU LA CAVALERIE DU ROI | D116: EU LA CAVALERIE DU ROI | E116: PARK | F116: STA | G116: 42
A117: PB | B117: FECAMP | C117: 2590401 FECAMP BOULEVARD ALBERT 1ER FECAMP BOULEVARD ALBERT 1ER | D117: FECAMP BOULEVARD ALBERT 1ER | E117: GARA | F117: STA | G117: 8 | H117: Catherine BERNIER
A118: PB | B118: FECAMP | C118: 2590501 FECAMP RUE E.MARCHAND FECAMP RUE E.MARCHAND | D118: FECAMP RUE E.MARCHAND | E118: GARA | F118: STA | G118: 6 | H118: Catherine BERNIER
A119: PB | B119: FECAMP | C119: 2590801 FECAMP DOMAINE D'EOLE FECAMP DOMAINE D'EOLE | D119: FECAMP DOMAINE D'EOLE | E119: GARA | F119: STA | G119: 20 | H119: Catherine BERNIER
A120: PB | B120: FORGES LES EAUX | C120: 2760201 FORGES LES EAUX LE TORQUESNE FORGES LES EAUX LE TORQUESNE | D120: FORGES LES EAUX LE TORQUESNE | E120: GARA | F120: STA | G120: 28
A121: PB | B121: FOUCARMONT | C121: 2780101 FOUCARMONT RUE DU CAULE FOUCARMONT RUE DU CAULE | D121: FOUCARMONT RUE DU CAULE | E121: GARA | F121: STA | G121: 5
A122: RO | B122: FRANQUEVILLE ST PIERRE | C122: 4750201 FRANQUEV. ST PIERRE V.SEINE | D122: FRANQUEV. ST PIERRE V.SEINE | E122: GARA | F122: STA | G122: 40
A123: RO | B123: FRANQUEVILLE ST PIERRE | C123: 4750401 FRANQUEV. ST PIERRE ORIENTALES | D123: FRANQUEV. ST PIERRE ORIENTALES | E123: PARK | F123: STA | G123: 8
A124: PB | B124: GAILLEFONTAINE | C124: 2950204 GAILLEFONTAINE CHASSES MAREES GAILLEFONTAINE CHASSES MAREES | D124: GAILLEFONTAINE CHASSES MAREES | E124: GARA | F124: STA | G124: 14
A125: LH | B125: GAINNEVILLE | C125: 2960101 GAINNEVILLE RUE LA LIBERATION GAINNEVILLE RUE LA LIBERATION | D125: GAINNEVILLE RUE LA LIBERATION | E125: PARK | F125: STA | G125: 26
A126: PB | B126: GERVILLE | C126: 3000101 GERVILLE 4 RESIDENCE DES GLANE GERVILLE 4 RESIDENCE DES GLANE | D126: GERVILLE 4 RESIDENCE DES GLANE | E126: GARA | F126: STA | G126: 1
...

Sheet Contrats
A2: N° de Tiers
A3: 123456
A4: 502488
A5: 846593
