Workbook
Name Affaire: #REF!
Name catégorie_x: 'Base de données'!$B$3:$B$22
Name Catégories: 'Base de données'!$B$2:$K$2
Name Mensualité_prêt_1: #REF!
Name Mensualité_prêt_2: #REF!
Name Mensualité_prêt_3: #REF!
Name Mensualité_prêt_4: #REF!
Name Méthode_paiement: 'Base de données'!$N$3:$N$22
Name Mode_paiement: 'Base de données'!$M$3:$M$23
Name Montant_prêt_1: #REF!
Name Montant_prêt_2: #REF!
Name Montant_prêt_3: #REF!
Name Montant_prêt_4: #REF!
Name Premier_paiement_prêt_1: #REF!
Name Premier_paiement_prêt_2: #REF!
Name Premier_paiement_prêt_3: #REF!
Name Premier_paiement_prêt_4: #REF!
Name Résumé: Résultat!#REF!
Name SIG: Résultat!$I$1
Name Tableau_de_bord: Résultat!$O$1
Name Taux_intérêt_par_an_prêt_1: #REF!
Name Taux_intérêt_par_an_prêt_2: #REF!
Name Taux_intérêt_par_an_prêt_3: #REF!
Name Taux_intérêt_par_an_prêt_4: #REF!

Sheet Synthèse
C1: Tableaux de bord
C44: Nombre de nouveaux contacts | D44: Nombre de nouveaux devis en cours | E44: Nombre de devis refusés | F44: Nombre de ventes | G44: Taux de transformation | H44: Montant des ventes | I44: Chiffre d'affaire | J44: Panier moyen
A45: Total | C45: =SUM(C46:C63) -> 30 | D45: =SUM(D46:D63) -> 18 | E45: =SUM(E46:E63) -> 9 | F45: =SUM(F46:F63) -> 4 | G45: =F45/(E45+F45) -> 0.30769231 | H45: =SUM(H46:H63) -> 576000 | I45: =SUM(I46:I63) -> 639000 | J45: =H45/F45 -> 144000
A46: 2013 | B46: Janvier | C46: =SUMPRODUCT((MONTH(Clients!C$4:C$880)=MONTH(DATEVALUE("01 "&B46)))*(YEAR(Clients!C$4:C$880)=$A$46)*((Clients!G$4:G$880=1)+(Clients!G$4:G$880="-")+ISBLANK(Clients!G$4:G$880)))+SUMPRODUCT((MONTH(Clients!C$4:C$880)=12)*(YEAR(Clients!C$4:C$880)=2012)*((Clients!G$4:G$880=1)+(Clients!G$4:G$880="-")+ISBLANK(Clients!G$4:G$880))) -> 2 | D46: =SUMPRODUCT(ISNUMBER(SEARCH(MONTH(DATEVALUE("01 "&B46)),MONTH(Clients!D$4:D$880)))*ISNUMBER(SEARCH($A$46,YEAR(Clients!D$4:D$880)))) -> 3 | E46: =SUMPRODUCT((Clients!B$4:B$880="Ex-prospect")*(MONTH(Clients!C$4:C$880)=MONTH(DATEVALUE("01 "&B46)))*(YEAR(Clients!C$4:C$880)=$A$46))+SUMPRODUCT((Clients!B$4:B$880="Ex-prospect")*(MONTH(Clients!C$4:C$880)=12)*(YEAR(Clients!C$4:C$880)=2012)) -> 0 | F46: =SUMPRODUCT((Clients!B$4:B$880="Client")*(MONTH(Clients!C$4:C$880)=MONTH(DATEVALUE("01 "&B46)))*(YEAR(Clients!C$4:C$880)=$A$46))+SUMPRODUCT((Clients!B$4:B$880="Client")*(MONTH(Clients!C$4:C$880)=12)*(YEAR(Clients!C$4:C$880)=2012)) -> 1 | G46: =IF(ISNUMBER(F46/(E46+F46)),F46/(E46+F46),"-") -> 1 | H46: 15000 | I46: 10000 | J46: =H46/F46 -> 15000
B47: Février | C47: =SUMPRODUCT((MONTH(Clients!C$4:C$880)=MONTH(DATEVALUE("01 "&B47)))*(YEAR(Clients!C$4:C$880)=$A$46)*((Clients!G$4:G$880=1)+(Clients!G$4:G$880="-")+ISBLANK(Clients!G$4:G$880))) -> 1 | D47: =SUMPRODUCT(ISNUMBER(SEARCH(MONTH(DATEVALUE("01 "&B47)),MONTH(Clients!D$4:D$880)))*ISNUMBER(SEARCH($A$46,YEAR(Clients!D$4:D$880)))) -> 1 | E47: =SUMPRODUCT((Clients!B$4:B$880="Ex-prospect")*(MONTH(Clients!C$4:C$880)=MONTH(DATEVALUE("01 "&B47)))*(YEAR(Clients!C$4:C$880)=$A$46)) -> 1 | F47: =SUMPRODUCT((Clients!B$4:B$880="Client")*(MONTH(Clients!C$4:C$880)=MONTH(DATEVALUE("01 "&B47)))*(YEAR(Clients!C$4:C$880)=$A$46)) -> 0 | G47: =IF(ISNUMBER(F47/(E47+F47)),F47/(E47+F47),"-") -> 0 | H47: 17000 | I47: 13000 | J47: =H47/F47 -> #DIV/0!
B48: Mars | C48: =SUMPRODUCT((MONTH(Clients!C$4:C$880)=MONTH(DATEVALUE("01 "&B48)))*(YEAR(Clients!C$4:C$880)=$A$46)*((Clients!G$4:G$880=1)+(Clients!G$4:G$880="-")+ISBLANK(Clients!G$4:G$880))) -> 2 | D48: =SUMPRODUCT(ISNUMBER(SEARCH(MONTH(DATEVALUE("01 "&B48)),MONTH(Clients!D$4:D$880)))*ISNUMBER(SEARCH($A$46,YEAR(Clients!D$4:D$880)))) -> 0 | E48: =SUMPRODUCT((Clients!B$4:B$880="Ex-prospect")*(MONTH(Clients!C$4:C$880)=MONTH(DATEVALUE("01 "&B48)))*(YEAR(Clients!C$4:C$880)=$A$46)) -> 0 | F48: =SUMPRODUCT((Clients!B$4:B$880="Client")*(MONTH(Clients!C$4:C$880)=MONTH(DATEVALUE("01 "&B48)))*(YEAR(Clients!C$4:C$880)=$A$46)) -> 0 | G48: =IF(ISNUMBER(F48/(E48+F48)),F48/(E48+F48),"-") -> - | H48: 19000 | I48: 16000 | J48: =H48/F48 -> #DIV/0!
B49: Avril | C49: =SUMPRODUCT((MONTH(Clients!C$4:C$880)=MONTH(DATEVALUE("01 "&B49)))*(YEAR(Clients!C$4:C$880)=$A$46)*((Clients!G$4:G$880=1)+(Clients!G$4:G$880="-")+ISBLANK(Clients!G$4:G$880))) -> 4 | D49: =SUMPRODUCT(ISNUMBER(SEARCH(MONTH(DATEVALUE("01 "&B49)),MONTH(Clients!D$4:D$880)))*ISNUMBER(SEARCH($A$46,YEAR(Clients!D$4:D$880)))) -> 2 | E49: =SUMPRODUCT((Clients!B$4:B$880="Ex-prospect")*(MONTH(Clients!C$4:C$880)=MONTH(DATEVALUE("01 "&B49)))*(YEAR(Clients!C$4:C$880)=$A$46)) -> 3 | F49: =SUMPRODUCT((Clients!B$4:B$880="Client")*(MONTH(Clients!C$4:C$880)=MONTH(DATEVALUE("01 "&B49)))*(YEAR(Clients!C$4:C$880)=$A$46)) -> 0 | G49: =IF(ISNUMBER(F49/(E49+F49)),F49/(E49+F49),"-") -> 0 | H49: 21000 | I49: 19000 | J49: =H49/F49 -> #DIV/0!
B50: Mai | C50: =SUMPRODUCT((MONTH(Clients!C$4:C$880)=MONTH(DATEVALUE("01 "&B50)))*(YEAR(Clients!C$4:C$880)=$A$46)*((Clients!G$4:G$880=1)+(Clients!G$4:G$880="-")+ISBLANK(Clients!G$4:G$880))) -> 7 | D50: =SUMPRODUCT(ISNUMBER(SEARCH(MONTH(DATEVALUE("01 "&B50)),MONTH(Clients!D$4:D$880)))*ISNUMBER(SEARCH($A$46,YEAR(Clients!D$4:D$880)))) -> 2 | E50: =SUMPRODUCT((Clients!B$4:B$880="Ex-prospect")*(MONTH(Clients!C$4:C$880)=MONTH(DATEVALUE("01 "&B50)))*(YEAR(Clients!C$4:C$880)=$A$46)) -> 2 | F50: =SUMPRODUCT((Clients!B$4:B$880="Client")*(MONTH(Clients!C$4:C$880)=MONTH(DATEVALUE("01 "&B50)))*(YEAR(Clients!C$4:C$880)=$A$46)) -> 3 | G50: =IF(ISNUMBER(F50/(E50+F50)),F50/(E50+F50),"-") -> 0.6 | H50: 23000 | I50: 22000 | J50: =H50/F50 -> 7666.6667
B51: Juin | C51: =SUMPRODUCT((MONTH(Clients!C$4:C$880)=MONTH(DATEVALUE("01 "&B51)))*(YEAR(Clients!C$4:C$880)=$A$46)*((Clients!G$4:G$880=1)+(Clients!G$4:G$880="-")+ISBLANK(Clients!G$4:G$880))) -> 3 | D51: =SUMPRODUCT(ISNUMBER(SEARCH(MONTH(DATEVALUE("01 "&B51)),MONTH(Clients!D$4:D$880)))*ISNUMBER(SEARCH($A$46,YEAR(Clients!D$4:D$880)))) -> 5 | E51: =SUMPRODUCT((Clients!B$4:B$880="Ex-prospect")*(MONTH(Clients!C$4:C$880)=MONTH(DATEVALUE("01 "&B51)))*(YEAR(Clients!C$4:C$880)=$A$46)) -> 2 | F51: =SUMPRODUCT((Clients!B$4:B$880="Client")*(MONTH(Clients!C$4:C$880)=MONTH(DATEVALUE("01 "&B51)))*(YEAR(Clients!C$4:C$880)=$A$46)) -> 0 | G51: =IF(ISNUMBER(F51/(E51+F51)),F51/(E51+F51),"-") -> 0 | H51: 25000 | I51: 25000 | J51: =H51/F51 -> #DIV/0!
B52: Juillet | C52: =SUMPRODUCT((MONTH(Clients!C$4:C$880)=MONTH(DATEVALUE("01 "&B52)))*(YEAR(Clients!C$4:C$880)=$A$46)*((Clients!G$4:G$880=1)+(Clients!G$4:G$880="-")+ISBLANK(Clients!G$4:G$880))) -> 0 | D52: =SUMPRODUCT(ISNUMBER(SEARCH(MONTH(DATEVALUE("01 "&B52)),MONTH(Clients!D$4:D$880)))*ISNUMBER(SEARCH($A$46,YEAR(Clients!D$4:D$880)))) -> 1 | E52: =SUMPRODUCT((Clients!B$4:B$880="Ex-prospect")*(MONTH(Clients!C$4:C$880)=MONTH(DATEVALUE("01 "&B52)))*(YEAR(Clients!C$4:C$880)=$A$46)) -> 0 | F52: =SUMPRODUCT((Clients!B$4:B$880="Client")*(MONTH(Clients!C$4:C$880)=MONTH(DATEVALUE("01 "&B52)))*(YEAR(Clients!C$4:C$880)=$A$46)) -> 0 | G52: =IF(ISNUMBER(F52/(E52+F52)),F52/(E52+F52),"-") -> - | H52: 27000 | I52: 28000 | J52: =H52/F52 -> #DIV/0!
B53: Août | C53: =SUMPRODUCT((MONTH(Clients!C$4:C$880)=MONTH(DATEVALUE("01 "&B53)))*(YEAR(Clients!C$4:C$880)=$A$46)*((Clients!G$4:G$880=1)+(Clients!G$4:G$880="-")+ISBLANK(Clients!G$4:G$880))) -> 3 | D53: =SUMPRODUCT(ISNUMBER(SEARCH(MONTH(DATEVALUE("01 "&B53)),MONTH(Clients!D$4:D$880)))*ISNUMBER(SEARCH($A$46,YEAR(Clients!D$4:D$880)))) -> 0 | E53: =SUMPRODUCT((Clients!B$4:B$880="Ex-prospect")*(MONTH(Clients!C$4:C$880)=MONTH(DATEVALUE("01 "&B53)))*(YEAR(Clients!C$4:C$880)=$A$46)) -> 0 | F53: =SUMPRODUCT((Clients!B$4:B$880="Client")*(MONTH(Clients!C$4:C$880)=MONTH(DATEVALUE("01 "&B53)))*(YEAR(Clients!C$4:C$880)=$A$46)) -> 0 | G53: =IF(ISNUMBER(F53/(E53+F53)),F53/(E53+F53),"-") -> - | H53: 29000 | I53: 31000 | J53: =H53/F53 -> #DIV/0!
B54: Septembre | C54: =SUMPRODUCT((MONTH(Clients!C$4:C$880)=MONTH(DATEVALUE("01 "&B54)))*(YEAR(Clients!C$4:C$880)=$A$46)*((Clients!G$4:G$880=1)+(Clients!G$4:G$880="-")+ISBLANK(Clients!G$4:G$880))) -> 5 | D54: =SUMPRODUCT(ISNUMBER(SEARCH(MONTH(DATEVALUE("01 "&B54)),MONTH(Clients!D$4:D$880)))*ISNUMBER(SEARCH($A$46,YEAR(Clients!D$4:D$880)))) -> 0 | E54: =SUMPRODUCT((Clients!B$4:B$880="Ex-prospect")*(MONTH(Clients!C$4:C$880)=MONTH(DATEVALUE("01 "&B54)))*(YEAR(Clients!C$4:C$880)=$A$46)) -> 0 | F54: =SUMPRODUCT((Clients!B$4:B$880="Client")*(MONTH(Clients!C$4:C$880)=MONTH(DATEVALUE("01 "&B54)))*(YEAR(Clients!C$4:C$880)=$A$46)) -> 0 | G54: =IF(ISNUMBER(F54/(E54+F54)),F54/(E54+F54),"-") -> - | H54: 31000 | I54: 34000 | J54: =H54/F54 -> #DIV/0!
B55: Octobre | C55: =SUMPRODUCT((MONTH(Clients!C$4:C$880)=MONTH(DATEVALUE("01 "&B55)))*(YEAR(Clients!C$4:C$880)=$A$46)*((Clients!G$4:G$880=1)+(Clients!G$4:G$880="-")+ISBLANK(Clients!G$4:G$880))) -> 1 | D55: =SUMPRODUCT(ISNUMBER(SEARCH(MONTH(DATEVALUE("01 "&B55)),MONTH(Clients!D$4:D$880)))*ISNUMBER(SEARCH($A$46,YEAR(Clients!D$4:D$880)))) -> 2 | E55: =SUMPRODUCT((Clients!B$4:B$880="Ex-prospect")*(MONTH(Clients!C$4:C$880)=MONTH(DATEVALUE("01 "&B55)))*(YEAR(Clients!C$4:C$880)=$A$46)) -> 0 | F55: =SUMPRODUCT((Clients!B$4:B$880="Client")*(MONTH(Clients!C$4:C$880)=MONTH(DATEVALUE("01 "&B55)))*(YEAR(Clients!C$4:C$880)=$A$46)) -> 0 | G55: =IF(ISNUMBER(F55/(E55+F55)),F55/(E55+F55),"-") -> - | H55: 33000 | I55: 37000 | J55: =H55/F55 -> #DIV/0!
B56: Novembre | C56: =SUMPRODUCT((MONTH(Clients!C$4:C$880)=MONTH(DATEVALUE("01 "&B56)))*(YEAR(Clients!C$4:C$880)=$A$46)*((Clients!G$4:G$880=1)+(Clients!G$4:G$880="-")+ISBLANK(Clients!G$4:G$880))) -> 0 | D56: =SUMPRODUCT(ISNUMBER(SEARCH(MONTH(DATEVALUE("01 "&B56)),MONTH(Clients!D$4:D$880)))*ISNUMBER(SEARCH($A$46,YEAR(Clients!D$4:D$880)))) -> 0 | E56: =SUMPRODUCT((Clients!B$4:B$880="Ex-prospect")*(MONTH(Clients!C$4:C$880)=MONTH(DATEVALUE("01 "&B56)))*(YEAR(Clients!C$4:C$880)=$A$46)) -> 0 | F56: =SUMPRODUCT((Clients!B$4:B$880="Client")*(MONTH(Clients!C$4:C$880)=MONTH(DATEVALUE("01 "&B56)))*(YEAR(Clients!C$4:C$880)=$A$46)) -> 0 | G56: =IF(ISNUMBER(F56/(E56+F56)),F56/(E56+F56),"-") -> - | H56: 35000 | I56: 40000 | J56: =H56/F56 -> #DIV/0!
B57: Décembre | C57: =SUMPRODUCT((MONTH(Clients!C$4:C$880)=MONTH(DATEVALUE("01 "&B57)))*(YEAR(Clients!C$4:C$880)=$A$46)*((Clients!G$4:G$880=1)+(Clients!G$4:G$880="-")+ISBLANK(Clients!G$4:G$880))) -> 0 | D57: =SUMPRODUCT(ISNUMBER(SEARCH(MONTH(DATEVALUE("01 "&B57)),MONTH(Clients!D$4:D$880)))*ISNUMBER(SEARCH($A$46,YEAR(Clients!D$4:D$880)))) -> 0 | E57: =SUMPRODUCT((Clients!B$4:B$880="Ex-prospect")*(MONTH(Clients!C$4:C$880)=MONTH(DATEVALUE("01 "&B57)))*(YEAR(Clients!C$4:C$880)=$A$46)) -> 0 | F57: =SUMPRODUCT((Clients!B$4:B$880="Client")*(MONTH(Clients!C$4:C$880)=MONTH(DATEVALUE("01 "&B57)))*(YEAR(Clients!C$4:C$880)=$A$46)) -> 0 | G57: =IF(ISNUMBER(F57/(E57+F57)),F57/(E57+F57),"-") -> - | H57: 37000 | I57: 43000 | J57: =H57/F57 -> #DIV/0!
A58: 2014 | B58: Janvier | C58: =SUMPRODUCT((MONTH(Clients!C$4:C$880)=MONTH(DATEVALUE("01 "&B58)))*(YEAR(Clients!C$4:C$880)=$A$58)*((Clients!G$4:G$880=1)+(Clients!G$4:G$880="-")+ISBLANK(Clients!G$4:G$880))) -> 0 | D58: =SUMPRODUCT((ISNUMBER(SEARCH("prospect",Clients!B$4:B$880))+(Clients!B$4:B$880="Client"))*(MONTH(Clients!C$4:C$880)=MONTH(DATEVALUE("01 "&B58)))*(YEAR(Clients!C$4:C$880)=$A$58)) -> 0 | E58: =SUMPRODUCT((Clients!B$4:B$880="Ex-prospect")*(MONTH(Clients!C$4:C$880)=MONTH(DATEVALUE("01 "&B58)))*(YEAR(Clients!C$4:C$880)=$A$58)) -> 0 | F58: =SUMPRODUCT((Clients!B$4:B$880="Client")*(MONTH(Clients!C$4:C$880)=MONTH(DATEVALUE("01 "&B58)))*(YEAR(Clients!C$4:C$880)=$A$58)) -> 0 | G58: =IF(ISNUMBER(F58/(E58+F58)),F58/(E58+F58),"-") -> - | H58: 39000 | I58: 46000 | J58: =H58/F58 -> #DIV/0!
B59: Février | C59: =SUMPRODUCT((MONTH(Clients!C$4:C$880)=MONTH(DATEVALUE("01 "&B59)))*(YEAR(Clients!C$4:C$880)=$A$58)*((Clients!G$4:G$880=1)+(Clients!G$4:G$880="-")+ISBLANK(Clients!G$4:G$880))) -> 0 | D59: =SUMPRODUCT((ISNUMBER(SEARCH("prospect",Clients!B$4:B$880))+(Clients!B$4:B$880="Client"))*(MONTH(Clients!C$4:C$880)=MONTH(DATEVALUE("01 "&B59)))*(YEAR(Clients!C$4:C$880)=$A$58)) -> 0 | E59: =SUMPRODUCT((Clients!B$4:B$880="Ex-prospect")*(MONTH(Clients!C$4:C$880)=MONTH(DATEVALUE("01 "&B59)))*(YEAR(Clients!C$4:C$880)=$A$58)) -> 0 | F59: =SUMPRODUCT((Clients!B$4:B$880="Client")*(MONTH(Clients!C$4:C$880)=MONTH(DATEVALUE("01 "&B59)))*(YEAR(Clients!C$4:C$880)=$A$58)) -> 0 | G59: =IF(ISNUMBER(F59/(E59+F59)),F59/(E59+F59),"-") -> - | H59: 41000 | I59: 49000 | J59: =H59/F59 -> #DIV/0!
B60: Mars | C60: =SUMPRODUCT((MONTH(Clients!C$4:C$880)=MONTH(DATEVALUE("01 "&B60)))*(YEAR(Clients!C$4:C$880)=$A$58)*((Clients!G$4:G$880=1)+(Clients!G$4:G$880="-")+ISBLANK(Clients!G$4:G$880))) -> 0 | D60: =SUMPRODUCT((ISNUMBER(SEARCH("prospect",Clients!B$4:B$880))+(Clients!B$4:B$880="Client"))*(MONTH(Clients!C$4:C$880)=MONTH(DATEVALUE("01 "&B60)))*(YEAR(Clients!C$4:C$880)=$A$58)) -> 0 | E60: =SUMPRODUCT((Clients!B$4:B$880="Ex-prospect")*(MONTH(Clients!C$4:C$880)=MONTH(DATEVALUE("01 "&B60)))*(YEAR(Clients!C$4:C$880)=$A$58)) -> 0 | F60: =SUMPRODUCT((Clients!B$4:B$880="Client")*(MONTH(Clients!C$4:C$880)=MONTH(DATEVALUE("01 "&B60)))*(YEAR(Clients!C$4:C$880)=$A$58)) -> 0 | G60: =IF(ISNUMBER(F60/(E60+F60)),F60/(E60+F60),"-") -> - | H60: 43000 | I60: 52000 | J60: =H60/F60 -> #DIV/0!
B61: Avril | C61: =SUMPRODUCT((MONTH(Clients!C$4:C$880)=MONTH(DATEVALUE("01 "&B61)))*(YEAR(Clients!C$4:C$880)=$A$58)*((Clients!G$4:G$880=1)+(Clients!G$4:G$880="-")+ISBLANK(Clients!G$4:G$880))) -> 0 | D61: =SUMPRODUCT((ISNUMBER(SEARCH("prospect",Clients!B$4:B$880))+(Clients!B$4:B$880="Client"))*(MONTH(Clients!C$4:C$880)=MONTH(DATEVALUE("01 "&B61)))*(YEAR(Clients!C$4:C$880)=$A$58)) -> 0 | E61: =SUMPRODUCT((Clients!B$4:B$880="Ex-prospect")*(MONTH(Clients!C$4:C$880)=MONTH(DATEVALUE("01 "&B61)))*(YEAR(Clients!C$4:C$880)=$A$58)) -> 0 | F61: =SUMPRODUCT((Clients!B$4:B$880="Client")*(MONTH(Clients!C$4:C$880)=MONTH(DATEVALUE("01 "&B61)))*(YEAR(Clients!C$4:C$880)=$A$58)) -> 0 | G61: =IF(ISNUMBER(F61/(E61+F61)),F61/(E61+F61),"-") -> - | H61: 45000 | I61: 55000 | J61: =H61/F61 -> #DIV/0!
B62: Mai | C62: =SUMPRODUCT((MONTH(Clients!C$4:C$880)=MONTH(DATEVALUE("01 "&B62)))*(YEAR(Clients!C$4:C$880)=$A$58)*((Clients!G$4:G$880=1)+(Clients!G$4:G$880="-")+ISBLANK(Clients!G$4:G$880))) -> 2 | D62: =SUMPRODUCT((ISNUMBER(SEARCH("prospect",Clients!B$4:B$880))+(Clients!B$4:B$880="Client"))*(MONTH(Clients!C$4:C$880)=MONTH(DATEVALUE("01 "&B62)))*(YEAR(Clients!C$4:C$880)=$A$58)) -> 2 | E62: =SUMPRODUCT((Clients!B$4:B$880="Ex-prospect")*(MONTH(Clients!C$4:C$880)=MONTH(DATEVALUE("01 "&B62)))*(YEAR(Clients!C$4:C$880)=$A$58)) -> 1 | F62: =SUMPRODUCT((Clients!B$4:B$880="Client")*(MONTH(Clients!C$4:C$880)=MONTH(DATEVALUE("01 "&B62)))*(YEAR(Clients!C$4:C$880)=$A$58)) -> 0 | G62: =IF(ISNUMBER(F62/(E62+F62)),F62/(E62+F62),"-") -> 0 | H62: 47000 | I62: 58000 | J62: =H62/F62 -> #DIV/0!
B63: Juin | C63: =SUMPRODUCT((MONTH(Clients!C$4:C$880)=MONTH(DATEVALUE("01 "&B63)))*(YEAR(Clients!C$4:C$880)=$A$58)*((Clients!G$4:G$880=1)+(Clients!G$4:G$880="-")+ISBLANK(Clients!G$4:G$880))) -> 0 | D63: =SUMPRODUCT((ISNUMBER(SEARCH("prospect",Clients!B$4:B$880))+(Clients!B$4:B$880="Client"))*(MONTH(Clients!C$4:C$880)=MONTH(DATEVALUE("01 "&B63)))*(YEAR(Clients!C$4:C$880)=$A$58)) -> 0 | E63: =SUMPRODUCT((Clients!B$4:B$880="Ex-prospect")*(MONTH(Clients!C$4:C$880)=MONTH(DATEVALUE("01 "&B63)))*(YEAR(Clients!C$4:C$880)=$A$58)) -> 0 | F63: =SUMPRODUCT((Clients!B$4:B$880="Client")*(MONTH(Clients!C$4:C$880)=MONTH(DATEVALUE("01 "&B63)))*(YEAR(Clients!C$4:C$880)=$A$58)) -> 0 | G63: =IF(ISNUMBER(F63/(E63+F63)),F63/(E63+F63),"-") -> - | H63: 49000 | I63: 61000 | J63: =H63/F63 -> #DIV/0!

Sheet Clients
A1: Contact | B1: Statut / Nature du contact | C1: Dates | G1: Vente n° | H1: CA HT Hors Pose Hors Livraison | J1: Coûts | L1: Marge HT | M1: Taux de marge | O1: Manque : Seuil de rentabilité, Taux de marge du seuil de rentabilité
C2: 1er contact | D2: 1er RDV | E2: Dernier RDV / Vente | F2: Tri | H2: Ventes | I2: Achats (SAV inclus) | J2: Livraison | K2: SAV
A4: Xxxxx | B4: Ex-prospect | C4: 41328 | D4: 41328 | E4: 41337 | F4: =IF(OR(ISBLANK(E4),E4="-"),IF(OR(ISBLANK(D4),D4="-"),C4,D4),E4) -> 41337 | G4: -
A5: Xxxxxxxxx | B5: Contact | C5: 41339 | F5: =IF(OR(ISBLANK(E5),E5="-"),IF(OR(ISBLANK(D5),D5="-"),C5,D5),E5) -> 41339
A6: Client A | B6: Client | C6: 41260 | D6: 41283 | E6: 41342 | F6: =IF(OR(ISBLANK(E6),E6="-"),IF(OR(ISBLANK(D6),D6="-"),C6,D6),E6) -> 41342 | G6: 1 | H6: 16359 | I6: 9015.36 | J6: 225.75 | K6: 0 | L6: =H6-I6 -> 7343.64 | M6: =L6/H6 -> 0.44890519
A7: Xxxxxxxxx | B7: Ex-suspect | C7: 41361 | D7: - | E7: - | F7: =IF(OR(ISBLANK(E7),E7="-"),IF(OR(ISBLANK(D7),D7="-"),C7,D7),E7) -> 41361 | G7: -
A8: Xxxxxxxxx | B8: Ex-suspect | C8: 41373 | D8: - | E8: - | F8: =IF(OR(ISBLANK(E8),E8="-"),IF(OR(ISBLANK(D8),D8="-"),C8,D8),E8) -> 41373 | G8: -
A9: Xxxxxxxxx | B9: Ex-prospect | C9: 41386 | D9: 41386 | E9: 41386 | F9: =IF(OR(ISBLANK(E9),E9="-"),IF(OR(ISBLANK(D9),D9="-"),C9,D9),E9) -> 41386 | G9: -
A10: Cuisine expo 2013 | B10: Expo | C10: 41260 | D10: 41260 | E10: 41397 | F10: =IF(OR(ISBLANK(E10),E10="-"),IF(OR(ISBLANK(D10),D10="-"),C10,D10),E10) -> 41397 | G10: 1 | H10: 0 | I10: 4136.23 | J10: 225.75 | L10: =H10-I10 -> -4136.23 | M10: =L10/H10 -> #DIV/0!
A11: Xxxxxxxxx | B11: Ex-prospect | C11: 41389 | D11: 41398 | E11: 41398 | F11: =IF(OR(ISBLANK(E11),E11="-"),IF(OR(ISBLANK(D11),D11="-"),C11,D11),E11) -> 41398 | G11: -
A12: Xxxxxxxxx | B12: Ex-prospect | C12: 41377 | D12: 41382 | E12: 41408 | F12: =IF(OR(ISBLANK(E12),E12="-"),IF(OR(ISBLANK(D12),D12="-"),C12,D12),E12) -> 41408 | G12: -
A13: Xxxxxxxxx | B13: Contact | C13: 41412 | F13: =IF(OR(ISBLANK(E13),E13="-"),IF(OR(ISBLANK(D13),D13="-"),C13,D13),E13) -> 41412
A14: Xxxxxxxxx | B14: Contact | C14: 41416 | F14: =IF(OR(ISBLANK(E14),E14="-"),IF(OR(ISBLANK(D14),D14="-"),C14,D14),E14) -> 41416
A15: Xxxxxxxxx | B15: Ex-suspect | C15: 41428 | D15: - | E15: - | F15: =IF(OR(ISBLANK(E15),E15="-"),IF(OR(ISBLANK(D15),D15="-"),C15,D15),E15) -> 41428 | G15: -
A16: Xxxxxxxxx | B16: Ex-prospect | C16: 41412 | D16: 41430 | E16: 41430 | F16: =IF(OR(ISBLANK(E16),E16="-"),IF(OR(ISBLANK(D16),D16="-"),C16,D16),E16) -> 41430 | G16: -
A17: Xxxxxxxxx | B17: Ex-prospect | C17: 41429 | D17: 41430 | E17: 41430 | F17: =IF(OR(ISBLANK(E17),E17="-"),IF(OR(ISBLANK(D17),D17="-"),C17,D17),E17) -> 41430 | G17: -
A18: Xxxxxxxxx | B18: Ex-prospect | C18: 41412 | D18: 41431 | E18: 41431 | F18: =IF(OR(ISBLANK(E18),E18="-"),IF(OR(ISBLANK(D18),D18="-"),C18,D18),E18) -> 41431 | G18: -
A19: Client B | B19: Client | C19: 41412 | D19: 41418 | E19: 41449 | F19: =IF(OR(ISBLANK(E19),E19="-"),IF(OR(ISBLANK(D19),D19="-"),C19,D19),E19) -> 41449 | G19: 1 | H19: 3642 | I19: 1236.12 | J19: 225.75 | L19: =H19-I19 -> 2405.88 | M19: =L19/H19 -> 0.66059308
A20: Client C | B20: Client | C20: 41412 | D20: 41426 | E20: 41459 | F20: =IF(OR(ISBLANK(E20),E20="-"),IF(OR(ISBLANK(D20),D20="-"),C20,D20),E20) -> 41459 | G20: 1 | H20: 23612.36 | I20: 15364 | J20: 225.75 | K20: 236.4 | L20: =H20-I20 -> 8248.36 | M20: =L20/H20 -> 0.34932383
A21: Client A | B21: Client | C21: 41424 | D21: 41437 | E21: 41465 | F21: =IF(OR(ISBLANK(E21),E21="-"),IF(OR(ISBLANK(D21),D21="-"),C21,D21),E21) -> 41465 | G21: 2 | H21: 230.3 | I21: 123.12 | J21: 225.75 | L21: =H21-I21 -> 107.18 | M21: =L21/H21 -> 0.46539297
A22: Xxxxxxxxx | B22: Contact | C22: 41492 | F22: =IF(OR(ISBLANK(E22),E22="-"),IF(OR(ISBLANK(D22),D22="-"),C22,D22),E22) -> 41492
A23: Xxxxxxxxx | B23: Contact | C23: 41503 | F23: =IF(OR(ISBLANK(E23),E23="-"),IF(OR(ISBLANK(D23),D23="-"),C23,D23),E23) -> 41503
A24: Xxxxxxxxx | B24: Contact | C24: 41507 | F24: =IF(OR(ISBLANK(E24),E24="-"),IF(OR(ISBLANK(D24),D24="-"),C24,D24),E24) -> 41507
A25: Xxxxxxxxx | B25: Ex-prospect | C25: 41453 | D25: 41464 | E25: 41521 | F25: =IF(OR(ISBLANK(E25),E25="-"),IF(OR(ISBLANK(D25),D25="-"),C25,D25),E25) -> 41521 | G25: -
A26: Xxxxxxxxx | B26: Ex-suspect | C26: 41529 | D26: - | E26: - | F26: =IF(OR(ISBLANK(E26),E26="-"),IF(OR(ISBLANK(D26),D26="-"),C26,D26),E26) -> 41529 | G26: -
A27: Xxxxxxxxx | B27: Contact | C27: 41529 | F27: =IF(OR(ISBLANK(E27),E27="-"),IF(OR(ISBLANK(D27),D27="-"),C27,D27),E27) -> 41529
A28: Xxxxxxxxx | B28: Suspect | F28: =IF(OR(ISBLANK(E28),E28="-"),IF(OR(ISBLANK(D28),D28="-"),C28,D28),E28) -> 0
A29: Xxxxxxxxx | B29: Contact | C29: 41529 | F29: =IF(OR(ISBLANK(E29),E29="-"),IF(OR(ISBLANK(D29),D29="-"),C29,D29),E29) -> 41529
A30: Xxxxxxxxx | B30: Contact | C30: 41529 | F30: =IF(OR(ISBLANK(E30),E30="-"),IF(OR(ISBLANK(D30),D30="-"),C30,D30),E30) -> 41529
A31: Xxxxxxxxx | B31: Prospect | C31: 41554 | D31: 41565 | F31: =IF(OR(ISBLANK(E31),E31="-"),IF(OR(ISBLANK(D31),D31="-"),C31,D31),E31) -> 41565
A32: Xxxxxxxxx | B32: Prospect | C32: 41540 | D32: 41566 | F32: =IF(OR(ISBLANK(E32),E32="-"),IF(OR(ISBLANK(D32),D32="-"),C32,D32),E32) -> 41566
A33: Xxxxxxxxx | B33: Prospect | C33: 41763 | D33: 41800 | F33: =IF(OR(ISBLANK(E33),E33="-"),IF(OR(ISBLANK(D33),D33="-"),C33,D33),E33) -> 41800
A34: Xxxxxxxxx | B34: Prospect | C34: 41821 | D34: 41823 | F34: =IF(OR(ISBLANK(E34),E34="-"),IF(OR(ISBLANK(D34),D34="-"),C34,D34),E34) -> 41823
A35: Xxxxxxxxx | B35: Ex-prospect | C35: 41763 | D35: 41790 | E35: 41830 | F35: =IF(OR(ISBLANK(E35),E35="-"),IF(OR(ISBLANK(D35),D35="-"),C35,D35),E35) -> 41830 | G35: -
A36: Xxxxxxxxx | B36: Ex-suspect | C36: 41844 | D36: - | E36: - | F36: =IF(OR(ISBLANK(E36),E36="-"),IF(OR(ISBLANK(D36),D36="-"),C36,D36),E36) -> 41844 | G36: -
A37: Xxxxxxxxx | B37: Suspect | C37: 41846 | F37: =IF(OR(ISBLANK(E37),E37="-"),IF(OR(ISBLANK(D37),D37="-"),C37,D37),E37) -> 41846
A38: Xxxxxxxxx | B38: Prospect | C38: 41422 | D38: 41859 | F38: =IF(OR(ISBLANK(E38),E38="-"),IF(OR(ISBLANK(D38),D38="-"),C38,D38),E38) -> 41859

Sheet Trésorerie
A1: Solde général | C1: Comptes actuels | D1: Opérations à venir | E1: Soldes réels | X1: Solde de TVA
A2: Société Générale | C2: =SUMIF($H$7:$H$24,A2,$AJ$7:$AJ$24) -> 73.188863 | D2: =SUMIF($I$7:$I$24,A2,$AJ$7:$AJ$24) -> 0 | E2: =C2+D2 -> 73.188863 | X2: =-SUM(AI9:AI24) -> -1429.4311 | AF2: Ajouter dans détail "Commande client" pour chaque fournisseur, et "Acompte client (soldé) / (non soldé)" et "Solde client" pour chaque client
A3: Banque perso | C3: =SUMIF($H$7:$H$24,A3,$AJ$7:$AJ$24) -> 8000 | D3: =SUMIF($I$7:$I$24,A3,$AJ$7:$AJ$24) -> 0 | E3: =C3+D3 -> 8000 | X3: Virement de 2500 € le 23/02/2013 | AA3: Montant des acomptes non slodés : | AF3: Ajouter la gestion des avances et acomptes clients
A4: TOTAL | C4: =SUM(C2:C3) -> 8073.1889 | D4: =SUM(D2:D3) -> 0 | E4: =SUM(E2:E3) -> 8073.1889
A5: Date de paiement | B5: Date prélèvement prévue | C5: Date prélèvement effectif | D5: Compte | X5: Objet | AB5: Référence bancaire | AC5: Paiement | AE5: Tiers | AF5: Montant - détails | AH5: Total HT | AI5: Montant TVA | AJ5: Montant - total | AK5: Solde général
D6: Propriétaire compte | E6: Compte | F6: Mois | G6: Année | H6: Compte - validé | I6: Compte - à venir | J6: CCP La Poste | L6: Livret A La Poste | N6: Société Générale | P6: Livret CIAL | R6: Crédit auto CIAL | T6: Compte commun CIAL | V6: Crédit mariage CIAL | X6: Catégorie | Y6: Sous-catégorie | Z6: Détails de l'opération | AA6: Numéro de facture | AC6: Mode de paiement | AD6: Méthode | AF6: Débit | AG6: Crédit | AK6: Banque pro | AL6: Banque perso
F7: X | G7: X | H7: X | I7: X
AK8: =IF($E8=AK$6,$AJ8,0)+OFFSET($AJ8,1,COLUMN(AK8)-COLUMN($AK$6)+1) -> 1557.73 | AL8: =IF($E8=AL$6,$AJ8,0)+OFFSET($AJ8,1,COLUMN(AL8)-COLUMN($AK$6)+1) -> 8000
A9: =C9 -> 41708 | B9: 41708 | C9: 41708 | D9: Société | E9: Banque pro | F9: =IF(ISNUMBER(A9),MONTH(A9),IF(ISNUMBER(C9),MONTH(C9),0)) -> 3 | G9: =IF(ISNUMBER(A9),YEAR(A9),IF(ISNUMBER(C9),YEAR(C9),0)) -> 2014 | H9: =IF(C9>0,E9,) -> Banque pro | I9: =IF(C9>0,,E9) -> 0 | J9: =IF(OR($H9=J$5,$I9=J$5),1,0) -> 1 | K9: =J9*($AF9+$AG9) -> -216.67 | L9: =IF(OR($H9=L$5,$I9=L$5),1,0) -> 1 | M9: =L9*($AF9+$AG9) -> -216.67 | N9: =IF(OR($H9=N$5,$I9=N$5),1,0) -> 1 | O9: =N9*($AF9+$AG9) -> -216.67 | P9: =IF(OR($H9=P$5,$I9=P$5),1,0) -> 1 | Q9: =P9*($AF9+$AG9) -> -216.67 | R9: =IF(OR($H9=R$5,$I9=R$5),1,0) -> 1 | S9: =R9*($AF9+$AG9) -> -216.67 | T9: =IF(OR($H9=T$5,$I9=T$5),1,0) -> 1 | U9: =T9*($AF9+$AG9) -> -216.67 | V9: =IF(OR($H9=V$5,$I9=V$5),1,0) -> 1 | W9: =V9*($AF9+$AG9) -> -216.67 | X9: Autres frais | Y9: Honoraires | Z9: Honoraires (experts comptables/juridiques) | AA9: FE56-564 | AB9: XXXXXX | AC9: Prélèvement | AD9: Automatique | AE9: YYYY | AF9: -216.67 | AH9: =SUM(AF9:AG9) -> -216.67 | AI9: -43.33 | AJ9: =SUM(AH9:AI9) -> -260 | AK9: =IF($E9=AK$6,$AJ9,0)+OFFSET($AJ9,1,COLUMN(AK9)-COLUMN($AK$6)+1) -> 1557.73 | AL9: =IF($E9=AL$6,$AJ9,0)+OFFSET($AJ9,1,COLUMN(AL9)-COLUMN($AK$6)+1) -> 8000
A10: =C10 -> 41799 | B10: 41799 | C10: 41799 | D10: CHRN | E10: Société Générale | F10: =IF(ISNUMBER(A10),MONTH(A10),IF(ISNUMBER(C10),MONTH(C10),0)) -> 6 | G10: =IF(ISNUMBER(A10),YEAR(A10),IF(ISNUMBER(C10),YEAR(C10),0)) -> 2014 | H10: =IF(C10>0,E10,) -> Société Générale | I10: =IF(C10>0,,E10) -> 0 | J10: =IF(OR($H10=J$8,$I10=J$8),1,0) -> 1 | K10: =J10*($AF10+$AG10) -> -187.25 | L10: =IF(OR($H10=L$8,$I10=L$8),1,0) -> 1 | M10: =L10*($AF10+$AG10) -> -187.25 | N10: =IF(OR($H10=N$8,$I10=N$8),1,0) -> 1 | O10: =N10*($AF10+$AG10) -> -187.25 | P10: =IF(OR($H10=P$8,$I10=P$8),1,0) -> 1 | Q10: =P10*($AF10+$AG10) -> -187.25 | R10: =IF(OR($H10=R$8,$I10=R$8),1,0) -> 1 | S10: =R10*($AF10+$AG10) -> -187.25 | T10: =IF(OR($H10=T$8,$I10=T$8),1,0) -> 1 | U10: =T10*($AF10+$AG10) -> -187.25 | V10: =IF(OR($H10=V$8,$I10=V$8),1,0) -> 1 | W10: =V10*($AF10+$AG10) -> -187.25 | X10: Affaires | Y10: Fournisseur | Z10: Commande client - Client Aaaa | AA10: sfz698-874 | AC10: LCR | AD10: Automatique | AE10: Fournisseur Bbbb | AF10: -187.25 | AH10: =SUM(AF10:AG10) -> -187.25 | AI10: -37.45 | AJ10: =SUM(AH10:AI10) -> -224.7 | AK10: =IF($E10=AK$6,$AJ10,0)+OFFSET($AJ10,1,COLUMN(AK10)-COLUMN($AK$6)+1) -> 1817.73 | AL10: =IF($E10=AL$6,$AJ10,0)+OFFSET($AJ10,1,COLUMN(AL10)-COLUMN($AK$6)+1) -> 8000
A11: 41795 | B11: 41795 | C11: 41795 | D11: CHRN | E11: Société Générale | F11: =IF(ISNUMBER(A11),MONTH(A11),IF(ISNUMBER(C11),MONTH(C11),0)) -> 6 | G11: =IF(ISNUMBER(A11),YEAR(A11),IF(ISNUMBER(C11),YEAR(C11),0)) -> 2014 | H11: =IF(C11>0,E11,) -> Société Générale | I11: =IF(C11>0,,E11) -> 0 | J11: =IF(OR($H11=J$8,$I11=J$8),1,0) -> 1 | K11: =J11*($AG11+$AH11) -> 1519.8411 | L11: =IF(OR($H11=L$8,$I11=L$8),1,0) -> 1 | M11: =L11*($AG11+$AH11) -> 1519.8411 | N11: =IF(OR($H11=N$8,$I11=N$8),1,0) -> 1 | O11: =N11*($AG11+$AH11) -> 1519.8411 | P11: =IF(OR($H11=P$8,$I11=P$8),1,0) -> 1 | Q11: =P11*($AG11+$AH11) -> 1519.8411 | R11: =IF(OR($H11=R$8,$I11=R$8),1,0) -> 1 | S11: =R11*($AG11+$AH11) -> 1519.8411 | T11: =IF(OR($H11=T$8,$I11=T$8),1,0) -> 1 | U11: =T11*($AG11+$AH11) -> 1519.8411 | V11: =IF(OR($H11=V$8,$I11=V$8),1,0) -> 1 | W11: =V11*($AG11+$AH11) -> 1519.8411 | X11: Affaires | Y11: Client | Z11: Achat client (soldé) - Client Aaaa | AA11: AZ965-654 | AC11: Chèque | AD11: Caisse - Guichet | AE11: Client Aaaa | AF11: Boersch (67) | AH11: =AK11/1.196 -> 1519.8411 | AI11: =SUM(AG11:AH11) -> 1519.8411 | AJ11: =AK11-AH11 -> 297.88886 | AK11: =IF($E11=AK$6,$AJ11,0)+OFFSET($AJ11,1,COLUMN(AK11)-COLUMN($AK$6)+1) -> 1817.73 | AL11: =IF($E11=AL$6,$AJ11,0)+OFFSET($AJ11,1,COLUMN(AL11)-COLUMN($AK$6)+1) -> 8000
A12: 41691 | B12: 41691 | C12: 41694 | D12: Société | E12: Banque pro | F12: =IF(ISNUMBER(A12),MONTH(A12),IF(ISNUMBER(C12),MONTH(C12),0)) -> 2 | G12: =IF(ISNUMBER(A12),YEAR(A12),IF(ISNUMBER(C12),YEAR(C12),0)) -> 2014 | H12: =IF(C12>0,E12,) -> Banque pro | I12: =IF(C12>0,,E12) -> 0 | J12: =IF(OR($H12=J$6,$I12=J$6),1,0) -> 0 | K12: =J12*($AF12+$AG12) -> 0 | L12: =IF(OR($H12=L$6,$I12=L$6),1,0) -> 0 | M12: =L12*($AF12+$AG12) -> 0 | N12: =IF(OR($H12=N$6,$I12=N$6),1,0) -> 0 | O12: =N12*($AF12+$AG12) -> 0 | P12: =IF(OR($H12=P$6,$I12=P$6),1,0) -> 0 | Q12: =P12*($AF12+$AG12) -> 0 | R12: =IF(OR($H12=R$6,$I12=R$6),1,0) -> 0 | S12: =R12*($AF12+$AG12) -> 0 | T12: =IF(OR($H12=T$6,$I12=T$6),1,0) -> 0 | U12: =T12*($AF12+$AG12) -> 0 | V12: =IF(OR($H12=V$6,$I12=V$6),1,0) -> 0 | W12: =V12*($AF12+$AG12) -> 0 | X12: Autres frais | Y12: Frais de déplacement | Z12: Hôtel XXX (Petit déjeuner d'affaire) | AA12: 20145632 | AB12: XXXXXX | AC12: CB | AD12: Caisse - Guichet | AE12: Hôtel XXXX | AF12: =-(8.18+0.83) -> -9.01 | AH12: =SUM(AF12:AG12) -> -9.01 | AI12: =-(0.82+0.17) -> -0.99 | AJ12: =SUM(AH12:AI12) -> -10 | AK12: =IF($E12=AK$6,$AJ12,0)+OFFSET($AJ12,1,COLUMN(AK12)-COLUMN($AK$6)+1) -> 1817.73 | AL12: =IF($E12=AL$6,$AJ12,0)+OFFSET($AJ12,1,COLUMN(AL12)-COLUMN($AK$6)+1) -> 8000
A13: =C13 -> 41690 | B13: 41689 | C13: 41690 | D13: Société | E13: Banque pro | F13: =IF(ISNUMBER(A13),MONTH(A13),IF(ISNUMBER(C13),MONTH(C13),0)) -> 2 | G13: =IF(ISNUMBER(A13),YEAR(A13),IF(ISNUMBER(C13),YEAR(C13),0)) -> 2014 | H13: =IF(C13>0,E13,) -> Banque pro | I13: =IF(C13>0,,E13) -> 0 | J13: =IF(OR($H13=J$5,$I13=J$5),1,0) -> 1 | K13: =J13*($AF13+$AG13) -> -25.78 | L13: =IF(OR($H13=L$5,$I13=L$5),1,0) -> 1 | M13: =L13*($AF13+$AG13) -> -25.78 | N13: =IF(OR($H13=N$5,$I13=N$5),1,0) -> 1 | O13: =N13*($AF13+$AG13) -> -25.78 | P13: =IF(OR($H13=P$5,$I13=P$5),1,0) -> 1 | Q13: =P13*($AF13+$AG13) -> -25.78 | R13: =IF(OR($H13=R$5,$I13=R$5),1,0) -> 1 | S13: =R13*($AF13+$AG13) -> -25.78 | T13: =IF(OR($H13=T$5,$I13=T$5),1,0) -> 1 | U13: =T13*($AF13+$AG13) -> -25.78 | V13: =IF(OR($H13=V$5,$I13=V$5),1,0) -> 1 | W13: =V13*($AF13+$AG13) -> -25.78 | X13: Opérations bancaires | Y13: Frais | Z13: Cotisation compte pro (part non taxée) | AA13: 65dd9264 | AB13: XXXXXX | AC13: Prélèvement | AD13: Automatique | AE13: Banque pro | AF13: -25.78 | AH13: =SUM(AF13:AG14) -> -34 | AI13: 0 | AJ13: =SUM(AH13:AI14) -> -35.64 | AK13: =IF($E13=AK$6,$AJ13,0)+OFFSET($AJ13,1,COLUMN(AK13)-COLUMN($AK$6)+1) -> 1827.73 | AL13: =IF($E13=AL$6,$AJ13,0)+OFFSET($AJ13,1,COLUMN(AL13)-COLUMN($AK$6)+1) -> 8000
A14: =C14 -> 41690 | B14: 41689 | C14: 41690 | D14: Société | E14: Banque pro | F14: =IF(ISNUMBER(A14),MONTH(A14),IF(ISNUMBER(C14),MONTH(C14),0)) -> 2 | G14: =IF(ISNUMBER(A14),YEAR(A14),IF(ISNUMBER(C14),YEAR(C14),0)) -> 2014 | H14: =IF(C14>0,E14,) -> Banque pro | I14: =IF(C14>0,,E14) -> 0 | J14: =IF(OR($H14=J$5,$I14=J$5),1,0) -> 1 | K14: =J14*($AF14+$AG14) -> -8.22 | L14: =IF(OR($H14=L$5,$I14=L$5),1,0) -> 1 | M14: =L14*($AF14+$AG14) -> -8.22 | N14: =IF(OR($H14=N$5,$I14=N$5),1,0) -> 1 | O14: =N14*($AF14+$AG14) -> -8.22 | P14: =IF(OR($H14=P$5,$I14=P$5),1,0) -> 1 | Q14: =P14*($AF14+$AG14) -> -8.22 | R14: =IF(OR($H14=R$5,$I14=R$5),1,0) -> 1 | S14: =R14*($AF14+$AG14) -> -8.22 | T14: =IF(OR($H14=T$5,$I14=T$5),1,0) -> 1 | U14: =T14*($AF14+$AG14) -> -8.22 | V14: =IF(OR($H14=V$5,$I14=V$5),1,0) -> 1 | W14: =V14*($AF14+$AG14) -> -8.22 | X14: Opérations bancaires | Y14: Frais | Z14: Cotisation compte pro (part taxée à 20%) | AB14: XXXXXX | AC14: Prélèvement | AD14: Automatique | AE14: Banque pro | AF14: -8.22 | AI14: -1.64 | AK14: =IF($E14=AK$6,$AJ14,0)+OFFSET($AJ14,1,COLUMN(AK14)-COLUMN($AK$6)+1) -> 1863.37 | AL14: =IF($E14=AL$6,$AJ14,0)+OFFSET($AJ14,1,COLUMN(AL14)-COLUMN($AK$6)+1) -> 8000
A15: =C15 -> 41687 | B15: 41687 | C15: 41687 | D15: Société | E15: Banque pro | F15: =IF(ISNUMBER(A15),MONTH(A15),IF(ISNUMBER(C15),MONTH(C15),0)) -> 2 | G15: =IF(ISNUMBER(A15),YEAR(A15),IF(ISNUMBER(C15),YEAR(C15),0)) -> 2014 | H15: =IF(C15>0,E15,) -> Banque pro | I15: =IF(C15>0,,E15) -> 0 | J15: =IF(OR($H15=J$5,$I15=J$5),1,0) -> 1 | K15: =J15*($AF15+$AG15) -> -38 | L15: =IF(OR($H15=L$5,$I15=L$5),1,0) -> 1 | M15: =L15*($AF15+$AG15) -> -38 | N15: =IF(OR($H15=N$5,$I15=N$5),1,0) -> 1 | O15: =N15*($AF15+$AG15) -> -38 | P15: =IF(OR($H15=P$5,$I15=P$5),1,0) -> 1 | Q15: =P15*($AF15+$AG15) -> -38 | R15: =IF(OR($H15=R$5,$I15=R$5),1,0) -> 1 | S15: =R15*($AF15+$AG15) -> -38 | T15: =IF(OR($H15=T$5,$I15=T$5),1,0) -> 1 | U15: =T15*($AF15+$AG15) -> -38 | V15: =IF(OR($H15=V$5,$I15=V$5),1,0) -> 1 | W15: =V15*($AF15+$AG15) -> -38 | X15: Impôts et taxes | Y15: Autres | Z15: Contribution Economique Territoriale (CET) - Taxe CFE (Cotisation Foncière des Entreprises) | AA15: 698436 | AB15: XXXXXX | AC15: Prélèvement | AD15: Automatique | AE15: Trésor Public | AF15: -38 | AH15: =SUM(AF15:AG15) -> -38 | AI15: 0 | AJ15: =SUM(AH15:AI15) -> -38 | AK15: =IF($E15=AK$6,$AJ15,0)+OFFSET($AJ15,1,COLUMN(AK15)-COLUMN($AK$6)+1) -> 1863.37 | AL15: =IF($E15=AL$6,$AJ15,0)+OFFSET($AJ15,1,COLUMN(AL15)-COLUMN($AK$6)+1) -> 8000
A16: =C16 -> 41687 | B16: 41680 | C16: 41687 | D16: Société | E16: Banque pro | F16: =IF(ISNUMBER(A16),MONTH(A16),IF(ISNUMBER(C16),MONTH(C16),0)) -> 2 | G16: =IF(ISNUMBER(A16),YEAR(A16),IF(ISNUMBER(C16),YEAR(C16),0)) -> 2014 | H16: =IF(C16>0,E16,) -> Banque pro | I16: =IF(C16>0,,E16) -> 0 | J16: =IF(OR($H16=J$5,$I16=J$5),1,0) -> 1 | K16: =J16*($AF16+$AG16) -> -35 | L16: =IF(OR($H16=L$5,$I16=L$5),1,0) -> 1 | M16: =L16*($AF16+$AG16) -> -35 | N16: =IF(OR($H16=N$5,$I16=N$5),1,0) -> 1 | O16: =N16*($AF16+$AG16) -> -35 | P16: =IF(OR($H16=P$5,$I16=P$5),1,0) -> 1 | Q16: =P16*($AF16+$AG16) -> -35 | R16: =IF(OR($H16=R$5,$I16=R$5),1,0) -> 1 | S16: =R16*($AF16+$AG16) -> -35 | T16: =IF(OR($H16=T$5,$I16=T$5),1,0) -> 1 | U16: =T16*($AF16+$AG16) -> -35 | V16: =IF(OR($H16=V$5,$I16=V$5),1,0) -> 1 | W16: =V16*($AF16+$AG16) -> -35 | X16: Local pro | Y16: Maintenance info. | Z16: Maintenance PC (Sauvegarde mensuelle du poste informatique + Assistance infogérance) | AA16: 2539569-62 | AB16: XXXXXX | AC16: Prélèvement | AD16: Automatique | AE16: XXXX | AF16: -35 | AH16: =SUM(AF16:AG16) -> -35 | AI16: -7 | AJ16: =SUM(AH16:AI16) -> -42 | AK16: =IF($E16=AK$6,$AJ16,0)+OFFSET($AJ16,1,COLUMN(AK16)-COLUMN($AK$6)+1) -> 1901.37 | AL16: =IF($E16=AL$6,$AJ16,0)+OFFSET($AJ16,1,COLUMN(AL16)-COLUMN($AK$6)+1) -> 8000
A17: 41283 | B17: 41283 | C17: 41283 | D17: Société | E17: Banque pro | F17: =IF(ISNUMBER(A17),MONTH(A17),IF(ISNUMBER(C17),MONTH(C17),0)) -> 1 | G17: =IF(ISNUMBER(A17),YEAR(A17),IF(ISNUMBER(C17),YEAR(C17),0)) -> 2013 | H17: =IF(C17>0,E17,) -> Banque pro | I17: =IF(C17>0,,E17) -> 0 | J17: =IF(OR($H17=J$6,$I17=J$6),1,0) -> 0 | K17: =J17*($AF17+$AG17) -> 0 | L17: =IF(OR($H17=L$6,$I17=L$6),1,0) -> 0 | M17: =L17*($AF17+$AG17) -> 0 | N17: =IF(OR($H17=N$6,$I17=N$6),1,0) -> 0 | O17: =N17*($AF17+$AG17) -> 0 | P17: =IF(OR($H17=P$6,$I17=P$6),1,0) -> 0 | Q17: =P17*($AF17+$AG17) -> 0 | R17: =IF(OR($H17=R$6,$I17=R$6),1,0) -> 0 | S17: =R17*($AF17+$AG17) -> 0 | T17: =IF(OR($H17=T$6,$I17=T$6),1,0) -> 0 | U17: =T17*($AF17+$AG17) -> 0 | V17: =IF(OR($H17=V$6,$I17=V$6),1,0) -> 0 | W17: =V17*($AF17+$AG17) -> 0 | X17: Opérations bancaires | Y17: Apport capital | Z17: Déblocage du capital | AA17: - | AB17: XXXXXX | AC17: Virement | AD17: Banque | AE17: Banque pro | AG17: 2000 | AH17: =SUM(AF17:AG17) -> 2000 | AI17: 0 | AJ17: =SUM(AH17:AI17) -> 2000 | AK17: =IF($E17=AK$6,$AJ17,0)+OFFSET($AJ17,1,COLUMN(AK17)-COLUMN($AK$6)+1) -> 1943.37 | AL17: =IF($E17=AL$6,$AJ17,0)+OFFSET($AJ17,1,COLUMN(AL17)-COLUMN($AK$6)+1) -> 8000
A18: 41282 | B18: 41283 | C18: 41283 | D18: Société | E18: Banque pro | F18: =IF(ISNUMBER(A18),MONTH(A18),IF(ISNUMBER(C18),MONTH(C18),0)) -> 1 | G18: =IF(ISNUMBER(A18),YEAR(A18),IF(ISNUMBER(C18),YEAR(C18),0)) -> 2013 | H18: =IF(C18>0,E18,) -> Banque pro | I18: =IF(C18>0,,E18) -> 0 | J18: =IF(OR($H18=J$6,$I18=J$6),1,0) -> 0 | K18: =J18*($AF18+$AG18) -> 0 | L18: =IF(OR($H18=L$6,$I18=L$6),1,0) -> 0 | M18: =L18*($AF18+$AG18) -> 0 | N18: =IF(OR($H18=N$6,$I18=N$6),1,0) -> 0 | O18: =N18*($AF18+$AG18) -> 0 | P18: =IF(OR($H18=P$6,$I18=P$6),1,0) -> 0 | Q18: =P18*($AF18+$AG18) -> 0 | R18: =IF(OR($H18=R$6,$I18=R$6),1,0) -> 0 | S18: =R18*($AF18+$AG18) -> 0 | T18: =IF(OR($H18=T$6,$I18=T$6),1,0) -> 0 | U18: =T18*($AF18+$AG18) -> 0 | V18: =IF(OR($H18=V$6,$I18=V$6),1,0) -> 0 | W18: =V18*($AF18+$AG18) -> 0 | X18: Opérations bancaires | Y18: Frais | Z18: Assurance bancaire | AA18: 20140221 | AB18: XXXXXX | AC18: Prélèvement | AD18: Banque | AE18: Banque pro | AF18: =-53*(1-25%) -> -39.75 | AH18: =SUM(AF18:AG18) -> -39.75 | AI18: 0 | AJ18: =SUM(AH18:AI18) -> -39.75 | AK18: =IF($E18=AK$6,$AJ18,0)+OFFSET($AJ18,1,COLUMN(AK18)-COLUMN($AK$6)+1) -> -56.63 | AL18: =IF($E18=AL$6,$AJ18,0)+OFFSET($AJ18,1,COLUMN(AL18)-COLUMN($AK$6)+1) -> 8000
A19: 41278 | B19: 41279 | C19: 41279 | D19: Société | E19: Banque pro | F19: =IF(ISNUMBER(A19),MONTH(A19),IF(ISNUMBER(C19),MONTH(C19),0)) -> 1 | G19: =IF(ISNUMBER(A19),YEAR(A19),IF(ISNUMBER(C19),YEAR(C19),0)) -> 2013 | H19: =IF(C19>0,E19,) -> Banque pro | I19: =IF(C19>0,,E19) -> 0 | J19: =IF(OR($H19=J$6,$I19=J$6),1,0) -> 0 | K19: =J19*($AF19+$AG19) -> 0 | L19: =IF(OR($H19=L$6,$I19=L$6),1,0) -> 0 | M19: =L19*($AF19+$AG19) -> 0 | N19: =IF(OR($H19=N$6,$I19=N$6),1,0) -> 0 | O19: =N19*($AF19+$AG19) -> 0 | P19: =IF(OR($H19=P$6,$I19=P$6),1,0) -> 0 | Q19: =P19*($AF19+$AG19) -> 0 | R19: =IF(OR($H19=R$6,$I19=R$6),1,0) -> 0 | S19: =R19*($AF19+$AG19) -> 0 | T19: =IF(OR($H19=T$6,$I19=T$6),1,0) -> 0 | U19: =T19*($AF19+$AG19) -> 0 | V19: =IF(OR($H19=V$6,$I19=V$6),1,0) -> 0 | W19: =V19*($AF19+$AG19) -> 0 | X19: Opérations bancaires | Y19: Frais | Z19: Acquisition de la CB (remise 50% pour la 1ère année) | AA19: - | AB19: XXXXXX | AC19: Virement | AD19: Banque | AE19: Banque pro | AG19: 16.87 | AH19: =SUM(AF19:AG19) -> 16.87 | AI19: 0 | AJ19: =SUM(AH19:AI19) -> 16.87 | AK19: =IF($E19=AK$6,$AJ19,0)+OFFSET($AJ19,1,COLUMN(AK19)-COLUMN($AK$6)+1) -> -16.88 | AL19: =IF($E19=AL$6,$AJ19,0)+OFFSET($AJ19,1,COLUMN(AL19)-COLUMN($AK$6)+1) -> 8000
A20: 41278 | B20: 41279 | C20: 41279 | D20: Société | E20: Banque pro | F20: =IF(ISNUMBER(A20),MONTH(A20),IF(ISNUMBER(C20),MONTH(C20),0)) -> 1 | G20: =IF(ISNUMBER(A20),YEAR(A20),IF(ISNUMBER(C20),YEAR(C20),0)) -> 2013 | H20: =IF(C20>0,E20,) -> Banque pro | I20: =IF(C20>0,,E20) -> 0 | J20: =IF(OR($H20=J$6,$I20=J$6),1,0) -> 0 | K20: =J20*($AF20+$AG20) -> 0 | L20: =IF(OR($H20=L$6,$I20=L$6),1,0) -> 0 | M20: =L20*($AF20+$AG20) -> 0 | N20: =IF(OR($H20=N$6,$I20=N$6),1,0) -> 0 | O20: =N20*($AF20+$AG20) -> 0 | P20: =IF(OR($H20=P$6,$I20=P$6),1,0) -> 0 | Q20: =P20*($AF20+$AG20) -> 0 | R20: =IF(OR($H20=R$6,$I20=R$6),1,0) -> 0 | S20: =R20*($AF20+$AG20) -> 0 | T20: =IF(OR($H20=T$6,$I20=T$6),1,0) -> 0 | U20: =T20*($AF20+$AG20) -> 0 | V20: =IF(OR($H20=V$6,$I20=V$6),1,0) -> 0 | W20: =V20*($AF20+$AG20) -> 0 | X20: Opérations bancaires | Y20: Frais | Z20: Acquisition de la CB | AA20: - | AB20: XXXXXX | AC20: Prélèvement | AD20: Banque | AE20: Banque pro | AF20: =-45*(1-25%) -> -33.75 | AH20: =SUM(AF20:AG20) -> -33.75 | AI20: 0 | AJ20: =SUM(AH20:AI20) -> -33.75 | AK20: =IF($E20=AK$6,$AJ20,0)+OFFSET($AJ20,1,COLUMN(AK20)-COLUMN($AK$6)+1) -> -33.75 | AL20: =IF($E20=AL$6,$AJ20,0)+OFFSET($AJ20,1,COLUMN(AL20)-COLUMN($AK$6)+1) -> 8000
A21: =C21 -> 41279 | B21: 41279 | C21: 41279 | D21: Moi | E21: Banque perso | F21: =IF(ISNUMBER(A21),MONTH(A21),IF(ISNUMBER(C21),MONTH(C21),0)) -> 1 | G21: =IF(ISNUMBER(A21),YEAR(A21),IF(ISNUMBER(C21),YEAR(C21),0)) -> 2013 | H21: =IF(C21>0,E21,) -> Banque perso | I21: =IF(C21>0,,E21) -> 0 | J21: =IF(OR($H21=J$6,$I21=J$6),1,0) -> 0 | K21: =J21*($AF21+$AG21) -> 0 | L21: =IF(OR($H21=L$6,$I21=L$6),1,0) -> 0 | M21: =L21*($AF21+$AG21) -> 0 | N21: =IF(OR($H21=N$6,$I21=N$6),1,0) -> 0 | O21: =N21*($AF21+$AG21) -> 0 | P21: =IF(OR($H21=P$6,$I21=P$6),1,0) -> 0 | Q21: =P21*($AF21+$AG21) -> 0 | R21: =IF(OR($H21=R$6,$I21=R$6),1,0) -> 0 | S21: =R21*($AF21+$AG21) -> 0 | T21: =IF(OR($H21=T$6,$I21=T$6),1,0) -> 0 | U21: =T21*($AF21+$AG21) -> 0 | V21: =IF(OR($H21=V$6,$I21=V$6),1,0) -> 0 | W21: =V21*($AF21+$AG21) -> 0 | X21: Opérations bancaires | Y21: Apport capital | Z21: Apport en capital de 8000 € (Capital total : 10000 €) | AA21: - | AB21: XXXXXX | AD21: Banque | AE21: Ma société | AG21: 8000 | AH21: =SUM(AF21:AG21) -> 8000 | AI21: 0 | AJ21: =SUM(AH21:AI21) -> 8000 | AK21: =IF($E21=AK$6,$AJ21,0)+OFFSET($AJ21,1,COLUMN(AK21)-COLUMN($AK$6)+1) -> 0 | AL21: =IF($E21=AL$6,$AJ21,0)+OFFSET($AJ21,1,COLUMN(AL21)-COLUMN($AK$6)+1) -> 8000
A22: 41278 | B22: 41279 | C22: 41279 | D22: Société | E22: Banque pro | F22: =IF(ISNUMBER(A22),MONTH(A22),IF(ISNUMBER(C22),MONTH(C22),0)) -> 1 | G22: =IF(ISNUMBER(A22),YEAR(A22),IF(ISNUMBER(C22),YEAR(C22),0)) -> 2013 | H22: =IF(C22>0,E22,) -> Banque pro | I22: =IF(C22>0,,E22) -> 0 | J22: =IF(OR($H22=J$6,$I22=J$6),1,0) -> 0 | K22: =J22*($AF22+$AG22) -> 0 | L22: =IF(OR($H22=L$6,$I22=L$6),1,0) -> 0 | M22: =L22*($AF22+$AG22) -> 0 | N22: =IF(OR($H22=N$6,$I22=N$6),1,0) -> 0 | O22: =N22*($AF22+$AG22) -> 0 | P22: =IF(OR($H22=P$6,$I22=P$6),1,0) -> 0 | Q22: =P22*($AF22+$AG22) -> 0 | R22: =IF(OR($H22=R$6,$I22=R$6),1,0) -> 0 | S22: =R22*($AF22+$AG22) -> 0 | T22: =IF(OR($H22=T$6,$I22=T$6),1,0) -> 0 | U22: =T22*($AF22+$AG22) -> 0 | V22: =IF(OR($H22=V$6,$I22=V$6),1,0) -> 0 | W22: =V22*($AF22+$AG22) -> 0 | X22: Opérations bancaires | Y22: Ouverture de compte | Z22: Ouverture du compte bancaire pro | AB22: - | AG22: 0 | AH22: =SUM(AE22:AE22) -> 0 | AI22: =SUM(AF22:AF22) -> 0 | AJ22: =SUM(AH22:AI22) -> 0 | AK22: =IF($E22=AK$6,$AJ22,0)+OFFSET($AJ22,1,COLUMN(AK22)-COLUMN($AK$6)+1) -> 0 | AL22: =IF($E22=AL$6,$AJ22,0)+OFFSET($AJ22,1,COLUMN(AL22)-COLUMN($AK$6)+1) -> 0
A23: 40178 | B23: x | C23: x | D23: Société | E23: Banque pro | F23: =IF(ISNUMBER(A23),MONTH(A23),IF(ISNUMBER(C23),MONTH(C23),0)) -> 12 | G23: =IF(ISNUMBER(A23),YEAR(A23),IF(ISNUMBER(C23),YEAR(C23),0)) -> 2009 | H23: =IF(C23>0,E23,) -> Banque pro | I23: =IF(C23>0,,E23) -> 0 | J23: =IF(OR($H23=J$6,$I23=J$6),1,0) -> 0 | K23: =J23*($AF23+$AG23) -> 0 | L23: =IF(OR($H23=L$6,$I23=L$6),1,0) -> 0 | M23: =L23*($AF23+$AG23) -> 0 | N23: =IF(OR($H23=N$6,$I23=N$6),1,0) -> 0 | O23: =N23*($AF23+$AG23) -> 0 | P23: =IF(OR($H23=P$6,$I23=P$6),1,0) -> 0 | Q23: =P23*($AF23+$AG23) -> 0 | R23: =IF(OR($H23=R$6,$I23=R$6),1,0) -> 0 | S23: =R23*($AF23+$AG23) -> 0 | T23: =IF(OR($H23=T$6,$I23=T$6),1,0) -> 0 | U23: =T23*($AF23+$AG23) -> 0 | V23: =IF(OR($H23=V$6,$I23=V$6),1,0) -> 0 | W23: =V23*($AF23+$AG23) -> 0 | X23: Opérations bancaires | Y23: Solde initial | Z23: Solde initial | AB23: - | AF23: 0 | AH23: =SUM(AF23:AG23) -> 0 | AJ23: =SUM(AH23:AI23) -> 0 | AK23: =AJ23 -> 0
A24: 40178 | B24: x | C24: x | D24: Moi | E24: Banque perso | F24: =IF(ISNUMBER(A24),MONTH(A24),IF(ISNUMBER(C24),MONTH(C24),0)) -> 12 | G24: =IF(ISNUMBER(A24),YEAR(A24),IF(ISNUMBER(C24),YEAR(C24),0)) -> 2009 | H24: =IF(C24>0,E24,) -> Banque perso | I24: =IF(C24>0,,E24) -> 0 | J24: =IF(OR($H24=J$6,$I24=J$6),1,0) -> 0 | K24: =J24*($AF24+$AG24) -> 0 | L24: =IF(OR($H24=L$6,$I24=L$6),1,0) -> 0 | M24: =L24*($AF24+$AG24) -> 0 | N24: =IF(OR($H24=N$6,$I24=N$6),1,0) -> 0 | O24: =N24*($AF24+$AG24) -> 0 | P24: =IF(OR($H24=P$6,$I24=P$6),1,0) -> 0 | Q24: =P24*($AF24+$AG24) -> 0 | R24: =IF(OR($H24=R$6,$I24=R$6),1,0) -> 0 | S24: =R24*($AF24+$AG24) -> 0 | T24: =IF(OR($H24=T$6,$I24=T$6),1,0) -> 0 | U24: =T24*($AF24+$AG24) -> 0 | V24: =IF(OR($H24=V$6,$I24=V$6),1,0) -> 0 | W24: =V24*($AF24+$AG24) -> 0 | X24: Opérations bancaires | Y24: Solde initial | Z24: Solde initial | AB24: - | AF24: 0 | AH24: =SUM(AF24:AG24) -> 0 | AJ24: =SUM(AH24:AI24) -> 0 | AL24: =AJ24 -> 0

Sheet Résultat
B1: Compte de résultat comptable | C1: (fourni par l'expert comptable) | I1: Tableau des soldes intermédiaires de gestion | K1: (fourni par l'expert comptable) | O1: Tableau de bord
B3: CHARGES | C3: Exercice n | D3: Exercice n-1 | E3: PRODUITS | F3: Exercice n | G3: Exercice n-1 | J3: Exercice n | L3: Exercice n-1 | O3: Détaillé | P3: n | Q3: % | R3: n-1 | S3: %
B4: Charges d'exploitation | E4: Produits d'exploitation | I4: Ventes de marchandises | J4: =+F5 -> 0 | L4: =+G5 -> 0 | O4: Chiffre d'affaires | P4: =F6 -> 742000 | Q4: 1 | R4: =L7 -> 698000 | S4: 1
B5: Achats de marchandises | E5: Ventes de marchandises | I5: Coût d'achat des marchandises vendues | J5: =+C5:C6 -> 0 | L5: =+D5:D6 -> 0 | O5: Nombre de couverts | P5: 45800 | R5: 44200
B6: Variation de stocks | E6: Production vendue (biens et services) | F6: 742000 | G6: 698000 | I6: MARGE COMMERCIALE (I) | J6: =+J4-J5 -> 0 | L6: =+L4-L5 -> 0 | O6: Addition moyenne | P6: =P4/P5 -> 16.200873 | R6: =R4/R5 -> 15.791855
B7: Achats de matières premières et | E7: Sous-total A - Montant net du chiffre d'affaires | F7: =+F5+F6 -> 742000 | G7: =+G5+G6 -> 698000 | I7: Production vendue | J7: =+F6 -> 742000 | L7: =+G6 -> 698000 | O7: Consommations de matières | P7: =C8+C9-F10 -> 214100 | Q7: =P7/$P$4 -> 0.28854447 | R7: =D8+D9-G10 -> 205600 | S7: =R7/$R$4 -> 0.29455587
B8: autres approvisionnements | C8: 237000 | D8: 224000 | E8: dont à l'exportation | I8: Production stockée | J8: =+F9 -> 0 | L8: =+G9 -> 0 | O8: MARGE BRUTE | P8: =P4-P7 -> 527900 | Q8: =P8/$P$4 -> 0.71145553 | R8: =R4-R7 -> 492400 | S8: =R8/$R$4 -> 0.70544413
B9: Variation de stocks | C9: -1400 | D9: 800 | E9: Production stockée | I9: Production immobilisée et consommée | J9: =+F10 -> 21500 | L9: =+G10 -> 19200 | O9: Charges de personnel | P9: =C12+C13 -> 275000 | Q9: =P9/$P$4 -> 0.37061995 | R9: =D12+D13 -> 270000 | S9: =R9/$R$4 -> 0.38681948
B10: Autres achats et charges externes (1) | C10: 136000 | D10: 149000 | E10: Production immobilisée et consommée | F10: 21500 | G10: 19200 | I10: PRODUCTION DE L'EXERCICE (II) | J10: =SUM(J7:J9) -> 763500 | L10: =SUM(L7:L9) -> 717200 | O10: MARGE SUR COUT PRINCIPAL | P10: =P8-P9 -> 252900 | Q10: =P10/$P$4 -> 0.34083558 | R10: =R8-R9 -> 222400 | S10: =R10/$R$4 -> 0.31862464
B11: Impôts, taxes et versements assimilés | C11: 19600 | D11: 18500 | E11: Subventions d'exploitation | I11: Total I+II | J11: =+J6+J10 -> 763500 | K11: =J11/$L$11 -> 1.0645566 | L11: =+L6+L10 -> 717200 | M11: =L11/$L$11 -> 1 | O11: Fournitures d'eau et d'énergie | P11: 19000 | Q11: =P11/$P$4 -> 0.025606469 | R11: 21000 | S11: =R11/$R$4 -> 0.03008596
B12: Salaires et traitements | C12: 212000 | D12: 209000 | E12: Reprises sur provisions et amortissements, | I12: Consommations de l'exercice en provenance des tiers | J12: =+C8+C9+C10 -> 371600 | L12: =+D8+D9+D10 -> 373800 | O12: Fournitures d'exploitation : uniformes, | Q12: =P12/$P$4 -> 0 | S12: =R12/$R$4 -> 0
B13: Charges sociales | C13: 63000 | D13: 61000 | E13: transferts de charges | I13: VALEUR AJOUTEE | J13: =+J11-J12 -> 391900 | K13: =J13/$L$11 -> 0.54643056 | L13: =+L11-L12 -> 343400 | M13: =L13/$L$11 -> 0.47880647 | O13: linge, vaisselle, petit matériel | P13: 10000 | Q13: =P13/$P$4 -> 0.013477089 | R13: 15000 | S13: =R13/$R$4 -> 0.021489971
B14: Dotations aux amortissements et | E14: Autres produits | I14: Subventions d'exploitation | J14: =+F11 -> 0 | L14: =+G11 -> 0 | O14: Fournitures administratives | P14: 3000 | Q14: =P14/$P$4 -> 0.0040431267 | R14: 4200 | S14: =R14/$R$4 -> 0.006017192
B15: aux provisions | E15: Sous-total B | F15: =SUM(F9:F14) -> 21500 | G15: =SUM(G9:G14) -> 19200 | I15: Impôts, taxes et versements assimilés | J15: =+C11 -> 19600 | L15: =+D11 -> 18500 | O15: Produits d'entretien | P15: 3000 | Q15: =P15/$P$4 -> 0.0040431267 | R15: 4600 | S15: =R15/$R$4 -> 0.0065902579
B16: sur immobilisations : amortissements | C16: 25250 | D16: 21400 | E16: Total I (A+B) | F16: =+F15+F7 -> 763500 | G16: =+G15+G7 -> 717200 | I16: Charges de personnel | J16: =C12+C13 -> 275000 | L16: =D12+D13 -> 270000 | O16: Blanchissage | P16: 6400 | Q16: =P16/$P$4 -> 0.0086253369 | R16: 6200 | S16: =R16/$R$4 -> 0.0088825215
B17: sur immobilisations : provisions | E17: Quotes-parts de résultat sur opérations | I17: EXECEDENT BRUT D'EXPLOITATION | J17: =+J13+J14-J15-J16 -> 97300 | K17: =J17/$L$11 -> 0.13566648 | L17: =+L13+L14-L15-L16 -> 54900 | M17: =L17/$L$11 -> 0.076547685 | O17: Maintenance | P17: 2000 | Q17: =P17/$P$4 -> 0.0026954178 | R17: 1900 | S17: =R17/$R$4 -> 0.002722063
B18: sur actif circulant : provisions | E18: faites en commun (II) | I18: Reprises sur charges et transferts de charges | J18: =F12+F13 -> 0 | L18: =G12+G13 -> 0 | O18: Primes d'assurances | P18: 4000 | Q18: =P18/$P$4 -> 0.0053908356 | R18: 3900 | S18: =R18/$R$4 -> 0.0055873926
B19: pour risques et charges : provisions | E19: Produits financiers | I19: Autres produits | J19: =+F14 -> 0 | L19: =+G14 -> 0 | O19: Rémunérations d'intermédiaires | P19: 3400 | Q19: =P19/$P$4 -> 0.0045822102 | R19: 3400 | S19: =R19/$R$4 -> 0.0048710602
B20: Autres charges | C20: 3200 | D20: 2900 | E20: De participation | I20: Dotations aux amortissements et provisions | J20: =SUM(C16:C19) -> 25250 | L20: =SUM(D16:D19) -> 21400 | O20: Publicité | P20: 6400 | Q20: =P20/$P$4 -> 0.0086253369 | R20: 8800 | S20: =R20/$R$4 -> 0.01260745
B21: Total I | C21: =SUM(C5:C20) -> 694650 | D21: =SUM(D5:D20) -> 686600 | E21: D'autres valeurs mobilières et créances | I21: Autres charges | J21: =+C20 -> 3200 | L21: =+D20 -> 2900 | O21: Transports, missions, réceptions | P21: 1000 | Q21: =P21/$P$4 -> 0.0013477089 | R21: 4200 | S21: =R21/$R$4 -> 0.006017192
B22: Quotes-parts de résultat sur opérations | E22: de l'actif immobilisé | I22: RESULTAT D'EXPLOITATION | J22: =+J17+J18+J19-J20-J21 -> 68850 | K22: =J22/$L$11 -> 0.095998327 | L22: =+L17+L18+L19-L20-L21 -> 30600 | M22: =L22/$L$11 -> 0.042665923 | O22: Frais postaux et de télécommunications | P22: 2800 | Q22: =P22/$P$4 -> 0.0037735849 | R22: 2700 | S22: =R22/$R$4 -> 0.0038681948
B23: faites en commun (II) | E23: Autres intérêts et produits assimilés | I23: Quote-part de résultat sur opérations faites en commun | J23: =+F18 -> 0 | L23: =+G18 -> 0 | O23: Services bancaires et commissions | Q23: =P23/$P$4 -> 0 | S23: =R23/$R$4 -> 0
B24: Charges financières | E24: Reprises sur provisions et transferts de charges | I24: Produits financiers | J24: =+F27 -> 0 | L24: =+G27 -> 0 | O24: sur moyens de paiement | P24: 4200 | Q24: =P24/$P$4 -> 0.0056603774 | R24: 4800 | S24: =R24/$R$4 -> 0.0068767908
B25: Dotations aux amortissements et aux provisions | E25: Différences positives de change | I25: Charges financières | J25: =+C29 -> 10700 | L25: =+D29 -> 11800 | O25: Redevances | P25: 3200 | Q25: =P25/$P$4 -> 0.0043126685 | R25: 3000 | S25: =R25/$R$4 -> 0.0042979943
B26: Intérêts et charges assimilées (2) | C26: 10700 | D26: 11800 | E26: Produits nets sur valeurs mobilières de placement | I26: RESULTAT COURANT AVANT IMPOT | J26: =+J22+J23+J24-J25 -> 58150 | K26: =J26/$L$11 -> 0.081079197 | L26: =+L22+L23+L24-L25 -> 18800 | M26: =L26/$L$11 -> 0.026213051 | O26: Impôts et taxes | P26: 19600 | Q26: =P26/$P$4 -> 0.026415094 | R26: =D11 -> 18500 | S26: =R26/$R$4 -> 0.026504298
B27: Différences négatives de change | E27: Total III | F27: =SUM(F20:F26) -> 0 | G27: =SUM(G20:G26) -> 0 | I27: Produits exceptionnels | J27: =+F32 -> 1000 | L27: =+G32 -> 200 | O27: Divers | Q27: =P27/$P$4 -> 0 | S27: =R27/$R$4 -> 0
B28: Charges nettes sur valeurs mobilières de placement | E28: Produits exceptionnels | I28: Charges exceptionnelles | J28: =+C34 -> 1150 | L28: =+D34 -> 500 | O28: Total frais généraux | P28: =SUM(P11:P27) -> 88000 | Q28: =P28/$P$4 -> 0.11859838 | R28: =SUM(R11:R27) -> 102200 | S28: =R28/$R$4 -> 0.14641834
B29: Total III | C29: =SUM(C25:C28) -> 10700 | D29: =SUM(D25:D28) -> 11800 | E29: Sur opérations de gestion | F29: 100 | G29: 200 | I29: RESULTAT EXCEPTIONNEL | J29: =+J27-J28 -> -150 | L29: =+L27-L28 -> -300 | O29: RESULTAT BRUT D'EXPLOITATION | P29: =P10-P28 -> 164900 | Q29: =P29/$P$4 -> 0.2222372 | R29: =R10-R28 -> 120200 | S29: =R29/$R$4 -> 0.1722063
B30: Charges exceptionnelles | E30: Sur opérations en capital | F30: 900 | I30: Participation des salariés | O30: Dotations aux amortissements | P30: =C16 -> 25250 | Q30: =P30/$P$4 -> 0.03402965 | R30: =D16 -> 21400 | S30: =R30/$R$4 -> 0.030659026
B31: Sur opérations de gestion | C31: 650 | D31: 500 | E31: Reprises sur provisions et transferts de charges | I31: Impôt sur les bénéfices | J31: =+C36 -> 23000 | L31: =+D36 -> 7400 | O31: Loyers et charges locatives | P31: 75000 | Q31: =P31/$P$4 -> 0.10107817 | R31: 73000 | S31: =R31/$R$4 -> 0.10458453
B32: Sur opérations en capital | C32: 500 | E32: Total IV | F32: =SUM(F29:F31) -> 1000 | G32: =SUM(G29:G31) -> 200 | I32: RESULTAT DE L'EXERCICE | J32: =+J26+J29-J30-J31 -> 35000 | K32: =J32/$L$11 -> 0.048800892 | L32: =+L26+L29-L30-L31 -> 11100 | M32: =L32/$L$11 -> 0.015476854 | O32: Redevances de crédit-bail | Q32: =P32/$P$4 -> 0 | S32: =R32/$R$4 -> 0
B33: Dotations aux amortissements et provisions | E33: Total des produits (I+II+III+IV) | F33: =+F32+F27+F18+F16 -> 764500 | G33: =+G32+G27+G18+G16 -> 717400 | I33: Produits des cessions d'éléments d'actif | J33: 900 | O33: Intérêts des emprunts | P33: =C42 -> 6500 | Q33: =P33/$P$4 -> 0.0087601078 | R33: =D42 -> 7000 | S33: =R33/$R$4 -> 0.010028653
B34: Total IV | C34: =SUM(C31:C33) -> 1150 | D34: =SUM(D31:D33) -> 500 | E34: Solde débiteur = perte | F34: =IF(C37>F33,C37-F33," ") | I34: Valeur comptables des éléments d'actifs cédés | J34: 500 | O34: Coûts d’occupation | P34: =SUM(P30:P33) -> 106750 | Q34: =P34/$P$4 -> 0.14386792 | R34: =SUM(R30:R33) -> 101400 | S34: =R34/$P$4 -> 0.13665768
B35: Participation des salariés aux résultats (V) | E35: TOTAL GENERAL | F35: =IF(F34=" ",F33,F33+F34) -> 764500 | G35: =IF(G34=" ",G33,G33+G34) -> 717400 | I35: Plus-values et moins-values sur cessions d'éléments d'actif | J35: =J33-J34 -> 400 | O35: RESULTAT COURANT | P35: =P29-P34 -> 58150 | Q35: =P35/$P$4 -> 0.078369272 | R35: =R29-R34 -> 18800 | S35: =R35/$R$4 -> 0.026934097
B36: Impôts sur les bénéfices (VI) | C36: 23000 | D36: 7400 | O36: +/- Résultat financier (hors intérêts) | P36: =J25-C26 -> 0
B37: Total des charges ((I+II+III+IV+V+VI) | C37: =+C34+C29+C23+C21+C35+C36 -> 729500 | D37: =+D34+D29+D23+D21+D35+D36 -> 706300 | O37: +/- Résultat exceptionnel | P37: =J29 -> -150 | R37: =L29 -> -300
B38: Solde créditeur = bénéfice | C38: 35000 | D38: 11100 | O38: -Participation des salariés aux résultats
B39: TOTAL GENERAL | C39: =+C37+C38 -> 764500 | D39: =+D37+D38 -> 717400 | O39: -Impôts sur les bénéfices | P39: =-J31 -> -23000 | R39: =-L31 -> -7400
B40: (1) Dont loyers | C40: 75000 | D40: 73000 | O40: RESULTAT NET | P40: =SUM(P35:P39) -> 35000 | Q40: =P40/$P$4 -> 0.047169811 | R40: =SUM(R35:R39) -> 11100 | S40: =R40/$R$4 -> 0.015902579
B41: (2) Détail du poste
...

Sheet Tréso mensuel
Q1: A finaliser
B2: Trésorerie | Q2: Contrôle
C4: Mois 1 | D4: Mois 2 | E4: Mois 3 | F4: Mois 4 | G4: Mois 5 | H4: Mois 6 | I4: Mois 7 | J4: Mois 8 | K4: Mois 9 | L4: Mois 10 | M4: Mois 11 | N4: Mois 12 | O4: TOTAL
B5: (nombres cuisines commandées) | C5: 0 | D5: 1 | E5: 1 | F5: 1 | G5: 2 | H5: 2 | I5: 2 | J5: 3 | K5: 3 | L5: 3 | M5: 3 | N5: 3 | O5: =SUM(C5:N5) -> 24 | Q5: 24
B6: Commandes T.T.C | C6: 0 | D6: 8586.0167 | E6: 8586.0167 | F6: 8586.0167 | G6: 17172.033 | H6: 17172.033 | I6: 17172.033 | J6: 25758.05 | K6: 25758.05 | L6: 25758.05 | M6: 25758.05 | N6: 25758.05 | O6: =SUM(C6:N6) -> 206064.4 | Q6: 206064.4
B7: (nombres cuisines facturées) | C7: 0 | D7: 0 | E7: 0 | F7: 1 | G7: 1 | H7: 2 | I7: 2 | J7: 2 | K7: 2 | L7: 3 | M7: 3 | N7: 3 | O7: =SUM(C7:N7) -> 19 | Q7: 19
B8: Facture HT (hors pose, hors livraison) | C8: 0 | D8: 0 | E8: 0 | F8: 6708.3333 | G8: 6708.3333 | H8: 13416.667 | I8: 13416.667 | J8: 13416.667 | K8: 13416.667 | L8: 20125 | M8: 20125 | N8: 20125 | O8: =SUM(C8:N8) -> 127458.33 | Q8: =#REF! -> #REF!
B9: Facture totale HT | C9: 0 | D9: 0 | E9: 0 | F9: 7708.3333 | G9: 7708.3333 | H9: 15416.667 | I9: 15416.667 | J9: 15416.667 | K9: 15416.667 | L9: 23125 | M9: 23125 | N9: 23125 | O9: =SUM(C9:N9) -> 146458.33 | Q9: =#REF! -> #REF!
B10: Factures T.T.C | C10: 0 | D10: 0 | E10: 0 | F10: 8586.0167 | G10: 8586.0167 | H10: 17172.033 | I10: 17172.033 | J10: 17172.033 | K10: 17172.033 | L10: 25758.05 | M10: 25758.05 | N10: 25758.05 | O10: 163134.32 | Q10: 164851.52
B12: ENCAISSEMENTS
B13: Encaissements d'exploitation
B14: Chiffre d'affaires encaissé
B15: Acomptes | C15: =SUM(C6*30%) -> 0 | D15: =SUM(D6*30%) -> 2575.805 | E15: =SUM(E6*30%) -> 2575.805 | F15: =SUM(F6*30%) -> 2575.805 | G15: =SUM(G6*30%) -> 5151.61 | H15: =SUM(H6*30%) -> 5151.61 | I15: =SUM(I6*30%) -> 5151.61 | J15: =SUM(J6*30%) -> 7727.415 | ... N15: =SUM(N6*30%) -> 7727.415 | O15: =SUM(C15:N15) -> 61819.32
B16: Soldes | C16: =SUM(C10*70%) -> 0 | D16: =SUM(D10*70%) -> 0 | E16: =SUM(E10*70%) -> 0 | F16: =SUM(F10*70%) -> 6010.2117 | G16: =SUM(G10*70%) -> 6010.2117 | H16: =SUM(H10*70%) -> 12020.423 | I16: =SUM(I10*70%) -> 12020.423 | J16: =SUM(J10*70%) -> 12020.423 | ... N16: =SUM(N10*70%) -> 18030.635 | O16: =SUM(C16:N16) -> 114194.02
B17: TVA à récupérer | C17: 6576.5154 | D17: 392.12468 | E17: 392.12468 | F17: 702.74707 | G17: 751.91094 | H17: 856.73333 | I17: 650.93333 | J17: 700.09721 | K17: 700.09721 | L17: 804.9196 | M17: 804.9196 | N17: 804.9196 | O17: =SUM(C17:N17) -> 14138.043
B18: Encaissements hors exploitation
B19: Apport en capital | C19: 10000 | O19: =SUM(C19:N19) -> 10000
B20: Apports en comptes courants d'associés | C20: 5000 | O20: =SUM(C20:N20) -> 5000
B21: Emprunts à moyen et long terme | C21: 34160.205 | O21: =SUM(C21:N21) -> 34160.205
B22: TOTAL ENCAISSEMENTS | C22: =SUM(C12:C21) -> 55736.72 | D22: =SUM(D12:D21) -> 2967.9297 | E22: =SUM(E12:E21) -> 2967.9297 | F22: =SUM(F12:F21) -> 9288.7637 | G22: =SUM(G12:G21) -> 11913.733 | H22: =SUM(H12:H21) -> 18028.767 | I22: =SUM(I12:I21) -> 17822.967 | J22: =SUM(J12:J21) -> 20447.936 | ... O22: =SUM(O12:O21) -> 239311.59 | Q22: =SUM(C22:N22) -> 239311.59
B24: DECAISSEMENTS
B25: Investissements | C25: 35454.045 | F25: 1255.8 | G25: 1255.8 | H25: 1255.8 | O25: =SUM(C25:N25) -> 39221.445 | Q25: 39221.445
B26: Hébergement et déplacement (formation) | C26: 2583.36 | O26: =SUM(C26:N26) -> 2583.36 | Q26: 2583.36
B27: Achats marchandise | C27: 0 | D27: 0 | E27: 0 | F27: 4813.9 | G27: 4813.9 | H27: 9627.8 | I27: 9627.8 | J27: 9627.8 | K27: 9627.8 | L27: 14441.7 | M27: 14441.7 | N27: 14441.7 | O27: =SUM(C27:N27) -> 91464.1 | Q27: =#REF!*(1+19.6%) -> #REF!
B28: Commissions versées - Acomptes (pose et livraison) | C28: 0 | D28: 300 | E28: 300 | F28: 300 | G28: 600 | H28: 600 | I28: 600 | J28: 900 | K28: 900 | L28: 900 | M28: 900 | N28: 900 | O28: =SUM(C28:N28) -> 7200
B29: Commissions versées - Soldes (pose et livraison) | C29: 0 | D29: 0 | E29: 0 | F29: 700 | G29: 700 | H29: 1400 | I29: 1400 | J29: 1400 | K29: 1400 | L29: 2100 | M29: 2100 | N29: 2100 | O29: =SUM(C29:N29) -> 13300
B30: Frais Généraux mens. | C30: =Q30/12 -> #REF! | D30: =Q30/12 -> #REF! | E30: =Q30/12 -> #REF! | F30: =Q30/12 -> #REF! | G30: =Q30/12 -> #REF! | H30: =Q30/12 -> #REF! | I30: =Q30/12 -> #REF! | J30: =Q30/12 -> #REF! | K30: =Q30/12 -> #REF! | L30: =Q30/12 -> #REF! | M30: =Q30/12 -> #REF! | N30: =Q30/12 -> #REF! | O30: =SUM(C30:N30) -> #REF! | Q30: =(#REF!-#REF!)*(1+19.6%) -> #REF!
B31: Marketing (publicité hors lancement) | C31: =C8*#REF!/#REF!*(1+19.6%) -> #REF! | D31: =D8*#REF!/#REF!*(1+19.6%) -> #REF! | E31: =E8*#REF!/#REF!*(1+19.6%) -> #REF! | F31: =F8*#REF!/#REF!*(1+19.6%) -> #REF! | G31: =G8*#REF!/#REF!*(1+19.6%) -> #REF! | H31: =H8*#REF!/#REF!*(1+19.6%) -> #REF! | I31: =I8*#REF!/#REF!*(1+19.6%) -> #REF! | J31: =J8*#REF!/#REF!*(1+19.6%) -> #REF! | ... N31: =N8*#REF!/#REF!*(1+19.6%) -> #REF! | O31: =SUM(C31:N31) -> #REF! | Q31: =#REF!*(1+19.6%) -> #REF!
B32: Royalties 3 % | C32: =C8*3%*(1+19.6%) -> 0 | D32: =D8*3%*(1+19.6%) -> 0 | E32: =E8*3%*(1+19.6%) -> 0 | F32: =F8*3%*(1+19.6%) -> 240.695 | G32: =G8*3%*(1+19.6%) -> 240.695 | H32: =H8*3%*(1+19.6%) -> 481.39 | I32: =I8*3%*(1+19.6%) -> 481.39 | J32: =J8*3%*(1+19.6%) -> 481.39 | ... N32: =N8*3%*(1+19.6%) -> 722.085 | O32: =SUM(C32:N32) -> 4573.205 | Q32: =#REF!*(1+19.6%) -> #REF!
B33: Rémunération + Charges | C33: =$Q$33/$O$5*C5 -> #REF! | D33: =$Q$33/$O$5*D5 -> #REF! | E33: =$Q$33/$O$5*E5 -> #REF! | F33: =$Q$33/$O$5*F5 -> #REF! | G33: =$Q$33/$O$5*G5 -> #REF! | H33: =$Q$33/$O$5*H5 -> #REF! | I33: =$Q$33/$O$5*I5 -> #REF! | J33: =$Q$33/$O$5*J5 -> #REF! | ... N33: =$Q$33/$O$5*N5 -> #REF! | O33: =SUM(C33:N33) -> #REF! | Q33: =#REF! -> #REF!
B34: Remboursement d'emprunt | C34: 629.11 | D34: 629.11 | E34: 629.11 | F34: 629.11 | G34: 629.11 | H34: 629.11 | I34: 629.11 | J34: 629.11 | K34: 629.11 | L34: 629.11 | M34: 629.11 | N34: 629.11 | O34: =SUM(C34:N34) -> 7549.32 | Q34: 7549.32
B35: Impôts et taxes (hors IS, hors TVA) | C35: =$Q$35/12 -> #REF! | D35: =$Q$35/12 -> #REF! | E35: =$Q$35/12 -> #REF! | F35: =$Q$35/12 -> #REF! | G35: =$Q$35/12 -> #REF! | H35: =$Q$35/12 -> #REF! | I35: =$Q$35/12 -> #REF! | J35: =$Q$35/12 -> #REF! | ... N35: =$Q$35/12 -> #REF! | O35: =SUM(C35:N35) -> #REF! | Q35: =#REF! -> #REF!
B36: Impôt sur les Sociétés (Année n-1) | C36: 0 | D36: 0 | E36: 0 | F36: 0 | G36: 0 | H36: 0 | I36: 0 | J36: 0 | K36: 0 | L36: 0 | M36: 0 | N36: 0 | O36: =SUM(C36:N36) -> 0
