Workbook
Name cola: OFFSET('BD1'!$A$2,,,COUNTIF('BD1'!$C:$C,"><"))

Sheet BD1
B1: =Recherche!F4 -> ere | C1: Matériel | D1: Nom | E1: Tél | F1: région | G1: Ville | H1: Prêt du matériel | I1: Consultant
A2: =IFERROR(SUMPRODUCT(--(SEARCH(B$1,C2))),"") | C2: Spécifique | D2: M. tata | E2: 04.00000000 | F2: Rhône | G2: St Priest | H2: Oui | I2: BA
A3: =IFERROR(SUMPRODUCT(--(SEARCH(B$1,C3))),"") | C3: Système de convoyage | D3: M. BEU | E3: 04.00000001 | F3: Région parisienne | G3: Vigny | H3: Oui | I3: BA
A4: =IFERROR(SUMPRODUCT(--(SEARCH(B$1,C4))),"") | C4: Système de manutention | D4: Mme LIO | E4: 04.00000002 | F4: Rhône | G4: Lyon | H4: Oui | I4: BA
A5: =IFERROR(SUMPRODUCT(--(SEARCH(B$1,C5))),"") | C5: Système de convoyage/ hydraulique | D5: M. MOULIN | E5: 04.00000003 | F5: Rhône | G5: Lyon | H5: Oui | I5: BA
A6: =IFERROR(SUMPRODUCT(--(SEARCH(B$1,C6))),"") | C6: Machines outils textile / couture | D6: M. LERIN | E6: 04.00000004 | F6: Loire | G6: Parigny | H6: Oui | I6: POJ
A7: =IFERROR(SUMPRODUCT(--(SEARCH(B$1,C7))),"") | C7: Tapis antifatigue | D7: Mme. BRU | E7: 04.00000005 | F7: Autre | G7: Shiltighem | H7: Non | I7: POJ
A8: =IFERROR(SUMPRODUCT(--(SEARCH(B$1,C8))),"") | C8: Equipements et fournitures fromagerie | D8: M. TOTO | E8: 04.00000006 | F8: Rhône | G8: Villefranche sur Saône | H8: Non | I8: POJ
A9: =IFERROR(SUMPRODUCT(--(SEARCH(B$1,C9))),"") | C9: Machine et matériel d'élevage | D9: M. CORGIER | E9: 04.00000007 | F9: Rhône | G9: Savigny | H9: Oui | I9: POJ
A10: =IFERROR(SUMPRODUCT(--(SEARCH(B$1,C10))),"") | C10: Petit matériel pour cuisine | D10: Mme RUBIS | E10: 04.00000008 | F10: Région parisienne | G10: Argenteuil | H10: Non | I10: POJ
A11: =IFERROR(SUMPRODUCT(--(SEARCH(B$1,C11))),"") | C11: système de convoyage | D11: M. ENDIER | E11: 04.00000009 | F11: Loire | G11: Saint germin Laval | H11: Oui | I11: GAR
A12: =IFERROR(SUMPRODUCT(--(SEARCH(B$1,C12))),"") | C12: Accessibilité sièges et plates formes | D12: M. GOUN | E12: 04.00000010 | F12: Savoie | G12: Aix les bains | H12: Oui | I12: POJ
A13: =IFERROR(SUMPRODUCT(--(SEARCH(B$1,C13))),"") | C13: blisses | D13: M. IANO | E13: 04.00000011 | F13: Isère | G13: Grenoble | H13: Oui | I13: POJ
A14: =IFERROR(SUMPRODUCT(--(SEARCH(B$1,C14))),"") | C14: Brouettes électriques et autres solutions | D14: M. SONI | E14: 04.00000012 | F14: Rhône | G14: Vaux en velin | H14: Oui | I14: POJ
A15: =IFERROR(SUMPRODUCT(--(SEARCH(B$1,C15))),"") -> 1 | C15: ere
A16: =IFERROR(SUMPRODUCT(--(SEARCH(B$1,C16))),"")
A17: =IFERROR(SUMPRODUCT(--(SEARCH(B$1,C17))),"") | E17: =COUNTIF(C:C,"><") -> 15
A18: =IFERROR(SUMPRODUCT(--(SEARCH(B$1,C18))),"")
A19: =IFERROR(SUMPRODUCT(--(SEARCH(B$1,C19))),"")
A20: =IFERROR(SUMPRODUCT(--(SEARCH(B$1,C20))),"")
A21: =IFERROR(SUMPRODUCT(--(SEARCH(B$1,C21))),"")
A22: =IFERROR(SUMPRODUCT(--(SEARCH(B$1,C22))),"")
A23: =IFERROR(SUMPRODUCT(--(SEARCH(B$1,C23))),"")
A24: =IFERROR(SUMPRODUCT(--(SEARCH(B$1,C24))),"")
A25: =IFERROR(SUMPRODUCT(--(SEARCH(B$1,C25))),"")
A26: =IFERROR(SUMPRODUCT(--(SEARCH(B$1,C26))),"")
A27: =IFERROR(SUMPRODUCT(--(SEARCH(B$1,C27))),"")
A28: =IFERROR(SUMPRODUCT(--(SEARCH(B$1,C28))),"")
A29: =IFERROR(SUMPRODUCT(--(SEARCH(B$1,C29))),"")
... A60: =IFERROR(SUMPRODUCT(--(SEARCH(B$1,C60))),"")

Sheet Recherche
E2: tu saisis la 1ere lettre de ce que tu cherches
D4: Matériel à rechercher | F4: ere | J4: rechercher
F6: =COUNTIF(cola,1) -> 1
D8: Matériel | E8: Nom | F8: Tél | G8: région | H8: Ville | I8: Prêt du matériel | J8: Prêt du matériel
D9: =IFERROR(IF(ROW($A1)>$F$6,"",INDEX('BD1'!C$2:C$17,SMALL(IF(cola=1,ROW('BD1'!$C$2:$C$17)-1,""),ROW($A1)))),"no ref") -> no ref | E9: {=IFERROR(IF(ROW($A1)>$F$6,"",INDEX('BD1'!D$2:D$14,SMALL(IF(cola=1,ROW('BD1'!$C$2:$C$14)-1),ROW($A1)))),"no ref")} -> no ref | F9: {=IFERROR(IF(ROW($A1)>$F$6,"",INDEX('BD1'!E$2:E$14,SMALL(IF(cola=1,ROW('BD1'!$C$2:$C$14)-1),ROW($A1)))),"no ref")} -> no ref | G9: {=IFERROR(IF(ROW($A1)>$F$6,"",INDEX('BD1'!F$2:F$14,SMALL(IF(cola=1,ROW('BD1'!$C$2:$C$14)-1),ROW($A1)))),"no ref")} -> no ref | H9: {=IFERROR(IF(ROW($A1)>$F$6,"",INDEX('BD1'!G$2:G$14,SMALL(IF(cola=1,ROW('BD1'!$C$2:$C$14)-1),ROW($A1)))),"no ref")} -> no ref | I9: {=IFERROR(IF(ROW($A1)>$F$6,"",INDEX('BD1'!H$2:H$14,SMALL(IF(cola=1,ROW('BD1'!$C$2:$C$14)-1),ROW($A1)))),"no ref")} -> no ref | J9: {=IFERROR(IF(ROW($A1)>$F$6,"",INDEX('BD1'!I$2:I$14,SMALL(IF(cola=1,ROW('BD1'!$C$2:$C$14)-1),ROW($A1)))),"no ref")} -> no ref
D10: {=IFERROR(IF(ROW($A2)>$F$6,"",INDEX('BD1'!C$2:C$14,SMALL(IF(cola=1,ROW('BD1'!$C$2:$C$14)-1),ROW($A2)))),"no ref")} | E10: {=IFERROR(IF(ROW($A2)>$F$6,"",INDEX('BD1'!D$2:D$14,SMALL(IF(cola=1,ROW('BD1'!$C$2:$C$14)-1),ROW($A2)))),"no ref")} | F10: {=IFERROR(IF(ROW($A2)>$F$6,"",INDEX('BD1'!E$2:E$14,SMALL(IF(cola=1,ROW('BD1'!$C$2:$C$14)-1),ROW($A2)))),"no ref")} | G10: {=IFERROR(IF(ROW($A2)>$F$6,"",INDEX('BD1'!F$2:F$14,SMALL(IF(cola=1,ROW('BD1'!$C$2:$C$14)-1),ROW($A2)))),"no ref")} | H10: {=IFERROR(IF(ROW($A2)>$F$6,"",INDEX('BD1'!G$2:G$14,SMALL(IF(cola=1,ROW('BD1'!$C$2:$C$14)-1),ROW($A2)))),"no ref")} | I10: {=IFERROR(IF(ROW($A2)>$F$6,"",INDEX('BD1'!H$2:H$14,SMALL(IF(cola=1,ROW('BD1'!$C$2:$C$14)-1),ROW($A2)))),"no ref")} | J10: {=IFERROR(IF(ROW($A2)>$F$6,"",INDEX('BD1'!I$2:I$14,SMALL(IF(cola=1,ROW('BD1'!$C$2:$C$14)-1),ROW($A2)))),"no ref")}
D11: {=IFERROR(IF(ROW($A3)>$F$6,"",INDEX('BD1'!C$2:C$14,SMALL(IF(cola=1,ROW('BD1'!$C$2:$C$14)-1),ROW($A3)))),"no ref")} | E11: {=IFERROR(IF(ROW($A3)>$F$6,"",INDEX('BD1'!D$2:D$14,SMALL(IF(cola=1,ROW('BD1'!$C$2:$C$14)-1),ROW($A3)))),"no ref")} | F11: {=IFERROR(IF(ROW($A3)>$F$6,"",INDEX('BD1'!E$2:E$14,SMALL(IF(cola=1,ROW('BD1'!$C$2:$C$14)-1),ROW($A3)))),"no ref")} | G11: {=IFERROR(IF(ROW($A3)>$F$6,"",INDEX('BD1'!F$2:F$14,SMALL(IF(cola=1,ROW('BD1'!$C$2:$C$14)-1),ROW($A3)))),"no ref")} | H11: {=IFERROR(IF(ROW($A3)>$F$6,"",INDEX('BD1'!G$2:G$14,SMALL(IF(cola=1,ROW('BD1'!$C$2:$C$14)-1),ROW($A3)))),"no ref")} | I11: {=IFERROR(IF(ROW($A3)>$F$6,"",INDEX('BD1'!H$2:H$14,SMALL(IF(cola=1,ROW('BD1'!$C$2:$C$14)-1),ROW($A3)))),"no ref")} | J11: {=IFERROR(IF(ROW($A3)>$F$6,"",INDEX('BD1'!I$2:I$14,SMALL(IF(cola=1,ROW('BD1'!$C$2:$C$14)-1),ROW($A3)))),"no ref")}
D12: {=IFERROR(IF(ROW($A4)>$F$6,"",INDEX('BD1'!C$2:C$14,SMALL(IF(cola=1,ROW('BD1'!$C$2:$C$14)-1),ROW($A4)))),"no ref")} | E12: {=IFERROR(IF(ROW($A4)>$F$6,"",INDEX('BD1'!D$2:D$14,SMALL(IF(cola=1,ROW('BD1'!$C$2:$C$14)-1),ROW($A4)))),"no ref")} | F12: {=IFERROR(IF(ROW($A4)>$F$6,"",INDEX('BD1'!E$2:E$14,SMALL(IF(cola=1,ROW('BD1'!$C$2:$C$14)-1),ROW($A4)))),"no ref")} | G12: {=IFERROR(IF(ROW($A4)>$F$6,"",INDEX('BD1'!F$2:F$14,SMALL(IF(cola=1,ROW('BD1'!$C$2:$C$14)-1),ROW($A4)))),"no ref")} | H12: {=IFERROR(IF(ROW($A4)>$F$6,"",INDEX('BD1'!G$2:G$14,SMALL(IF(cola=1,ROW('BD1'!$C$2:$C$14)-1),ROW($A4)))),"no ref")} | I12: {=IFERROR(IF(ROW($A4)>$F$6,"",INDEX('BD1'!H$2:H$14,SMALL(IF(cola=1,ROW('BD1'!$C$2:$C$14)-1),ROW($A4)))),"no ref")} | J12: {=IFERROR(IF(ROW($A4)>$F$6,"",INDEX('BD1'!I$2:I$14,SMALL(IF(cola=1,ROW('BD1'!$C$2:$C$14)-1),ROW($A4)))),"no ref")}
D13: {=IFERROR(IF(ROW($A5)>$F$6,"",INDEX('BD1'!C$2:C$14,SMALL(IF(cola=1,ROW('BD1'!$C$2:$C$14)-1),ROW($A5)))),"no ref")} | E13: {=IFERROR(IF(ROW($A5)>$F$6,"",INDEX('BD1'!D$2:D$14,SMALL(IF(cola=1,ROW('BD1'!$C$2:$C$14)-1),ROW($A5)))),"no ref")} | F13: {=IFERROR(IF(ROW($A5)>$F$6,"",INDEX('BD1'!E$2:E$14,SMALL(IF(cola=1,ROW('BD1'!$C$2:$C$14)-1),ROW($A5)))),"no ref")} | G13: {=IFERROR(IF(ROW($A5)>$F$6,"",INDEX('BD1'!F$2:F$14,SMALL(IF(cola=1,ROW('BD1'!$C$2:$C$14)-1),ROW($A5)))),"no ref")} | H13: {=IFERROR(IF(ROW($A5)>$F$6,"",INDEX('BD1'!G$2:G$14,SMALL(IF(cola=1,ROW('BD1'!$C$2:$C$14)-1),ROW($A5)))),"no ref")} | I13: {=IFERROR(IF(ROW($A5)>$F$6,"",INDEX('BD1'!H$2:H$14,SMALL(IF(cola=1,ROW('BD1'!$C$2:$C$14)-1),ROW($A5)))),"no ref")} | J13: {=IFERROR(IF(ROW($A5)>$F$6,"",INDEX('BD1'!I$2:I$14,SMALL(IF(cola=1,ROW('BD1'!$C$2:$C$14)-1),ROW($A5)))),"no ref")}
D14: {=IFERROR(IF(ROW($A6)>$F$6,"",INDEX('BD1'!C$2:C$14,SMALL(IF(cola=1,ROW('BD1'!$C$2:$C$14)-1),ROW($A6)))),"no ref")} | E14: {=IFERROR(IF(ROW($A6)>$F$6,"",INDEX('BD1'!D$2:D$14,SMALL(IF(cola=1,ROW('BD1'!$C$2:$C$14)-1),ROW($A6)))),"no ref")} | F14: {=IFERROR(IF(ROW($A6)>$F$6,"",INDEX('BD1'!E$2:E$14,SMALL(IF(cola=1,ROW('BD1'!$C$2:$C$14)-1),ROW($A6)))),"no ref")} | G14: {=IFERROR(IF(ROW($A6)>$F$6,"",INDEX('BD1'!F$2:F$14,SMALL(IF(cola=1,ROW('BD1'!$C$2:$C$14)-1),ROW($A6)))),"no ref")} | H14: {=IFERROR(IF(ROW($A6)>$F$6,"",INDEX('BD1'!G$2:G$14,SMALL(IF(cola=1,ROW('BD1'!$C$2:$C$14)-1),ROW($A6)))),"no ref")} | I14: {=IFERROR(IF(ROW($A6)>$F$6,"",INDEX('BD1'!H$2:H$14,SMALL(IF(cola=1,ROW('BD1'!$C$2:$C$14)-1),ROW($A6)))),"no ref")} | J14: {=IFERROR(IF(ROW($A6)>$F$6,"",INDEX('BD1'!I$2:I$14,SMALL(IF(cola=1,ROW('BD1'!$C$2:$C$14)-1),ROW($A6)))),"no ref")}
D15: {=IFERROR(IF(ROW($A7)>$F$6,"",INDEX('BD1'!C$2:C$14,SMALL(IF(cola=1,ROW('BD1'!$C$2:$C$14)-1),ROW($A7)))),"no ref")} | E15: {=IFERROR(IF(ROW($A7)>$F$6,"",INDEX('BD1'!D$2:D$14,SMALL(IF(cola=1,ROW('BD1'!$C$2:$C$14)-1),ROW($A7)))),"no ref")} | F15: {=IFERROR(IF(ROW($A7)>$F$6,"",INDEX('BD1'!E$2:E$14,SMALL(IF(cola=1,ROW('BD1'!$C$2:$C$14)-1),ROW($A7)))),"no ref")} | G15: {=IFERROR(IF(ROW($A7)>$F$6,"",INDEX('BD1'!F$2:F$14,SMALL(IF(cola=1,ROW('BD1'!$C$2:$C$14)-1),ROW($A7)))),"no ref")} | H15: {=IFERROR(IF(ROW($A7)>$F$6,"",INDEX('BD1'!G$2:G$14,SMALL(IF(cola=1,ROW('BD1'!$C$2:$C$14)-1),ROW($A7)))),"no ref")} | I15: {=IFERROR(IF(ROW($A7)>$F$6,"",INDEX('BD1'!H$2:H$14,SMALL(IF(cola=1,ROW('BD1'!$C$2:$C$14)-1),ROW($A7)))),"no ref")} | J15: {=IFERROR(IF(ROW($A7)>$F$6,"",INDEX('BD1'!I$2:I$14,SMALL(IF(cola=1,ROW('BD1'!$C$2:$C$14)-1),ROW($A7)))),"no ref")}
D16: {=IFERROR(IF(ROW($A8)>$F$6,"",INDEX('BD1'!C$2:C$14,SMALL(IF(cola=1,ROW('BD1'!$C$2:$C$14)-1),ROW($A8)))),"no ref")} | E16: {=IFERROR(IF(ROW($A8)>$F$6,"",INDEX('BD1'!D$2:D$14,SMALL(IF(cola=1,ROW('BD1'!$C$2:$C$14)-1),ROW($A8)))),"no ref")} | F16: {=IFERROR(IF(ROW($A8)>$F$6,"",INDEX('BD1'!E$2:E$14,SMALL(IF(cola=1,ROW('BD1'!$C$2:$C$14)-1),ROW($A8)))),"no ref")} | G16: {=IFERROR(IF(ROW($A8)>$F$6,"",INDEX('BD1'!F$2:F$14,SMALL(IF(cola=1,ROW('BD1'!$C$2:$C$14)-1),ROW($A8)))),"no ref")} | H16: {=IFERROR(IF(ROW($A8)>$F$6,"",INDEX('BD1'!G$2:G$14,SMALL(IF(cola=1,ROW('BD1'!$C$2:$C$14)-1),ROW($A8)))),"no ref")} | I16: {=IFERROR(IF(ROW($A8)>$F$6,"",INDEX('BD1'!H$2:H$14,SMALL(IF(cola=1,ROW('BD1'!$C$2:$C$14)-1),ROW($A8)))),"no ref")} | J16: {=IFERROR(IF(ROW($A8)>$F$6,"",INDEX('BD1'!I$2:I$14,SMALL(IF(cola=1,ROW('BD1'!$C$2:$C$14)-1),ROW($A8)))),"no ref")}
D17: {=IFERROR(IF(ROW($A9)>$F$6,"",INDEX('BD1'!C$2:C$14,SMALL(IF(cola=1,ROW('BD1'!$C$2:$C$14)-1),ROW($A9)))),"no ref")} | E17: {=IFERROR(IF(ROW($A9)>$F$6,"",INDEX('BD1'!D$2:D$14,SMALL(IF(cola=1,ROW('BD1'!$C$2:$C$14)-1),ROW($A9)))),"no ref")} | F17: {=IFERROR(IF(ROW($A9)>$F$6,"",INDEX('BD1'!E$2:E$14,SMALL(IF(cola=1,ROW('BD1'!$C$2:$C$14)-1),ROW($A9)))),"no ref")} | G17: {=IFERROR(IF(ROW($A9)>$F$6,"",INDEX('BD1'!F$2:F$14,SMALL(IF(cola=1,ROW('BD1'!$C$2:$C$14)-1),ROW($A9)))),"no ref")} | H17: {=IFERROR(IF(ROW($A9)>$F$6,"",INDEX('BD1'!G$2:G$14,SMALL(IF(cola=1,ROW('BD1'!$C$2:$C$14)-1),ROW($A9)))),"no ref")} | I17: {=IFERROR(IF(ROW($A9)>$F$6,"",INDEX('BD1'!H$2:H$14,SMALL(IF(cola=1,ROW('BD1'!$C$2:$C$14)-1),ROW($A9)))),"no ref")} | J17: {=IFERROR(IF(ROW($A9)>$F$6,"",INDEX('BD1'!I$2:I$14,SMALL(IF(cola=1,ROW('BD1'!$C$2:$C$14)-1),ROW($A9)))),"no ref")}
D18: {=IFERROR(IF(ROW($A10)>$F$6,"",INDEX('BD1'!C$2:C$14,SMALL(IF(cola=1,ROW('BD1'!$C$2:$C$14)-1),ROW($A10)))),"no ref")} | E18: {=IFERROR(IF(ROW($A10)>$F$6,"",INDEX('BD1'!D$2:D$14,SMALL(IF(cola=1,ROW('BD1'!$C$2:$C$14)-1),ROW($A10)))),"no ref")} | F18: {=IFERROR(IF(ROW($A10)>$F$6,"",INDEX('BD1'!E$2:E$14,SMALL(IF(cola=1,ROW('BD1'!$C$2:$C$14)-1),ROW($A10)))),"no ref")} | G18: {=IFERROR(IF(ROW($A10)>$F$6,"",INDEX('BD1'!F$2:F$14,SMALL(IF(cola=1,ROW('BD1'!$C$2:$C$14)-1),ROW($A10)))),"no ref")} | H18: {=IFERROR(IF(ROW($A10)>$F$6,"",INDEX('BD1'!G$2:G$14,SMALL(IF(cola=1,ROW('BD1'!$C$2:$C$14)-1),ROW($A10)))),"no ref")} | I18: {=IFERROR(IF(ROW($A10)>$F$6,"",INDEX('BD1'!H$2:H$14,SMALL(IF(cola=1,ROW('BD1'!$C$2:$C$14)-1),ROW($A10)))),"no ref")} | J18: {=IFERROR(IF(ROW($A10)>$F$6,"",INDEX('BD1'!I$2:I$14,SMALL(IF(cola=1,ROW('BD1'!$C$2:$C$14)-1),ROW($A10)))),"no ref")}

Sheet Feuil3
