Workbook

Sheet Feuil1
A1: Date de création | B1: Comptage | C1: Date de réponse demandée par le client (à défaut = C+15j) | D1: Nombre de jours restants (réponse demandée par client) | E1: Date de réponse commerciale | F1: Délai de réponse | G1: Avance Retard | H1: Date besoin devis (à défaut D-2) | I1: Nombre de jours restants (devis) | J1: date de réponse devis | K1: Retard | L1: Quote leader | M1: Client | N1: programme | O1: Code affaire | P1: Désignation | Q1: Travaux | R1: Pays | S1: AEMG | T1: $Value ($K/Y) Total Market
A2: 41568 | B2: =IF(A2="","",YEAR(A2)&"-"&SUMPRODUCT(N(YEAR($A$2:A2)=YEAR(A2)))) -> 2013-1 | C2: 41592 | D2: =IF(E2<>"","",C2-TODAY()) | E2: 41591 | F2: =E2-A2&" jours" -> 23 jours | G2: =IF(E2<>"",E2-C2,"") -> -1 | H2: 41586 | I2: =IF(J2<>"","",H2-TODAY()) -> 8 | K2: =IF(J2<>"",J2-H2,"") | L2: MFB | R2: France | S2: NON
A3: 41569 | B3: =IF(A3="","",YEAR(A3)&"-"&SUMPRODUCT(N(YEAR($A$2:A3)=YEAR(A3)))) -> 2013-2 | C3: 41582 | D3: =IF(E3<>"","",C3-TODAY()) | E3: 41584 | F3: =E3-A3&" jours" -> 15 jours | G3: =IF(E3<>"",E3-C3,"") -> 2 | H3: 41572 | I3: =IF(J3<>"","",H3-TODAY()) -> -6 | K3: =IF(J3<>"",J3-H3,"") | L3: MFB | R3: France | S3: NON
A4: 41572 | B4: =IF(A4="","",YEAR(A4)&"-"&SUMPRODUCT(N(YEAR($A$2:A4)=YEAR(A4)))) -> 2013-3 | C4: 41583 | D4: =IF(E4<>"","",C4-TODAY()) | E4: 41579 | F4: =E4-A4&" jours" -> 7 jours | G4: =IF(E4<>"",E4-C4,"") -> -4 | H4: 41582 | I4: =IF(J4<>"","",H4-TODAY()) -> 4 | K4: =IF(J4<>"",J4-H4,"") | L4: MFB | R4: france | S4: NON
A5: 41572 | B5: =IF(A5="","",YEAR(A5)&"-"&SUMPRODUCT(N(YEAR($A$2:A5)=YEAR(A5)))) -> 2013-4 | C5: 41586 | D5: =IF(E5<>"","",C5-TODAY()) | E5: 41580 | F5: =E5-A5&" jours" -> 8 jours | G5: =IF(E5<>"",E5-C5,"") -> -6 | H5: 41585 | I5: =IF(J5<>"","",H5-TODAY()) -> 7 | K5: =IF(J5<>"",J5-H5,"") | L5: MFB | R5: France | S5: NON
A6: 41572 | B6: =IF(A6="","",YEAR(A6)&"-"&SUMPRODUCT(N(YEAR($A$2:A6)=YEAR(A6)))) -> 2013-5 | C6: 41586 | D6: =IF(E6<>"","",C6-TODAY()) | E6: 41592 | F6: =E6-A6&" jours" -> 20 jours | G6: =IF(E6<>"",E6-C6,"") -> 6 | H6: 41585 | I6: =IF(J6<>"","",H6-TODAY()) -> 7 | K6: =IF(J6<>"",J6-H6,"") | L6: MFB | R6: France | S6: NON
A7: 41572 | B7: =IF(A7="","",YEAR(A7)&"-"&SUMPRODUCT(N(YEAR($A$2:A7)=YEAR(A7)))) -> 2013-6 | C7: 41586 | D7: =IF(E7<>"","",C7-TODAY()) | E7: 41596 | F7: =E7-A7&" jours" -> 24 jours | G7: =IF(E7<>"",E7-C7,"") -> 10 | H7: 41585 | I7: =IF(J7<>"","",H7-TODAY()) -> 7 | K7: =IF(J7<>"",J7-H7,"") | L7: MFB | R7: France | S7: NON
A8: 41640 | B8: =IF(A8="","",YEAR(A8)&"-"&SUMPRODUCT(N(YEAR($A$2:A8)=YEAR(A8)))) -> 2014-1 | C8: 41644 | D8: =IF(E8<>"","",C8-TODAY()) | E8: 41645 | F8: =E8-A8&" jours" -> 5 jours | G8: =IF(E8<>"",E8-C8,"") -> 1 | K8: =IF(J8<>"",J8-H8,"")
A9: 41701 | B9: =IF(A9="","",YEAR(A9)&"-"&SUMPRODUCT(N(YEAR($A$2:A9)=YEAR(A9)))) -> 2014-2 | C9: 41713 | D9: =IF(E9<>"","",C9-TODAY()) | E9: 41711 | F9: =E9-A9&" jours" -> 10 jours | G9: =IF(E9<>"",E9-C9,"") -> -2
A10: 41703 | B10: =IF(A10="","",YEAR(A10)&"-"&SUMPRODUCT(N(YEAR($A$2:A10)=YEAR(A10)))) -> 2014-3 | C10: 41723 | D10: =IF(E10<>"","",C10-TODAY()) | E10: 41717 | F10: =E10-A10&" jours" -> 14 jours | G10: =IF(E10<>"",E10-C10,"") -> -6
A11: 41708 | B11: =IF(A11="","",YEAR(A11)&"-"&SUMPRODUCT(N(YEAR($A$2:A11)=YEAR(A11)))) -> 2014-4 | C11: 41731 | D11: =IF(E11<>"","",C11-TODAY()) | E11: 41732 | F11: =E11-A11&" jours" -> 24 jours | G11: =IF(E11<>"",E11-C11,"") -> 1
A12: 41713 | B12: =IF(A12="","",YEAR(A12)&"-"&SUMPRODUCT(N(YEAR($A$2:A12)=YEAR(A12)))) -> 2014-5 | C12: 41754 | D12: =IF(E12<>"","",C12-TODAY()) | E12: 41753 | F12: =E12-A12&" jours" -> 40 jours | G12: =IF(E12<>"",E12-C12,"") -> -1

Sheet Feuil2
A1: Statistiques réponses commerciales
B2: moyenne par rapport à la date butoire (en jour) | C2: Nombre de réponses dans les délais | D2: Nombre de réponses hors délais | E2: Pourcentage de réponses dans les délais | F2: Moyenne délais de réponse
A3: FY13-Q3 | B3: =AVERAGEIFS(Feuil1!G:G,Feuil1!A:A,">30/09/2013",Feuil1!A:A,"<01/01/2014") -> 1.1666667 | C3: =COUNTIFS(Feuil1!A:A,">30/09/2013",Feuil1!A:A,"<01/01/2014",Feuil1!G:G,"<1") -> 3 | D3: =COUNTIFS(Feuil1!A:A,">30/09/2013",Feuil1!A:A,"<01/01/2014",Feuil1!G:G,">0") -> 3 | E3: =D3/(D3+C3) -> 0.5 | F3: =AVERAGE(Feuil1!E:E-Feuil1!A:A) -> 15
A4: FY13-Q4 | B4: =AVERAGEIFS(Feuil1!G:G,Feuil1!A:A,">31/12/2013",Feuil1!A:A,"<01/04/2014") -> -1.4 | C4: =COUNTIFS(Feuil1!A:A,">31/12/2013",Feuil1!A:A,"<01/04/2014",Feuil1!G:G,"<1") -> 3 | D4: =COUNTIFS(Feuil1!A:A,">31/12/2013",Feuil1!A:A,"<01/04/2014",Feuil1!G:G,">0") -> 2 | E4: =D4/(D4+C4) -> 0.4

Sheet Feuil3
