Workbook

Sheet base_com
A16: par lots de 40 contrats | E16: PAR LOTS DE 80 CONTRATS
A17: de | B17: à | C17: % | D17: prime | E17: de | F17: à | G17: % | H17: prime
A18: 0 | B18: 1750 | C18: 0.05 | E18: 0 | F18: 3500 | G18: 0.05
A19: 1751 | B19: 2250 | C19: 0.07 | E19: 3501 | F19: 4500 | G19: 0.07
A20: 2251 | B20: 2750 | C20: 0.08 | E20: 4501 | F20: 5500 | G20: 0.08
A21: 2751 | B21: 2950 | C21: 0.08 | D21: 15 | E21: 5501 | F21: 5900 | G21: 0.08 | H21: 25
A22: 2951 | B22: 3250 | C22: 0.1 | D22: 25 | E22: 5901 | F22: 6500 | G22: 0.1 | H22: 50
A23: 3251 | B23: 3500 | C23: 0.12 | D23: 50 | E23: 6501 | F23: 7000 | G23: 0.12 | H23: 100
A24: 3501 | B24: 4000 | C24: 0.12 | D24: 75 | E24: 7001 | F24: 8000 | G24: 0.12 | H24: 150
A25: 4001 | B25: 4375 | C25: 0.13 | D25: 100 | E25: 8001 | F25: 8750 | G25: 0.13 | H25: 200
A26: 4376 | B26: 4375 | C26: 0.13 | D26: 125 | E26: 8751 | G26: 0.13 | H26: 250

Sheet 30 SEPT
A2: LOT | B2: DATE | C2: CONTRAT | D2: LOTS DE 40 CONTRATS | F2: LOTS DE 80 CONTRATS | H2: COM DÉJÀ VERSEE | I2: SOLDE | J2: PRIME | L2: A REGLER
D3: C.A | E3: COM | F3: C.A | G3: COM | J3: 40 contrats | K3: 80 contrats
A4: 10 | B4: 41522 | C4: 154600 | D4: 0 | F4: 1661
A5: 10 | B5: 41541 | C5: 155000 | D5: 0 | F5: 1063
D6: 0 | F6: 0
A7: total lot 10 | D7: =SUM(D4:D6) -> 0 | E7: =IF(D7="","",D7*VLOOKUP(D7,base_com!$A$18:$C$26,3,1)) -> 0 | F7: =SUM(F4:F6) -> 2724 | G7: =IF(F7="","",F7*VLOOKUP(F7,base_com!$E$18:$G$26,3,1)) -> 136.2 | H7: 0 | I7: =E7+G7-H7 -> 136.2 | J7: =IF(D7="","",VLOOKUP(D7,base_com!$A$18:$D$26,4,1)) -> 0 | K7: =IF(F7="","",VLOOKUP(F7,base_com!$E$18:$H$26,4,1)) -> 0 | L7: =I7+J7+K7 -> 136.2
A8: 15 | B8: 41541 | C8: 155631 | D8: 2235 | F8: 0
D9: 0 | F9: 0
A10: total lot 15 | D10: =SUM(D8:D9) -> 2235 | E10: =IF(D10="","",D10*VLOOKUP(D10,base_com!$A$18:$C$26,3,1)) -> 156.45 | F10: =SUM(F8:F9) -> 0 | G10: =IF(F10="","",F10*VLOOKUP(F10,base_com!$E$18:$G$26,3,1)) -> 0 | H10: 0 | I10: =E10+G10-H10 -> 156.45 | J10: =IF(D10="","",VLOOKUP(D10,base_com!$A$18:$D$26,4,1)) -> 0 | K10: =IF(F10="","",VLOOKUP(F10,base_com!$E$18:$H$26,4,1)) -> 0 | L10: =I10+J10+K10 -> 156.45
A11: 20 | B11: 41534 | C11: 155987 | D11: 1908 | F11: 0
A12: 20 | B12: 41531 | C12: 155990 | D12: 3450 | F12: 0 | G12: =IF(F12="","",F12*VLOOKUP(F12,base_com!$E$18:$G$26,3,1)) -> 0
A13: 20 | B13: 41532 | C13: 155800 | D13: 2450 | F13: 0
D14: 0 | F14: 0
A15: total lot20 | D15: =SUM(D11:D14) -> 7808 | E15: =IF(D15="","",D15*VLOOKUP(D15,base_com!$A$18:$C$26,3,1)) -> 1015.04 | F15: =SUM(F11:F14) -> 0 | G15: =IF(F15="","",F15*VLOOKUP(F15,base_com!$E$18:$G$26,3,1)) -> 0 | H15: 0 | I15: =E15+G15-H15 -> 1015.04 | J15: =IF(D15="","",VLOOKUP(D15,base_com!$A$18:$D$26,4,1)) -> 125 | K15: =IF(F15="","",VLOOKUP(F15,base_com!$E$18:$H$26,4,1)) -> 0 | L15: =I15+J15+K15 -> 1140.04
A16: 22 | B16: 41521 | C16: 155860 | D16: 1589 | F16: 0
A17: 22 | B17: 41529 | C17: 155894 | D17: 1240 | F17: 0
D18: 0 | F18: 0
A19: total 22 | D19: =SUM(D16:D18) -> 2829 | E19: =IF(D19="","",D19*VLOOKUP(D19,base_com!$A$18:$C$26,3,1)) -> 226.32 | F19: =SUM(F16:F18) -> 0 | G19: =IF(F19="","",F19*VLOOKUP(F19,base_com!$E$18:$G$26,3,1)) -> 0 | H19: 0 | I19: =E19+G19-H19 -> 226.32 | J19: =IF(D19="","",VLOOKUP(D19,base_com!$A$18:$D$26,4,1)) -> 15 | K19: =IF(F19="","",VLOOKUP(F19,base_com!$E$18:$H$26,4,1)) -> 0 | L19: =I19+J19+K19 -> 241.32
A20: 26 | B20: 41527 | C20: 155960 | D20: 4448 | F20: 0
A21: 26 | B21: 41543 | C21: 155919 | D21: 2846 | F21: 0
D22: 0 | F22: 0
D23: 0 | F23: 0
D24: 0 | F24: 0
D25: 0 | F25: 0
A26: TOTAL LOT 26 | D26: =SUM(D20:D25) -> 7294 | E26: =IF(D26="","",D26*VLOOKUP(D26,base_com!$A$18:$C$26,3,1)) -> 948.22 | F26: =SUM(F20:F25) -> 0 | G26: =G6+G9+G14+G18+G25 -> 0 | H26: 0 | I26: =E26+G26-H26 -> 948.22 | J26: =IF(D26="","",VLOOKUP(D26,base_com!$A$18:$D$26,4,1)) -> 125 | K26: =IF(F26="","",VLOOKUP(F26,base_com!$E$18:$H$26,4,1)) -> 0 | L26: =I26+J26+K26 -> 1073.22
D27: =D7+D10+D15+D19+D26 -> 20166 | E27: =E7+E10+E15+E19+E26 -> 2346.03 | F27: =F7+F10+F15+F19+F26 -> 2724 | G27: =G7+G10+G15+G19+G26 -> 136.2 | H27: =H7+H10+H15+H19+H26 -> 0 | I27: =I7+I10+I15+I19+I26 -> 2482.23 | J27: =J7+J10+J15+J19+J26 -> 265 | K27: =K7+K10+K15+K19+K26 -> 0 | L27: =L7+L10+L15+L19+L26 -> 2747.23

Sheet 31 OCT
A2: LOT | B2: DATE | C2: CONTRAT | D2: LOTS DE 40 CONTRATS | F2: LOTS DE 80 CONTRATS | H2: COM DÉJÀ VERSEE | I2: SOLDE | J2: PRIME | L2: A REGLER
D3: C.A | E3: COM | F3: C.A | G3: COM | J3: 40 contrats | K3: 80 contrats
A4: 15 | B4: 41541 | C4: 155631 | D4: 2235 | F4: 0
A5: 15 | B5: 41557 | C5: 155463 | D5: 2362 | F5: 0
D6: 0 | F6: 0
A7: total lot 15 | D7: =SUM(D4:D6) -> 4597 | E7: =IF(D7="","",D7*VLOOKUP(D7,base_com!$A$18:$C$26,3,1)) -> 597.61 | F7: =SUM(F4:F6) -> 0 | G7: =IF(F7="","",F7*VLOOKUP(F7,base_com!$E$18:$G$26,3,1)) -> 0 | H7: 156.45 | I7: =E7+G7-H7 -> 441.16 | J7: =IF(D7="","",VLOOKUP(D7,base_com!$A$18:$D$26,4,1)) -> 125 | K7: =IF(F7="","",VLOOKUP(F7,base_com!$E$18:$H$26,4,1)) -> 0 | L7: =I7+J7+K7 -> 566.16
A8: 20 | B8: 41534 | C8: 155987 | D8: 1908 | F8: 0
A9: 20 | B9: 41531 | C9: 155990 | D9: 3450 | F9: 0
A10: 20 | B10: 41532 | C10: 155800 | D10: 2450 | F10: 0
A11: 20 | B11: 41565 | C11: 155649 | D11: 2450 | F11: 0
A12: 20 | B12: 41577 | C12: 156086 | D12: 1051 | F12: 0
A13: 20 | B13: 41565 | C13: 155649 | D13: 2450 | E13: =SUM(A13:D13) -> 199684 | F13: 0
A14: total lot 20 | D14: =SUM(D8:D13) -> 13759 | E14: =IF(D14="","",D14*VLOOKUP(D14,base_com!$A$18:$C$26,3,1)) -> 1788.67 | F14: =SUM(F8:F13) -> 0 | G14: =IF(F14="","",F14*VLOOKUP(F14,base_com!$E$18:$G$26,3,1)) -> 0 | H14: 1140.04 | I14: =E14+G14-H14 -> 648.63 | J14: =IF(D14="","",VLOOKUP(D14,base_com!$A$18:$D$26,4,1)) -> 125 | K14: =IF(F14="","",VLOOKUP(F14,base_com!$E$18:$H$26,4,1)) -> 0 | L14: =I14+J14+K14 -> 773.63
A15: 50 | B15: 41571 | C15: 160508 | D15: 2038 | F15: 0
A16: 50 | B16: 41577 | C16: 160602 | D16: 2134 | F16: 0
A17: 50 | B17: 41556 | C17: 154868 | D17: 2038 | F17: 0
A18: 50 | B18: 41565 | C18: 155829 | D18: 2348 | F18: 0
F19: 0
A20: total lot 50 | D20: =SUM(D15:D19) -> 8558 | E20: =IF(D20="","",D20*VLOOKUP(D20,base_com!$A$18:$C$26,3,1)) -> 1112.54 | F20: =SUM(F15:F19) -> 0 | G20: =IF(F20="","",F20*VLOOKUP(F20,base_com!$E$18:$G$26,3,1)) -> 0 | H20: 0 | I20: =E20+G20-H20 -> 1112.54 | J20: =IF(D20="","",VLOOKUP(D20,base_com!$A$18:$D$26,4,1)) -> 125 | K20: =IF(F20="","",VLOOKUP(F20,base_com!$E$18:$H$26,4,1)) -> 0 | L20: =I20+J20+K20 -> 1237.54
A21: 26 | B21: 41527 | C21: 155960 | D21: 4448 | F21: 0
A22: 26 | B22: 41543 | C22: 155919 | D22: 2846 | F22: 0
A23: 26 | B23: 41562 | C23: 163205 | D23: 1560 | F23: 0
D24: 0 | F24: 0
A25: total lot 26 | D25: =SUM(D21:D24) -> 8854 | E25: =IF(D25="","",D25*VLOOKUP(D25,base_com!$A$18:$C$26,3,1)) -> 1151.02 | F25: =SUM(F21:F24) -> 0 | G25: =IF(F25="","",F25*VLOOKUP(F25,base_com!$E$18:$G$26,3,1)) -> 0 | H25: 1073.22 | I25: =E25+G25-H25 -> 77.8 | J25: =IF(D25="","",VLOOKUP(D25,base_com!$A$18:$D$26,4,1)) -> 125 | K25: =IF(F25="","",VLOOKUP(F25,base_com!$E$18:$H$26,4,1)) -> 0 | L25: =I25+J25+K25 -> 202.8
A26: 52 | B26: 41568 | C26: 155705 | D26: 2038 | F26: 0
D27: 0 | F27: 0
A28: total lot 52 | D28: =SUM(D26:D27) -> 2038 | E28: =IF(D28="","",D28*VLOOKUP(D28,base_com!$A$18:$C$26,3,1)) -> 142.66 | F28: =SUM(F26:F27) -> 0 | G28: =IF(F28="","",F28*VLOOKUP(F28,base_com!$E$18:$G$26,3,1)) -> 0 | I28: =E28+G28-H28 -> 142.66 | J28: =IF(D28="","",VLOOKUP(D28,base_com!$A$18:$D$26,4,1)) -> 0 | K28: =IF(F28="","",VLOOKUP(F28,base_com!$E$18:$H$26,4,1)) -> 0 | L28: =I28+J28+K28 -> 142.66
D29: =D7+D14+D20+D25+D28 -> 37806 | E29: =E7+E14+E20+E25+E28 -> 4792.5 | F29: =F7+F14+F20+F25+F28 -> 0 | G29: =G7+G14+G20+G25+G28 -> 0 | H29: =H7+H14+H20+H25+H28 -> 2369.71 | I29: =I7+I14+I20+I25+I28 -> 2422.79 | J29: =J7+J14+J20+J25+J28 -> 500 | K29: =K7+K14+K20+K25+K28 -> 0 | L29: =L7+L14+L20+L25+L28 -> 2922.79

Sheet 30 nov
A2: LOT | B2: DATE | C2: CONTRAT | D2: LOTS DE 40 CONTRATS | F2: LOTS DE 80 CONTRATS | H2: COM DÉJÀ VERSEE | I2: SOLDE | J2: PRIME | L2: A REGLER
D3: C.A | E3: COM | F3: C.A | G3: COM | J3: 40 contrats | K3: 80 contrats
A4: 60 | B4: 41582 | C4: 160569 | D4: 2000 | F4: 0
D5: 0 | F5: 0
D6: 0 | F6: 0
A7: total lot 60 | D7: =SUM(D4:D6) -> 2000 | E7: =IF(D7="","",D7*VLOOKUP(D7,base_com!$A$18:$C$26,3,1)) -> 140 | F7: =SUM(F4:F6) -> 0 | G7: =IF(F7="","",F7*VLOOKUP(F7,base_com!$E$18:$G$26,3,1)) -> 0 | H7: 0 | I7: =E7+G7-H7 -> 140 | J7: =IF(D7="","",VLOOKUP(D7,base_com!$A$18:$D$26,4,1)) -> 0 | K7: =IF(F7="","",VLOOKUP(F7,base_com!$E$18:$H$26,4,1)) -> 0 | L7: =I7+J7+K7 -> 140
A8: 15 | B8: 41541 | C8: 155631 | D8: 2235 | F8: 0
A9: 15 | B9: 41557 | C9: 1554635 | D9: 2362 | F9: 0
A10: 15 | B10: 41603 | C10: 160578 | D10: 4000 | F10: 0
D11: 0 | F11: 0
D12: 0 | F12: 0
A13: total lot 15 | D13: =SUM(D8:D12) -> 8597 | E13: =IF(D13="","",D13*VLOOKUP(D13,base_com!$A$18:$C$26,3,1)) -> 1117.61 | F13: =SUM(F8:F12) -> 0 | G13: =IF(F13="","",F13*VLOOKUP(F13,base_com!$E$18:$G$26,3,1)) -> 0 | H13: 722.61 | I13: =E13+G13-H13 -> 395 | J13: =IF(D13="","",VLOOKUP(D13,base_com!$A$18:$D$26,4,1)) -> 125 | K13: =IF(F13="","",VLOOKUP(F13,base_com!$E$18:$H$26,4,1)) -> 0 | L13: =I13+J13 -> 520
A14: 61 | B14: 41603 | C14: 163879 | D14: 2000 | F14: 0
A15: 61 | B15: 41604 | C15: 163880 | D15: 3500 | F15: 0 | G15: =IF(F15="","",F15*VLOOKUP(F15,base_com!$E$18:$G$26,3,1)) -> 0
A16: 61 | B16: 41605 | C16: 163890 | D16: 4250 | F16: 0
D17: 0 | F17: 0
A18: total lot 61 | D18: =SUM(D14:D17) -> 9750 | E18: =IF(D18="","",D18*VLOOKUP(D18,base_com!$A$18:$C$26,3,1)) -> 1267.5 | F18: =SUM(F14:F17) -> 0 | G18: =IF(F18="","",F18*VLOOKUP(F18,base_com!$E$18:$G$26,3,1)) -> 0 | H18: 52.55 | I18: =E18+G18-H18 -> 1214.95 | J18: =IF(D18="","",VLOOKUP(D18,base_com!$A$18:$D$26,4,1)) -> 125 | K18: =IF(F18="","",VLOOKUP(F18,base_com!$E$18:$H$26,4,1)) -> 0 | L18: =I18+J18+K18 -> 1339.95
A19: 20 | B19: 41534 | C19: 155987 | D19: 1908 | F19: 0
A20: 20 | B20: 41531 | C20: 155990 | D20: 3450 | F20: 0
A21: 20 | B21: 41532 | C21: 155800 | D21: 2450
A22: 20 | B22: 41565 | C22: 155659 | D22: 2450
A23: 20 | B23: 41577 | C23: 156086 | D23: 1051
A24: 20 | B24: 41565 | C24: 155659 | D24: 2450 | F24: 0
A25: 20 | B25: 41593 | C25: 203450 | D25: 1586 | F25: 0
A26: TOTAL LOT 20 | D26: =SUM(D19:D25) -> 15345 | E26: =IF(D26="","",D26*VLOOKUP(D26,base_com!$A$18:$C$26,3,1)) -> 1994.85 | F26: =SUM(F19:F25) -> 0 | G26: =IF(F26="","",F26*VLOOKUP(F26,base_com!$E$18:$G$26,3,1)) -> 0 | H26: 1913.67 | I26: =E26+G26-H26 -> 81.18 | J26: =IF(D26="","",VLOOKUP(D26,base_com!$A$18:$D$26,4,1)) -> 125 | K26: =IF(F26="","",VLOOKUP(F26,base_com!$E$18:$H$26,4,1)) -> 0 | L26: =I26+J26+K26 -> 206.18
A27: 50 | B27: 41571 | C27: 160508 | D27: 2038 | F27: 0
A28: 50 | B28: 41577 | C28: 160602 | D28: 2134 | F28: 0
A29: 50 | B29: 41556 | C29: 154868 | D29: 2038 | F29: 0
A30: 50 | B30: 41565 | C30: 155829 | D30: 2348 | F30: 0
A31: 50 | B31: 41606 | C31: 156158 | D31: 4448 | F31: 0
D32: 0 | F32: 0
A33: total lot 50 | D33: =SUM(D27:D32) -> 13006 | E33: =IF(D33="","",D33*VLOOKUP(D33,base_com!$A$18:$C$26,3,1)) -> 1690.78 | F33: =SUM(F27:F32) -> 0 | G33: =IF(F33="","",F33*VLOOKUP(F33,base_com!$E$18:$G$26,3,1)) -> 0 | H33: 1237.54 | I33: =E33+G33-H33 -> 453.24 | J33: =IF(D33="","",VLOOKUP(D33,base_com!$A$18:$D$26,4,1)) -> 125 | K33: =IF(F33="","",VLOOKUP(F33,base_com!$E$18:$H$26,4,1)) -> 0 | L33: =I33+J33+K33 -> 578.24
A34: 66 | B34: 41588 | C34: 190891 | D34: 2300 | F34: 0
A35: 66 | B35: 41591 | C35: 190893 | D35: 2150 | F35: 0
F36: 0
F37: 0
A38: total lot 66 | D38: =SUM(D34:D37) -> 4450 | E38: =IF(D38="","",D38*VLOOKUP(D38,base_com!$A$18:$C$26,3,1)) -> 578.5 | F38: =SUM(F34:F37) -> 0 | G38: =IF(F38="","",F38*VLOOKUP(F38,base_com!$E$18:$G$26,3,1)) -> 0 | I38: =E38+G38-H38 -> 578.5 | J38: =IF(D38="","",VLOOKUP(D38,base_com!$A$18:$D$26,4,1)) -> 125 | K38: =IF(F38="","",VLOOKUP(F38,base_com!$E$18:$H$26,4,1)) -> 0 | L38: =I38+J38+K38 -> 703.5
D39: =D7+D13+D18+D26+D33+D38 -> 53148 | E39: =E7+E13+E18+E26+E33+E38 -> 6789.24 | F39: =F7+F13+F18+F26+F33+F38 -> 0 | G39: =G7+G13+G18+G26+G33+G38 -> 0 | H39: =H7+H13+H18+H26+H33+H38 -> 3926.37 | I39: =I7+I13+I18+I26+I33+I38 -> 2862.87 | J39: =J7+J13+J18+J26+J33+J38 -> 625 | K39: =K7+K13+K18+K26+K33+K38 -> 0 | L39: =L13+#REF!+L18+L26+L33+L38 -> #REF!
B41: lot 15 | C41: com déjà versée | F41: cest la com versée en sept | J41: 156,,45
H42: en oct | J42: 566.16
B44: lot20 | C44: " " | D44: " | F44: c'est la com versée en sept | J44: 1140.04
H45: en oct | J45: 773.63

Sheet 31 dec
A2: LOT | B2: DATE | C2: CONTRAT | D2: LOTS DE 40 CONTRATS | F2: LOTS DE 80 CONTRATS | H2: COM DÉJÀ VERSEE | I2: SOLDE | J2: PRIME | L2: A REGLER
D3: C.A | E3: COM | F3: C.A | G3: COM | J3: 40 contrats | K3: 80 contrats
A4: 60 | B4: 41582 | C4: 160569 | D4: 2000 | F4: 0
A5: 60 | B5: 41611 | C5: 190605 | D5: 1540 | F5: 0
D6: 0 | F6: 0
A7: total lot 60 | D7: =SUM(D4:D6) -> 3540 | E7: =IF(D7="","",D7*VLOOKUP(D7,base_com!$A$18:$C$26,3,1)) -> 424.8 | F7: =SUM(F4:F6) -> 0 | G7: =IF(F7="","",F7*VLOOKUP(F7,base_com!$E$18:$G$26,3,1)) -> 0 | H7: 140 | I7: =E7+G7-H7 -> 284.8 | J7: =IF(D7="","",VLOOKUP(D7,base_com!$A$18:$D$26,4,1)) -> 75 | K7: =IF(F7="","",VLOOKUP(F7,base_com!$E$18:$H$26,4,1)) -> 0 | L7: =I7+J7+K7 -> 359.8
A8: 15 | B8: 41541 | C8: 155631 | D8: 2235 | F8: 0
A9: 15 | B9: 41557 | C9: 1554635 | D9: 2362 | F9: 0
A10: 15 | B10: 41603 | C10: 160578 | D10: 4000 | F10: 0
A11: 15 | B11: 41620 | C11: 185456 | D11: 3250 | F11: 0
D12: 0 | F12: 0
A13: total lot 15 | D13: =SUM(D8:D12) -> 11847 | E13: =IF(D13="","",D13*VLOOKUP(D13,base_com!$A$18:$C$26,3,1)) -> 1540.11 | F13: =SUM(F8:F12) -> 0 | G13: =IF(F13="","",F13*VLOOKUP(F13,base_com!$E$18:$G$26,3,1)) -> 0 | H13: 1242.61 | I13: =E13+G13-H13 -> 297.5 | J13: =IF(D13="","",VLOOKUP(D13,base_com!$A$18:$D$26,4,1)) -> 125 | K13: =IF(F13="","",VLOOKUP(F13,base_com!$E$18:$H$26,4,1)) -> 0 | L13: =I13+J13+K13 -> 422.5
A14: 70 | B14: 41623 | C14: 192205 | D14: 2450 | F14: 0
A15: 70 | B15: 41624 | C15: 192206 | D15: 3560 | F15: 0 | G15: =IF(F15="","",F15*VLOOKUP(F15,base_com!$E$18:$G$26,3,1)) -> 0
D16: 0 | F16: 0
D17: 0 | F17: 0
A18: total lot 70 | D18: =SUM(D14:D17) -> 6010 | E18: =IF(D18="","",D18*VLOOKUP(D18,base_com!$A$18:$C$26,3,1)) -> 781.3 | F18: =SUM(F14:F17) -> 0 | G18: =IF(F18="","",F18*VLOOKUP(F18,base_com!$E$18:$G$26,3,1)) -> 0 | H18: 52.55 | I18: =E18+G18-H18 -> 728.75 | J18: =IF(D18="","",VLOOKUP(D18,base_com!$A$18:$D$26,4,1)) -> 125 | K18: =IF(F18="","",VLOOKUP(F18,base_com!$E$18:$H$26,4,1)) -> 0 | L18: =I18+J18+K18 -> 853.75
A19: 22 | B19: 41527 | C19: 155960 | D19: 4448 | F19: 0
A20: 22 | B20: 41543 | C20: 155919 | D20: 2846 | F20: 0
A21: 22 | B21: 41618 | C21: 235604 | D21: 1350 | F21: 0
D22: 0 | F22: 0
A23: TOTAL LOT 22 | D23: =SUM(D19:D22) -> 8644 | E23: =IF(D23="","",D23*VLOOKUP(D23,base_com!$A$18:$C$26,3,1)) -> 1123.72 | F23: =SUM(F19:F22) -> 0 | G23: =IF(F23="","",F23*VLOOKUP(F23,base_com!$E$18:$G$26,3,1)) -> 0 | H23: 1073.22 | I23: =E23+G23-H23 -> 50.5 | J23: =IF(D23="","",VLOOKUP(D23,base_com!$A$18:$D$26,4,1)) -> 125 | K23: =IF(F23="","",VLOOKUP(F23,base_com!$E$18:$H$26,4,1)) -> 0 | L23: =I23+J23+K23 -> 175.5
A24: 66 | B24: 41588 | C24: 190891 | D24: 2300 | F24: 0
A25: 66 | B25: 41591 | C25: 190893 | D25: 2150 | F25: 0
D26: 0 | F26: 0
A27: total lot 66 | D27: =SUM(D24:D26) -> 4450 | E27: =IF(D27="","",D27*VLOOKUP(D27,base_com!$A$18:$C$26,3,1)) -> 578.5 | F27: =SUM(F24:F26) -> 0 | G27: =IF(F27="","",F27*VLOOKUP(F27,base_com!$E$18:$G$26,3,1)) -> 0 | I27: =E27+G27-H27 -> 578.5 | J27: =IF(D27="","",VLOOKUP(D27,base_com!$A$18:$D$26,4,1)) -> 125 | K27: =IF(F27="","",VLOOKUP(F27,base_com!$E$18:$H$26,4,1)) -> 0 | L27: =I27+J27+K27 -> 703.5
D28: =D7+D13+D18+D23+D27 -> 34491 | E28: =E7+E13+E18+E23+E27 -> 4448.43 | F28: =F7+F13+F18+F23+F27 -> 0 | G28: =G7+G13+G18+G23+G27 -> 0 | H28: =H7+H13+H18+H23+H27 -> 2508.38 | I28: =I7+I13+I18+I23+I27 -> 1940.05 | J28: =J7+J13+J18+J23+J27 -> 575 | K28: =K7+K13+K18+K23+K27 -> 0 | L28: =L7+L13+L18+L23+L27 -> 2515.05
B30: lot 15 | C30: com déjà versée | E30: cest la com versée en sept | H30: 156.45
G31: oct | H31: 566.16
G32: nov | H32: 520
B33: lot 22 | C33: " " | E33: c'est la com versée en sept | H33: 1073.22

Sheet Feuil3

Sheet Feuil1
