Workbook

Sheet base_com
A16: par lots de 40 contrats | E16: PAR LOTS DE 80 CONTRATS
A17: de | B17: à | C17: % | D17: prime | E17: de | F17: à | G17: % | H17: prime
A18: 0 | B18: 1750 | C18: 0.05 | E18: 0 | F18: 3500 | G18: 0.05
A19: 1751 | B19: 2250 | C19: 0.07 | E19: 3501 | F19: 4500 | G19: 0.07
A20: 2251 | B20: 2750 | C20: 0.08 | E20: 4501 | F20: 5500 | G20: 0.08
A21: 2751 | B21: 2950 | C21: 0.08 | D21: 15 | E21: 5501 | F21: 5900 | G21: 0.08 | H21: 25
A22: 2951 | B22: 3250 | C22: 0.1 | D22: 25 | E22: 5901 | F22: 6500 | G22: 0.1 | H22: 50
A23: 3251 | B23: 3500 | C23: 0.12 | D23: 50 | E23: 6501 | F23: 7000 | G23: 0.12 | H23: 100
A24: 3501 | B24: 4000 | C24: 0.12 | D24: 75 | E24: 7001 | F24: 8000 | G24: 0.12 | H24: 150
A25: 4001 | B25: 4375 | C25: 0.13 | D25: 100 | E25: 8001 | F25: 8750 | G25: 0.13 | H25: 200
A26: 4376 | B26: 4375 | C26: 0.13 | D26: 125 | E26: 8751 | G26: 0.13 | H26: 250

Sheet 30 SEPT
A2: LOT | B2: DATE | C2: CONTRAT | D2: LOTS DE 40 CONTRATS | F2: LOTS DE 80 CONTRATS | H2: COM DÉJÀ VERSEE | I2: SOLDE | J2: PRIME | L2: A REGLER
D3: C.A | E3: COM | F3: C.A | G3: COM | J3: 40 contrats | K3: 80 contrats
A4: 10 | B4: 41522 | C4: 154600 | D4: 0 | F4: 1661
A5: 10 | B5: 41541 | C5: 155000 | D5: 0 | F5: 1063
D6: 0 | F6: 0
D7: 0 | F7: 0
D8: 0 | F8: 0
D9: 0 | F9: 0
A10: total lot 10 | D10: =SUM(D4:D9) -> 0 | E10: =IF(D10="","",D10*VLOOKUP(D10,base_com!$A$18:$C$26,3,1)) -> 0 | F10: =SUM(F4:F9) -> 2724 | G10: =IF(F10="","",F10*VLOOKUP(F10,base_com!$E$18:$G$26,3,1)) -> 136.2 | H10: 0 | I10: =E10+G10-H10 -> 136.2 | J10: =IF(D10="","",VLOOKUP(D10,base_com!$A$18:$D$26,4,1)) -> 0 | K10: =IF(F10="","",VLOOKUP(F10,base_com!$E$18:$H$26,4,1)) -> 0 | L10: =I10+J10+K10 -> 136.2
A11: 15 | B11: 41541 | C11: 155631 | D11: 2235 | F11: 0
D12: 0 | F12: 0
D13: 0 | F13: 0
D14: 0 | F14: 0
D15: 0 | F15: 0
D16: 0 | F16: 0
A17: total lot 15 | D17: =SUM(D11:D16) -> 2235 | E17: =IF(D17="","",D17*VLOOKUP(D17,base_com!$A$18:$C$26,3,1)) -> 156.45 | F17: =SUM(F11:F16) -> 0 | G17: =IF(F17="","",F17*VLOOKUP(F17,base_com!$E$18:$G$26,3,1)) -> 0 | H17: 0 | I17: =E17+G17-H17 -> 156.45 | J17: =IF(D17="","",VLOOKUP(D17,base_com!$A$18:$D$26,4,1)) -> 0 | K17: =IF(F17="","",VLOOKUP(F17,base_com!$E$18:$H$26,4,1)) -> 0 | L17: =I17+J17+K17 -> 156.45
A18: 20 | B18: 41458 | C18: 155800 | D18: 1950 | F18: 0
A19: 20 | B19: 41460 | C19: 155814 | D19: 1564 | F19: 0 | G19: =IF(F19="","",F19*VLOOKUP(F19,base_com!$E$18:$G$26,3,1)) -> 0
A20: 20 | B20: 41470 | C20: 155845 | D20: 4232 | F20: 0
A21: 20 | B21: 41519 | C21: 155987 | D21: 1268 | F21: 0
D22: 0 | F22: 0
D23: 0 | F23: 0
A24: total lot20 | D24: =SUM(D18:D23) -> 9014 | E24: =IF(D24="","",D24*VLOOKUP(D24,base_com!$A$18:$C$26,3,1)) -> 1171.82 | F24: =SUM(F18:F23) -> 0 | G24: =IF(F24="","",F24*VLOOKUP(F24,base_com!$E$18:$G$26,3,1)) -> 0 | H24: 0 | I24: =E24+G24-H24 -> 1171.82 | J24: =IF(D24="","",VLOOKUP(D24,base_com!$A$18:$D$26,4,1)) -> 125 | K24: =IF(F24="","",VLOOKUP(F24,base_com!$E$18:$H$26,4,1)) -> 0 | L24: =H24+J24-K24 -> 125
A25: 22 | B25: 41521 | C25: 155860 | D25: 1589 | F25: 0
A26: 22 | B26: 41529 | C26: 155894 | D26: 1240 | F26: 0
D27: 0 | F27: 0
D28: 0 | F28: 0
D29: 0 | F29: 0
D30: 0 | F30: 0
A31: total 22 | D31: =SUM(D25:D30) -> 2829 | E31: =IF(D31="","",D31*VLOOKUP(D31,base_com!$A$18:$C$26,3,1)) -> 226.32 | F31: =SUM(F25:F30) -> 0 | G31: =IF(F31="","",F31*VLOOKUP(F31,base_com!$E$18:$G$26,3,1)) -> 0 | H31: 0 | I31: =E31+G31-H31 -> 226.32 | J31: =IF(D31="","",VLOOKUP(D31,base_com!$A$18:$D$26,4,1)) -> 15 | K31: =IF(F31="","",VLOOKUP(F31,base_com!$E$18:$H$26,4,1)) -> 0 | L31: =H31+J31-K31 -> 15
A32: 46 | B32: 41527 | C32: 155960 | D32: 4448 | F32: 0
A33: 46 | B33: 41543 | C33: 155919 | D33: 2846 | F33: 0
D34: 0 | F34: 0
D35: 0 | F35: 0
D36: 0 | F36: 0
D37: 0 | F37: 0
A38: total lot 46 | D38: =SUM(D32:D37) -> 7294 | E38: =IF(D38="","",D38*VLOOKUP(D38,base_com!$A$18:$C$26,3,1)) -> 948.22 | F38: =SUM(F32:F37) -> 0 | G38: =IF(F38="","",F38*VLOOKUP(F38,base_com!$E$18:$G$26,3,1)) -> 0 | H38: 0 | I38: =E38+G38-H38 -> 948.22 | J38: =IF(D38="","",VLOOKUP(D38,base_com!$A$18:$D$26,4,1)) -> 125 | K38: =IF(F38="","",VLOOKUP(F38,base_com!$E$18:$H$26,4,1)) -> 0 | L38: =H38+J38-K38 -> 125
A39: 48 | B39: 41534 | C39: 154890 | D39: 1908 | F39: 0
D40: 0 | F40: 0
D41: 0 | F41: 0
...

Sheet 31 OCT
A2: LOT | B2: DATE | C2: CONTRAT | D2: LOTS DE 40 CONTRATS | F2: LOTS DE 80 CONTRATS | H2: COM DÉJÀ VERSEE | I2: SOLDE | J2: PRIME | L2: A REGLER
D3: C.A | E3: COM | F3: C.A | G3: COM | J3: 40 contrats | K3: 80 contrats
A4: 37 | B4: 41456 | C4: 152784 | D4: 1220 | F4: 0
A5: 37 | B5: 41551 | C5: 155163 | D5: 2195 | F5: 0
D6: 0 | F6: 0
D7: 0 | F7: 0
D8: 0 | F8: 0
D9: 0 | F9: 0
A10: total lot 37 | D10: =D4+D5+D6+D7+D8+D9 -> 3415 | E10: =IF(D10="","",D10*VLOOKUP(D10,base_com!$A$18:$C$26,3,1)) -> 409.8 | F10: =SUM(F4:F9) -> 0 | G10: =IF(F10="","",F10*VLOOKUP(F10,base_com!$E$18:$G$26,3,1)) -> 0 | H10: 210 | I10: =E10+G10-H10 -> 199.8 | J10: =IF(D10="","",VLOOKUP(D10,base_com!$A$18:$D$26,4,1)) -> 50 | K10: =IF(F10="","",VLOOKUP(F10,base_com!$E$18:$H$26,4,1)) -> 0 | L10: =I10+J10+K10 -> 249.8
A11: 15 | B11: 41541 | C11: 155631 | D11: 2235 | F11: 0
A12: 15 | B12: 41557 | C12: 1554635 | D12: 2362 | F12: 0
D13: 0 | F13: 0
D14: 0 | F14: 0
D15: 0 | F15: 0
D16: 0 | F16: 0
A17: total lot 15 | D17: =SUM(D11:D16) -> 4597 | E17: =IF(D17="","",D17*VLOOKUP(D17,base_com!$A$18:$C$26,3,1)) -> 597.61 | F17: =SUM(F11:F16) -> 0 | G17: =IF(F17="","",F17*VLOOKUP(F17,base_com!$E$18:$G$26,3,1)) -> 0 | H17: 254 | I17: =E17+G17-H17 -> 343.61 | J17: =IF(D17="","",VLOOKUP(D17,base_com!$A$18:$D$26,4,1)) -> 125 | K17: =IF(F17="","",VLOOKUP(F17,base_com!$E$18:$H$26,4,1)) -> 0 | L17: =I17+J17+K17 -> 468.61
A18: 47 | B18: 41577 | C18: 156086 | D18: 1051 | F18: 0
D19: 0 | F19: 0 | G19: =IF(F19="","",F19*VLOOKUP(F19,base_com!$E$18:$G$26,3,1)) -> 0
D20: 0 | F20: 0
D21: 0 | F21: 0
D22: 0 | F22: 0
D23: 0 | F23: 0
A24: total lot47 | D24: =SUM(D18:D23) -> 1051 | E24: =IF(D24="","",D24*VLOOKUP(D24,base_com!$A$18:$C$26,3,1)) -> 52.55 | F24: =SUM(F18:F23) -> 0 | G24: =IF(F24="","",F24*VLOOKUP(F24,base_com!$E$18:$G$26,3,1)) -> 0 | I24: =E24+G24-H24 -> 52.55 | J24: =IF(D24="","",VLOOKUP(D24,base_com!$A$18:$D$26,4,1)) -> 0 | K24: =IF(F24="","",VLOOKUP(F24,base_com!$E$18:$H$26,4,1)) -> 0 | L24: =I24+J24+K24 -> 52.55
A25: 20 | B25: 41534 | C25: 154547 | D25: 1908 | F25: 0
A26: 20 | B26: 41565 | C26: 155649 | D26: 4448 | F26: 0
D27: 0 | F27: 0
D28: 0 | F28: 0
D29: 0 | F29: 0
D30: 0 | F30: 0
A31: total lot 20 | D31: =SUM(D25:D30) -> 6356 | E31: =IF(D31="","",D31*VLOOKUP(D31,base_com!$A$18:$C$26,3,1)) -> 826.28 | F31: =SUM(F25:F30) -> 0 | G31: =IF(F31="","",F31*VLOOKUP(F31,base_com!$E$18:$G$26,3,1)) -> 0 | H31: 305.2 | I31: =E31+G31-H31 -> 521.08 | J31: =IF(D31="","",VLOOKUP(D31,base_com!$A$18:$D$26,4,1)) -> 125 | K31: =IF(F31="","",VLOOKUP(F31,base_com!$E$18:$H$26,4,1)) -> 0 | L31: =I31+J31+K31 -> 646.08
A32: 50 | B32: 41541 | C32: 154864 | D32: 2038 | F32: 0
A33: 50 | B33: 41547 | C33: 154964 | D33: 2134 | F33: 0
A34: 50 | B34: 41556 | C34: 154868 | D34: 2038 | F34: 0
A35: 50 | B35: 41565 | C35: 155829 | D35: 2348 | F35: 0
A36: 50 | B36: 41577 | C36: 156158 | D36: 4448 | F36: 0
D37: 0 | F37: 0
A38: total lot 50 | D38: =SUM(D32:D37) -> 13006 | E38: =IF(D38="","",D38*VLOOKUP(D38,base_com!$A$18:$C$26,3,1)) -> 1690.78 | F38: =SUM(F32:F37) -> 0 | G38: =IF(F38="","",F38*VLOOKUP(F38,base_com!$E$18:$G$26,3,1)) -> 0 | H38: 562.3 | I38: =E38+G38-H38 -> 1128.48 | J38: =IF(D38="","",VLOOKUP(D38,base_com!$A$18:$D$26,4,1)) -> 125 | K38: =IF(F38="","",VLOOKUP(F38,base_com!$E$18:$H$26,4,1)) -> 0 | L38: =I38+J38+K38 -> 1253.48
A39: 50 | B39: 41554 | C39: 155247 | D39: 3168 | F39: 0
A40: 50 | B40: 41558 | C40: 155342 | D40: 1063 | F40: 0
D41: 0 | F41: 0
...
