Workbook

Sheet base_com
A16: par lots de 40 contrats | E16: PAR LOTS DE 80 CONTRATS
A17: de | B17: à | C17: % | D17: prime | E17: de | F17: à | G17: % | H17: prime
A18: 0 | B18: 1750 | C18: 0.05 | E18: 0 | F18: 3500 | G18: 0.05
A19: 1751 | B19: 2250 | C19: 0.07 | E19: 3501 | F19: 4500 | G19: 0.07
A20: 2251 | B20: 2750 | C20: 0.08 | E20: 4501 | F20: 5500 | G20: 0.08
A21: 2751 | B21: 2950 | C21: 0.08 | D21: 15 | E21: 5501 | F21: 5900 | G21: 0.08 | H21: 25
A22: 2951 | B22: 3250 | C22: 0.1 | D22: 25 | E22: 5901 | F22: 6500 | G22: 0.1 | H22: 50
A23: 3251 | B23: 3500 | C23: 0.12 | D23: 50 | E23: 6501 | F23: 7000 | G23: 0.12 | H23: 100
A24: 3501 | B24: 4000 | C24: 0.12 | D24: 75 | E24: 7001 | F24: 8000 | G24: 0.12 | H24: 150
A25: 4001 | B25: 4375 | C25: 0.13 | D25: 100 | E25: 8001 | F25: 8750 | G25: 0.13 | H25: 200
A26: 4376 | B26: 4375 | C26: 0.13 | D26: 125 | E26: 8751 | G26: 0.13 | H26: 250

Sheet 30 SEPT
A2: LOT | B2: DATE | C2: CONTRAT | D2: LOTS DE 40 CONTRATS | F2: LOTS DE 80 CONTRATS | H2: COM DÉJÀ VERSEE | I2: SOLDE | J2: PRIME | L2: A REGLER
D3: C.A | E3: COM | F3: C.A | G3: COM | J3: 40 contrats | K3: 80 contrats
A4: 10 | B4: 41522 | C4: 154600 | D4: 0 | F4: 1661
A5: 10 | B5: 41541 | C5: 155000 | D5: 0 | F5: 1063
D6: 0 | F6: 0
D7: 0 | F7: 0
D8: 0 | F8: 0
D9: 0 | F9: 0
A10: total lot 10 | D10: =SUM(D4:D9) -> 0 | E10: =IF(D10="","",D10*VLOOKUP(D10,base_com!$A$18:$C$26,3,1)) -> 0 | F10: =SUM(F4:F9) -> 2724 | G10: =IF(F10="","",F10*VLOOKUP(F10,base_com!$E$18:$G$26,3,1)) -> 136.2 | H10: 0 | I10: =E10+G10-H10 -> 136.2 | J10: =IF(D10="","",VLOOKUP(D10,base_com!$A$18:$D$26,4,1)) -> 0 | K10: =IF(F10="","",VLOOKUP(F10,base_com!$E$18:$H$26,4,1)) -> 0 | L10: =I10+J10+K10 -> 136.2
A11: 15 | B11: 41541 | C11: 155631 | D11: 2235 | F11: 0
D12: 0 | F12: 0
D13: 0 | F13: 0
D14: 0 | F14: 0
D15: 0 | F15: 0
D16: 0 | F16: 0
A17: total lot 15 | D17: =SUM(D11:D16) -> 2235 | E17: =IF(D17="","",D17*VLOOKUP(D17,base_com!$A$18:$C$26,3,1)) -> 156.45 | F17: =SUM(F11:F16) -> 0 | G17: =IF(F17="","",F17*VLOOKUP(F17,base_com!$E$18:$G$26,3,1)) -> 0 | H17: 0 | I17: =E17+G17-H17 -> 156.45 | J17: =IF(D17="","",VLOOKUP(D17,base_com!$A$18:$D$26,4,1)) -> 0 | K17: =IF(F17="","",VLOOKUP(F17,base_com!$E$18:$H$26,4,1)) -> 0 | L17: =I17+J17+K17 -> 156.45
A18: 20 | B18: 41458 | C18: 155800 | D18: 1950 | F18: 0
A19: 20 | B19: 41460 | C19: 155814 | D19: 1564 | F19: 0 | G19: =IF(F19="","",F19*VLOOKUP(F19,base_com!$E$18:$G$26,3,1)) -> 0
A20: 20 | B20: 41470 | C20: 155845 | D20: 4232 | F20: 0
A21: 20 | B21: 41519 | C21: 155987 | D21: 1268 | F21: 0
D22: 0 | F22: 0
D23: 0 | F23: 0
A24: total lot20 | D24: =SUM(D18:D23) -> 9014 | E24: =IF(D24="","",D24*VLOOKUP(D24,base_com!$A$18:$C$26,3,1)) -> 1171.82 | F24: =SUM(F18:F23) -> 0 | G24: =IF(F24="","",F24*VLOOKUP(F24,base_com!$E$18:$G$26,3,1)) -> 0 | H24: 0 | I24: =E24+G24-H24 -> 1171.82 | J24: =IF(D24="","",VLOOKUP(D24,base_com!$A$18:$D$26,4,1)) -> 125 | K24: =IF(F24="","",VLOOKUP(F24,base_com!$E$18:$H$26,4,1)) -> 0 | L24: =H24+J24-K24 -> 125
A25: 22 | B25: 41521 | C25: 155860 | D25: 1589 | F25: 0
A26: 22 | B26: 41529 | C26: 155894 | D26: 1240 | F26: 0
D27: 0 | F27: 0
D28: 0 | F28: 0
D29: 0 | F29: 0
D30: 0 | F30: 0
A31: total 22 | D31: =SUM(D25:D30) -> 2829 | E31: =IF(D31="","",D31*VLOOKUP(D31,base_com!$A$18:$C$26,3,1)) -> 226.32 | F31: =SUM(F25:F30) -> 0 | G31: =IF(F31="","",F31*VLOOKUP(F31,base_com!$E$18:$G$26,3,1)) -> 0 | H31: 0 | I31: =E31+G31-H31 -> 226.32 | J31: =IF(D31="","",VLOOKUP(D31,base_com!$A$18:$D$26,4,1)) -> 15 | K31: =IF(F31="","",VLOOKUP(F31,base_com!$E$18:$H$26,4,1)) -> 0 | L31: =H31+J31-K31 -> 15
A32: 46 | B32: 41527 | C32: 155960 | D32: 4448 | F32: 0
A33: 46 | B33: 41543 | C33: 155919 | D33: 2846 | F33: 0
D34: 0 | F34: 0
D35: 0 | F35: 0
D36: 0 | F36: 0
D37: 0 | F37: 0
A38: total lot 46 | D38: =SUM(D32:D37) -> 7294 | E38: =IF(D38="","",D38*VLOOKUP(D38,base_com!$A$18:$C$26,3,1)) -> 948.22 | F38: =SUM(F32:F37) -> 0 | G38: =IF(F38="","",F38*VLOOKUP(F38,base_com!$E$18:$G$26,3,1)) -> 0 | H38: 0 | I38: =E38+G38-H38 -> 948.22 | J38: =IF(D38="","",VLOOKUP(D38,base_com!$A$18:$D$26,4,1)) -> 125 | K38: =IF(F38="","",VLOOKUP(F38,base_com!$E$18:$H$26,4,1)) -> 0 | L38: =H38+J38-K38 -> 125
A39: 48 | B39: 41534 | C39: 154890 | D39: 1908 | F39: 0
D40: 0 | F40: 0
D41: 0 | F41: 0
D42: 0 | F42: 0
D43: 0 | F43: 0
D44: 0 | F44: 0
A45: total lot 48 | D45: =SUM(D39:D44) -> 1908 | E45: =IF(D45="","",D45*VLOOKUP(D45,base_com!$A$18:$C$26,3,1)) -> 133.56 | F45: =SUM(F39:F44) -> 0 | G45: =IF(F45="","",F45*VLOOKUP(F45,base_com!$E$18:$G$26,3,1)) -> 0 | H45: 0 | I45: =E45+G45-H45 -> 133.56 | J45: =IF(D45="","",VLOOKUP(D45,base_com!$A$18:$D$26,4,1)) -> 0 | K45: =IF(F45="","",VLOOKUP(F45,base_com!$E$18:$H$26,4,1)) -> 0 | L45: =H45+J45-K45 -> 0
A46: 50 | B46: 41541 | C46: 160508 | D46: 2038 | F46: 0
A47: 50 | B47: 41547 | C47: 160602 | D47: 2134 | F47: 0
D48: 0 | F48: 0
D49: 0 | F49: 0
D50: 0 | F50: 0
D51: 0 | F51: 0
A52: total lot 50 | D52: =SUM(D46:D51) -> 4172 | E52: =IF(D52="","",D52*VLOOKUP(D52,base_com!$A$18:$C$26,3,1)) -> 542.36 | F52: =SUM(F46:F51) -> 0 | G52: =IF(F52="","",F52*VLOOKUP(F52,base_com!$E$18:$G$26,3,1)) -> 0 | H52: 0 | I52: =E52+G52-H52 -> 542.36 | J52: =IF(D52="","",VLOOKUP(D52,base_com!$A$18:$D$26,4,1)) -> 100 | K52: =IF(F52="","",VLOOKUP(F52,base_com!$E$18:$H$26,4,1)) -> 0 | L52: =H52+J52-K52 -> 100
D53: 0 | F53: 0
D54: 0 | F54: 0
D55: 0 | F55: 0
D56: 0 | F56: 0
D57: 0 | F57: 0
D58: 0 | F58: 0
D59: 0 | E59: =IF(D59="","",D59*VLOOKUP(D59,base_com!$A$18:$C$26,3,1)) -> 0 | F59: =SUM(F53:F58) -> 0 | G59: =IF(F59="","",F59*VLOOKUP(F59,base_com!$E$18:$G$26,3,1)) -> 0 | H59: 0 | I59: =E59+G59-H59 -> 0 | J59: =IF(D59="","",VLOOKUP(D59,base_com!$A$18:$D$26,4,1)) -> 0 | K59: =IF(F59="","",VLOOKUP(F59,base_com!$E$18:$H$26,4,1)) -> 0 | L59: =H59+J59-K59 -> 0
D60: 0 | F60: 0
D61: 0 | F61: 0
D62: 0 | F62: 0
D63: 0 | F63: 0
D64: 0 | F64: 0
D65: 0 | F65: 0
D66: =SUM(D60:D65) -> 0 | F66: =SUM(F60:F65) -> 0 | H66: 0 | I66: =E66+G66-H66 -> 0 | J66: =IF(D66="","",VLOOKUP(D66,base_com!$A$18:$D$26,4,1)) -> 0 | K66: =IF(F66="","",VLOOKUP(F66,base_com!$E$18:$H$26,4,1)) -> 0 | L66: =H66+J66-K66 -> 0
D68: =D66+D59+D52+D45+D38+D31+D24+D17+D10 -> 27452 | E68: =E66+E59+E52+E45+E38+E31+E24+E17+E10 -> 3178.73 | F68: =F66+F59+F52+F45+F38+F31+F24+F17+F10 -> 2724 | G68: =G66+G59+G52+G45+G38+G31+G24+G17+G10 -> 136.2 | H68: =H66+H59+H52+H45+H38+H31+H24+H17+H10 -> 0 | I68: =I66+I59+I52+I45+I38+I31+I24+I17+I10 -> 3314.93 | J68: =J66+J59+J52+J45+J38+J31+J24+J17+J10 -> 365 | K68: =K66+K59+K52+K45+K38+K31+K24+K17+K10 -> 0 | L68: =L66+L59+L52+L45+L38+L31+L24+L17+L10 -> 657.65

Sheet 31 OCT
A2: LOT | B2: DATE | C2: CONTRAT | D2: LOTS DE 40 CONTRATS | F2: LOTS DE 80 CONTRATS | H2: COM DÉJÀ VERSEE | I2: SOLDE | J2: PRIME | L2: A REGLER
D3: C.A | E3: COM | F3: C.A | G3: COM | J3: 40 contrats | K3: 80 contrats
A4: 37 | B4: 41456 | C4: 152784 | D4: 1220 | F4: 0
A5: 37 | B5: 41551 | C5: 155163 | D5: 2195 | F5: 0
D6: 0 | F6: 0
D7: 0 | F7: 0
D8: 0 | F8: 0
D9: 0 | F9: 0
A10: total lot 37 | D10: =D4+D5+D6+D7+D8+D9 -> 3415 | E10: =IF(D10="","",D10*VLOOKUP(D10,base_com!$A$18:$C$26,3,1)) -> 409.8 | F10: =SUM(F4:F9) -> 0 | G10: =IF(F10="","",F10*VLOOKUP(F10,base_com!$E$18:$G$26,3,1)) -> 0 | H10: 210 | I10: =E10+G10-H10 -> 199.8 | J10: =IF(D10="","",VLOOKUP(D10,base_com!$A$18:$D$26,4,1)) -> 50 | K10: =IF(F10="","",VLOOKUP(F10,base_com!$E$18:$H$26,4,1)) -> 0 | L10: =I10+J10+K10 -> 249.8
A11: 15 | B11: 41541 | C11: 155631 | D11: 2235 | F11: 0
A12: 15 | B12: 41557 | C12: 1554635 | D12: 2362 | F12: 0
D13: 0 | F13: 0
D14: 0 | F14: 0
D15: 0 | F15: 0
D16: 0 | F16: 0
A17: total lot 15 | D17: =SUM(D11:D16) -> 4597 | E17: =IF(D17="","",D17*VLOOKUP(D17,base_com!$A$18:$C$26,3,1)) -> 597.61 | F17: =SUM(F11:F16) -> 0 | G17: =IF(F17="","",F17*VLOOKUP(F17,base_com!$E$18:$G$26,3,1)) -> 0 | H17: 254 | I17: =E17+G17-H17 -> 343.61 | J17: =IF(D17="","",VLOOKUP(D17,base_com!$A$18:$D$26,4,1)) -> 125 | K17: =IF(F17="","",VLOOKUP(F17,base_com!$E$18:$H$26,4,1)) -> 0 | L17: =I17+J17+K17 -> 468.61
A18: 47 | B18: 41577 | C18: 156086 | D18: 1051 | F18: 0
D19: 0 | F19: 0 | G19: =IF(F19="","",F19*VLOOKUP(F19,base_com!$E$18:$G$26,3,1)) -> 0
D20: 0 | F20: 0
D21: 0 | F21: 0
D22: 0 | F22: 0
D23: 0 | F23: 0
A24: total lot47 | D24: =SUM(D18:D23) -> 1051 | E24: =IF(D24="","",D24*VLOOKUP(D24,base_com!$A$18:$C$26,3,1)) -> 52.55 | F24: =SUM(F18:F23) -> 0 | G24: =IF(F24="","",F24*VLOOKUP(F24,base_com!$E$18:$G$26,3,1)) -> 0 | I24: =E24+G24-H24 -> 52.55 | J24: =IF(D24="","",VLOOKUP(D24,base_com!$A$18:$D$26,4,1)) -> 0 | K24: =IF(F24="","",VLOOKUP(F24,base_com!$E$18:$H$26,4,1)) -> 0 | L24: =I24+J24+K24 -> 52.55
A25: 20 | B25: 41534 | C25: 154547 | D25: 1908 | F25: 0
A26: 20 | B26: 41565 | C26: 155649 | D26: 4448 | F26: 0
D27: 0 | F27: 0
D28: 0 | F28: 0
D29: 0 | F29: 0
D30: 0 | F30: 0
A31: total lot 20 | D31: =SUM(D25:D30) -> 6356 | E31: =IF(D31="","",D31*VLOOKUP(D31,base_com!$A$18:$C$26,3,1)) -> 826.28 | F31: =SUM(F25:F30) -> 0 | G31: =IF(F31="","",F31*VLOOKUP(F31,base_com!$E$18:$G$26,3,1)) -> 0 | H31: 305.2 | I31: =E31+G31-H31 -> 521.08 | J31: =IF(D31="","",VLOOKUP(D31,base_com!$A$18:$D$26,4,1)) -> 125 | K31: =IF(F31="","",VLOOKUP(F31,base_com!$E$18:$H$26,4,1)) -> 0 | L31: =I31+J31+K31 -> 646.08
A32: 50 | B32: 41541 | C32: 154864 | D32: 2038 | F32: 0
A33: 50 | B33: 41547 | C33: 154964 | D33: 2134 | F33: 0
A34: 50 | B34: 41556 | C34: 154868 | D34: 2038 | F34: 0
A35: 50 | B35: 41565 | C35: 155829 | D35: 2348 | F35: 0
A36: 50 | B36: 41577 | C36: 156158 | D36: 4448 | F36: 0
D37: 0 | F37: 0
A38: total lot 50 | D38: =SUM(D32:D37) -> 13006 | E38: =IF(D38="","",D38*VLOOKUP(D38,base_com!$A$18:$C$26,3,1)) -> 1690.78 | F38: =SUM(F32:F37) -> 0 | G38: =IF(F38="","",F38*VLOOKUP(F38,base_com!$E$18:$G$26,3,1)) -> 0 | H38: 562.3 | I38: =E38+G38-H38 -> 1128.48 | J38: =IF(D38="","",VLOOKUP(D38,base_com!$A$18:$D$26,4,1)) -> 125 | K38: =IF(F38="","",VLOOKUP(F38,base_com!$E$18:$H$26,4,1)) -> 0 | L38: =I38+J38+K38 -> 1253.48
A39: 50 | B39: 41554 | C39: 155247 | D39: 3168 | F39: 0
A40: 50 | B40: 41558 | C40: 155342 | D40: 1063 | F40: 0
D41: 0 | F41: 0
D42: 0 | F42: 0
D43: 0 | F43: 0
D44: 0 | F44: 0
A45: total lot 50 | D45: =SUM(D39:D44) -> 4231 | E45: =IF(D45="","",D45*VLOOKUP(D45,base_com!$A$18:$C$26,3,1)) -> 550.03 | F45: =SUM(F39:F44) -> 0 | G45: =IF(F45="","",F45*VLOOKUP(F45,base_com!$E$18:$G$26,3,1)) -> 0 | I45: =E45+G45-H45 -> 550.03 | J45: =IF(D45="","",VLOOKUP(D45,base_com!$A$18:$D$26,4,1)) -> 100 | K45: =IF(F45="","",VLOOKUP(F45,base_com!$E$18:$H$26,4,1)) -> 0 | L45: =I45+J45+K45 -> 650.03
A46: 51 | B46: 41568 | C46: 155705 | D46: 2038 | F46: 0
D47: 0 | F47: 0
D48: 0 | F48: 0
D49: 0 | F49: 0
D50: 0 | F50: 0
D51: 0 | F51: 0
A52: total lot 51 | D52: =SUM(D46:D51) -> 2038 | E52: =IF(D52="","",D52*VLOOKUP(D52,base_com!$A$18:$C$26,3,1)) -> 142.66 | F52: =SUM(F46:F51) -> 0 | G52: =IF(F52="","",F52*VLOOKUP(F52,base_com!$E$18:$G$26,3,1)) -> 0 | I52: =E52+G52-H52 -> 142.66 | J52: =IF(D52="","",VLOOKUP(D52,base_com!$A$18:$D$26,4,1)) -> 0 | K52: =IF(F52="","",VLOOKUP(F52,base_com!$E$18:$H$26,4,1)) -> 0 | L52: =I52+J52+K52 -> 142.66
A53: 53 | B53: 41578 | C53: 156098 | D53: 1908 | F53: 0
D54: 0 | F54: 0
D55: 0 | F55: 0
D56: 0 | F56: 0
D57: 0 | F57: 0
D58: 0 | F58: 0
A59: total lot 53 | D59: =SUM(D53:D58) -> 1908 | E59: =IF(D59="","",D59*VLOOKUP(D59,base_com!$A$18:$C$26,3,1)) -> 133.56 | F59: =SUM(F53:F58) -> 0 | G59: =IF(F59="","",F59*VLOOKUP(F59,base_com!$E$18:$G$26,3,1)) -> 0 | I59: =E59+G59-H59 -> 133.56 | J59: =IF(D59="","",VLOOKUP(D59,base_com!$A$18:$D$26,4,1)) -> 0 | K59: =IF(F59="","",VLOOKUP(F59,base_com!$E$18:$H$26,4,1)) -> 0 | L59: =I59+J59+K59 -> 133.56
A60: 54 | B60: 41576 | C60: 156240 | D60: 1796 | F60: 0
A61: 54 | B61: 41578 | C61: 156144 | D61: 1161 | F61: 0
D62: 0 | F62: 0
D63: 0 | F63: 0
D64: 0 | F64: 0
D65: 0 | F65: 0
D66: =SUM(D60:D65) -> 2957 | F66: =SUM(F60:F65) -> 0 | I66: =E66+G66-H66 -> 0 | J66: =IF(D66="","",VLOOKUP(D66,base_com!$A$18:$D$26,4,1)) -> 25 | K66: =IF(F66="","",VLOOKUP(F66,base_com!$E$18:$H$26,4,1)) -> 0 | L66: =I66+J66+K66 -> 25
D67: =D66+D59+D52+D45+D38+D31+D24+D17+D10 -> 39559 | E67: =E66+E59+E52+E45+E38+E31+E24+E17+E10 -> 4403.27 | F67: =F66+F59+F52+F45+F38+F31+F24+F17+F10 -> 0 | G67: =G66+G59+G52+G45+G38+G31+G24+G17+G10 -> 0 | H67: =H66+H59+H52+H45+H38+H31+H24+H17+H10 -> 1331.5 | I67: =I66+I59+I52+I45+I38+I31+I24+I17+I10 -> 3071.77 | J67: =J66+J59+J52+J45+J38+J31+J24+J17+J10 -> 550 | K67: =K66+K59+K52+K45+K38+K31+K24+K17+K10 -> 0 | L67: =L66+L59+L52+L45+L38+L31+L24+L17+L10 -> 3621.77
