Workbook
Name Aout: #REF!
Name Avr: #REF!
Name Dec: #REF!
Name Fev: #REF!
Name Janv: Jan!$A$3:$CU$8
Name Journalier: Pers!$S$45:$U$56
Name Juil: #REF!
Name Juin: #REF!
Name Mai: #REF!
Name Mars: #REF!
Name Nov: #REF!
Name Oct: #REF!
Name Personnel: Pers!$A$2:$P$164
Name Sept: #REF!
Name Service: Pers!#REF!
Name Service: Serv!$A$3:$N$661
Name Taux: Pers!$R$1:$AD$13
Name Travail: Serv!#REF!
Name Vacances: #REF!

Sheet Pers
A1: Employé | B1: Taux | C1: Secteur | D1: Jour | E1: Dû Janv. | F1: Dû Fév. | G1: Dû Mars | H1: Dû Avril | I1: Dû Mai | J1: Dû Juin | K1: Dû Juil. | L1: Dû Août | M1: Dû Sept. | N1: Dû Oct. | O1: Dû Nov. | P1: Dû Déc. | R1: 2014 | S1: 1 | T1: 2 | U1: 3 | V1: 4 | W1: 5 | X1: 6 | Y1: 7 | Z1: 8 | AA1: 9 | AB1: 10 | AC1: 11 | AD1: 12 | AE1: Total
A2: Employé test | B2: 1 | C2: Ville | D2: =IF(ISERROR(VLOOKUP(B2,Journalier,2,0)),"",VLOOKUP(B2,Journalier,2,0)) -> 0.35416667 | E2: =IF(ISERROR(VLOOKUP(B2,Taux,2,0)),"",VLOOKUP(B2,Taux,2,0)) -> 7.4375 | F2: =IF(ISERROR(VLOOKUP(B2,Taux,3,0)),"",VLOOKUP(B2,Taux,3,0)) -> 7.0833333 | G2: =IF(ISERROR(VLOOKUP(B2,Taux,4,0)),"",VLOOKUP(B2,Taux,4,0)) -> 7.4375 | H2: =IF(ISERROR(VLOOKUP(B2,Taux,5,0)),"",VLOOKUP(B2,Taux,5,0)) -> 7.0416667 | I2: =IF(ISERROR(VLOOKUP(B2,Taux,6,0)),"",VLOOKUP(B2,Taux,6,0)) -> 7.0416667 | J2: =IF(ISERROR(VLOOKUP(B2,Taux,7,0)),"",VLOOKUP(B2,Taux,7,0)) -> 7.0833333 | K2: =IF(ISERROR(VLOOKUP(B2,Taux,8,0)),"",VLOOKUP(B2,Taux,8,0)) -> 8.1458333 | L2: =IF(ISERROR(VLOOKUP(B2,Taux,9,0)),"",VLOOKUP(B2,Taux,9,0)) -> 7.0833333 | M2: =IF(ISERROR(VLOOKUP(B2,Taux,10,0)),"",VLOOKUP(B2,Taux,10,0)) -> 7.4375 | N2: =IF(ISERROR(VLOOKUP(B2,Taux,11,0)),"",VLOOKUP(B2,Taux,11,0)) -> 8.1458333 | O2: =IF(ISERROR(VLOOKUP(B2,Taux,12,0)),"",VLOOKUP(B2,Taux,12,0)) -> 7.0833333 | P2: =IF(ISERROR(VLOOKUP(B2,Taux,13,0)),"",VLOOKUP(B2,Taux,13,0)) -> 6.1979167 | R2: 1 | S2: =S16/24 -> 7.4375 | T2: =S17/24 -> 7.0833333 | U2: =S18/24 -> 7.4375 | V2: =S19/24 -> 7.0416667 | W2: =S20/24 -> 7.0416667 | X2: =S21/24 -> 7.0833333 | Y2: =S22/24 -> 8.1458333 | Z2: =S23/24 -> 7.0833333 | AA2: =S24/24 -> 7.4375 | AB2: =S25/24 -> 8.1458333 | AC2: =S26/24 -> 7.0833333 | AD2: =S27/24 -> 6.1979167 | AE2: =SUM(S2:AD2) -> 87.21875
A3: Employé test2 | B3: 0.9 | C3: Campagne | D3: =IF(ISERROR(VLOOKUP(B3,Journalier,2,0)),"",VLOOKUP(B3,Journalier,2,0)) -> 0.31875 | E3: =IF(ISERROR(VLOOKUP(B3,Taux,2,0)),"",VLOOKUP(B3,Taux,2,0)) -> 6.69375 | F3: =IF(ISERROR(VLOOKUP(B3,Taux,3,0)),"",VLOOKUP(B3,Taux,3,0)) -> 6.375 | G3: =IF(ISERROR(VLOOKUP(B3,Taux,4,0)),"",VLOOKUP(B3,Taux,4,0)) -> 6.69375 | H3: =IF(ISERROR(VLOOKUP(B3,Taux,5,0)),"",VLOOKUP(B3,Taux,5,0)) -> 6.3375 | I3: =IF(ISERROR(VLOOKUP(B3,Taux,6,0)),"",VLOOKUP(B3,Taux,6,0)) -> 6.3375 | J3: =IF(ISERROR(VLOOKUP(B3,Taux,7,0)),"",VLOOKUP(B3,Taux,7,0)) -> 6.375 | K3: =IF(ISERROR(VLOOKUP(B3,Taux,8,0)),"",VLOOKUP(B3,Taux,8,0)) -> 7.33125 | L3: =IF(ISERROR(VLOOKUP(B3,Taux,9,0)),"",VLOOKUP(B3,Taux,9,0)) -> 6.375 | M3: =IF(ISERROR(VLOOKUP(B3,Taux,10,0)),"",VLOOKUP(B3,Taux,10,0)) -> 6.69375 | N3: =IF(ISERROR(VLOOKUP(B3,Taux,11,0)),"",VLOOKUP(B3,Taux,11,0)) -> 7.33125 | O3: =IF(ISERROR(VLOOKUP(B3,Taux,12,0)),"",VLOOKUP(B3,Taux,12,0)) -> 6.375 | P3: =IF(ISERROR(VLOOKUP(B3,Taux,13,0)),"",VLOOKUP(B3,Taux,13,0)) -> 5.578125 | R3: 0.9 | S3: =T16/24 -> 6.69375 | T3: =T17/24 -> 6.375 | U3: =T18/24 -> 6.69375 | V3: =T19/24 -> 6.3375 | W3: =T20/24 -> 6.3375 | X3: =T21/24 -> 6.375 | Y3: =T22/24 -> 7.33125 | Z3: =T23/24 -> 6.375 | AA3: =T24/24 -> 6.69375 | AB3: =T25/24 -> 7.33125 | AC3: =T26/24 -> 6.375 | AD3: =T27/24 -> 5.578125 | AE3: =SUM(S3:AD3) -> 78.496875
A4: Employé test3 | B4: 0.8 | C4: Terrain | D4: =IF(ISERROR(VLOOKUP(B4,Journalier,2,0)),"",VLOOKUP(B4,Journalier,2,0)) -> 0.28333333 | E4: =IF(ISERROR(VLOOKUP(B4,Taux,2,0)),"",VLOOKUP(B4,Taux,2,0)) -> 5.95 | F4: =IF(ISERROR(VLOOKUP(B4,Taux,3,0)),"",VLOOKUP(B4,Taux,3,0)) -> 5.6666667 | G4: =IF(ISERROR(VLOOKUP(B4,Taux,4,0)),"",VLOOKUP(B4,Taux,4,0)) -> 5.95 | H4: =IF(ISERROR(VLOOKUP(B4,Taux,5,0)),"",VLOOKUP(B4,Taux,5,0)) -> 5.6333333 | I4: =IF(ISERROR(VLOOKUP(B4,Taux,6,0)),"",VLOOKUP(B4,Taux,6,0)) -> 5.6333333 | J4: =IF(ISERROR(VLOOKUP(B4,Taux,7,0)),"",VLOOKUP(B4,Taux,7,0)) -> 5.6666667 | K4: =IF(ISERROR(VLOOKUP(B4,Taux,8,0)),"",VLOOKUP(B4,Taux,8,0)) -> 6.5166667 | L4: =IF(ISERROR(VLOOKUP(B4,Taux,9,0)),"",VLOOKUP(B4,Taux,9,0)) -> 5.6666667 | M4: =IF(ISERROR(VLOOKUP(B4,Taux,10,0)),"",VLOOKUP(B4,Taux,10,0)) -> 5.95 | N4: =IF(ISERROR(VLOOKUP(B4,Taux,11,0)),"",VLOOKUP(B4,Taux,11,0)) -> 6.5166667 | O4: =IF(ISERROR(VLOOKUP(B4,Taux,12,0)),"",VLOOKUP(B4,Taux,12,0)) -> 5.6666667 | P4: =IF(ISERROR(VLOOKUP(B4,Taux,13,0)),"",VLOOKUP(B4,Taux,13,0)) -> 4.9583333 | R4: 0.8 | S4: =U16/24 -> 5.95 | T4: =U17/24 -> 5.6666667 | U4: =U18/24 -> 5.95 | V4: =U19/24 -> 5.6333333 | W4: =U20/24 -> 5.6333333 | X4: =U21/24 -> 5.6666667 | Y4: =U22/24 -> 6.5166667 | Z4: =U23/24 -> 5.6666667 | AA4: =U24/24 -> 5.95 | AB4: =U25/24 -> 6.5166667 | AC4: =U26/24 -> 5.6666667 | AD4: =U27/24 -> 4.9583333 | AE4: =SUM(S4:AD4) -> 69.775
D5: =IF(ISERROR(VLOOKUP(B5,Journalier,2,0)),"",VLOOKUP(B5,Journalier,2,0)) | E5: =IF(ISERROR(VLOOKUP(B5,Taux,2,0)),"",VLOOKUP(B5,Taux,2,0)) | F5: =IF(ISERROR(VLOOKUP(B5,Taux,3,0)),"",VLOOKUP(B5,Taux,3,0)) | G5: =IF(ISERROR(VLOOKUP(B5,Taux,4,0)),"",VLOOKUP(B5,Taux,4,0)) | H5: =IF(ISERROR(VLOOKUP(B5,Taux,5,0)),"",VLOOKUP(B5,Taux,5,0)) | I5: =IF(ISERROR(VLOOKUP(B5,Taux,6,0)),"",VLOOKUP(B5,Taux,6,0)) | J5: =IF(ISERROR(VLOOKUP(B5,Taux,7,0)),"",VLOOKUP(B5,Taux,7,0)) | K5: =IF(ISERROR(VLOOKUP(B5,Taux,8,0)),"",VLOOKUP(B5,Taux,8,0)) | L5: =IF(ISERROR(VLOOKUP(B5,Taux,9,0)),"",VLOOKUP(B5,Taux,9,0)) | M5: =IF(ISERROR(VLOOKUP(B5,Taux,10,0)),"",VLOOKUP(B5,Taux,10,0)) | N5: =IF(ISERROR(VLOOKUP(B5,Taux,11,0)),"",VLOOKUP(B5,Taux,11,0)) | O5: =IF(ISERROR(VLOOKUP(B5,Taux,12,0)),"",VLOOKUP(B5,Taux,12,0)) | P5: =IF(ISERROR(VLOOKUP(B5,Taux,13,0)),"",VLOOKUP(B5,Taux,13,0)) | R5: 0.75 | S5: =V16/24 -> 5.578125 | T5: =V17/24 -> 5.3125 | U5: =V18/24 -> 5.578125 | V5: =V19/24 -> 5.28125 | W5: =V20/24 -> 5.28125 | X5: =V21/24 -> 5.3125 | Y5: =V22/24 -> 6.109375 | Z5: =V23/24 -> 5.3125 | AA5: =V24/24 -> 5.578125 | AB5: =V25/24 -> 6.109375 | AC5: =V26/24 -> 5.3125 | AD5: =V27/24 -> 4.6484375 | AE5: =SUM(S5:AD5) -> 65.414062
D6: =IF(ISERROR(VLOOKUP(B6,Journalier,2,0)),"",VLOOKUP(B6,Journalier,2,0)) | E6: =IF(ISERROR(VLOOKUP(B6,Taux,2,0)),"",VLOOKUP(B6,Taux,2,0)) | F6: =IF(ISERROR(VLOOKUP(B6,Taux,3,0)),"",VLOOKUP(B6,Taux,3,0)) | G6: =IF(ISERROR(VLOOKUP(B6,Taux,4,0)),"",VLOOKUP(B6,Taux,4,0)) | H6: =IF(ISERROR(VLOOKUP(B6,Taux,5,0)),"",VLOOKUP(B6,Taux,5,0)) | I6: =IF(ISERROR(VLOOKUP(B6,Taux,6,0)),"",VLOOKUP(B6,Taux,6,0)) | J6: =IF(ISERROR(VLOOKUP(B6,Taux,7,0)),"",VLOOKUP(B6,Taux,7,0)) | K6: =IF(ISERROR(VLOOKUP(B6,Taux,8,0)),"",VLOOKUP(B6,Taux,8,0)) | L6: =IF(ISERROR(VLOOKUP(B6,Taux,9,0)),"",VLOOKUP(B6,Taux,9,0)) | M6: =IF(ISERROR(VLOOKUP(B6,Taux,10,0)),"",VLOOKUP(B6,Taux,10,0)) | N6: =IF(ISERROR(VLOOKUP(B6,Taux,11,0)),"",VLOOKUP(B6,Taux,11,0)) | O6: =IF(ISERROR(VLOOKUP(B6,Taux,12,0)),"",VLOOKUP(B6,Taux,12,0)) | P6: =IF(ISERROR(VLOOKUP(B6,Taux,13,0)),"",VLOOKUP(B6,Taux,13,0)) | R6: 0.7 | S6: =W16/24 -> 5.20625 | T6: =W17/24 -> 4.9583333 | U6: =W18/24 -> 5.20625 | V6: =W19/24 -> 4.9291667 | W6: =W20/24 -> 4.9291667 | X6: =W21/24 -> 4.9583333 | Y6: =W22/24 -> 5.7020833 | Z6: =W23/24 -> 4.9583333 | AA6: =W24/24 -> 5.20625 | AB6: =W25/24 -> 5.7020833 | AC6: =W26/24 -> 4.9583333 | AD6: =W27/24 -> 4.3385417 | AE6: =SUM(S6:AD6) -> 61.053125
D7: =IF(ISERROR(VLOOKUP(B7,Journalier,2,0)),"",VLOOKUP(B7,Journalier,2,0)) | E7: =IF(ISERROR(VLOOKUP(B7,Taux,2,0)),"",VLOOKUP(B7,Taux,2,0)) | F7: =IF(ISERROR(VLOOKUP(B7,Taux,3,0)),"",VLOOKUP(B7,Taux,3,0)) | G7: =IF(ISERROR(VLOOKUP(B7,Taux,4,0)),"",VLOOKUP(B7,Taux,4,0)) | H7: =IF(ISERROR(VLOOKUP(B7,Taux,5,0)),"",VLOOKUP(B7,Taux,5,0)) | I7: =IF(ISERROR(VLOOKUP(B7,Taux,6,0)),"",VLOOKUP(B7,Taux,6,0)) | J7: =IF(ISERROR(VLOOKUP(B7,Taux,7,0)),"",VLOOKUP(B7,Taux,7,0)) | K7: =IF(ISERROR(VLOOKUP(B7,Taux,8,0)),"",VLOOKUP(B7,Taux,8,0)) | L7: =IF(ISERROR(VLOOKUP(B7,Taux,9,0)),"",VLOOKUP(B7,Taux,9,0)) | M7: =IF(ISERROR(VLOOKUP(B7,Taux,10,0)),"",VLOOKUP(B7,Taux,10,0)) | N7: =IF(ISERROR(VLOOKUP(B7,Taux,11,0)),"",VLOOKUP(B7,Taux,11,0)) | O7: =IF(ISERROR(VLOOKUP(B7,Taux,12,0)),"",VLOOKUP(B7,Taux,12,0)) | P7: =IF(ISERROR(VLOOKUP(B7,Taux,13,0)),"",VLOOKUP(B7,Taux,13,0)) | R7: 0.6 | S7: =X16/24 -> 4.4625 | T7: =X17/24 -> 4.25 | U7: =X18/24 -> 4.4625 | V7: =X19/24 -> 4.225 | W7: =X20/24 -> 4.225 | X7: =X21/24 -> 4.25 | Y7: =X22/24 -> 4.8875 | Z7: =X23/24 -> 4.25 | AA7: =X24/24 -> 4.4625 | AB7: =X25/24 -> 4.8875 | AC7: =X26/24 -> 4.25 | AD7: =X27/24 -> 3.71875 | AE7: =SUM(S7:AD7) -> 52.33125
D8: =IF(ISERROR(VLOOKUP(B8,Journalier,2,0)),"",VLOOKUP(B8,Journalier,2,0)) | E8: =IF(ISERROR(VLOOKUP(B8,Taux,2,0)),"",VLOOKUP(B8,Taux,2,0)) | F8: =IF(ISERROR(VLOOKUP(B8,Taux,3,0)),"",VLOOKUP(B8,Taux,3,0)) | G8: =IF(ISERROR(VLOOKUP(B8,Taux,4,0)),"",VLOOKUP(B8,Taux,4,0)) | H8: =IF(ISERROR(VLOOKUP(B8,Taux,5,0)),"",VLOOKUP(B8,Taux,5,0)) | I8: =IF(ISERROR(VLOOKUP(B8,Taux,6,0)),"",VLOOKUP(B8,Taux,6,0)) | J8: =IF(ISERROR(VLOOKUP(B8,Taux,7,0)),"",VLOOKUP(B8,Taux,7,0)) | K8: =IF(ISERROR(VLOOKUP(B8,Taux,8,0)),"",VLOOKUP(B8,Taux,8,0)) | L8: =IF(ISERROR(VLOOKUP(B8,Taux,9,0)),"",VLOOKUP(B8,Taux,9,0)) | M8: =IF(ISERROR(VLOOKUP(B8,Taux,10,0)),"",VLOOKUP(B8,Taux,10,0)) | N8: =IF(ISERROR(VLOOKUP(B8,Taux,11,0)),"",VLOOKUP(B8,Taux,11,0)) | O8: =IF(ISERROR(VLOOKUP(B8,Taux,12,0)),"",VLOOKUP(B8,Taux,12,0)) | P8: =IF(ISERROR(VLOOKUP(B8,Taux,13,0)),"",VLOOKUP(B8,Taux,13,0)) | R8: 0.5 | S8: =Y16/24 -> 3.71875 | T8: =Y17/24 -> 3.5416667 | U8: =Y18/24 -> 3.71875 | V8: =Y19/24 -> 3.5208333 | W8: =Y20/24 -> 3.5208333 | X8: =Y21/24 -> 3.5416667 | Y8: =Y22/24 -> 4.0729167 | Z8: =Y23/24 -> 3.5416667 | AA8: =Y24/24 -> 3.71875 | AB8: =Y25/24 -> 4.0729167 | AC8: =Y26/24 -> 3.5416667 | AD8: =Y27/24 -> 3.0989583 | AE8: =SUM(S8:AD8) -> 43.609375
D9: =IF(ISERROR(VLOOKUP(B9,Journalier,2,0)),"",VLOOKUP(B9,Journalier,2,0)) | E9: =IF(ISERROR(VLOOKUP(B9,Taux,2,0)),"",VLOOKUP(B9,Taux,2,0)) | F9: =IF(ISERROR(VLOOKUP(B9,Taux,3,0)),"",VLOOKUP(B9,Taux,3,0)) | G9: =IF(ISERROR(VLOOKUP(B9,Taux,4,0)),"",VLOOKUP(B9,Taux,4,0)) | H9: =IF(ISERROR(VLOOKUP(B9,Taux,5,0)),"",VLOOKUP(B9,Taux,5,0)) | I9: =IF(ISERROR(VLOOKUP(B9,Taux,6,0)),"",VLOOKUP(B9,Taux,6,0)) | J9: =IF(ISERROR(VLOOKUP(B9,Taux,7,0)),"",VLOOKUP(B9,Taux,7,0)) | K9: =IF(ISERROR(VLOOKUP(B9,Taux,8,0)),"",VLOOKUP(B9,Taux,8,0)) | L9: =IF(ISERROR(VLOOKUP(B9,Taux,9,0)),"",VLOOKUP(B9,Taux,9,0)) | M9: =IF(ISERROR(VLOOKUP(B9,Taux,10,0)),"",VLOOKUP(B9,Taux,10,0)) | N9: =IF(ISERROR(VLOOKUP(B9,Taux,11,0)),"",VLOOKUP(B9,Taux,11,0)) | O9: =IF(ISERROR(VLOOKUP(B9,Taux,12,0)),"",VLOOKUP(B9,Taux,12,0)) | P9: =IF(ISERROR(VLOOKUP(B9,Taux,13,0)),"",VLOOKUP(B9,Taux,13,0)) | R9: 0.4 | S9: =Z16/24 -> 2.975 | T9: =Z17/24 -> 2.8333333 | U9: =Z18/24 -> 2.975 | V9: =Z19/24 -> 2.8166667 | W9: =Z20/24 -> 2.8166667 | X9: =Z21/24 -> 2.8333333 | Y9: =Z22/24 -> 3.2583333 | Z9: =Z23/24 -> 2.8333333 | AA9: =Z24/24 -> 2.975 | AB9: =Z25/24 -> 3.2583333 | AC9: =Z26/24 -> 2.8333333 | AD9: =Z27/24 -> 2.4791667 | AE9: =SUM(S9:AD9) -> 34.8875
D10: =IF(ISERROR(VLOOKUP(B10,Journalier,2,0)),"",VLOOKUP(B10,Journalier,2,0)) | E10: =IF(ISERROR(VLOOKUP(B10,Taux,2,0)),"",VLOOKUP(B10,Taux,2,0)) | F10: =IF(ISERROR(VLOOKUP(B10,Taux,3,0)),"",VLOOKUP(B10,Taux,3,0)) | G10: =IF(ISERROR(VLOOKUP(B10,Taux,4,0)),"",VLOOKUP(B10,Taux,4,0)) | H10: =IF(ISERROR(VLOOKUP(B10,Taux,5,0)),"",VLOOKUP(B10,Taux,5,0)) | I10: =IF(ISERROR(VLOOKUP(B10,Taux,6,0)),"",VLOOKUP(B10,Taux,6,0)) | J10: =IF(ISERROR(VLOOKUP(B10,Taux,7,0)),"",VLOOKUP(B10,Taux,7,0)) | K10: =IF(ISERROR(VLOOKUP(B10,Taux,8,0)),"",VLOOKUP(B10,Taux,8,0)) | L10: =IF(ISERROR(VLOOKUP(B10,Taux,9,0)),"",VLOOKUP(B10,Taux,9,0)) | M10: =IF(ISERROR(VLOOKUP(B10,Taux,10,0)),"",VLOOKUP(B10,Taux,10,0)) | N10: =IF(ISERROR(VLOOKUP(B10,Taux,11,0)),"",VLOOKUP(B10,Taux,11,0)) | O10: =IF(ISERROR(VLOOKUP(B10,Taux,12,0)),"",VLOOKUP(B10,Taux,12,0)) | P10: =IF(ISERROR(VLOOKUP(B10,Taux,13,0)),"",VLOOKUP(B10,Taux,13,0)) | R10: 0.3 | S10: =AA16/24 -> 2.23125 | T10: =AA17/24 -> 2.125 | U10: =AA18/24 -> 2.23125 | V10: =AA19/24 -> 2.1125 | W10: =AA20/24 -> 2.1125 | X10: =AA21/24 -> 2.125 | Y10: =AA22/24 -> 2.44375 | Z10: =AA23/24 -> 2.125 | AA10: =AA24/24 -> 2.23125 | AB10: =AA25/24 -> 2.44375 | AC10: =AA26/42 -> 1.2142857 | AD10: =AA27/24 -> 1.859375 | AE10: =SUM(S10:AD10) -> 25.254911
D11: =IF(ISERROR(VLOOKUP(B11,Journalier,2,0)),"",VLOOKUP(B11,Journalier,2,0)) | E11: =IF(ISERROR(VLOOKUP(B11,Taux,2,0)),"",VLOOKUP(B11,Taux,2,0)) | F11: =IF(ISERROR(VLOOKUP(B11,Taux,3,0)),"",VLOOKUP(B11,Taux,3,0)) | G11: =IF(ISERROR(VLOOKUP(B11,Taux,4,0)),"",VLOOKUP(B11,Taux,4,0)) | H11: =IF(ISERROR(VLOOKUP(B11,Taux,5,0)),"",VLOOKUP(B11,Taux,5,0)) | I11: =IF(ISERROR(VLOOKUP(B11,Taux,6,0)),"",VLOOKUP(B11,Taux,6,0)) | J11: =IF(ISERROR(VLOOKUP(B11,Taux,7,0)),"",VLOOKUP(B11,Taux,7,0)) | K11: =IF(ISERROR(VLOOKUP(B11,Taux,8,0)),"",VLOOKUP(B11,Taux,8,0)) | L11: =IF(ISERROR(VLOOKUP(B11,Taux,9,0)),"",VLOOKUP(B11,Taux,9,0)) | M11: =IF(ISERROR(VLOOKUP(B11,Taux,10,0)),"",VLOOKUP(B11,Taux,10,0)) | N11: =IF(ISERROR(VLOOKUP(B11,Taux,11,0)),"",VLOOKUP(B11,Taux,11,0)) | O11: =IF(ISERROR(VLOOKUP(B11,Taux,12,0)),"",VLOOKUP(B11,Taux,12,0)) | P11: =IF(ISERROR(VLOOKUP(B11,Taux,13,0)),"",VLOOKUP(B11,Taux,13,0)) | R11: 0.25 | S11: =AB16/24 -> 1.859375 | T11: =AB17/24 -> 1.7708333 | U11: =AB18/24 -> 1.859375 | V11: =AB19/24 -> 1.7604167 | W11: =AB20/24 -> 1.7604167 | X11: =AB21/24 -> 1.7708333 | Y11: =AB22/24 -> 2.0364583 | Z11: =AB23/24 -> 1.7708333 | AA11: =AB24/24 -> 1.859375 | AB11: =AB25/24 -> 2.0364583 | AC11: =AB26/24 -> 1.7708333 | AD11: =AB27/24 -> 1.5494792 | AE11: =SUM(S11:AD11) -> 21.804688
D12: =IF(ISERROR(VLOOKUP(B12,Journalier,2,0)),"",VLOOKUP(B12,Journalier,2,0)) | E12: =IF(ISERROR(VLOOKUP(B12,Taux,2,0)),"",VLOOKUP(B12,Taux,2,0)) | F12: =IF(ISERROR(VLOOKUP(B12,Taux,3,0)),"",VLOOKUP(B12,Taux,3,0)) | G12: =IF(ISERROR(VLOOKUP(B12,Taux,4,0)),"",VLOOKUP(B12,Taux,4,0)) | H12: =IF(ISERROR(VLOOKUP(B12,Taux,5,0)),"",VLOOKUP(B12,Taux,5,0)) | I12: =IF(ISERROR(VLOOKUP(B12,Taux,6,0)),"",VLOOKUP(B12,Taux,6,0)) | J12: =IF(ISERROR(VLOOKUP(B12,Taux,7,0)),"",VLOOKUP(B12,Taux,7,0)) | K12: =IF(ISERROR(VLOOKUP(B12,Taux,8,0)),"",VLOOKUP(B12,Taux,8,0)) | L12: =IF(ISERROR(VLOOKUP(B12,Taux,9,0)),"",VLOOKUP(B12,Taux,9,0)) | M12: =IF(ISERROR(VLOOKUP(B12,Taux,10,0)),"",VLOOKUP(B12,Taux,10,0)) | N12: =IF(ISERROR(VLOOKUP(B12,Taux,11,0)),"",VLOOKUP(B12,Taux,11,0)) | O12: =IF(ISERROR(VLOOKUP(B12,Taux,12,0)),"",VLOOKUP(B12,Taux,12,0)) | P12: =IF(ISERROR(VLOOKUP(B12,Taux,13,0)),"",VLOOKUP(B12,Taux,13,0)) | R12: 0.2 | S12: =AC16/24 -> 1.4875 | T12: =AC17/24 -> 1.4166667 | U12: =AC18/24 -> 1.4875 | V12: =AC19/24 -> 1.4083333 | W12: =AC20/24 -> 1.4083333 | X12: =AC21/24 -> 1.4166667 | Y12: =AC22/24 -> 1.6291667 | Z12: =AC23/24 -> 1.4166667 | AA12: =AC24/24 -> 1.4875 | AB12: =AC25/24 -> 1.6291667 | AC12: =AC26/24 -> 1.4166667 | AD12: =AC27/24 -> 1.2395833 | AE12: =SUM(S12:AD12) -> 17.44375
D13: =IF(ISERROR(VLOOKUP(B13,Journalier,2,0)),"",VLOOKUP(B13,Journalier,2,0)) | E13: =IF(ISERROR(VLOOKUP(B13,Taux,2,0)),"",VLOOKUP(B13,Taux,2,0)) | F13: =IF(ISERROR(VLOOKUP(B13,Taux,3,0)),"",VLOOKUP(B13,Taux,3,0)) | G13: =IF(ISERROR(VLOOKUP(B13,Taux,4,0)),"",VLOOKUP(B13,Taux,4,0)) | H13: =IF(ISERROR(VLOOKUP(B13,Taux,5,0)),"",VLOOKUP(B13,Taux,5,0)) | I13: =IF(ISERROR(VLOOKUP(B13,Taux,6,0)),"",VLOOKUP(B13,Taux,6,0)) | J13: =IF(ISERROR(VLOOKUP(B13,Taux,7,0)),"",VLOOKUP(B13,Taux,7,0)) | K13: =IF(ISERROR(VLOOKUP(B13,Taux,8,0)),"",VLOOKUP(B13,Taux,8,0)) | L13: =IF(ISERROR(VLOOKUP(B13,Taux,9,0)),"",VLOOKUP(B13,Taux,9,0)) | M13: =IF(ISERROR(VLOOKUP(B13,Taux,10,0)),"",VLOOKUP(B13,Taux,10,0)) | N13: =IF(ISERROR(VLOOKUP(B13,Taux,11,0)),"",VLOOKUP(B13,Taux,11,0)) | O13: =IF(ISERROR(VLOOKUP(B13,Taux,12,0)),"",VLOOKUP(B13,Taux,12,0)) | P13: =IF(ISERROR(VLOOKUP(B13,Taux,13,0)),"",VLOOKUP(B13,Taux,13,0)) | R13: 0.1 | S13: =AD16/24 -> 0.74375 | T13: =AD17/24 -> 0.70833333 | U13: =AD18/24 -> 0.74375 | V13: =AD19/24 -> 0.70416667 | W13: =AD20/24 -> 0.70416667 | X13: =AD21/24 -> 0.70833333 | Y13: =AD22/24 -> 0.81458333 | Z13: =AD23/24 -> 0.70833333 | AA13: =AD24/24 -> 0.74375 | AB13: =AD25/24 -> 0.81458333 | AC13: =AD26/24 -> 0.70833333 | AD13: =AD27/24 -> 0.61979167 | AE13: =SUM(S13:AD13) -> 8.721875
D14: =IF(ISERROR(VLOOKUP(B14,Journalier,2,0)),"",VLOOKUP(B14,Journalier,2,0)) | E14: =IF(ISERROR(VLOOKUP(B14,Taux,2,0)),"",VLOOKUP(B14,Taux,2,0)) | F14: =IF(ISERROR(VLOOKUP(B14,Taux,3,0)),"",VLOOKUP(B14,Taux,3,0)) | G14: =IF(ISERROR(VLOOKUP(B14,Taux,4,0)),"",VLOOKUP(B14,Taux,4,0)) | H14: =IF(ISERROR(VLOOKUP(B14,Taux,5,0)),"",VLOOKUP(B14,Taux,5,0)) | I14: =IF(ISERROR(VLOOKUP(B14,Taux,6,0)),"",VLOOKUP(B14,Taux,6,0)) | J14: =IF(ISERROR(VLOOKUP(B14,Taux,7,0)),"",VLOOKUP(B14,Taux,7,0)) | K14: =IF(ISERROR(VLOOKUP(B14,Taux,8,0)),"",VLOOKUP(B14,Taux,8,0)) | L14: =IF(ISERROR(VLOOKUP(B14,Taux,9,0)),"",VLOOKUP(B14,Taux,9,0)) | M14: =IF(ISERROR(VLOOKUP(B14,Taux,10,0)),"",VLOOKUP(B14,Taux,10,0)) | N14: =IF(ISERROR(VLOOKUP(B14,Taux,11,0)),"",VLOOKUP(B14,Taux,11,0)) | O14: =IF(ISERROR(VLOOKUP(B14,Taux,12,0)),"",VLOOKUP(B14,Taux,12,0)) | P14: =IF(ISERROR(VLOOKUP(B14,Taux,13,0)),"",VLOOKUP(B14,Taux,13,0))
D15: =IF(ISERROR(VLOOKUP(B15,Journalier,2,0)),"",VLOOKUP(B15,Journalier,2,0)) | E15: =IF(ISERROR(VLOOKUP(B15,Taux,2,0)),"",VLOOKUP(B15,Taux,2,0)) | F15: =IF(ISERROR(VLOOKUP(B15,Taux,3,0)),"",VLOOKUP(B15,Taux,3,0)) | G15: =IF(ISERROR(VLOOKUP(B15,Taux,4,0)),"",VLOOKUP(B15,Taux,4,0)) | H15: =IF(ISERROR(VLOOKUP(B15,Taux,5,0)),"",VLOOKUP(B15,Taux,5,0)) | I15: =IF(ISERROR(VLOOKUP(B15,Taux,6,0)),"",VLOOKUP(B15,Taux,6,0)) | J15: =IF(ISERROR(VLOOKUP(B15,Taux,7,0)),"",VLOOKUP(B15,Taux,7,0)) | K15: =IF(ISERROR(VLOOKUP(B15,Taux,8,0)),"",VLOOKUP(B15,Taux,8,0)) | L15: =IF(ISERROR(VLOOKUP(B15,Taux,9,0)),"",VLOOKUP(B15,Taux,9,0)) | M15: =IF(ISERROR(VLOOKUP(B15,Taux,10,0)),"",VLOOKUP(B15,Taux,10,0)) | N15: =IF(ISERROR(VLOOKUP(B15,Taux,11,0)),"",VLOOKUP(B15,Taux,11,0)) | O15: =IF(ISERROR(VLOOKUP(B15,Taux,12,0)),"",VLOOKUP(B15,Taux,12,0)) | P15: =IF(ISERROR(VLOOKUP(B15,Taux,13,0)),"",VLOOKUP(B15,Taux,13,0)) | R15: 2014 | S15: 1 | T15: 0.9 | U15: 0.8 | V15: 0.75 | W15: 0.7 | X15: 0.6 | Y15: 0.5 | Z15: 0.4 | AA15: 0.3 | AB15: 0.25 | AC15: 0.2 | AD15: 0.1 | AE15: Jours | AF15: Hre
D16: =IF(ISERROR(VLOOKUP(B16,Journalier,2,0)),"",VLOOKUP(B16,Journalier,2,0)) | E16: =IF(ISERROR(VLOOKUP(B16,Taux,2,0)),"",VLOOKUP(B16,Taux,2,0)) | F16: =IF(ISERROR(VLOOKUP(B16,Taux,3,0)),"",VLOOKUP(B16,Taux,3,0)) | G16: =IF(ISERROR(VLOOKUP(B16,Taux,4,0)),"",VLOOKUP(B16,Taux,4,0)) | H16: =IF(ISERROR(VLOOKUP(B16,Taux,5,0)),"",VLOOKUP(B16,Taux,5,0)) | I16: =IF(ISERROR(VLOOKUP(B16,Taux,6,0)),"",VLOOKUP(B16,Taux,6,0)) | J16: =IF(ISERROR(VLOOKUP(B16,Taux,7,0)),"",VLOOKUP(B16,Taux,7,0)) | K16: =IF(ISERROR(VLOOKUP(B16,Taux,8,0)),"",VLOOKUP(B16,Taux,8,0)) | L16: =IF(ISERROR(VLOOKUP(B16,Taux,9,0)),"",VLOOKUP(B16,Taux,9,0)) | M16: =IF(ISERROR(VLOOKUP(B16,Taux,10,0)),"",VLOOKUP(B16,Taux,10,0)) | N16: =IF(ISERROR(VLOOKUP(B16,Taux,11,0)),"",VLOOKUP(B16,Taux,11,0)) | O16: =IF(ISERROR(VLOOKUP(B16,Taux,12,0)),"",VLOOKUP(B16,Taux,12,0)) | P16: =IF(ISERROR(VLOOKUP(B16,Taux,13,0)),"",VLOOKUP(B16,Taux,13,0)) | R16: Janvier | S16: =($U$45*AE16)-(AF16*S15) -> 178.5 | T16: =($U$46*AE16)-(AF16*T15) -> 160.65 | U16: =($U$47*AE16)-(AF16*U15) -> 142.8 | V16: =($U$48*AE16)-(AF16*V15) -> 133.875 | W16: =($U$49*AE16)-(AF16*W15) -> 124.95 | X16: =($U$50*AE16)-(AF16*X15) -> 107.1 | Y16: =($U$51*AE16)-(AF16*Y15) -> 89.25 | Z16: =($U$52*AE16)-(AF16*Z15) -> 71.4 | AA16: =($U$53*AE16)-(AF16*AA15) -> 53.55 | AB16: =($U$54*AE16)-(AF16*AB15) -> 44.625 | AC16: =($U$55*AE16)-(AF16*AC15) -> 35.7 | AD16: =($U$56*AE16)-(AF16*AD15) -> 17.85 | AE16: 21
D17: =IF(ISERROR(VLOOKUP(B17,Journalier,2,0)),"",VLOOKUP(B17,Journalier,2,0)) | E17: =IF(ISERROR(VLOOKUP(B17,Taux,2,0)),"",VLOOKUP(B17,Taux,2,0)) | F17: =IF(ISERROR(VLOOKUP(B17,Taux,3,0)),"",VLOOKUP(B17,Taux,3,0)) | G17: =IF(ISERROR(VLOOKUP(B17,Taux,4,0)),"",VLOOKUP(B17,Taux,4,0)) | H17: =IF(ISERROR(VLOOKUP(B17,Taux,5,0)),"",VLOOKUP(B17,Taux,5,0)) | I17: =IF(ISERROR(VLOOKUP(B17,Taux,6,0)),"",VLOOKUP(B17,Taux,6,0)) | J17: =IF(ISERROR(VLOOKUP(B17,Taux,7,0)),"",VLOOKUP(B17,Taux,7,0)) | K17: =IF(ISERROR(VLOOKUP(B17,Taux,8,0)),"",VLOOKUP(B17,Taux,8,0)) | L17: =IF(ISERROR(VLOOKUP(B17,Taux,9,0)),"",VLOOKUP(B17,Taux,9,0)) | M17: =IF(ISERROR(VLOOKUP(B17,Taux,10,0)),"",VLOOKUP(B17,Taux,10,0)) | N17: =IF(ISERROR(VLOOKUP(B17,Taux,11,0)),"",VLOOKUP(B17,Taux,11,0)) | O17: =IF(ISERROR(VLOOKUP(B17,Taux,12,0)),"",VLOOKUP(B17,Taux,12,0)) | P17: =IF(ISERROR(VLOOKUP(B17,Taux,13,0)),"",VLOOKUP(B17,Taux,13,0)) | R17: Février | S17: =($U$45*AE17)-(AF17*S15) -> 170 | T17: =($U$46*AE17)-(AF17*T15) -> 153 | U17: =($U$47*AE17)-(AF17*U15) -> 136 | V17: =($U$48*AE17)-(AF17*V15) -> 127.5 | W17: =($U$49*AE17)-(AF17*W15) -> 119 | X17: =($U$50*AE17)-(AF17*X15) -> 102 | Y17: =($U$51*AE17)-(AF17*Y15) -> 85 | Z17: =($U$52*AE17)-(AF17*Z15) -> 68 | AA17: =($U$53*AE17)-(AF17*AA15) -> 51 | AB17: =($U$54*AE17)-(AF17*AB15) -> 42.5 | AC17: =($U$55*AE17)-(AF17*AC15) -> 34 | AD17: =($U$56*AE17)-(AF17*AD15) -> 17 | AE17: 20
D18: =IF(ISERROR(VLOOKUP(B18,Journalier,2,0)),"",VLOOKUP(B18,Journalier,2,0)) | E18: =IF(ISERROR(VLOOKUP(B18,Taux,2,0)),"",VLOOKUP(B18,Taux,2,0)) | F18: =IF(ISERROR(VLOOKUP(B18,Taux,3,0)),"",VLOOKUP(B18,Taux,3,0)) | G18: =IF(ISERROR(VLOOKUP(B18,Taux,4,0)),"",VLOOKUP(B18,Taux,4,0)) | H18: =IF(ISERROR(VLOOKUP(B18,Taux,5,0)),"",VLOOKUP(B18,Taux,5,0)) | I18: =IF(ISERROR(VLOOKUP(B18,Taux,6,0)),"",VLOOKUP(B18,Taux,6,0)) | J18: =IF(ISERROR(VLOOKUP(B18,Taux,7,0)),"",VLOOKUP(B18,Taux,7,0)) | K18: =IF(ISERROR(VLOOKUP(B18,Taux,8,0)),"",VLOOKUP(B18,Taux,8,0)) | L18: =IF(ISERROR(VLOOKUP(B18,Taux,9,0)),"",VLOOKUP(B18,Taux,9,0)) | M18: =IF(ISERROR(VLOOKUP(B18,Taux,10,0)),"",VLOOKUP(B18,Taux,10,0)) | N18: =IF(ISERROR(VLOOKUP(B18,Taux,11,0)),"",VLOOKUP(B18,Taux,11,0)) | O18: =IF(ISERROR(VLOOKUP(B18,Taux,12,0)),"",VLOOKUP(B18,Taux,12,0)) | P18: =IF(ISERROR(VLOOKUP(B18,Taux,13,0)),"",VLOOKUP(B18,Taux,13,0)) | R18: Mars | S18: =($U$45*AE18)-(AF18*S15) -> 178.5 | T18: =($U$46*AE18)-(AF18*T15) -> 160.65 | U18: =($U$47*AE18)-(AF18*U15) -> 142.8 | V18: =($U$48*AE18)-(AF18*V15) -> 133.875 | W18: =($U$49*AE18)-(AF18*W15) -> 124.95 | X18: =($U$50*AE18)-(AF18*X15) -> 107.1 | Y18: =($U$51*AE18)-(AF18*Y15) -> 89.25 | Z18: =($U$52*AE18)-(AF18*Z15) -> 71.4 | AA18: =($U$53*AE18)-(AF18*AA15) -> 53.55 | AB18: =($U$54*AE18)-(AF18*AB15) -> 44.625 | AC18: =($U$55*AE18)-(AF18*AC15) -> 35.7 | AD18: =($U$56*AE18)-(AF18*AD15) -> 17.85 | AE18: 21
D19: =IF(ISERROR(VLOOKUP(B19,Journalier,2,0)),"",VLOOKUP(B19,Journalier,2,0)) | E19: =IF(ISERROR(VLOOKUP(B19,Taux,2,0)),"",VLOOKUP(B19,Taux,2,0)) | F19: =IF(ISERROR(VLOOKUP(B19,Taux,3,0)),"",VLOOKUP(B19,Taux,3,0)) | G19: =IF(ISERROR(VLOOKUP(B19,Taux,4,0)),"",VLOOKUP(B19,Taux,4,0)) | H19: =IF(ISERROR(VLOOKUP(B19,Taux,5,0)),"",VLOOKUP(B19,Taux,5,0)) | I19: =IF(ISERROR(VLOOKUP(B19,Taux,6,0)),"",VLOOKUP(B19,Taux,6,0)) | J19: =IF(ISERROR(VLOOKUP(B19,Taux,7,0)),"",VLOOKUP(B19,Taux,7,0)) | K19: =IF(ISERROR(VLOOKUP(B19,Taux,8,0)),"",VLOOKUP(B19,Taux,8,0)) | L19: =IF(ISERROR(VLOOKUP(B19,Taux,9,0)),"",VLOOKUP(B19,Taux,9,0)) | M19: =IF(ISERROR(VLOOKUP(B19,Taux,10,0)),"",VLOOKUP(B19,Taux,10,0)) | N19: =IF(ISERROR(VLOOKUP(B19,Taux,11,0)),"",VLOOKUP(B19,Taux,11,0)) | O19: =IF(ISERROR(VLOOKUP(B19,Taux,12,0)),"",VLOOKUP(B19,Taux,12,0)) | P19: =IF(ISERROR(VLOOKUP(B19,Taux,13,0)),"",VLOOKUP(B19,Taux,13,0)) | R19: Avril | S19: =($U$45*AE19)-(AF19*S15) -> 169 | T19: =($U$46*AE19)-(AF19*T15) -> 152.1 | U19: =($U$47*AE19)-(AF19*U15) -> 135.2 | V19: =($U$48*AE19)-(AF19*V15) -> 126.75 | W19: =($U$49*AE19)-(AF19*W15) -> 118.3 | X19: =($U$50*AE19)-(AF19*X15) -> 101.4 | Y19: =($U$51*AE19)-(AF19*Y15) -> 84.5 | Z19: =($U$52*AE19)-(AF19*Z15) -> 67.6 | AA19: =($U$53*AE19)-(AF19*AA15) -> 50.7 | AB19: =($U$54*AE19)-(AF19*AB15) -> 42.25 | AC19: =($U$55*AE19)-(AF19*AC15) -> 33.8 | AD19: =($U$56*AE19)-(AF19*AD15) -> 16.9 | AE19: 20 | AF19: 1
D20: =IF(ISERROR(VLOOKUP(B20,Journalier,2,0)),"",VLOOKUP(B20,Journalier,2,0)) | E20: =IF(ISERROR(VLOOKUP(B20,Taux,2,0)),"",VLOOKUP(B20,Taux,2,0)) | F20: =IF(ISERROR(VLOOKUP(B20,Taux,3,0)),"",VLOOKUP(B20,Taux,3,0)) | G20: =IF(ISERROR(VLOOKUP(B20,Taux,4,0)),"",VLOOKUP(B20,Taux,4,0)) | H20: =IF(ISERROR(VLOOKUP(B20,Taux,5,0)),"",VLOOKUP(B20,Taux,5,0)) | I20: =IF(ISERROR(VLOOKUP(B20,Taux,6,0)),"",VLOOKUP(B20,Taux,6,0)) | J20: =IF(ISERROR(VLOOKUP(B20,Taux,7,0)),"",VLOOKUP(B20,Taux,7,0)) | K20: =IF(ISERROR(VLOOKUP(B20,Taux,8,0)),"",VLOOKUP(B20,Taux,8,0)) | L20: =IF(ISERROR(VLOOKUP(B20,Taux,9,0)),"",VLOOKUP(B20,Taux,9,0)) | M20: =IF(ISERROR(VLOOKUP(B20,Taux,10,0)),"",VLOOKUP(B20,Taux,10,0)) | N20: =IF(ISERROR(VLOOKUP(B20,Taux,11,0)),"",VLOOKUP(B20,Taux,11,0)) | O20: =IF(ISERROR(VLOOKUP(B20,Taux,12,0)),"",VLOOKUP(B20,Taux,12,0)) | P20: =IF(ISERROR(VLOOKUP(B20,Taux,13,0)),"",VLOOKUP(B20,Taux,13,0)) | R20: Mai | S20: =($U$45*AE20)-(AF20*$S$15) -> 169 | T20: =($U$46*AE20)-(AF20*$T$15) -> 152.1 | U20: =($U$47*AE20)-(AF20*$U$15) -> 135.2 | V20: =($U$48*AE20)-(AF20*$V$15) -> 126.75 | W20: =($U$49*AE20)-(AF20*$W$15) -> 118.3 | X20: =($U$50*AE20)-(AF20*$X$15) -> 101.4 | Y20: =($U$51*AE20)-(AF20*$Y$15) -> 84.5 | Z20: =($U$52*AE20)-(AF20*$Z$15) -> 67.6 | AA20: =($U$53*AE20)-(AF20*$AA$15) -> 50.7 | AB20: =($U$54*AE20)-(AF20*$AB$15) -> 42.25 | AC20: =($U$55*AE20)-(AF20*$AC$15) -> 33.8 | AD20: =($U$56*AE20)-(AF20*$AD$15) -> 16.9 | AE20: 20 | AF20: 1
D21: =IF(ISERROR(VLOOKUP(B21,Journalier,2,0)),"",VLOOKUP(B21,Journalier,2,0)) | E21: =IF(ISERROR(VLOOKUP(B21,Taux,2,0)),"",VLOOKUP(B21,Taux,2,0)) | F21: =IF(ISERROR(VLOOKUP(B21,Taux,3,0)),"",VLOOKUP(B21,Taux,3,0)) | G21: =IF(ISERROR(VLOOKUP(B21,Taux,4,0)),"",VLOOKUP(B21,Taux,4,0)) | H21: =IF(ISERROR(VLOOKUP(B21,Taux,5,0)),"",VLOOKUP(B21,Taux,5,0)) | I21: =IF(ISERROR(VLOOKUP(B21,Taux,6,0)),"",VLOOKUP(B21,Taux,6,0)) | J21: =IF(ISERROR(VLOOKUP(B21,Taux,7,0)),"",VLOOKUP(B21,Taux,7,0)) | K21: =IF(ISERROR(VLOOKUP(B21,Taux,8,0)),"",VLOOKUP(B21,Taux,8,0)) | L21: =IF(ISERROR(VLOOKUP(B21,Taux,9,0)),"",VLOOKUP(B21,Taux,9,0)) | M21: =IF(ISERROR(VLOOKUP(B21,Taux,10,0)),"",VLOOKUP(B21,Taux,10,0)) | N21: =IF(ISERROR(VLOOKUP(B21,Taux,11,0)),"",VLOOKUP(B21,Taux,11,0)) | O21: =IF(ISERROR(VLOOKUP(B21,Taux,12,0)),"",VLOOKUP(B21,Taux,12,0)) | P21: =IF(ISERROR(VLOOKUP(B21,Taux,13,0)),"",VLOOKUP(B21,Taux,13,0)) | R21: Juin | S21: =($U$45*AE21)-(AF21*$S$15) -> 170 | T21: =($U$46*AE21)-(AF21*$T$15) -> 153 | U21: =($U$47*AE21)-(AF21*$U$15) -> 136 | V21: =($U$48*AE21)-(AF21*$V$15) -> 127.5 | W21: =($U$49*AE21)-(AF21*$W$15) -> 119 | X21: =($U$50*AE21)-(AF21*$X$15) -> 102 | Y21: =($U$51*AE21)-(AF21*$Y$15) -> 85 | Z21: =($U$52*AE21)-(AF21*$Z$15) -> 68 | AA21: =($U$53*AE21)-(AF21*$AA$15) -> 51 | AB21: =($U$54*AE21)-(AF21*$AB$15) -> 42.5 | AC21: =($U$55*AE21)-(AF21*$AC$15) -> 34 | AD21: =($U$56*AE21)-(AF21*$AD$15) -> 17 | AE21: 20
D22: =IF(ISERROR(VLOOKUP(B22,Journalier,2,0)),"",VLOOKUP(B22,Journalier,2,0)) | E22: =IF(ISERROR(VLOOKUP(B22,Taux,2,0)),"",VLOOKUP(B22,Taux,2,0)) | F22: =IF(ISERROR(VLOOKUP(B22,Taux,3,0)),"",VLOOKUP(B22,Taux,3,0)) | G22: =IF(ISERROR(VLOOKUP(B22,Taux,4,0)),"",VLOOKUP(B22,Taux,4,0)) | H22: =IF(ISERROR(VLOOKUP(B22,Taux,5,0)),"",VLOOKUP(B22,Taux,5,0)) | I22: =IF(ISERROR(VLOOKUP(B22,Taux,6,0)),"",VLOOKUP(B22,Taux,6,0)) | J22: =IF(ISERROR(VLOOKUP(B22,Taux,7,0)),"",VLOOKUP(B22,Taux,7,0)) | K22: =IF(ISERROR(VLOOKUP(B22,Taux,8,0)),"",VLOOKUP(B22,Taux,8,0)) | L22: =IF(ISERROR(VLOOKUP(B22,Taux,9,0)),"",VLOOKUP(B22,Taux,9,0)) | M22: =IF(ISERROR(VLOOKUP(B22,Taux,10,0)),"",VLOOKUP(B22,Taux,10,0)) | N22: =IF(ISERROR(VLOOKUP(B22,Taux,11,0)),"",VLOOKUP(B22,Taux,11,0)) | O22: =IF(ISERROR(VLOOKUP(B22,Taux,12,0)),"",VLOOKUP(B22,Taux,12,0)) | P22: =IF(ISERROR(VLOOKUP(B22,Taux,13,0)),"",VLOOKUP(B22,Taux,13,0)) | R22: Juillet | S22: =($U$45*AE22)-(AF22*$S$15) -> 195.5 | T22: =($U$46*AE22)-(AF22*$T$15) -> 175.95 | U22: =($U$47*AE22)-(AF22*$U$15) -> 156.4 | V22: =($U$48*AE22)-(AF22*$V$15) -> 146.625 | W22: =($U$49*AE22)-(AF22*$W$15) -> 136.85 | X22: =($U$50*AE22)-(AF22*$X$15) -> 117.3 | Y22: =($U$51*AE22)-(AF22*$Y$15) -> 97.75 | Z22: =($U$52*AE22)-(AF22*$Z$15) -> 78.2 | AA22: =($U$53*AE22)-(AF22*$AA$15) -> 58.65 | AB22: =($U$54*AE22)-(AF22*$AB$15) -> 48.875 | AC22: =($U$55*AE22)-(AF22*$AC$15) -> 39.1 | AD22: =($U$56*AE22)-(AF22*$AD$15) -> 19.55 | AE22: 23
D23: =IF(ISERROR(VLOOKUP(B23,Journalier,2,0)),"",VLOOKUP(B23,Journalier,2,0)) | E23: =IF(ISERROR(VLOOKUP(B23,Taux,2,0)),"",VLOOKUP(B23,Taux,2,0)) | F23: =IF(ISERROR(VLOOKUP(B23,Taux,3,0)),"",VLOOKUP(B23,Taux,3,0)) | G23: =IF(ISERROR(VLOOKUP(B23,Taux,4,0)),"",VLOOKUP(B23,Taux,4,0)) | H23: =IF(ISERROR(VLOOKUP(B23,Taux,5,0)),"",VLOOKUP(B23,Taux,5,0)) | I23: =IF(ISERROR(VLOOKUP(B23,Taux,6,0)),"",VLOOKUP(B23,Taux,6,0)) | J23: =IF(ISERROR(VLOOKUP(B23,Taux,7,0)),"",VLOOKUP(B23,Taux,7,0)) | K23: =IF(ISERROR(VLOOKUP(B23,Taux,8,0)),"",VLOOKUP(B23,Taux,8,0)) | L23: =IF(ISERROR(VLOOKUP(B23,Taux,9,0)),"",VLOOKUP(B23,Taux,9,0)) | M23: =IF(ISERROR(VLOOKUP(B23,Taux,10,0)),"",VLOOKUP(B23,Taux,10,0)) | N23: =IF(ISERROR(VLOOKUP(B23,Taux,11,0)),"",VLOOKUP(B23,Taux,11,0)) | O23: =IF(ISERROR(VLOOKUP(B23,Taux,12,0)),"",VLOOKUP(B23,Taux,12,0)) | P23: =IF(ISERROR(VLOOKUP(B23,Taux,13,0)),"",VLOOKUP(B23,Taux,13,0)) | R23: Août | S23: =($U$45*AE23)-(AF23*$S$15) -> 170 | T23: =($U$46*AE23)-(AF23*$T$15) -> 153 | U23: =($U$47*AE23)-(AF23*$U$15) -> 136 | V23: =($U$48*AE23)-(AF23*$V$15) -> 127.5 | W23: =($U$49*AE23)-(AF23*$W$15) -> 119 | X23: =($U$50*AE23)-(AF23*$X$15) -> 102 | Y23: =($U$51*AE23)-(AF23*$Y$15) -> 85 | Z23: =($U$52*AE23)-(AF23*$Z$15) -> 68 | AA23: =($U$53*AE23)-(AF23*$AA$15) -> 51 | AB23: =($U$54*AE23)-(AF23*$AB$15) -> 42.5 | AC23: =($U$55*AE23)-(AF23*$AC$15) -> 34 | AD23: =($U$56*AE23)-(AF23*$AD$15) -> 17 | AE23: 20
D24: =IF(ISERROR(VLOOKUP(B24,Journalier,2,0)),"",VLOOKUP(B24,Journalier,2,0)) | E24: =IF(ISERROR(VLOOKUP(B24,Taux,2,0)),"",VLOOKUP(B24,Taux,2,0)) | F24: =IF(ISERROR(VLOOKUP(B24,Taux,3,0)),"",VLOOKUP(B24,Taux,3,0)) | G24: =IF(ISERROR(VLOOKUP(B24,Taux,4,0)),"",VLOOKUP(B24,Taux,4,0)) | H24: =IF(ISERROR(VLOOKUP(B24,Taux,5,0)),"",VLOOKUP(B24,Taux,5,0)) | I24: =IF(ISERROR(VLOOKUP(B24,Taux,6,0)),"",VLOOKUP(B24,Taux,6,0)) | J24: =IF(ISERROR(VLOOKUP(B24,Taux,7,0)),"",VLOOKUP(B24,Taux,7,0)) | K24: =IF(ISERROR(VLOOKUP(B24,Taux,8,0)),"",VLOOKUP(B24,Taux,8,0)) | L24: =IF(ISERROR(VLOOKUP(B24,Taux,9,0)),"",VLOOKUP(B24,Taux,9,0)) | M24: =IF(ISERROR(VLOOKUP(B24,Taux,10,0)),"",VLOOKUP(B24,Taux,10,0)) | N24: =IF(ISERROR(VLOOKUP(B24,Taux,11,0)),"",VLOOKUP(B24,Taux,11,0)) | O24: =IF(ISERROR(VLOOKUP(B24,Taux,12,0)),"",VLOOKUP(B24,Taux,12,0)) | P24: =IF(ISERROR(VLOOKUP(B24,Taux,13,0)),"",VLOOKUP(B24,Taux,13,0)) | R24: Septembre | S24: =($U$45*AE24)-(AF24*$S$15) -> 178.5 | T24: =($U$46*AE24)-(AF24*$T$15) -> 160.65 | U24: =($U$47*AE24)-(AF24*$U$15) -> 142.8 | V24: =($U$48*AE24)-(AF24*$V$15) -> 133.875 | W24: =($U$49*AE24)-(AF24*$W$15) -> 124.95 | X24: =($U$50*AE24)-(AF24*$X$15) -> 107.1 | Y24: =($U$51*AE24)-(AF24*$Y$15) -> 89.25 | Z24: =($U$52*AE24)-(AF24*$Z$15) -> 71.4 | AA24: =($U$53*AE24)-(AF24*$AA$15) -> 53.55 | AB24: =($U$54*AE24)-(AF24*$AB$15) -> 44.625 | AC24: =($U$55*AE24)-(AF24*$AC$15) -> 35.7 | AD24: =($U$56*AE24)-(AF24*$AD$15) -> 17.85 | AE24: 21
D25: =IF(ISERROR(VLOOKUP(B25,Journalier,2,0)),"",VLOOKUP(B25,Journalier,2,0)) | E25: =IF(ISERROR(VLOOKUP(B25,Taux,2,0)),"",VLOOKUP(B25,Taux,2,0)) | F25: =IF(ISERROR(VLOOKUP(B25,Taux,3,0)),"",VLOOKUP(B25,Taux,3,0)) | G25: =IF(ISERROR(VLOOKUP(B25,Taux,4,0)),"",VLOOKUP(B25,Taux,4,0)) | H25: =IF(ISERROR(VLOOKUP(B25,Taux,5,0)),"",VLOOKUP(B25,Taux,5,0)) | I25: =IF(ISERROR(VLOOKUP(B25,Taux,6,0)),"",VLOOKUP(B25,Taux,6,0)) | J25: =IF(ISERROR(VLOOKUP(B25,Taux,7,0)),"",VLOOKUP(B25,Taux,7,0)) | K25: =IF(ISERROR(VLOOKUP(B25,Taux,8,0)),"",VLOOKUP(B25,Taux,8,0)) | L25: =IF(ISERROR(VLOOKUP(B25,Taux,9,0)),"",VLOOKUP(B25,Taux,9,0)) | M25: =IF(ISERROR(VLOOKUP(B25,Taux,10,0)),"",VLOOKUP(B25,Taux,10,0)) | N25: =IF(ISERROR(VLOOKUP(B25,Taux,11,0)),"",VLOOKUP(B25,Taux,11,0)) | O25: =IF(ISERROR(VLOOKUP(B25,Taux,12,0)),"",VLOOKUP(B25,Taux,12,0)) | P25: =IF(ISERROR(VLOOKUP(B25,Taux,13,0)),"",VLOOKUP(B25,Taux,13,0)) | R25: Octobre | S25: =($U$45*AE25)-(AF25*$S$15) -> 195.5 | T25: =($U$46*AE25)-(AF25*$T$15) -> 175.95 | U25: =($U$47*AE25)-(AF25*$U$15) -> 156.4 | V25: =($U$48*AE25)-(AF25*$V$15) -> 146.625 | W25: =($U$49*AE25)-(AF25*$W$15) -> 136.85 | X25: =($U$50*AE25)-(AF25*$X$15) -> 117.3 | Y25: =($U$51*AE25)-(AF25*$Y$15) -> 97.75 | Z25: =($U$52*AE25)-(AF25*$Z$15) -> 78.2 | AA25: =($U$53*AE25)-(AF25*$AA$15) -> 58.65 | AB25: =($U$54*AE25)-(AF25*$AB$15) -> 48.875 | AC25: =($U$55*AE25)-(AF25*$AC$15) -> 39.1 | AD25: =($U$56*AE25)-(AF25*$AD$15) -> 19.55 | AE25: 23
D26: =IF(ISERROR(VLOOKUP(B26,Journalier,2,0)),"",VLOOKUP(B26,Journalier,2,0)) | E26: =IF(ISERROR(VLOOKUP(B26,Taux,2,0)),"",VLOOKUP(B26,Taux,2,0)) | F26: =IF(ISERROR(VLOOKUP(B26,Taux,3,0)),"",VLOOKUP(B26,Taux,3,0)) | G26: =IF(ISERROR(VLOOKUP(B26,Taux,4,0)),"",VLOOKUP(B26,Taux,4,0)) | H26: =IF(ISERROR(VLOOKUP(B26,Taux,5,0)),"",VLOOKUP(B26,Taux,5,0)) | I26: =IF(ISERROR(VLOOKUP(B26,Taux,6,0)),"",VLOOKUP(B26,Taux,6,0)) | J26: =IF(ISERROR(VLOOKUP(B26,Taux,7,0)),"",VLOOKUP(B26,Taux,7,0)) | K26: =IF(ISERROR(VLOOKUP(B26,Taux,8,0)),"",VLOOKUP(B26,Taux,8,0)) | L26: =IF(ISERROR(VLOOKUP(B26,Taux,9,0)),"",VLOOKUP(B26,Taux,9,0)) | M26: =IF(ISERROR(VLOOKUP(B26,Taux,10,0)),"",VLOOKUP(B26,Taux,10,0)) | N26: =IF(ISERROR(VLOOKUP(B26,Taux,11,0)),"",VLOOKUP(B26,Taux,11,0)) | O26: =IF(ISERROR(VLOOKUP(B26,Taux,12,0)),"",VLOOKUP(B26,Taux,12,0)) | P26: =IF(ISERROR(VLOOKUP(B26,Taux,13,0)),"",VLOOKUP(B26,Taux,13,0)) | R26: Novembre | S26: =($U$45*AE26)-(AF26*$S$15) -> 170 | T26: =($U$46*AE26)-(AF26*$T$15) -> 153 | U26: =($U$47*AE26)-(AF26*$U$15) -> 136 | V26: =($U$48*AE26)-(AF26*$V$15) -> 127.5 | W26: =($U$49*AE26)-(AF26*$W$15) -> 119 | X26: =($U$50*AE26)-(AF26*$X$15) -> 102 | Y26: =($U$51*AE26)-(AF26*$Y$15) -> 85 | Z26: =($U$52*AE26)-(AF26*$Z$15) -> 68 | AA26: =($U$53*AE26)-(AF26*$AA$15) -> 51 | AB26: =($U$54*AE26)-(AF26*$AB$15) -> 42.5 | AC26: =($U$55*AE26)-(AF26*$AC$15) -> 34 | AD26: =($U$56*AE26)-(AF26*$AD$15) -> 17 | AE26: 20
D27: =IF(ISERROR(VLOOKUP(B27,Journalier,2,0)),"",VLOOKUP(B27,Journalier,2,0)) | E27: =IF(ISERROR(VLOOKUP(B27,Taux,2,0)),"",VLOOKUP(B27,Taux,2,0)) | F27: =IF(ISERROR(VLOOKUP(B27,Taux,3,0)),"",VLOOKUP(B27,Taux,3,0)) | G27: =IF(ISERROR(VLOOKUP(B27,Taux,4,0)),"",VLOOKUP(B27,Taux,4,0)) | H27: =IF(ISERROR(VLOOKUP(B27,Taux,5,0)),"",VLOOKUP(B27,Taux,5,0)) | I27: =IF(ISERROR(VLOOKUP(B27,Taux,6,0)),"",VLOOKUP(B27,Taux,6,0)) | J27: =IF(ISERROR(VLOOKUP(B27,Taux,7,0)),"",VLOOKUP(B27,Taux,7,0)) | K27: =IF(ISERROR(VLOOKUP(B27,Taux,8,0)),"",VLOOKUP(B27,Taux,8,0)) | L27: =IF(ISERROR(VLOOKUP(B27,Taux,9,0)),"",VLOOKUP(B27,Taux,9,0)) | M27: =IF(ISERROR(VLOOKUP(B27,Taux,10,0)),"",VLOOKUP(B27,Taux,10,0)) | N27: =IF(ISERROR(VLOOKUP(B27,Taux,11,0)),"",VLOOKUP(B27,Taux,11,0)) | O27: =IF(ISERROR(VLOOKUP(B27,Taux,12,0)),"",VLOOKUP(B27,Taux,12,0)) | P27: =IF(ISERROR(VLOOKUP(B27,Taux,13,0)),"",VLOOKUP(B27,Taux,13,0)) | R27: Décembre | S27: =($U$45*AE27)-(AF27*$S$15) -> 148.75 | T27: =($U$46*AE27)-(AF27*$T$15) -> 133.875 | U27: =($U$47*AE27)-(AF27*$U$15) -> 119 | V27: =($U$48*AE27)-(AF27*$V$15) -> 111.5625 | W27: =($U$49*AE27)-(AF27*$W$15) -> 104.125 | X27: =($U$50*AE27)-(AF27*$X$15) -> 89.25 | Y27: =($U$51*AE27)-(AF27*$Y$15) -> 74.375 | Z27: =($U$52*AE27)-(AF27*$Z$15) -> 59.5 | AA27: =($U$53*AE27)-(AF27*$AA$15) -> 44.625 | AB27: =($U$54*AE27)-(AF27*$AB$15) -> 37.1875 | AC27: =($U$55*AE27)-(AF27*$AC$15) -> 29.75 | AD27: =($U$56*AE27)-(AF27*$AD$15) -> 14.875 | AE27: 18 | AF27: 4.25
D28: =IF(ISERROR(VLOOKUP(B28,Journalier,2,0)),"",VLOOKUP(B28,Journalier,2,0)) | E28: =IF(ISERROR(VLOOKUP(B28,Taux,2,0)),"",VLOOKUP(B28,Taux,2,0)) | F28: =IF(ISERROR(VLOOKUP(B28,Taux,3,0)),"",VLOOKUP(B28,Taux,3,0)) | G28: =IF(ISERROR(VLOOKUP(B28,Taux,4,0)),"",VLOOKUP(B28,Taux,4,0)) | H28: =IF(ISERROR(VLOOKUP(B28,Taux,5,0)),"",VLOOKUP(B28,Taux,5,0)) | I28: =IF(ISERROR(VLOOKUP(B28,Taux,6,0)),"",VLOOKUP(B28,Taux,6,0)) | J28: =IF(ISERROR(VLOOKUP(B28,Taux,7,0)),"",VLOOKUP(B28,Taux,7,0)) | K28: =IF(ISERROR(VLOOKUP(B28,Taux,8,0)),"",VLOOKUP(B28,Taux,8,0)) | L28: =IF(ISERROR(VLOOKUP(B28,Taux,9,0)),"",VLOOKUP(B28,Taux,9,0)) | M28: =IF(ISERROR(VLOOKUP(B28,Taux,10,0)),"",VLOOKUP(B28,Taux,10,0)) | N28: =IF(ISERROR(VLOOKUP(B28,Taux,11,0)),"",VLOOKUP(B28,Taux,11,0)) | O28: =IF(ISERROR(VLOOKUP(B28,Taux,12,0)),"",VLOOKUP(B28,Taux,12,0)) | P28: =IF(ISERROR(VLOOKUP(B28,Taux,13,0)),"",VLOOKUP(B28,Taux,13,0)) | R28: TOTAL | S28: =SUM(S16:S27) -> 2093.25 | T28: =SUM(T16:T27) -> 1883.925 | U28: =SUM(U16:U27) -> 1674.6 | V28: =SUM(V16:V27) -> 1569.9375 | W28: =SUM(W16:W27) -> 1465.275 | X28: =SUM(X16:X27) -> 1255.95 | Y28: =SUM(Y16:Y27) -> 1046.625 | Z28: =SUM(Z16:Z27) -> 837.3 | ... AF28: =SUM(AF16:AF27) -> 6.25
D29: =IF(ISERROR(VLOOKUP(B29,Journalier,2,0)),"",VLOOKUP(B29,Journalier,2,0)) | E29: =IF(ISERROR(VLOOKUP(B29,Taux,2,0)),"",VLOOKUP(B29,Taux,2,0)) | F29: =IF(ISERROR(VLOOKUP(B29,Taux,3,0)),"",VLOOKUP(B29,Taux,3,0)) | G29: =IF(ISERROR(VLOOKUP(B29,Taux,4,0)),"",VLOOKUP(B29,Taux,4,0)) | H29: =IF(ISERROR(VLOOKUP(B29,Taux,5,0)),"",VLOOKUP(B29,Taux,5,0)) | I29: =IF(ISERROR(VLOOKUP(B29,Taux,6,0)),"",VLOOKUP(B29,Taux,6,0)) | J29: =IF(ISERROR(VLOOKUP(B29,Taux,7,0)),"",VLOOKUP(B29,Taux,7,0)) | K29: =IF(ISERROR(VLOOKUP(B29,Taux,8,0)),"",VLOOKUP(B29,Taux,8,0)) | L29: =IF(ISERROR(VLOOKUP(B29,Taux,9,0)),"",VLOOKUP(B29,Taux,9,0)) | M29: =IF(ISERROR(VLOOKUP(B29,Taux,10,0)),"",VLOOKUP(B29,Taux,10,0)) | N29: =IF(ISERROR(VLOOKUP(B29,Taux,11,0)),"",VLOOKUP(B29,Taux,11,0)) | O29: =IF(ISERROR(VLOOKUP(B29,Taux,12,0)),"",VLOOKUP(B29,Taux,12,0)) | P29: =IF(ISERROR(VLOOKUP(B29,Taux,13,0)),"",VLOOKUP(B29,Taux,13,0))
D30: =IF(ISERROR(VLOOKUP(B30,Journalier,2,0)),"",VLOOKUP(B30,Journalier,2,0)) | E30: =IF(ISERROR(VLOOKUP(B30,Taux,2,0)),"",VLOOKUP(B30,Taux,2,0)) | F30: =IF(ISERROR(VLOOKUP(B30,Taux,3,0)),"",VLOOKUP(B30,Taux,3,0)) | G30: =IF(ISERROR(VLOOKUP(B30,Taux,4,0)),"",VLOOKUP(B30,Taux,4,0)) | H30: =IF(ISERROR(VLOOKUP(B30,Taux,5,0)),"",VLOOKUP(B30,Taux,5,0)) | I30: =IF(ISERROR(VLOOKUP(B30,Taux,6,0)),"",VLOOKUP(B30,Taux,6,0)) | J30: =IF(ISERROR(VLOOKUP(B30,Taux,7,0)),"",VLOOKUP(B30,Taux,7,0)) | K30: =IF(ISERROR(VLOOKUP(B30,Taux,8,0)),"",VLOOKUP(B30,Taux,8,0)) | L30: =IF(ISERROR(VLOOKUP(B30,Taux,9,0)),"",VLOOKUP(B30,Taux,9,0)) | M30: =IF(ISERROR(VLOOKUP(B30,Taux,10,0)),"",VLOOKUP(B30,Taux,10,0)) | N30: =IF(ISERROR(VLOOKUP(B30,Taux,11,0)),"",VLOOKUP(B30,Taux,11,0)) | O30: =IF(ISERROR(VLOOKUP(B30,Taux,12,0)),"",VLOOKUP(B30,Taux,12,0)) | P30: =IF(ISERROR(VLOOKUP(B30,Taux,13,0)),"",VLOOKUP(B30,Taux,13,0)) | R30: 2014 | S30: 1 | T30: 0.9 | U30: 0.8 | V30: 0.75 | W30: 0.7 | X30: 0.6 | Y30: 0.5 | Z30: 0.4 | AA30: 0.3 | AB30: 0.25 | AC30: 0.2 | AD30: 0.1
D31: =IF(ISERROR(VLOOKUP(B31,Journalier,2,0)),"",VLOOKUP(B31,Journalier,2,0)) | E31: =IF(ISERROR(VLOOKUP(B31,Taux,2,0)),"",VLOOKUP(B31,Taux,2,0)) | F31: =IF(ISERROR(VLOOKUP(B31,Taux,3,0)),"",VLOOKUP(B31,Taux,3,0)) | G31: =IF(ISERROR(VLOOKUP(B31,Taux,4,0)),"",VLOOKUP(B31,Taux,4,0)) | H31: =IF(ISERROR(VLOOKUP(B31,Taux,5,0)),"",VLOOKUP(B31,Taux,5,0)) | I31: =IF(ISERROR(VLOOKUP(B31,Taux,6,0)),"",VLOOKUP(B31,Taux,6,0)) | J31: =IF(ISERROR(VLOOKUP(B31,Taux,7,0)),"",VLOOKUP(B31,Taux,7,0)) | K31: =IF(ISERROR(VLOOKUP(B31,Taux,8,0)),"",VLOOKUP(B31,Taux,8,0)) | L31: =IF(ISERROR(VLOOKUP(B31,Taux,9,0)),"",VLOOKUP(B31,Taux,9,0)) | M31: =IF(ISERROR(VLOOKUP(B31,Taux,10,0)),"",VLOOKUP(B31,Taux,10,0)) | N31: =IF(ISERROR(VLOOKUP(B31,Taux,11,0)),"",VLOOKUP(B31,Taux,11,0)) | O31: =IF(ISERROR(VLOOKUP(B31,Taux,12,0)),"",VLOOKUP(B31,Taux,12,0)) | P31: =IF(ISERROR(VLOOKUP(B31,Taux,13,0)),"",VLOOKUP(B31,Taux,13,0)) | R31: Janvier | S31: =S2 -> 7.4375 | T31: =S3 -> 6.69375 | U31: =S4 -> 5.95 | V31: =S5 -> 5.578125 | W31: =S6 -> 5.20625 | X31: =S7 -> 4.4625 | Y31: =S8 -> 3.71875 | Z31: =S9 -> 2.975 | AA31: =S10 -> 2.23125 | AB31: =S11 -> 1.859375 | AC31: =S12 -> 1.4875 | AD31: =S13 -> 0.74375
D32: =IF(ISERROR(VLOOKUP(B32,Journalier,2,0)),"",VLOOKUP(B32,Journalier,2,0)) | E32: =IF(ISERROR(VLOOKUP(B32,Taux,2,0)),"",VLOOKUP(B32,Taux,2,0)) | F32: =IF(ISERROR(VLOOKUP(B32,Taux,3,0)),"",VLOOKUP(B32,Taux,3,0)) | G32: =IF(ISERROR(VLOOKUP(B32,Taux,4,0)),"",VLOOKUP(B32,Taux,4,0)) | H32: =IF(ISERROR(VLOOKUP(B32,Taux,5,0)),"",VLOOKUP(B32,Taux,5,0)) | I32: =IF(ISERROR(VLOOKUP(B32,Taux,6,0)),"",VLOOKUP(B32,Taux,6,0)) | J32: =IF(ISERROR(VLOOKUP(B32,Taux,7,0)),"",VLOOKUP(B32,Taux,7,0)) | K32: =IF(ISERROR(VLOOKUP(B32,Taux,8,0)),"",VLOOKUP(B32,Taux,8,0)) | L32: =IF(ISERROR(VLOOKUP(B32,Taux,9,0)),"",VLOOKUP(B32,Taux,9,0)) | M32: =IF(ISERROR(VLOOKUP(B32,Taux,10,0)),"",VLOOKUP(B32,Taux,10,0)) | N32: =IF(ISERROR(VLOOKUP(B32,Taux,11,0)),"",VLOOKUP(B32,Taux,11,0)) | O32: =IF(ISERROR(VLOOKUP(B32,Taux,12,0)),"",VLOOKUP(B32,Taux,12,0)) | P32: =IF(ISERROR(VLOOKUP(B32,Taux,13,0)),"",VLOOKUP(B32,Taux,13,0)) | R32: Février | S32: =T2 -> 7.0833333 | T32: =T3 -> 6.375 | U32: =T4 -> 5.6666667 | V32: =T5 -> 5.3125 | W32: =T6 -> 4.9583333 | X32: =T7 -> 4.25 | Y32: =T8 -> 3.5416667 | Z32: =T9 -> 2.8333333 | AA32: =T10 -> 2.125 | AB32: =T11 -> 1.7708333 | AC32: =T12 -> 1.4166667 | AD32: =T13 -> 0.70833333
D33: =IF(ISERROR(VLOOKUP(B33,Journalier,2,0)),"",VLOOKUP(B33,Journalier,2,0)) | E33: =IF(ISERROR(VLOOKUP(B33,Taux,2,0)),"",VLOOKUP(B33,Taux,2,0)) | F33: =IF(ISERROR(VLOOKUP(B33,Taux,3,0)),"",VLOOKUP(B33,Taux,3,0)) | G33: =IF(ISERROR(VLOOKUP(B33,Taux,4,0)),"",VLOOKUP(B33,Taux,4,0)) | H33: =IF(ISERROR(VLOOKUP(B33,Taux,5,0)),"",VLOOKUP(B33,Taux,5,0)) | I33: =IF(ISERROR(VLOOKUP(B33,Taux,6,0)),"",VLOOKUP(B33,Taux,6,0)) | J33: =IF(ISERROR(VLOOKUP(B33,Taux,7,0)),"",VLOOKUP(B33,Taux,7,0)) | K33: =IF(ISERROR(VLOOKUP(B33,Taux,8,0)),"",VLOOKUP(B33,Taux,8,0)) | L33: =IF(ISERROR(VLOOKUP(B33,Taux,9,0)),"",VLOOKUP(B33,Taux,9,0)) | M33: =IF(ISERROR(VLOOKUP(B33,Taux,10,0)),"",VLOOKUP(B33,Taux,10,0)) | N33: =IF(ISERROR(VLOOKUP(B33,Taux,11,0)),"",VLOOKUP(B33,Taux,11,0)) | O33: =IF(ISERROR(VLOOKUP(B33,Taux,12,0)),"",VLOOKUP(B33,Taux,12,0)) | P33: =IF(ISERROR(VLOOKUP(B33,Taux,13,0)),"",VLOOKUP(B33,Taux,13,0)) | R33: Mars | S33: =U2 -> 7.4375 | T33: =U3 -> 6.69375 | U33: =U4 -> 5.95 | V33: =U5 -> 5.578125 | W33: =U6 -> 5.20625 | X33: =U7 -> 4.4625 | Y33: =U8 -> 3.71875 | Z33: =U9 -> 2.975 | AA33: =U10 -> 2.23125 | AB33: =U11 -> 1.859375 | AC33: =U12 -> 1.4875 | AD33: =U13 -> 0.74375
D34: =IF(ISERROR(VLOOKUP(B34,Journalier,2,0)),"",VLOOKUP(B34,Journalier,2,0)) | E34: =IF(ISERROR(VLOOKUP(B34,Taux,2,0)),"",VLOOKUP(B34,Taux,2,0)) | F34: =IF(ISERROR(VLOOKUP(B34,Taux,3,0)),"",VLOOKUP(B34,Taux,3,0)) | G34: =IF(ISERROR(VLOOKUP(B34,Taux,4,0)),"",VLOOKUP(B34,Taux,4,0)) | H34: =IF(ISERROR(VLOOKUP(B34,Taux,5,0)),"",VLOOKUP(B34,Taux,5,0)) | I34: =IF(ISERROR(VLOOKUP(B34,Taux,6,0)),"",VLOOKUP(B34,Taux,6,0)) | J34: =IF(ISERROR(VLOOKUP(B34,Taux,7,0)),"",VLOOKUP(B34,Taux,7,0)) | K34: =IF(ISERROR(VLOOKUP(B34,Taux,8,0)),"",VLOOKUP(B34,Taux,8,0)) | L34: =IF(ISERROR(VLOOKUP(B34,Taux,9,0)),"",VLOOKUP(B34,Taux,9,0)) | M34: =IF(ISERROR(VLOOKUP(B34,Taux,10,0)),"",VLOOKUP(B34,Taux,10,0)) | N34: =IF(ISERROR(VLOOKUP(B34,Taux,11,0)),"",VLOOKUP(B34,Taux,11,0)) | O34: =IF(ISERROR(VLOOKUP(B34,Taux,12,0)),"",VLOOKUP(B34,Taux,12,0)) | P34: =IF(ISERROR(VLOOKUP(B34,Taux,13,0)),"",VLOOKUP(B34,Taux,13,0)) | R34: Avril | S34: =V2 -> 7.0416667 | T34: =V3 -> 6.3375 | U34: =V4 -> 5.6333333 | V34: =V5 -> 5.28125 | W34: =V6 -> 4.9291667 | X34: =V7 -> 4.225 | Y34: =V8 -> 3.5208333 | Z34: =V9 -> 2.8166667 | AA34: =V10 -> 2.1125 | AB34: =V11 -> 1.7604167 | AC34: =V12 -> 1.4083333 | AD34: =V13 -> 0.70416667
D35: =IF(ISERROR(VLOOKUP(B35,Journalier,2,0)),"",VLOOKUP(B35,Journalier,2,0)) | E35: =IF(ISERROR(VLOOKUP(B35,Taux,2,0)),"",VLOOKUP(B35,Taux,2,0)) | F35: =IF(ISERROR(VLOOKUP(B35,Taux,3,0)),"",VLOOKUP(B35,Taux,3,0)) | G35: =IF(ISERROR(VLOOKUP(B35,Taux,4,0)),"",VLOOKUP(B35,Taux,4,0)) | H35: =IF(ISERROR(VLOOKUP(B35,Taux,5,0)),"",VLOOKUP(B35,Taux,5,0)) | I35: =IF(ISERROR(VLOOKUP(B35,Taux,6,0)),"",VLOOKUP(B35,Taux,6,0)) | J35: =IF(ISERROR(VLOOKUP(B35,Taux,7,0)),"",VLOOKUP(B35,Taux,7,0)) | K35: =IF(ISERROR(VLOOKUP(B35,Taux,8,0)),"",VLOOKUP(B35,Taux,8,0)) | L35: =IF(ISERROR(VLOOKUP(B35,Taux,9,0)),"",VLOOKUP(B35,Taux,9,0)) | M35: =IF(ISERROR(VLOOKUP(B35,Taux,10,0)),"",VLOOKUP(B35,Taux,10,0)) | N35: =IF(ISERROR(VLOOKUP(B35,Taux,11,0)),"",VLOOKUP(B35,Taux,11,0)) | O35: =IF(ISERROR(VLOOKUP(B35,Taux,12,0)),"",VLOOKUP(B35,Taux,12,0)) | P35: =IF(ISERROR(VLOOKUP(B35,Taux,13,0)),"",VLOOKUP(B35,Taux,13,0)) | R35: Mai | S35: =W2 -> 7.0416667 | T35: =W3 -> 6.3375 | U35: =W4 -> 5.6333333 | V35: =W5 -> 5.28125 | W35: =W6 -> 4.9291667 | X35: =W7 -> 4.225 | Y35: =W8 -> 3.5208333 | Z35: =W9 -> 2.8166667 | AA35: =W10 -> 2.1125 | AB35: =W11 -> 1.7604167 | AC35: =W12 -> 1.4083333 | AD35: =W13 -> 0.70416667
D36: =IF(ISERROR(VLOOKUP(B36,Journalier,2,0)),"",VLOOKUP(B36,Journalier,2,0)) | E36: =IF(ISERROR(VLOOKUP(B36,Taux,2,0)),"",VLOOKUP(B36,Taux,2,0)) | F36: =IF(ISERROR(VLOOKUP(B36,Taux,3,0)),"",VLOOKUP(B36,Taux,3,0)) | G36: =IF(ISERROR(VLOOKUP(B36,Taux,4,0)),"",VLOOKUP(B36,Taux,4,0)) | H36: =IF(ISERROR(VLOOKUP(B36,Taux,5,0)),"",VLOOKUP(B36,Taux,5,0)) | I36: =IF(ISERROR(VLOOKUP(B36,Taux,6,0)),"",VLOOKUP(B36,Taux,6,0)) | J36: =IF(ISERROR(VLOOKUP(B36,Taux,7,0)),"",VLOOKUP(B36,Taux,7,0)) | K36: =IF(ISERROR(VLOOKUP(B36,Taux,8,0)),"",VLOOKUP(B36,Taux,8,0)) | L36: =IF(ISERROR(VLOOKUP(B36,Taux,9,0)),"",VLOOKUP(B36,Taux,9,0)) | M36: =IF(ISERROR(VLOOKUP(B36,Taux,10,0)),"",VLOOKUP(B36,Taux,10,0)) | N36: =IF(ISERROR(VLOOKUP(B36,Taux,11,0)),"",VLOOKUP(B36,Taux,11,0)) | O36: =IF(ISERROR(VLOOKUP(B36,Taux,12,0)),"",VLOOKUP(B36,Taux,12,0)) | P36: =IF(ISERROR(VLOOKUP(B36,Taux,13,0)),"",VLOOKUP(B36,Taux,13,0)) | R36: Juin | S36: =X2 -> 7.0833333 | T36: =X3 -> 6.375 | U36: =X4 -> 5.6666667 | V36: =X5 -> 5.3125 | W36: =X6 -> 4.9583333 | X36: =X7 -> 4.25 | Y36: =X8 -> 3.5416667 | Z36: =X9 -> 2.8333333 | AA36: =X10 -> 2.125 | AB36: =X11 -> 1.7708333 | AC36: =X12 -> 1.4166667 | AD36: =X13 -> 0.70833333
D37: =IF(ISERROR(VLOOKUP(B37,Journalier,2,0)),"",VLOOKUP(B37,Journalier,2,0)) | E37: =IF(ISERROR(VLOOKUP(B37,Taux,2,0)),"",VLOOKUP(B37,Taux,2,0)) | F37: =IF(ISERROR(VLOOKUP(B37,Taux,3,0)),"",VLOOKUP(B37,Taux,3,0)) | G37: =IF(ISERROR(VLOOKUP(B37,Taux,4,0)),"",VLOOKUP(B37,Taux,4,0)) | H37: =IF(ISERROR(VLOOKUP(B37,Taux,5,0)),"",VLOOKUP(B37,Taux,5,0)) | I37: =IF(ISERROR(VLOOKUP(B37,Taux,6,0)),"",VLOOKUP(B37,Taux,6,0)) | J37: =IF(ISERROR(VLOOKUP(B37,Taux,7,0)),"",VLOOKUP(B37,Taux,7,0)) | K37: =IF(ISERROR(VLOOKUP(B37,Taux,8,0)),"",VLOOKUP(B37,Taux,8,0)) | L37: =IF(ISERROR(VLOOKUP(B37,Taux,9,0)),"",VLOOKUP(B37,Taux,9,0)) | M37: =IF(ISERROR(VLOOKUP(B37,Taux,10,0)),"",VLOOKUP(B37,Taux,10,0)) | N37: =IF(ISERROR(VLOOKUP(B37,Taux,11,0)),"",VLOOKUP(B37,Taux,11,0)) | O37: =IF(ISERROR(VLOOKUP(B37,Taux,12,0)),"",VLOOKUP(B37,Taux,12,0)) | P37: =IF(ISERROR(VLOOKUP(B37,Taux,13,0)),"",VLOOKUP(B37,Taux,13,0)) | R37: Juillet | S37: =Y2 -> 8.1458333 | T37: =Y3 -> 7.33125 | U37: =Y4 -> 6.5166667 | V37: =Y5 -> 6.109375 | W37: =Y6 -> 5.7020833 | X37: =Y7 -> 4.8875 | Y37: =Y8 -> 4.0729167 | Z37: =Y9 -> 3.2583333 | AA37: =Y10 -> 2.44375 | AB37: =Y11 -> 2.0364583 | AC37: =Y12 -> 1.6291667 | AD37: =Y13 -> 0.81458333
D38: =IF(ISERROR(VLOOKUP(B38,Journalier,2,0)),"",VLOOKUP(B38,Journalier,2,0)) | E38: =IF(ISERROR(VLOOKUP(B38,Taux,2,0)),"",VLOOKUP(B38,Taux,2,0)) | F38: =IF(ISERROR(VLOOKUP(B38,Taux,3,0)),"",VLOOKUP(B38,Taux,3,0)) | G38: =IF(ISERROR(VLOOKUP(B38,Taux,4,0)),"",VLOOKUP(B38,Taux,4,0)) | H38: =IF(ISERROR(VLOOKUP(B38,Taux,5,0)),"",VLOOKUP(B38,Taux,5,0)) | I38: =IF(ISERROR(VLOOKUP(B38,Taux,6,0)),"",VLOOKUP(B38,Taux,6,0)) | J38: =IF(ISERROR(VLOOKUP(B38,Taux,7,0)),"",VLOOKUP(B38,Taux,7,0)) | K38: =IF(ISERROR(VLOOKUP(B38,Taux,8,0)),"",VLOOKUP(B38,Taux,8,0)) | L38: =IF(ISERROR(VLOOKUP(B38,Taux,9,0)),"",VLOOKUP(B38,Taux,9,0)) | M38: =IF(ISERROR(VLOOKUP(B38,Taux,10,0)),"",VLOOKUP(B38,Taux,10,0)) | N38: =IF(ISERROR(VLOOKUP(B38,Taux,11,0)),"",VLOOKUP(B38,Taux,11,0)) | O38: =IF(ISERROR(VLOOKUP(B38,Taux,12,0)),"",VLOOKUP(B38,Taux,12,0)) | P38: =IF(ISERROR(VLOOKUP(B38,Taux,13,0)),"",VLOOKUP(B38,Taux,13,0)) | R38: Octobre | S38: 195.5 | T38: 175.95 | U38: 156.4 | V38: 146.625 | W38: 136.85 | X38: 117.3 | Y38: 97.75 | Z38: =Z9 -> 2.8333333 | AA38: =Z10 -> 2.125 | AB38: =Z11 -> 1.7708333 | AC38: =Z12 -> 1.4166667 | AD38: =Z13 -> 0.70833333
D39: =IF(ISERROR(VLOOKUP(B39,Journalier,2,0)),"",VLOOKUP(B39,Journalier,2,0)) | E39: =IF(ISERROR(VLOOKUP(B39,Taux,2,0)),"",VLOOKUP(B39,Taux,2,0)) | F39: =IF(ISERROR(VLOOKUP(B39,Taux,3,0)),"",VLOOKUP(B39,Taux,3,0)) | G39: =IF(ISERROR(VLOOKUP(B39,Taux,4,0)),"",VLOOKUP(B39,Taux,4,0)) | H39: =IF(ISERROR(VLOOKUP(B39,Taux,5,0)),"",VLOOKUP(B39,Taux,5,0)) | I39: =IF(ISERROR(VLOOKUP(B39,Taux,6,0)),"",VLOOKUP(B39,Taux,6,0)) | J39: =IF(ISERROR(VLOOKUP(B39,Taux,7,0)),"",VLOOKUP(B39,Taux,7,0)) | K39: =IF(ISERROR(VLOOKUP(B39,Taux,8,0)),"",VLOOKUP(B39,Taux,8,0)) | L39: =IF(ISERROR(VLOOKUP(B39,Taux,9,0)),"",VLOOKUP(B39,Taux,9,0)) | M39: =IF(ISERROR(VLOOKUP(B39,Taux,10,0)),"",VLOOKUP(B39,Taux,10,0)) | N39: =IF(ISERROR(VLOOKUP(B39,Taux,11,0)),"",VLOOKUP(B39,Taux,11,0)) | O39: =IF(ISERROR(VLOOKUP(B39,Taux,12,0)),"",VLOOKUP(B39,Taux,12,0)) | P39: =IF(ISERROR(VLOOKUP(B39,Taux,13,0)),"",VLOOKUP(B39,Taux,13,0)) | R39: Septembre | S39: =AA2 -> 7.4375 | T39: =AA3 -> 6.69375 | U39: =AA4 -> 5.95 | V39: =AA5 -> 5.578125 | W39: =AA6 -> 5.20625 | X39: =AA7 -> 4.4625 | Y39: =AA8 -> 3.71875 | Z39: =AA9 -> 2.975 | AA39: =AA10 -> 2.23125 | AB39: =AA11 -> 1.859375 | AC39: =AA12 -> 1.4875 | AD39: =AA13 -> 0.74375
D40: =IF(ISERROR(VLOOKUP(B40,Journalier,2,0)),"",VLOOKUP(B40,Journalier,2,0)) | E40: =IF(ISERROR(VLOOKUP(B40,Taux,2,0)),"",VLOOKUP(B40,Taux,2,0)) | F40: =IF(ISERROR(VLOOKUP(B40,Taux,3,0)),"",VLOOKUP(B40,Taux,3,0)) | G40: =IF(ISERROR(VLOOKUP(B40,Taux,4,0)),"",VLOOKUP(B40,Taux,4,0)) | H40: =IF(ISERROR(VLOOKUP(B40,Taux,5,0)),"",VLOOKUP(B40,Taux,5,0)) | I40: =IF(ISERROR(VLOOKUP(B40,Taux,6,0)),"",VLOOKUP(B40,Taux,6,0)) | J40: =IF(ISERROR(VLOOKUP(B40,Taux,7,0)),"",VLOOKUP(B40,Taux,7,0)) | K40: =IF(ISERROR(VLOOKUP(B40,Taux,8,0)),"",VLOOKUP(B40,Taux,8,0)) | L40: =IF(ISERROR(VLOOKUP(B40,Taux,9,0)),"",VLOOKUP(B40,Taux,9,0)) | M40: =IF(ISERROR(VLOOKUP(B40,Taux,10,0)),"",VLOOKUP(B40,Taux,10,0)) | N40: =IF(ISERROR(VLOOKUP(B40,Taux,11,0)),"",VLOOKUP(B40,Taux,11,0)) | O40: =IF(ISERROR(VLOOKUP(B40,Taux,12,0)),"",VLOOKUP(B40,Taux,12,0)) | P40: =IF(ISERROR(VLOOKUP(B40,Taux,13,0)),"",VLOOKUP(B40,Taux,13,0)) | R40: Octobre | S40: =AB2 -> 8.1458333 | T40: =AB3 -> 7.33125 | U40: =AB4 -> 6.5166667 | V40: =AB5 -> 6.109375 | W40: =AB6 -> 5.7020833 | X40: =AB7 -> 4.8875 | Y40: =AB8 -> 4.0729167 | Z40: =AB9 -> 3.2583333 | AA40: =AB10 -> 2.44375 | AB40: =AB11 -> 2.0364583 | AC40: =AB12 -> 1.6291667 | AD40: =AB13 -> 0.81458333
D41: =IF(ISERROR(VLOOKUP(B41,Journalier,2,0)),"",VLOOKUP(B41,Journalier,2,0)) | E41: =IF(ISERROR(VLOOKUP(B41,Taux,2,0)),"",VLOOKUP(B41,Taux,2,0)) | F41: =IF(ISERROR(VLOOKUP(B41,Taux,3,0)),"",VLOOKUP(B41,Taux,3,0)) | G41: =IF(ISERROR(VLOOKUP(B41,Taux,4,0)),"",VLOOKUP(B41,Taux,4,0)) | H41: =IF(ISERROR(VLOOKUP(B41,Taux,5,0)),"",VLOOKUP(B41,Taux,5,0)) | I41: =IF(ISERROR(VLOOKUP(B41,Taux,6,0)),"",VLOOKUP(B41,Taux,6,0)) | J41: =IF(ISERROR(VLOOKUP(B41,Taux,7,0)),"",VLOOKUP(B41,Taux,7,0)) | K41: =IF(ISERROR(VLOOKUP(B41,Taux,8,0)),"",VLOOKUP(B41,Taux,8,0)) | L41: =IF(ISERROR(VLOOKUP(B41,Taux,9,0)),"",VLOOKUP(B41,Taux,9,0)) | M41: =IF(ISERROR(VLOOKUP(B41,Taux,10,0)),"",VLOOKUP(B41,Taux,10,0)) | N41: =IF(ISERROR(VLOOKUP(B41,Taux,11,0)),"",VLOOKUP(B41,Taux,11,0)) | O41: =IF(ISERROR(VLOOKUP(B41,Taux,12,0)),"",VLOOKUP(B41,Taux,12,0)) | P41: =IF(ISERROR(VLOOKUP(B41,Taux,13,0)),"",VLOOKUP(B41,Taux,13,0)) | R41: Novembre | S41: =AC2 -> 7.0833333 | T41: =AC3 -> 6.375 | U41: =AC4 -> 5.6666667 | V41: =AC5 -> 5.3125 | W41: =AC6 -> 4.9583333 | X41: =AC7 -> 4.25 | Y41: =AC8 -> 3.5416667 | Z41: =AC9 -> 2.8333333 | AA41: =AC10 -> 1.2142857 | AB41: =AC11 -> 1.7708333 | AC41: =AC12 -> 1.4166667 | AD41: =AC13 -> 0.70833333
D42: =IF(ISERROR(VLOOKUP(B42,Journalier,2,0)),"",VLOOKUP(B42,Journalier,2,0)) | E42: =IF(ISERROR(VLOOKUP(B42,Taux,2,0)),"",VLOOKUP(B42,Taux,2,0)) | F42: =IF(ISERROR(VLOOKUP(B42,Taux,3,0)),"",VLOOKUP(B42,Taux,3,0)) | G42: =IF(ISERROR(VLOOKUP(B42,Taux,4,0)),"",VLOOKUP(B42,Taux,4,0)) | H42: =IF(ISERROR(VLOOKUP(B42,Taux,5,0)),"",VLOOKUP(B42,Taux,5,0)) | I42: =IF(ISERROR(VLOOKUP(B42,Taux,6,0)),"",VLOOKUP(B42,Taux,6,0)) | J42: =IF(ISERROR(VLOOKUP(B42,Taux,7,0)),"",VLOOKUP(B42,Taux,7,0)) | K42: =IF(ISERROR(VLOOKUP(B42,Taux,8,0)),"",VLOOKUP(B42,Taux,8,0)) | L42: =IF(ISERROR(VLOOKUP(B42,Taux,9,0)),"",VLOOKUP(B42,Taux,9,0)) | M42: =IF(ISERROR(VLOOKUP(B42,Taux,10,0)),"",VLOOKUP(B42,Taux,10,0)) | N42: =IF(ISERROR(VLOOKUP(B42,Taux,11,0)),"",VLOOKUP(B42,Taux,11,0)) | O42: =IF(ISERROR(VLOOKUP(B42,Taux,12,0)),"",VLOOKUP(B42,Taux,12,0)) | P42: =IF(ISERROR(VLOOKUP(B42,Taux,13,0)),"",VLOOKUP(B42,Taux,13,0)) | R42: Décembre | S42: =AD2 -> 6.1979167 | T42: =AD3 -> 5.578125 | U42: =AD4 -> 4.9583333 | V42: =AD5 -> 4.6484375 | W42: =AD6 -> 4.3385417 | X42: =AD7 -> 3.71875 | Y42: =AD8 -> 3.0989583 | Z42: =AD9 -> 2.4791667 | AA42: =AD10 -> 1.859375 | AB42: =AD11 -> 1.5494792 | AC42: =AD12 -> 1.2395833 | AD42: =AD13 -> 0.61979167
D43: =IF(ISERROR(VLOOKUP(B43,Journalier,2,0)),"",VLOOKUP(B43,Journalier,2,0)) | E43: =IF(ISERROR(VLOOKUP(B43,Taux,2,0)),"",VLOOKUP(B43,Taux,2,0)) | F43: =IF(ISERROR(VLOOKUP(B43,Taux,3,0)),"",VLOOKUP(B43,Taux,3,0)) | G43: =IF(ISERROR(VLOOKUP(B43,Taux,4,0)),"",VLOOKUP(B43,Taux,4,0)) | H43: =IF(ISERROR(VLOOKUP(B43,Taux,5,0)),"",VLOOKUP(B43,Taux,5,0)) | I43: =IF(ISERROR(VLOOKUP(B43,Taux,6,0)),"",VLOOKUP(B43,Taux,6,0)) | J43: =IF(ISERROR(VLOOKUP(B43,Taux,7,0)),"",VLOOKUP(B43,Taux,7,0)) | K43: =IF(ISERROR(VLOOKUP(B43,Taux,8,0)),"",VLOOKUP(B43,Taux,8,0)) | L43: =IF(ISERROR(VLOOKUP(B43,Taux,9,0)),"",VLOOKUP(B43,Taux,9,0)) | M43: =IF(ISERROR(VLOOKUP(B43,Taux,10,0)),"",VLOOKUP(B43,Taux,10,0)) | N43: =IF(ISERROR(VLOOKUP(B43,Taux,11,0)),"",VLOOKUP(B43,Taux,11,0)) | O43: =IF(ISERROR(VLOOKUP(B43,Taux,12,0)),"",VLOOKUP(B43,Taux,12,0)) | P43: =IF(ISERROR(VLOOKUP(B43,Taux,13,0)),"",VLOOKUP(B43,Taux,13,0)) | R43: TOTAL | S43: =SUM(S31:S42) -> 275.63542 | T43: =SUM(T31:T42) -> 248.07188 | U43: =SUM(U31:U42) -> 220.50833 | V43: =SUM(V31:V42) -> 206.72656 | W43: =SUM(W31:W42) -> 192.94479 | X43: =SUM(X31:X42) -> 165.38125 | Y43: =SUM(Y31:Y42) -> 137.81771 | Z43: =SUM(Z31:Z42) -> 34.8875 | ... AD43: =SUM(AD31:AD42) -> 8.721875
D44: =IF(ISERROR(VLOOKUP(B44,Journalier,2,0)),"",VLOOKUP(B44,Journalier,2,0)) | E44: =IF(ISERROR(VLOOKUP(B44,Taux,2,0)),"",VLOOKUP(B44,Taux,2,0)) | F44: =IF(ISERROR(VLOOKUP(B44,Taux,3,0)),"",VLOOKUP(B44,Taux,3,0)) | G44: =IF(ISERROR(VLOOKUP(B44,Taux,4,0)),"",VLOOKUP(B44,Taux,4,0)) | H44: =IF(ISERROR(VLOOKUP(B44,Taux,5,0)),"",VLOOKUP(B44,Taux,5,0)) | I44: =IF(ISERROR(VLOOKUP(B44,Taux,6,0)),"",VLOOKUP(B44,Taux,6,0)) | J44: =IF(ISERROR(VLOOKUP(B44,Taux,7,0)),"",VLOOKUP(B44,Taux,7,0)) | K44: =IF(ISERROR(VLOOKUP(B44,Taux,8,0)),"",VLOOKUP(B44,Taux,8,0)) | L44: =IF(ISERROR(VLOOKUP(B44,Taux,9,0)),"",VLOOKUP(B44,Taux,9,0)) | M44: =IF(ISERROR(VLOOKUP(B44,Taux,10,0)),"",VLOOKUP(B44,Taux,10,0)) | N44: =IF(ISERROR(VLOOKUP(B44,Taux,11,0)),"",VLOOKUP(B44,Taux,11,0)) | O44: =IF(ISERROR(VLOOKUP(B44,Taux,12,0)),"",VLOOKUP(B44,Taux,12,0)) | P44: =IF(ISERROR(VLOOKUP(B44,Taux,13,0)),"",VLOOKUP(B44,Taux,13,0))
D45: =IF(ISERROR(VLOOKUP(B45,Journalier,2,0)),"",VLOOKUP(B45,Journalier,2,0)) | E45: =IF(ISERROR(VLOOKUP(B45,Taux,2,0)),"",VLOOKUP(B45,Taux,2,0)) | F45: =IF(ISERROR(VLOOKUP(B45,Taux,3,0)),"",VLOOKUP(B45,Taux,3,0)) | G45: =IF(ISERROR(VLOOKUP(B45,Taux,4,0)),"",VLOOKUP(B45,Taux,4,0)) | H45: =IF(ISERROR(VLOOKUP(B45,Taux,5,0)),"",VLOOKUP(B45,Taux,5,0)) | I45: =IF(ISERROR(VLOOKUP(B45,Taux,6,0)),"",VLOOKUP(B45,Taux,6,0)) | J45: =IF(ISERROR(VLOOKUP(B45,Taux,7,0)),"",VLOOKUP(B45,Taux,7,0)) | K45: =IF(ISERROR(VLOOKUP(B45,Taux,8,0)),"",VLOOKUP(B45,Taux,8,0)) | L45: =IF(ISERROR(VLOOKUP(B45,Taux,9,0)),"",VLOOKUP(B45,Taux,9,0)) | M45: =IF(ISERROR(VLOOKUP(B45,Taux,10,0)),"",VLOOKUP(B45,Taux,10,0)) | N45: =IF(ISERROR(VLOOKUP(B45,Taux,11,0)),"",VLOOKUP(B45,Taux,11,0)) | O45: =IF(ISERROR(VLOOKUP(B45,Taux,12,0)),"",VLOOKUP(B45,Taux,12,0)) | P45: =IF(ISERROR(VLOOKUP(B45,Taux,13,0)),"",VLOOKUP(B45,Taux,13,0)) | R45: Journée type [h] | S45: 1 | T45: 0.35416667 | U45: =T45*24 -> 8.5
D46: =IF(ISERROR(VLOOKUP(B46,Journalier,2,0)),"",VLOOKUP(B46,Journalier,2,0)) | E46: =IF(ISERROR(VLOOKUP(B46,Taux,2,0)),"",VLOOKUP(B46,Taux,2,0)) | F46: =IF(ISERROR(VLOOKUP(B46,Taux,3,0)),"",VLOOKUP(B46,Taux,3,0)) | G46: =IF(ISERROR(VLOOKUP(B46,Taux,4,0)),"",VLOOKUP(B46,Taux,4,0)) | H46: =IF(ISERROR(VLOOKUP(B46,Taux,5,0)),"",VLOOKUP(B46,Taux,5,0)) | I46: =IF(ISERROR(VLOOKUP(B46,Taux,6,0)),"",VLOOKUP(B46,Taux,6,0)) | J46: =IF(ISERROR(VLOOKUP(B46,Taux,7,0)),"",VLOOKUP(B46,Taux,7,0)) | K46: =IF(ISERROR(VLOOKUP(B46,Taux,8,0)),"",VLOOKUP(B46,Taux,8,0)) | L46: =IF(ISERROR(VLOOKUP(B46,Taux,9,0)),"",VLOOKUP(B46,Taux,9,0)) | M46: =IF(ISERROR(VLOOKUP(B46,Taux,10,0)),"",VLOOKUP(B46,Taux,10,0)) | N46: =IF(ISERROR(VLOOKUP(B46,Taux,11,0)),"",VLOOKUP(B46,Taux,11,0)) | O46: =IF(ISERROR(VLOOKUP(B46,Taux,12,0)),"",VLOOKUP(B46,Taux,12,0)) | P46: =IF(ISERROR(VLOOKUP(B46,Taux,13,0)),"",VLOOKUP(B46,Taux,13,0)) | S46: 0.9 | T46: =$T$45*S46 -> 0.31875 | U46: =T46*24 -> 7.65
D47: =IF(ISERROR(VLOOKUP(B47,Journalier,2,0)),"",VLOOKUP(B47,Journalier,2,0)) | E47: =IF(ISERROR(VLOOKUP(B47,Taux,2,0)),"",VLOOKUP(B47,Taux,2,0)) | F47: =IF(ISERROR(VLOOKUP(B47,Taux,3,0)),"",VLOOKUP(B47,Taux,3,0)) | G47: =IF(ISERROR(VLOOKUP(B47,Taux,4,0)),"",VLOOKUP(B47,Taux,4,0)) | H47: =IF(ISERROR(VLOOKUP(B47,Taux,5,0)),"",VLOOKUP(B47,Taux,5,0)) | I47: =IF(ISERROR(VLOOKUP(B47,Taux,6,0)),"",VLOOKUP(B47,Taux,6,0)) | J47: =IF(ISERROR(VLOOKUP(B47,Taux,7,0)),"",VLOOKUP(B47,Taux,7,0)) | K47: =IF(ISERROR(VLOOKUP(B47,Taux,8,0)),"",VLOOKUP(B47,Taux,8,0)) | L47: =IF(ISERROR(VLOOKUP(B47,Taux,9,0)),"",VLOOKUP(B47,Taux,9,0)) | M47: =IF(ISERROR(VLOOKUP(B47,Taux,10,0)),"",VLOOKUP(B47,Taux,10,0)) | N47: =IF(ISERROR(VLOOKUP(B47,Taux,11,0)),"",VLOOKUP(B47,Taux,11,0)) | O47: =IF(ISERROR(VLOOKUP(B47,Taux,12,0)),"",VLOOKUP(B47,Taux,12,0)) | P47: =IF(ISERROR(VLOOKUP(B47,Taux,13,0)),"",VLOOKUP(B47,Taux,13,0)) | S47: 0.8 | T47: =$T$45*S47 -> 0.28333333 | U47: =T47*24 -> 6.8
D48: =IF(ISERROR(VLOOKUP(B48,Journalier,2,0)),"",VLOOKUP(B48,Journalier,2,0)) | E48: =IF(ISERROR(VLOOKUP(B48,Taux,2,0)),"",VLOOKUP(B48,Taux,2,0)) | F48: =IF(ISERROR(VLOOKUP(B48,Taux,3,0)),"",VLOOKUP(B48,Taux,3,0)) | G48: =IF(ISERROR(VLOOKUP(B48,Taux,4,0)),"",VLOOKUP(B48,Taux,4,0)) | H48: =IF(ISERROR(VLOOKUP(B48,Taux,5,0)),"",VLOOKUP(B48,Taux,5,0)) | I48: =IF(ISERROR(VLOOKUP(B48,Taux,6,0)),"",VLOOKUP(B48,Taux,6,0)) | J48: =IF(ISERROR(VLOOKUP(B48,Taux,7,0)),"",VLOOKUP(B48,Taux,7,0)) | K48: =IF(ISERROR(VLOOKUP(B48,Taux,8,0)),"",VLOOKUP(B48,Taux,8,0)) | L48: =IF(ISERROR(VLOOKUP(B48,Taux,9,0)),"",VLOOKUP(B48,Taux,9,0)) | M48: =IF(ISERROR(VLOOKUP(B48,Taux,10,0)),"",VLOOKUP(B48,Taux,10,0)) | N48: =IF(ISERROR(VLOOKUP(B48,Taux,11,0)),"",VLOOKUP(B48,Taux,11,0)) | O48: =IF(ISERROR(VLOOKUP(B48,Taux,12,0)),"",VLOOKUP(B48,Taux,12,0)) | P48: =IF(ISERROR(VLOOKUP(B48,Taux,13,0)),"",VLOOKUP(B48,Taux,13,0)) | S48: 0.75 | T48: =$T$45*S48 -> 0.265625 | U48: =T48*24 -> 6.375
D49: =IF(ISERROR(VLOOKUP(B49,Journalier,2,0)),"",VLOOKUP(B49,Journalier,2,0)) | E49: =IF(ISERROR(VLOOKUP(B49,Taux,2,0)),"",VLOOKUP(B49,Taux,2,0)) | F49: =IF(ISERROR(VLOOKUP(B49,Taux,3,0)),"",VLOOKUP(B49,Taux,3,0)) | G49: =IF(ISERROR(VLOOKUP(B49,Taux,4,0)),"",VLOOKUP(B49,Taux,4,0)) | H49: =IF(ISERROR(VLOOKUP(B49,Taux,5,0)),"",VLOOKUP(B49,Taux,5,0)) | I49: =IF(ISERROR(VLOOKUP(B49,Taux,6,0)),"",VLOOKUP(B49,Taux,6,0)) | J49: =IF(ISERROR(VLOOKUP(B49,Taux,7,0)),"",VLOOKUP(B49,Taux,7,0)) | K49: =IF(ISERROR(VLOOKUP(B49,Taux,8,0)),"",VLOOKUP(B49,Taux,8,0)) | L49: =IF(ISERROR(VLOOKUP(B49,Taux,9,0)),"",VLOOKUP(B49,Taux,9,0)) | M49: =IF(ISERROR(VLOOKUP(B49,Taux,10,0)),"",VLOOKUP(B49,Taux,10,0)) | N49: =IF(ISERROR(VLOOKUP(B49,Taux,11,0)),"",VLOOKUP(B49,Taux,11,0)) | O49: =IF(ISERROR(VLOOKUP(B49,Taux,12,0)),"",VLOOKUP(B49,Taux,12,0)) | P49: =IF(ISERROR(VLOOKUP(B49,Taux,13,0)),"",VLOOKUP(B49,Taux,13,0)) | S49: 0.7 | T49: =$T$45*S49 -> 0.24791667 | U49: =T49*24 -> 5.95
D50: =IF(ISERROR(VLOOKUP(B50,Journalier,2,0)),"",VLOOKUP(B50,Journalier,2,0)) | E50: =IF(ISERROR(VLOOKUP(B50,Taux,2,0)),"",VLOOKUP(B50,Taux,2,0)) | F50: =IF(ISERROR(VLOOKUP(B50,Taux,3,0)),"",VLOOKUP(B50,Taux,3,0)) | G50: =IF(ISERROR(VLOOKUP(B50,Taux,4,0)),"",VLOOKUP(B50,Taux,4,0)) | H50: =IF(ISERROR(VLOOKUP(B50,Taux,5,0)),"",VLOOKUP(B50,Taux,5,0)) | I50: =IF(ISERROR(VLOOKUP(B50,Taux,6,0)),"",VLOOKUP(B50,Taux,6,0)) | J50: =IF(ISERROR(VLOOKUP(B50,Taux,7,0)),"",VLOOKUP(B50,Taux,7,0)) | K50: =IF(ISERROR(VLOOKUP(B50,Taux,8,0)),"",VLOOKUP(B50,Taux,8,0)) | L50: =IF(ISERROR(VLOOKUP(B50,Taux,9,0)),"",VLOOKUP(B50,Taux,9,0)) | M50: =IF(ISERROR(VLOOKUP(B50,Taux,10,0)),"",VLOOKUP(B50,Taux,10,0)) | N50: =IF(ISERROR(VLOOKUP(B50,Taux,11,0)),"",VLOOKUP(B50,Taux,11,0)) | O50: =IF(ISERROR(VLOOKUP(B50,Taux,12,0)),"",VLOOKUP(B50,Taux,12,0)) | P50: =IF(ISERROR(VLOOKUP(B50,Taux,13,0)),"",VLOOKUP(B50,Taux,13,0)) | S50: 0.6 | T50: =$T$45*S50 -> 0.2125 | U50: =T50*24 -> 5.1
D51: =IF(ISERROR(VLOOKUP(B51,Journalier,2,0)),"",VLOOKUP(B51,Journalier,2,0)) | E51: =IF(ISERROR(VLOOKUP(B51,Taux,2,0)),"",VLOOKUP(B51,Taux,2,0)) | F51: =IF(ISERROR(VLOOKUP(B51,Taux,3,0)),"",VLOOKUP(B51,Taux,3,0)) | G51: =IF(ISERROR(VLOOKUP(B51,Taux,4,0)),"",VLOOKUP(B51,Taux,4,0)) | H51: =IF(ISERROR(VLOOKUP(B51,Taux,5,0)),"",VLOOKUP(B51,Taux,5,0)) | I51: =IF(ISERROR(VLOOKUP(B51,Taux,6,0)),"",VLOOKUP(B51,Taux,6,0)) | J51: =IF(ISERROR(VLOOKUP(B51,Taux,7,0)),"",VLOOKUP(B51,Taux,7,0)) | K51: =IF(ISERROR(VLOOKUP(B51,Taux,8,0)),"",VLOOKUP(B51,Taux,8,0)) | L51: =IF(ISERROR(VLOOKUP(B51,Taux,9,0)),"",VLOOKUP(B51,Taux,9,0)) | M51: =IF(ISERROR(VLOOKUP(B51,Taux,10,0)),"",VLOOKUP(B51,Taux,10,0)) | N51: =IF(ISERROR(VLOOKUP(B51,Taux,11,0)),"",VLOOKUP(B51,Taux,11,0)) | O51: =IF(ISERROR(VLOOKUP(B51,Taux,12,0)),"",VLOOKUP(B51,Taux,12,0)) | P51: =IF(ISERROR(VLOOKUP(B51,Taux,13,0)),"",VLOOKUP(B51,Taux,13,0)) | S51: 0.5 | T51: =$T$45*S51 -> 0.17708333 | U51: =T51*24 -> 4.25
D52: =IF(ISERROR(VLOOKUP(B52,Journalier,2,0)),"",VLOOKUP(B52,Journalier,2,0)) | E52: =IF(ISERROR(VLOOKUP(B52,Taux,2,0)),"",VLOOKUP(B52,Taux,2,0)) | F52: =IF(ISERROR(VLOOKUP(B52,Taux,3,0)),"",VLOOKUP(B52,Taux,3,0)) | G52: =IF(ISERROR(VLOOKUP(B52,Taux,4,0)),"",VLOOKUP(B52,Taux,4,0)) | H52: =IF(ISERROR(VLOOKUP(B52,Taux,5,0)),"",VLOOKUP(B52,Taux,5,0)) | I52: =IF(ISERROR(VLOOKUP(B52,Taux,6,0)),"",VLOOKUP(B52,Taux,6,0)) | J52: =IF(ISERROR(VLOOKUP(B52,Taux,7,0)),"",VLOOKUP(B52,Taux,7,0)) | K52: =IF(ISERROR(VLOOKUP(B52,Taux,8,0)),"",VLOOKUP(B52,Taux,8,0)) | L52: =IF(ISERROR(VLOOKUP(B52,Taux,9,0)),"",VLOOKUP(B52,Taux,9,0)) | M52: =IF(ISERROR(VLOOKUP(B52,Taux,10,0)),"",VLOOKUP(B52,Taux,10,0)) | N52: =IF(ISERROR(VLOOKUP(B52,Taux,11,0)),"",VLOOKUP(B52,Taux,11,0)) | O52: =IF(ISERROR(VLOOKUP(B52,Taux,12,0)),"",VLOOKUP(B52,Taux,12,0)) | P52: =IF(ISERROR(VLOOKUP(B52,Taux,13,0)),"",VLOOKUP(B52,Taux,13,0)) | S52: 0.4 | T52: =$T$45*S52 -> 0.14166667 | U52: 3.4
D53: =IF(ISERROR(VLOOKUP(B53,Journalier,2,0)),"",VLOOKUP(B53,Journalier,2,0)) | E53: =IF(ISERROR(VLOOKUP(B53,Taux,2,0)),"",VLOOKUP(B53,Taux,2,0)) | F53: =IF(ISERROR(VLOOKUP(B53,Taux,3,0)),"",VLOOKUP(B53,Taux,3,0)) | G53: =IF(ISERROR(VLOOKUP(B53,Taux,4,0)),"",VLOOKUP(B53,Taux,4,0)) | H53: =IF(ISERROR(VLOOKUP(B53,Taux,5,0)),"",VLOOKUP(B53,Taux,5,0)) | I53: =IF(ISERROR(VLOOKUP(B53,Taux,6,0)),"",VLOOKUP(B53,Taux,6,0)) | J53: =IF(ISERROR(VLOOKUP(B53,Taux,7,0)),"",VLOOKUP(B53,Taux,7,0)) | K53: =IF(ISERROR(VLOOKUP(B53,Taux,8,0)),"",VLOOKUP(B53,Taux,8,0)) | L53: =IF(ISERROR(VLOOKUP(B53,Taux,9,0)),"",VLOOKUP(B53,Taux,9,0)) | M53: =IF(ISERROR(VLOOKUP(B53,Taux,10,0)),"",VLOOKUP(B53,Taux,10,0)) | N53: =IF(ISERROR(VLOOKUP(B53,Taux,11,0)),"",VLOOKUP(B53,Taux,11,0)) | O53: =IF(ISERROR(VLOOKUP(B53,Taux,12,0)),"",VLOOKUP(B53,Taux,12,0)) | P53: =IF(ISERROR(VLOOKUP(B53,Taux,13,0)),"",VLOOKUP(B53,Taux,13,0)) | S53: 0.3 | T53: =$T$45*S53 -> 0.10625 | U53: 2.55
D54: =IF(ISERROR(VLOOKUP(B54,Journalier,2,0)),"",VLOOKUP(B54,Journalier,2,0)) | E54: =IF(ISERROR(VLOOKUP(B54,Taux,2,0)),"",VLOOKUP(B54,Taux,2,0)) | F54: =IF(ISERROR(VLOOKUP(B54,Taux,3,0)),"",VLOOKUP(B54,Taux,3,0)) | G54: =IF(ISERROR(VLOOKUP(B54,Taux,4,0)),"",VLOOKUP(B54,Taux,4,0)) | H54: =IF(ISERROR(VLOOKUP(B54,Taux,5,0)),"",VLOOKUP(B54,Taux,5,0)) | I54: =IF(ISERROR(VLOOKUP(B54,Taux,6,0)),"",VLOOKUP(B54,Taux,6,0)) | J54: =IF(ISERROR(VLOOKUP(B54,Taux,7,0)),"",VLOOKUP(B54,Taux,7,0)) | K54: =IF(ISERROR(VLOOKUP(B54,Taux,8,0)),"",VLOOKUP(B54,Taux,8,0)) | L54: =IF(ISERROR(VLOOKUP(B54,Taux,9,0)),"",VLOOKUP(B54,Taux,9,0)) | M54: =IF(ISERROR(VLOOKUP(B54,Taux,10,0)),"",VLOOKUP(B54,Taux,10,0)) | N54: =IF(ISERROR(VLOOKUP(B54,Taux,11,0)),"",VLOOKUP(B54,Taux,11,0)) | O54: =IF(ISERROR(VLOOKUP(B54,Taux,12,0)),"",VLOOKUP(B54,Taux,12,0)) | P54: =IF(ISERROR(VLOOKUP(B54,Taux,13,0)),"",VLOOKUP(B54,Taux,13,0)) | S54: 0.25 | T54: =$T$45*S54 -> 0.088541667 | U54: =T54*24 -> 2.125
D55: =IF(ISERROR(VLOOKUP(B55,Journalier,2,0)),"",VLOOKUP(B55,Journalier,2,0)) | E55: =IF(ISERROR(VLOOKUP(B55,Taux,2,0)),"",VLOOKUP(B55,Taux,2,0)) | F55: =IF(ISERROR(VLOOKUP(B55,Taux,3,0)),"",VLOOKUP(B55,Taux,3,0)) | G55: =IF(ISERROR(VLOOKUP(B55,Taux,4,0)),"",VLOOKUP(B55,Taux,4,0)) | H55: =IF(ISERROR(VLOOKUP(B55,Taux,5,0)),"",VLOOKUP(B55,Taux,5,0)) | I55: =IF(ISERROR(VLOOKUP(B55,Taux,6,0)),"",VLOOKUP(B55,Taux,6,0)) | J55: =IF(ISERROR(VLOOKUP(B55,Taux,7,0)),"",VLOOKUP(B55,Taux,7,0)) | K55: =IF(ISERROR(VLOOKUP(B55,Taux,8,0)),"",VLOOKUP(B55,Taux,8,0)) | L55: =IF(ISERROR(VLOOKUP(B55,Taux,9,0)),"",VLOOKUP(B55,Taux,9,0)) | M55: =IF(ISERROR(VLOOKUP(B55,Taux,10,0)),"",VLOOKUP(B55,Taux,10,0)) | N55: =IF(ISERROR(VLOOKUP(B55,Taux,11,0)),"",VLOOKUP(B55,Taux,11,0)) | O55: =IF(ISERROR(VLOOKUP(B55,Taux,12,0)),"",VLOOKUP(B55,Taux,12,0)) | P55: =IF(ISERROR(VLOOKUP(B55,Taux,13,0)),"",VLOOKUP(B55,Taux,13,0)) | S55: 0.2 | T55: =$T$45*S55 -> 0.070833333 | U55: 1.7
D56: =IF(ISERROR(VLOOKUP(B56,Journalier,2,0)),"",VLOOKUP(B56,Journalier,2,0)) | E56: =IF(ISERROR(VLOOKUP(B56,Taux,2,0)),"",VLOOKUP(B56,Taux,2,0)) | F56: =IF(ISERROR(VLOOKUP(B56,Taux,3,0)),"",VLOOKUP(B56,Taux,3,0)) | G56: =IF(ISERROR(VLOOKUP(B56,Taux,4,0)),"",VLOOKUP(B56,Taux,4,0)) | H56: =IF(ISERROR(VLOOKUP(B56,Taux,5,0)),"",VLOOKUP(B56,Taux,5,0)) | I56: =IF(ISERROR(VLOOKUP(B56,Taux,6,0)),"",VLOOKUP(B56,Taux,6,0)) | J56: =IF(ISERROR(VLOOKUP(B56,Taux,7,0)),"",VLOOKUP(B56,Taux,7,0)) | K56: =IF(ISERROR(VLOOKUP(B56,Taux,8,0)),"",VLOOKUP(B56,Taux,8,0)) | L56: =IF(ISERROR(VLOOKUP(B56,Taux,9,0)),"",VLOOKUP(B56,Taux,9,0)) | M56: =IF(ISERROR(VLOOKUP(B56,Taux,10,0)),"",VLOOKUP(B56,Taux,10,0)) | N56: =IF(ISERROR(VLOOKUP(B56,Taux,11,0)),"",VLOOKUP(B56,Taux,11,0)) | O56: =IF(ISERROR(VLOOKUP(B56,Taux,12,0)),"",VLOOKUP(B56,Taux,12,0)) | P56: =IF(ISERROR(VLOOKUP(B56,Taux,13,0)),"",VLOOKUP(B56,Taux,13,0)) | S56: 0.1 | T56: =$T$45*S56 -> 0.035416667 | U56: 0.85
D57: =IF(ISERROR(VLOOKUP(B57,Journalier,2,0)),"",VLOOKUP(B57,Journalier,2,0)) | E57: =IF(ISERROR(VLOOKUP(B57,Taux,2,0)),"",VLOOKUP(B57,Taux,2,0)) | F57: =IF(ISERROR(VLOOKUP(B57,Taux,3,0)),"",VLOOKUP(B57,Taux,3,0)) | G57: =IF(ISERROR(VLOOKUP(B57,Taux,4,0)),"",VLOOKUP(B57,Taux,4,0)) | H57: =IF(ISERROR(VLOOKUP(B57,Taux,5,0)),"",VLOOKUP(B57,Taux,5,0)) | I57: =IF(ISERROR(VLOOKUP(B57,Taux,6,0)),"",VLOOKUP(B57,Taux,6,0)) | J57: =IF(ISERROR(VLOOKUP(B57,Taux,7,0)),"",VLOOKUP(B57,Taux,7,0)) | K57: =IF(ISERROR(VLOOKUP(B57,Taux,8,0)),"",VLOOKUP(B57,Taux,8,0)) | L57: =IF(ISERROR(VLOOKUP(B57,Taux,9,0)),"",VLOOKUP(B57,Taux,9,0)) | M57: =IF(ISERROR(VLOOKUP(B57,Taux,10,0)),"",VLOOKUP(B57,Taux,10,0)) | N57: =IF(ISERROR(VLOOKUP(B57,Taux,11,0)),"",VLOOKUP(B57,Taux,11,0)) | O57: =IF(ISERROR(VLOOKUP(B57,Taux,12,0)),"",VLOOKUP(B57,Taux,12,0)) | P57: =IF(ISERROR(VLOOKUP(B57,Taux,13,0)),"",VLOOKUP(B57,Taux,13,0))
D58: =IF(ISERROR(VLOOKUP(B58,Journalier,2,0)),"",VLOOKUP(B58,Journalier,2,0)) | E58: =IF(ISERROR(VLOOKUP(B58,Taux,2,0)),"",VLOOKUP(B58,Taux,2,0)) | F58: =IF(ISERROR(VLOOKUP(B58,Taux,3,0)),"",VLOOKUP(B58,Taux,3,0)) | G58: =IF(ISERROR(VLOOKUP(B58,Taux,4,0)),"",VLOOKUP(B58,Taux,4,0)) | H58: =IF(ISERROR(VLOOKUP(B58,Taux,5,0)),"",VLOOKUP(B58,Taux,5,0)) | I58: =IF(ISERROR(VLOOKUP(B58,Taux,6,0)),"",VLOOKUP(B58,Taux,6,0)) | J58: =IF(ISERROR(VLOOKUP(B58,Taux,7,0)),"",VLOOKUP(B58,Taux,7,0)) | K58: =IF(ISERROR(VLOOKUP(B58,Taux,8,0)),"",VLOOKUP(B58,Taux,8,0)) | L58: =IF(ISERROR(VLOOKUP(B58,Taux,9,0)),"",VLOOKUP(B58,Taux,9,0)) | M58: =IF(ISERROR(VLOOKUP(B58,Taux,10,0)),"",VLOOKUP(B58,Taux,10,0)) | N58: =IF(ISERROR(VLOOKUP(B58,Taux,11,0)),"",VLOOKUP(B58,Taux,11,0)) | O58: =IF(ISERROR(VLOOKUP(B58,Taux,12,0)),"",VLOOKUP(B58,Taux,12,0)) | P58: =IF(ISERROR(VLOOKUP(B58,Taux,13,0)),"",VLOOKUP(B58,Taux,13,0))
D59: =IF(ISERROR(VLOOKUP(B59,Journalier,2,0)),"",VLOOKUP(B59,Journalier,2,0)) | E59: =IF(ISERROR(VLOOKUP(B59,Taux,2,0)),"",VLOOKUP(B59,Taux,2,0)) | F59: =IF(ISERROR(VLOOKUP(B59,Taux,3,0)),"",VLOOKUP(B59,Taux,3,0)) | G59: =IF(ISERROR(VLOOKUP(B59,Taux,4,0)),"",VLOOKUP(B59,Taux,4,0)) | H59: =IF(ISERROR(VLOOKUP(B59,Taux,5,0)),"",VLOOKUP(B59,Taux,5,0)) | I59: =IF(ISERROR(VLOOKUP(B59,Taux,6,0)),"",VLOOKUP(B59,Taux,6,0)) | J59: =IF(ISERROR(VLOOKUP(B59,Taux,7,0)),"",VLOOKUP(B59,Taux,7,0)) | K59: =IF(ISERROR(VLOOKUP(B59,Taux,8,0)),"",VLOOKUP(B59,Taux,8,0)) | L59: =IF(ISERROR(VLOOKUP(B59,Taux,9,0)),"",VLOOKUP(B59,Taux,9,0)) | M59: =IF(ISERROR(VLOOKUP(B59,Taux,10,0)),"",VLOOKUP(B59,Taux,10,0)) | N59: =IF(ISERROR(VLOOKUP(B59,Taux,11,0)),"",VLOOKUP(B59,Taux,11,0)) | O59: =IF(ISERROR(VLOOKUP(B59,Taux,12,0)),"",VLOOKUP(B59,Taux,12,0)) | P59: =IF(ISERROR(VLOOKUP(B59,Taux,13,0)),"",VLOOKUP(B59,Taux,13,0))
D60: =IF(ISERROR(VLOOKUP(B60,Journalier,2,0)),"",VLOOKUP(B60,Journalier,2,0)) | E60: =IF(ISERROR(VLOOKUP(B60,Taux,2,0)),"",VLOOKUP(B60,Taux,2,0)) | F60: =IF(ISERROR(VLOOKUP(B60,Taux,3,0)),"",VLOOKUP(B60,Taux,3,0)) | G60: =IF(ISERROR(VLOOKUP(B60,Taux,4,0)),"",VLOOKUP(B60,Taux,4,0)) | H60: =IF(ISERROR(VLOOKUP(B60,Taux,5,0)),"",VLOOKUP(B60,Taux,5,0)) | I60: =IF(ISERROR(VLOOKUP(B60,Taux,6,0)),"",VLOOKUP(B60,Taux,6,0)) | J60: =IF(ISERROR(VLOOKUP(B60,Taux,7,0)),"",VLOOKUP(B60,Taux,7,0)) | K60: =IF(ISERROR(VLOOKUP(B60,Taux,8,0)),"",VLOOKUP(B60,Taux,8,0)) | L60: =IF(ISERROR(VLOOKUP(B60,Taux,9,0)),"",VLOOKUP(B60,Taux,9,0)) | M60: =IF(ISERROR(VLOOKUP(B60,Taux,10,0)),"",VLOOKUP(B60,Taux,10,0)) | N60: =IF(ISERROR(VLOOKUP(B60,Taux,11,0)),"",VLOOKUP(B60,Taux,11,0)) | O60: =IF(ISERROR(VLOOKUP(B60,Taux,12,0)),"",VLOOKUP(B60,Taux,12,0)) | P60: =IF(ISERROR(VLOOKUP(B60,Taux,13,0)),"",VLOOKUP(B60,Taux,13,0))
D61: =IF(ISERROR(VLOOKUP(B61,Journalier,2,0)),"",VLOOKUP(B61,Journalier,2,0)) | E61: =IF(ISERROR(VLOOKUP(B61,Taux,2,0)),"",VLOOKUP(B61,Taux,2,0)) | F61: =IF(ISERROR(VLOOKUP(B61,Taux,3,0)),"",VLOOKUP(B61,Taux,3,0)) | G61: =IF(ISERROR(VLOOKUP(B61,Taux,4,0)),"",VLOOKUP(B61,Taux,4,0)) | H61: =IF(ISERROR(VLOOKUP(B61,Taux,5,0)),"",VLOOKUP(B61,Taux,5,0)) | I61: =IF(ISERROR(VLOOKUP(B61,Taux,6,0)),"",VLOOKUP(B61,Taux,6,0)) | J61: =IF(ISERROR(VLOOKUP(B61,Taux,7,0)),"",VLOOKUP(B61,Taux,7,0)) | K61: =IF(ISERROR(VLOOKUP(B61,Taux,8,0)),"",VLOOKUP(B61,Taux,8,0)) | L61: =IF(ISERROR(VLOOKUP(B61,Taux,9,0)),"",VLOOKUP(B61,Taux,9,0)) | M61: =IF(ISERROR(VLOOKUP(B61,Taux,10,0)),"",VLOOKUP(B61,Taux,10,0)) | N61: =IF(ISERROR(VLOOKUP(B61,Taux,11,0)),"",VLOOKUP(B61,Taux,11,0)) | O61: =IF(ISERROR(VLOOKUP(B61,Taux,12,0)),"",VLOOKUP(B61,Taux,12,0)) | P61: =IF(ISERROR(VLOOKUP(B61,Taux,13,0)),"",VLOOKUP(B61,Taux,13,0))
D62: =IF(ISERROR(VLOOKUP(B62,Journalier,2,0)),"",VLOOKUP(B62,Journalier,2,0)) | E62: =IF(ISERROR(VLOOKUP(B62,Taux,2,0)),"",VLOOKUP(B62,Taux,2,0)) | F62: =IF(ISERROR(VLOOKUP(B62,Taux,3,0)),"",VLOOKUP(B62,Taux,3,0)) | G62: =IF(ISERROR(VLOOKUP(B62,Taux,4,0)),"",VLOOKUP(B62,Taux,4,0)) | H62: =IF(ISERROR(VLOOKUP(B62,Taux,5,0)),"",VLOOKUP(B62,Taux,5,0)) | I62: =IF(ISERROR(VLOOKUP(B62,Taux,6,0)),"",VLOOKUP(B62,Taux,6,0)) | J62: =IF(ISERROR(VLOOKUP(B62,Taux,7,0)),"",VLOOKUP(B62,Taux,7,0)) | K62: =IF(ISERROR(VLOOKUP(B62,Taux,8,0)),"",VLOOKUP(B62,Taux,8,0)) | L62: =IF(ISERROR(VLOOKUP(B62,Taux,9,0)),"",VLOOKUP(B62,Taux,9,0)) | M62: =IF(ISERROR(VLOOKUP(B62,Taux,10,0)),"",VLOOKUP(B62,Taux,10,0)) | N62: =IF(ISERROR(VLOOKUP(B62,Taux,11,0)),"",VLOOKUP(B62,Taux,11,0)) | O62: =IF(ISERROR(VLOOKUP(B62,Taux,12,0)),"",VLOOKUP(B62,Taux,12,0)) | P62: =IF(ISERROR(VLOOKUP(B62,Taux,13,0)),"",VLOOKUP(B62,Taux,13,0))
D63: =IF(ISERROR(VLOOKUP(B63,Journalier,2,0)),"",VLOOKUP(B63,Journalier,2,0)) | E63: =IF(ISERROR(VLOOKUP(B63,Taux,2,0)),"",VLOOKUP(B63,Taux,2,0)) | F63: =IF(ISERROR(VLOOKUP(B63,Taux,3,0)),"",VLOOKUP(B63,Taux,3,0)) | G63: =IF(ISERROR(VLOOKUP(B63,Taux,4,0)),"",VLOOKUP(B63,Taux,4,0)) | H63: =IF(ISERROR(VLOOKUP(B63,Taux,5,0)),"",VLOOKUP(B63,Taux,5,0)) | I63: =IF(ISERROR(VLOOKUP(B63,Taux,6,0)),"",VLOOKUP(B63,Taux,6,0)) | J63: =IF(ISERROR(VLOOKUP(B63,Taux,7,0)),"",VLOOKUP(B63,Taux,7,0)) | K63: =IF(ISERROR(VLOOKUP(B63,Taux,8,0)),"",VLOOKUP(B63,Taux,8,0)) | L63: =IF(ISERROR(VLOOKUP(B63,Taux,9,0)),"",VLOOKUP(B63,Taux,9,0)) | M63: =IF(ISERROR(VLOOKUP(B63,Taux,10,0)),"",VLOOKUP(B63,Taux,10,0)) | N63: =IF(ISERROR(VLOOKUP(B63,Taux,11,0)),"",VLOOKUP(B63,Taux,11,0)) | O63: =IF(ISERROR(VLOOKUP(B63,Taux,12,0)),"",VLOOKUP(B63,Taux,12,0)) | P63: =IF(ISERROR(VLOOKUP(B63,Taux,13,0)),"",VLOOKUP(B63,Taux,13,0))
D64: =IF(ISERROR(VLOOKUP(B64,Journalier,2,0)),"",VLOOKUP(B64,Journalier,2,0)) | E64: =IF(ISERROR(VLOOKUP(B64,Taux,2,0)),"",VLOOKUP(B64,Taux,2,0)) | F64: =IF(ISERROR(VLOOKUP(B64,Taux,3,0)),"",VLOOKUP(B64,Taux,3,0)) | G64: =IF(ISERROR(VLOOKUP(B64,Taux,4,0)),"",VLOOKUP(B64,Taux,4,0)) | H64: =IF(ISERROR(VLOOKUP(B64,Taux,5,0)),"",VLOOKUP(B64,Taux,5,0)) | I64: =IF(ISERROR(VLOOKUP(B64,Taux,6,0)),"",VLOOKUP(B64,Taux,6,0)) | J64: =IF(ISERROR(VLOOKUP(B64,Taux,7,0)),"",VLOOKUP(B64,Taux,7,0)) | K64: =IF(ISERROR(VLOOKUP(B64,Taux,8,0)),"",VLOOKUP(B64,Taux,8,0)) | L64: =IF(ISERROR(VLOOKUP(B64,Taux,9,0)),"",VLOOKUP(B64,Taux,9,0)) | M64: =IF(ISERROR(VLOOKUP(B64,Taux,10,0)),"",VLOOKUP(B64,Taux,10,0)) | N64: =IF(ISERROR(VLOOKUP(B64,Taux,11,0)),"",VLOOKUP(B64,Taux,11,0)) | O64: =IF(ISERROR(VLOOKUP(B64,Taux,12,0)),"",VLOOKUP(B64,Taux,12,0)) | P64: =IF(ISERROR(VLOOKUP(B64,Taux,13,0)),"",VLOOKUP(B64,Taux,13,0))
D65: =IF(ISERROR(VLOOKUP(B65,Journalier,2,0)),"",VLOOKUP(B65,Journalier,2,0)) | E65: =IF(ISERROR(VLOOKUP(B65,Taux,2,0)),"",VLOOKUP(B65,Taux,2,0)) | F65: =IF(ISERROR(VLOOKUP(B65,Taux,3,0)),"",VLOOKUP(B65,Taux,3,0)) | G65: =IF(ISERROR(VLOOKUP(B65,Taux,4,0)),"",VLOOKUP(B65,Taux,4,0)) | H65: =IF(ISERROR(VLOOKUP(B65,Taux,5,0)),"",VLOOKUP(B65,Taux,5,0)) | I65: =IF(ISERROR(VLOOKUP(B65,Taux,6,0)),"",VLOOKUP(B65,Taux,6,0)) | J65: =IF(ISERROR(VLOOKUP(B65,Taux,7,0)),"",VLOOKUP(B65,Taux,7,0)) | K65: =IF(ISERROR(VLOOKUP(B65,Taux,8,0)),"",VLOOKUP(B65,Taux,8,0)) | L65: =IF(ISERROR(VLOOKUP(B65,Taux,9,0)),"",VLOOKUP(B65,Taux,9,0)) | M65: =IF(ISERROR(VLOOKUP(B65,Taux,10,0)),"",VLOOKUP(B65,Taux,10,0)) | N65: =IF(ISERROR(VLOOKUP(B65,Taux,11,0)),"",VLOOKUP(B65,Taux,11,0)) | O65: =IF(ISERROR(VLOOKUP(B65,Taux,12,0)),"",VLOOKUP(B65,Taux,12,0)) | P65: =IF(ISERROR(VLOOKUP(B65,Taux,13,0)),"",VLOOKUP(B65,Taux,13,0))
D66: =IF(ISERROR(VLOOKUP(B66,Journalier,2,0)),"",VLOOKUP(B66,Journalier,2,0)) | E66: =IF(ISERROR(VLOOKUP(B66,Taux,2,0)),"",VLOOKUP(B66,Taux,2,0)) | F66: =IF(ISERROR(VLOOKUP(B66,Taux,3,0)),"",VLOOKUP(B66,Taux,3,0)) | G66: =IF(ISERROR(VLOOKUP(B66,Taux,4,0)),"",VLOOKUP(B66,Taux,4,0)) | H66: =IF(ISERROR(VLOOKUP(B66,Taux,5,0)),"",VLOOKUP(B66,Taux,5,0)) | I66: =IF(ISERROR(VLOOKUP(B66,Taux,6,0)),"",VLOOKUP(B66,Taux,6,0)) | J66: =IF(ISERROR(VLOOKUP(B66,Taux,7,0)),"",VLOOKUP(B66,Taux,7,0)) | K66: =IF(ISERROR(VLOOKUP(B66,Taux,8,0)),"",VLOOKUP(B66,Taux,8,0)) | L66: =IF(ISERROR(VLOOKUP(B66,Taux,9,0)),"",VLOOKUP(B66,Taux,9,0)) | M66: =IF(ISERROR(VLOOKUP(B66,Taux,10,0)),"",VLOOKUP(B66,Taux,10,0)) | N66: =IF(ISERROR(VLOOKUP(B66,Taux,11,0)),"",VLOOKUP(B66,Taux,11,0)) | O66: =IF(ISERROR(VLOOKUP(B66,Taux,12,0)),"",VLOOKUP(B66,Taux,12,0)) | P66: =IF(ISERROR(VLOOKUP(B66,Taux,13,0)),"",VLOOKUP(B66,Taux,13,0))
D67: =IF(ISERROR(VLOOKUP(B67,Journalier,2,0)),"",VLOOKUP(B67,Journalier,2,0)) | E67: =IF(ISERROR(VLOOKUP(B67,Taux,2,0)),"",VLOOKUP(B67,Taux,2,0)) | F67: =IF(ISERROR(VLOOKUP(B67,Taux,3,0)),"",VLOOKUP(B67,Taux,3,0)) | G67: =IF(ISERROR(VLOOKUP(B67,Taux,4,0)),"",VLOOKUP(B67,Taux,4,0)) | H67: =IF(ISERROR(VLOOKUP(B67,Taux,5,0)),"",VLOOKUP(B67,Taux,5,0)) | I67: =IF(ISERROR(VLOOKUP(B67,Taux,6,0)),"",VLOOKUP(B67,Taux,6,0)) | J67: =IF(ISERROR(VLOOKUP(B67,Taux,7,0)),"",VLOOKUP(B67,Taux,7,0)) | K67: =IF(ISERROR(VLOOKUP(B67,Taux,8,0)),"",VLOOKUP(B67,Taux,8,0)) | L67: =IF(ISERROR(VLOOKUP(B67,Taux,9,0)),"",VLOOKUP(B67,Taux,9,0)) | M67: =IF(ISERROR(VLOOKUP(B67,Taux,10,0)),"",VLOOKUP(B67,Taux,10,0)) | N67: =IF(ISERROR(VLOOKUP(B67,Taux,11,0)),"",VLOOKUP(B67,Taux,11,0)) | O67: =IF(ISERROR(VLOOKUP(B67,Taux,12,0)),"",VLOOKUP(B67,Taux,12,0)) | P67: =IF(ISERROR(VLOOKUP(B67,Taux,13,0)),"",VLOOKUP(B67,Taux,13,0))
D68: =IF(ISERROR(VLOOKUP(B68,Journalier,2,0)),"",VLOOKUP(B68,Journalier,2,0)) | E68: =IF(ISERROR(VLOOKUP(B68,Taux,2,0)),"",VLOOKUP(B68,Taux,2,0)) | F68: =IF(ISERROR(VLOOKUP(B68,Taux,3,0)),"",VLOOKUP(B68,Taux,3,0)) | G68: =IF(ISERROR(VLOOKUP(B68,Taux,4,0)),"",VLOOKUP(B68,Taux,4,0)) | H68: =IF(ISERROR(VLOOKUP(B68,Taux,5,0)),"",VLOOKUP(B68,Taux,5,0)) | I68: =IF(ISERROR(VLOOKUP(B68,Taux,6,0)),"",VLOOKUP(B68,Taux,6,0)) | J68: =IF(ISERROR(VLOOKUP(B68,Taux,7,0)),"",VLOOKUP(B68,Taux,7,0)) | K68: =IF(ISERROR(VLOOKUP(B68,Taux,8,0)),"",VLOOKUP(B68,Taux,8,0)) | L68: =IF(ISERROR(VLOOKUP(B68,Taux,9,0)),"",VLOOKUP(B68,Taux,9,0)) | M68: =IF(ISERROR(VLOOKUP(B68,Taux,10,0)),"",VLOOKUP(B68,Taux,10,0)) | N68: =IF(ISERROR(VLOOKUP(B68,Taux,11,0)),"",VLOOKUP(B68,Taux,11,0)) | O68: =IF(ISERROR(VLOOKUP(B68,Taux,12,0)),"",VLOOKUP(B68,Taux,12,0)) | P68: =IF(ISERROR(VLOOKUP(B68,Taux,13,0)),"",VLOOKUP(B68,Taux,13,0))
... D95: =IF(ISERROR(VLOOKUP(B95,Journalier,2,0)),"",VLOOKUP(B95,Journalier,2,0)) | E95: =IF(ISERROR(VLOOKUP(B95,Taux,2,0)),"",VLOOKUP(B95,Taux,2,0)) | F95: =IF(ISERROR(VLOOKUP(B95,Taux,3,0)),"",VLOOKUP(B95,Taux,3,0)) | G95: =IF(ISERROR(VLOOKUP(B95,Taux,4,0)),"",VLOOKUP(B95,Taux,4,0)) | H95: =IF(ISERROR(VLOOKUP(B95,Taux,5,0)),"",VLOOKUP(B95,Taux,5,0)) | I95: =IF(ISERROR(VLOOKUP(B95,Taux,6,0)),"",VLOOKUP(B95,Taux,6,0)) | J95: =IF(ISERROR(VLOOKUP(B95,Taux,7,0)),"",VLOOKUP(B95,Taux,7,0)) | K95: =IF(ISERROR(VLOOKUP(B95,Taux,8,0)),"",VLOOKUP(B95,Taux,8,0)) | L95: =IF(ISERROR(VLOOKUP(B95,Taux,9,0)),"",VLOOKUP(B95,Taux,9,0)) | M95: =IF(ISERROR(VLOOKUP(B95,Taux,10,0)),"",VLOOKUP(B95,Taux,10,0)) | N95: =IF(ISERROR(VLOOKUP(B95,Taux,11,0)),"",VLOOKUP(B95,Taux,11,0)) | O95: =IF(ISERROR(VLOOKUP(B95,Taux,12,0)),"",VLOOKUP(B95,Taux,12,0)) | P95: =IF(ISERROR(VLOOKUP(B95,Taux,13,0)),"",VLOOKUP(B95,Taux,13,0))

Sheet Serv
A1: N° Service | B1: Lieu | C1: Début 1 | D1: Fin 1 | E1: Début 2 | F1: Fin 2 | G1: Début 2 | H1: Fin 2 | I1: Durée totale | J1: P1 | K1: P2 | L1: P3 | M1: Pause | N1: Durée réelle
C2: 0.25 | D2: 0.020833333 | E2: 0.5 | F2: 0.041666667
A3: C | B3: Congé | C3: C | D3: C | E3: C | F3: C | G3: C | H3: C | I3: 0 | M3: 0 | N3: =I3-M3 -> 0
A4: V | B4: Vacances | C4: V | D4: V | E4: V | F4: V | G4: V | H4: V | I4: =Pers!$AE$46 -> 0 | M4: 0 | N4: =I4-M4 -> 0
A5: M | B5: Maladie / Accident | C5: M | D5: M | E5: M | F5: M | G5: M | H5: M | I5: =Pers!$AF$46 -> 0 | M5: 0 | N5: =I5-M5 -> 0
A6: D | B6: Service manuel | I6: =Pers!$AE$46 -> 0 | M6: 0 | N6: =I6-M6 -> 0
I7: =Pers!$AE$46 -> 0 | M7: 0 | N7: =I7-M7 -> 0
I8: =Pers!$AE$46 -> 0 | M8: 0 | N8: =I8-M8 -> 0
A9: 100 | B9: Pl. Château | C9: 0.25 | D9: 0.375 | E9: 0.375 | F9: 0.5 | G9: 0.58333333 | H9: 0.6875 | I9: =(D9-C9)+(F9-E9)+(H9-G9) -> 0.35416667 | J9: =IF(((D9-C9)>$C$2),$D$2,IF(((D9-C9)>$E$2),$F$2,0)) -> 0 | K9: =IF(((F9-E9)>$C$2),$D$2,IF(((F9-E9)>$E$2),$F$2,0)) -> 0 | L9: =IF(((H9-G9)>$C$2),$D$2,IF(((H9-G9)>$E$2),$F$2,0)) -> 0 | M9: =SUM(J9:L9) -> 0 | N9: =I9-M9 -> 0.35416667
A10: 101 | B10: Pl. Château | C10: 0.25 | D10: 0.625 | I10: =(D10-C10)+(F10-E10)+(H10-G10) -> 0.375 | J10: =IF(((D10-C10)>$C$2),$D$2,IF(((D10-C10)>$E$2),$F$2,0)) -> 0.020833333 | K10: =IF(((F10-E10)>$C$2),$D$2,IF(((F10-E10)>$E$2),$F$2,0)) -> 0 | L10: =IF(((H10-G10)>$C$2),$D$2,IF(((H10-G10)>$E$2),$F$2,0)) -> 0 | M10: =SUM(J10:L10) -> 0.020833333 | N10: =I10-M10 -> 0.35416667
A11: 102 | B11: Pl. Château | C11: 0.58333333 | D11: 0.95833333 | I11: =(D11-C11)+(F11-E11)+(H11-G11) -> 0.375 | J11: =IF(((D11-C11)>$C$2),$D$2,IF(((D11-C11)>$E$2),$F$2,0)) -> 0.020833333 | K11: =IF(((F11-E11)>$C$2),$D$2,IF(((F11-E11)>$E$2),$F$2,0)) -> 0 | L11: =IF(((H11-G11)>$C$2),$D$2,IF(((H11-G11)>$E$2),$F$2,0)) -> 0 | M11: =SUM(J11:L11) -> 0.020833333 | N11: =I11-M11 -> 0.35416667
A12: 103 | B12: Pl. Château | C12: 0.35416667 | D12: 0.5 | E12: 0.6875 | F12: 0.89583333 | I12: =(D12-C12)+(F12-E12)+(H12-G12) -> 0.35416667 | J12: =IF(((D12-C12)>$C$2),$D$2,IF(((D12-C12)>$E$2),$F$2,0)) -> 0 | K12: =IF(((F12-E12)>$C$2),$D$2,IF(((F12-E12)>$E$2),$F$2,0)) -> 0 | L12: =IF(((H12-G12)>$C$2),$D$2,IF(((H12-G12)>$E$2),$F$2,0)) -> 0 | M12: =SUM(J12:L12) -> 0 | N12: =I12-M12 -> 0.35416667
A13: 104 | B13: Pl. Château | C13: 0.25 | D13: 0.33333333 | E13: 0.70833333 | F13: 0.85416667 | I13: =(D13-C13)+(F13-E13)+(H13-G13) -> 0.22916667 | J13: =IF(((D13-C13)>$C$2),$D$2,IF(((D13-C13)>$E$2),$F$2,0)) -> 0 | K13: =IF(((F13-E13)>$C$2),$D$2,IF(((F13-E13)>$E$2),$F$2,0)) -> 0 | L13: =IF(((H13-G13)>$C$2),$D$2,IF(((H13-G13)>$E$2),$F$2,0)) -> 0 | M13: =SUM(J13:L13) -> 0 | N13: =I13-M13 -> 0.22916667
A14: 105 | B14: Pl Château (Sa) | C14: 0.29166667 | D14: 0.66666667 | I14: =(D14-C14)+(F14-E14)+(H14-G14) -> 0.375 | J14: =IF(((D14-C14)>$C$2),$D$2,IF(((D14-C14)>$E$2),$F$2,0)) -> 0.020833333 | K14: =IF(((F14-E14)>$C$2),$D$2,IF(((F14-E14)>$E$2),$F$2,0)) -> 0 | L14: =IF(((H14-G14)>$C$2),$D$2,IF(((H14-G14)>$E$2),$F$2,0)) -> 0 | M14: =SUM(J14:L14) -> 0.020833333 | N14: =I14-M14 -> 0.35416667
A15: 106 | B15: Pl Château (Di + fériés) | C15: 0.29166667 | D15: 0.58333333 | I15: =(D15-C15)+(F15-E15)+(H15-G15) -> 0.29166667 | J15: =IF(((D15-C15)>$C$2),$D$2,IF(((D15-C15)>$E$2),$F$2,0)) -> 0.020833333 | K15: =IF(((F15-E15)>$C$2),$D$2,IF(((F15-E15)>$E$2),$F$2,0)) -> 0 | L15: =IF(((H15-G15)>$C$2),$D$2,IF(((H15-G15)>$E$2),$F$2,0)) -> 0 | M15: =SUM(J15:L15) -> 0.020833333 | N15: =I15-M15 -> 0.27083333
A16: 107 | B16: Château | C16: 0.29166667 | D16: 0.5 | E16: 0.70833333 | F16: 0.79166667 | I16: =(D16-C16)+(F16-E16)+(H16-G16) -> 0.29166667 | J16: =IF(((D16-C16)>$C$2),$D$2,IF(((D16-C16)>$E$2),$F$2,0)) -> 0 | K16: =IF(((F16-E16)>$C$2),$D$2,IF(((F16-E16)>$E$2),$F$2,0)) -> 0 | L16: =IF(((H16-G16)>$C$2),$D$2,IF(((H16-G16)>$E$2),$F$2,0)) -> 0 | M16: =SUM(J16:L16) -> 0 | N16: =I16-M16 -> 0.29166667
I126: =(D126-C126)+(F126-E126)+(H126-G126) -> 0 | J126: =IF(((D126-C126)>$C$2),$D$2,IF(((D126-C126)>$E$2),$F$2,0)) -> 0 | K126: =IF(((F126-E126)>$C$2),$D$2,IF(((F126-E126)>$E$2),$F$2,0)) -> 0 | L126: =IF(((H126-G126)>$C$2),$D$2,IF(((H126-G126)>$E$2),$F$2,0)) -> 0 | M126: =SUM(J126:L126) -> 0 | N126: =I126-M126 -> 0
I127: =(D127-C127)+(F127-E127)+(H127-G127) -> 0 | J127: =IF(((D127-C127)>$C$2),$D$2,IF(((D127-C127)>$E$2),$F$2,0)) -> 0 | K127: =IF(((F127-E127)>$C$2),$D$2,IF(((F127-E127)>$E$2),$F$2,0)) -> 0 | L127: =IF(((H127-G127)>$C$2),$D$2,IF(((H127-G127)>$E$2),$F$2,0)) -> 0 | M127: =SUM(J127:L127) -> 0 | N127: =I127-M127 -> 0
I128: =(D128-C128)+(F128-E128)+(H128-G128) -> 0 | J128: =IF(((D128-C128)>$C$2),$D$2,IF(((D128-C128)>$E$2),$F$2,0)) -> 0 | K128: =IF(((F128-E128)>$C$2),$D$2,IF(((F128-E128)>$E$2),$F$2,0)) -> 0 | L128: =IF(((H128-G128)>$C$2),$D$2,IF(((H128-G128)>$E$2),$F$2,0)) -> 0 | M128: =SUM(J128:L128) -> 0 | N128: =I128-M128 -> 0
I129: =(D129-C129)+(F129-E129)+(H129-G129) -> 0 | J129: =IF(((D129-C129)>$C$2),$D$2,IF(((D129-C129)>$E$2),$F$2,0)) -> 0 | K129: =IF(((F129-E129)>$C$2),$D$2,IF(((F129-E129)>$E$2),$F$2,0)) -> 0 | L129: =IF(((H129-G129)>$C$2),$D$2,IF(((H129-G129)>$E$2),$F$2,0)) -> 0 | M129: =SUM(J129:L129) -> 0 | N129: =I129-M129 -> 0
I130: =(D130-C130)+(F130-E130)+(H130-G130) -> 0 | J130: =IF(((D130-C130)>$C$2),$D$2,IF(((D130-C130)>$E$2),$F$2,0)) -> 0 | K130: =IF(((F130-E130)>$C$2),$D$2,IF(((F130-E130)>$E$2),$F$2,0)) -> 0 | L130: =IF(((H130-G130)>$C$2),$D$2,IF(((H130-G130)>$E$2),$F$2,0)) -> 0 | M130: =SUM(J130:L130) -> 0 | N130: =I130-M130 -> 0
I131: =(D131-C131)+(F131-E131)+(H131-G131) -> 0 | J131: =IF(((D131-C131)>$C$2),$D$2,IF(((D131-C131)>$E$2),$F$2,0)) -> 0 | K131: =IF(((F131-E131)>$C$2),$D$2,IF(((F131-E131)>$E$2),$F$2,0)) -> 0 | L131: =IF(((H131-G131)>$C$2),$D$2,IF(((H131-G131)>$E$2),$F$2,0)) -> 0 | M131: =SUM(J131:L131) -> 0 | N131: =I131-M131 -> 0
I132: =(D132-C132)+(F132-E132)+(H132-G132) -> 0 | J132: =IF(((D132-C132)>$C$2),$D$2,IF(((D132-C132)>$E$2),$F$2,0)) -> 0 | K132: =IF(((F132-E132)>$C$2),$D$2,IF(((F132-E132)>$E$2),$F$2,0)) -> 0 | L132: =IF(((H132-G132)>$C$2),$D$2,IF(((H132-G132)>$E$2),$F$2,0)) -> 0 | M132: =SUM(J132:L132) -> 0 | N132: =I132-M132 -> 0
I133: =(D133-C133)+(F133-E133)+(H133-G133) -> 0 | J133: =IF(((D133-C133)>$C$2),$D$2,IF(((D133-C133)>$E$2),$F$2,0)) -> 0 | K133: =IF(((F133-E133)>$C$2),$D$2,IF(((F133-E133)>$E$2),$F$2,0)) -> 0 | L133: =IF(((H133-G133)>$C$2),$D$2,IF(((H133-G133)>$E$2),$F$2,0)) -> 0 | M133: =SUM(J133:L133) -> 0 | N133: =I133-M133 -> 0
I134: =(D134-C134)+(F134-E134)+(H134-G134) -> 0 | J134: =IF(((D134-C134)>$C$2),$D$2,IF(((D134-C134)>$E$2),$F$2,0)) -> 0 | K134: =IF(((F134-E134)>$C$2),$D$2,IF(((F134-E134)>$E$2),$F$2,0)) -> 0 | L134: =IF(((H134-G134)>$C$2),$D$2,IF(((H134-G134)>$E$2),$F$2,0)) -> 0 | M134: =SUM(J134:L134) -> 0 | N134: =I134-M134 -> 0
I135: =(D135-C135)+(F135-E135)+(H135-G135) -> 0 | J135: =IF(((D135-C135)>$C$2),$D$2,IF(((D135-C135)>$E$2),$F$2,0)) -> 0 | K135: =IF(((F135-E135)>$C$2),$D$2,IF(((F135-E135)>$E$2),$F$2,0)) -> 0 | L135: =IF(((H135-G135)>$C$2),$D$2,IF(((H135-G135)>$E$2),$F$2,0)) -> 0 | M135: =SUM(J135:L135) -> 0 | N135: =I135-M135 -> 0
I136: =(D136-C136)+(F136-E136)+(H136-G136) -> 0 | J136: =IF(((D136-C136)>$C$2),$D$2,IF(((D136-C136)>$E$2),$F$2,0)) -> 0 | K136: =IF(((F136-E136)>$C$2),$D$2,IF(((F136-E136)>$E$2),$F$2,0)) -> 0 | L136: =IF(((H136-G136)>$C$2),$D$2,IF(((H136-G136)>$E$2),$F$2,0)) -> 0 | M136: =SUM(J136:L136) -> 0 | N136: =I136-M136 -> 0
I137: =(D137-C137)+(F137-E137)+(H137-G137) -> 0 | J137: =IF(((D137-C137)>$C$2),$D$2,IF(((D137-C137)>$E$2),$F$2,0)) -> 0 | K137: =IF(((F137-E137)>$C$2),$D$2,IF(((F137-E137)>$E$2),$F$2,0)) -> 0 | L137: =IF(((H137-G137)>$C$2),$D$2,IF(((H137-G137)>$E$2),$F$2,0)) -> 0 | M137: =SUM(J137:L137) -> 0 | N137: =I137-M137 -> 0
... I1005: =(D1005-C1005)+(F1005-E1005)+(H1005-G1005) -> 0 | J1005: =IF(((D1005-C1005)>$C$2),$D$2,IF(((D1005-C1005)>$E$2),$F$2,0)) -> 0 | K1005: =IF(((F1005-E1005)>$C$2),$D$2,IF(((F1005-E1005)>$E$2),$F$2,0)) -> 0 | L1005: =IF(((H1005-G1005)>$C$2),$D$2,IF(((H1005-G1005)>$E$2),$F$2,0)) -> 0 | M1005: =SUM(J1005:L1005) -> 0 | N1005: =I1005-M1005 -> 0

Sheet Jan
A1: Planning de travail de la maintenance | I1: M | J1: 0.25 | K1: 0.020833333 | L1: 0.5 | M1: 0.041666667 | N1: V | O1: 2014 | R1: Janvier
F2: 1er janvier | I2: 2 janvier | O2: Samedi | R2: Dimanche | AJ2: Samedi | AM2: Dimanche | BE2: Samedi | BH2: Dimanche | BZ2: Samedi | CC2: Dimanche
A3: Employé | B3: Tri | C3: Dû | D3: Plan | E3: Delta | F3: 1 | I3: 2 | L3: 3 | O3: 4 | R3: 5 | U3: 6 | X3: 7 | AA3: 8 | AD3: 9 | AG3: 10 | AJ3: 11 | AM3: 12 | AP3: 13 | AS3: 14 | AV3: 15 | AY3: 16 | BB3: 17 | BE3: 18 | BH3: 19 | BK3: 20 | BN3: 21 | BQ3: 22 | BT3: 23 | BW3: 24 | BZ3: 25 | CC3: 26 | CF3: 27 | CI3: 28 | CL3: 29 | CO3: 30 | CR3: 31
A4: Employé test | B4: =A6 -> Ville | C4: =IF(ISERROR(VLOOKUP(A4,Personnel,5,0)),"",VLOOKUP(A4,Personnel,5,0)) -> 7.4375 | D4: =H4+K4+N4+Q4+T4+W4+Z4+AC4+AF4+AI4+AL4+AO4+AR4+AU4+AX4+BA4+BD4+BG4+BJ4+BM4+BP4+BS4+BV4+BY4+CB4+CE4+CH4+CK4+CN4+CQ4+CT4 -> 0.5625 | E4: =IF(ISERROR(E8+E6),"",E8+E6) -> -6.1666667 | F4: 100 | H4: =SUM(H5:H8) -> 0.35416667 | I4: 102 | K4: =SUM(K5:K8) -> 0.35416667 | L4: V | N4: =SUM(N5:N8) -> 0 | O4: 106 | Q4: =SUM(Q5:Q8) -> 0.27083333 | R4: M | T4: =SUM(T5:T8) -> 0 | U4: D | W4: =SUM(W5:W8) -> 0.20833333 | X4: D | Z4: =SUM(Z5:Z8) -> -0.625 | AC4: =SUM(AC5:AC8) -> 0 | AF4: =SUM(AF5:AF8) -> 0 | AI4: =SUM(AI5:AI8) -> 0 | AL4: =SUM(AL5:AL8) -> 0 | AO4: =SUM(AO5:AO8) -> 0 | AR4: =SUM(AR5:AR8) -> 0 | AU4: =SUM(AU5:AU8) -> 0 | AX4: =SUM(AX5:AX8) -> 0 | BA4: =SUM(BA5:BA8) -> 0 | BD4: =SUM(BD5:BD8) -> 0 | BG4: =SUM(BG5:BG8) -> 0 | BJ4: =SUM(BJ5:BJ8) -> 0 | BM4: =SUM(BM5:BM8) -> 0 | BP4: =SUM(BP5:BP8) -> 0 | BS4: =SUM(BS5:BS8) -> 0 | BV4: =SUM(BV5:BV8) -> 0 | BY4: =SUM(BY5:BY8) -> 0 | CB4: =SUM(CB5:CB8) -> 0 | CE4: =SUM(CE5:CE8) -> 0 | CH4: =SUM(CH5:CH8) -> 0 | CK4: =SUM(CK5:CK8) -> 0 | CN4: =SUM(CN5:CN8) -> 0 | CQ4: =SUM(CQ5:CQ8) -> 0 | CT4: =SUM(CT5:CT8) -> 0
B5: =A6 -> Ville | D5: Malad/Acc | E5: Mal/Vac | F5: =IF(ISERROR(VLOOKUP(F4,Service,3,0)),"",VLOOKUP(F4,Service,3,0)) -> 0.25 | G5: =IF(ISERROR(VLOOKUP(F4,Service,4,0)),"",VLOOKUP(F4,Service,4,0)) -> 0.375 | H5: =IF(ISERROR(IF((G5-F5)<=$J$1,(G5-F5),IF((G5-F5)>=$J$1,(G5-F5)-$K$1,IF((G5-F5)>$L$1,(G5-F5)-$M$1)))),"00:00",IF((G5-F5)<=$J$1,(G5-F5),IF((G5-F5)>=$J$1,(G5-F5)-$K$1,IF((G5-F5)>$L$1,(G5-F5)-$M$1)))) -> 0.125 | I5: =IF(ISERROR(VLOOKUP(I4,Service,3,0)),"",VLOOKUP(I4,Service,3,0)) -> 0.58333333 | J5: =IF(ISERROR(VLOOKUP(I4,Service,4,0)),"",VLOOKUP(I4,Service,4,0)) -> 0.95833333 | K5: =IF(ISERROR(IF((J5-I5)<$J$1,(J5-I5),IF((J5-I5)>$J$1,(J5-I5)-$K$1,IF((J5-I5)>$L$1,(J5-I5)-$M$1)))),"00:00",IF((J5-I5)<$J$1,(J5-I5),IF((J5-I5)>$J$1,(J5-I5)-$K$1,IF((J5-I5)>$L$1,(J5-I5)-$M$1)))) -> 0.35416667 | L5: =IF(ISERROR(VLOOKUP(L4,Service,3,0)),"",VLOOKUP(L4,Service,3,0)) -> V | M5: =IF(ISERROR(VLOOKUP(L4,Service,4,0)),"",VLOOKUP(L4,Service,4,0)) -> V | N5: =IF(ISERROR(IF((M5-L5)<=$J$1,(M5-L5),IF((M5-L5)>=$J$1,(M5-L5)-$K$1,IF((M5-L5)>$L$1,(M5-L5)-$M$1)))),"00:00",IF((M5-L5)<=$J$1,(M5-L5),IF((M5-L5)>=$J$1,(M5-L5)-$K$1,IF((M5-L5)>$L$1,(M5-L5)-$M$1)))) -> 00:00 | O5: =IF(ISERROR(VLOOKUP(O4,Service,3,0)),"",VLOOKUP(O4,Service,3,0)) -> 0.29166667 | P5: =IF(ISERROR(VLOOKUP(O4,Service,4,0)),"",VLOOKUP(O4,Service,4,0)) -> 0.58333333 | Q5: =IF(ISERROR(IF((P5-O5)<=$J$1,(P5-O5),IF((P5-O5)>=$J$1,(P5-O5)-$K$1,IF((P5-O5)>$L$1,(P5-O5)-$M$1)))),"00:00",IF((P5-O5)<=$J$1,(P5-O5),IF((P5-O5)>=$J$1,(P5-O5)-$K$1,IF((P5-O5)>$L$1,(P5-O5)-$M$1)))) -> 0.27083333 | R5: =IF(ISERROR(VLOOKUP(R4,Service,3,0)),"",VLOOKUP(R4,Service,3,0)) -> M | S5: =IF(ISERROR(VLOOKUP(R4,Service,4,0)),"",VLOOKUP(R4,Service,4,0)) -> M | T5: =IF(ISERROR(IF((S5-R5)<=$J$1,(S5-R5),IF((S5-R5)>=$J$1,(S5-R5)-$K$1,IF((S5-R5)>$L$1,(S5-R5)-$M$1)))),"00:00",IF((S5-R5)<=$J$1,(S5-R5),IF((S5-R5)>=$J$1,(S5-R5)-$K$1,IF((S5-R5)>$L$1,(S5-R5)-$M$1)))) -> 00:00 | U5: 0.625 | V5: 0.83333333 | W5: =IF(ISERROR(IF((V5-U5)<=$J$1,(V5-U5),IF((V5-U5)>=$J$1,(V5-U5)-$K$1,IF((V5-U5)>$L$1,(V5-U5)-$M$1)))),"00:00",IF((V5-U5)<=$J$1,(V5-U5),IF((V5-U5)>=$J$1,(V5-U5)-$K$1,IF((V5-U5)>$L$1,(V5-U5)-$M$1)))) -> 0.20833333 | X5: 0.625 | Z5: =IF(ISERROR(IF((Y5-X5)<=$J$1,(Y5-X5),IF((Y5-X5)>=$J$1,(Y5-X5)-$K$1,IF((Y5-X5)>$L$1,(Y5-X5)-$M$1)))),"00:00",IF((Y5-X5)<=$J$1,(Y5-X5),IF((Y5-X5)>=$J$1,(Y5-X5)-$K$1,IF((Y5-X5)>$L$1,(Y5-X5)-$M$1)))) -> -0.625 | AA5: =IF(ISERROR(VLOOKUP(AA4,Service,3,0)),"",VLOOKUP(AA4,Service,3,0)) | AB5: =IF(ISERROR(VLOOKUP(AA4,Service,4,0)),"",VLOOKUP(AA4,Service,4,0)) | AC5: =IF(ISERROR(IF((AB5-AA5)<=$J$1,(AB5-AA5),IF((AB5-AA5)>=$J$1,(AB5-AA5)-$K$1,IF((AB5-AA5)>$L$1,(AB5-AA5)-$M$1)))),"00:00",IF((AB5-AA5)<=$J$1,(AB5-AA5),IF((AB5-AA5)>=$J$1,(AB5-AA5)-$K$1,IF((AB5-AA5)>$L$1,(AB5-AA5)-$M$1)))) -> 00:00 | AD5: =IF(ISERROR(VLOOKUP(AD4,Service,3,0)),"",VLOOKUP(AD4,Service,3,0)) | AE5: =IF(ISERROR(VLOOKUP(AD4,Service,4,0)),"",VLOOKUP(AD4,Service,4,0)) | AF5: =IF(ISERROR(IF((AE5-AD5)<=$J$1,(AE5-AD5),IF((AE5-AD5)>=$J$1,(AE5-AD5)-$K$1,IF((AE5-AD5)>$L$1,(AE5-AD5)-$M$1)))),"00:00",IF((AE5-AD5)<=$J$1,(AE5-AD5),IF((AE5-AD5)>=$J$1,(AE5-AD5)-$K$1,IF((AE5-AD5)>$L$1,(AE5-AD5)-$M$1)))) -> 00:00 | AG5: =IF(ISERROR(VLOOKUP(AG4,Service,3,0)),"",VLOOKUP(AG4,Service,3,0)) | AH5: =IF(ISERROR(VLOOKUP(AG4,Service,4,0)),"",VLOOKUP(AG4,Service,4,0)) | AI5: =IF(ISERROR(IF((AH5-AG5)<=$J$1,(AH5-AG5),IF((AH5-AG5)>=$J$1,(AH5-AG5)-$K$1,IF((AH5-AG5)>$L$1,(AH5-AG5)-$M$1)))),"00:00",IF((AH5-AG5)<=$J$1,(AH5-AG5),IF((AH5-AG5)>=$J$1,(AH5-AG5)-$K$1,IF((AH5-AG5)>$L$1,(AH5-AG5)-$M$1)))) -> 00:00 | AJ5: =IF(ISERROR(VLOOKUP(AJ4,Service,3,0)),"",VLOOKUP(AJ4,Service,3,0)) | AK5: =IF(ISERROR(VLOOKUP(AJ4,Service,4,0)),"",VLOOKUP(AJ4,Service,4,0)) | AL5: =IF(ISERROR(IF((AK5-AJ5)<=$J$1,(AK5-AJ5),IF((AK5-AJ5)>=$J$1,(AK5-AJ5)-$K$1,IF((AK5-AJ5)>$L$1,(AK5-AJ5)-$M$1)))),"00:00",IF((AK5-AJ5)<=$J$1,(AK5-AJ5),IF((AK5-AJ5)>=$J$1,(AK5-AJ5)-$K$1,IF((AK5-AJ5)>$L$1,(AK5-AJ5)-$M$1)))) -> 00:00 | AM5: =IF(ISERROR(VLOOKUP(AM4,Service,3,0)),"",VLOOKUP(AM4,Service,3,0)) | AN5: =IF(ISERROR(VLOOKUP(AM4,Service,4,0)),"",VLOOKUP(AM4,Service,4,0)) | AO5: =IF(ISERROR(IF((AN5-AM5)<=$J$1,(AN5-AM5),IF((AN5-AM5)>=$J$1,(AN5-AM5)-$K$1,IF((AN5-AM5)>$L$1,(AN5-AM5)-$M$1)))),"00:00",IF((AN5-AM5)<=$J$1,(AN5-AM5),IF((AN5-AM5)>=$J$1,(AN5-AM5)-$K$1,IF((AN5-AM5)>$L$1,(AN5-AM5)-$M$1)))) -> 00:00 | AP5: =IF(ISERROR(VLOOKUP(AP4,Service,3,0)),"",VLOOKUP(AP4,Service,3,0)) | AQ5: =IF(ISERROR(VLOOKUP(AP4,Service,4,0)),"",VLOOKUP(AP4,Service,4,0)) | AR5: =IF(ISERROR(IF((AQ5-AP5)<=$J$1,(AQ5-AP5),IF((AQ5-AP5)>=$J$1,(AQ5-AP5)-$K$1,IF((AQ5-AP5)>$L$1,(AQ5-AP5)-$M$1)))),"00:00",IF((AQ5-AP5)<=$J$1,(AQ5-AP5),IF((AQ5-AP5)>=$J$1,(AQ5-AP5)-$K$1,IF((AQ5-AP5)>$L$1,(AQ5-AP5)-$M$1)))) -> 00:00 | AS5: =IF(ISERROR(VLOOKUP(AS4,Service,3,0)),"",VLOOKUP(AS4,Service,3,0)) | AT5: =IF(ISERROR(VLOOKUP(AS4,Service,4,0)),"",VLOOKUP(AS4,Service,4,0)) | AU5: =IF(ISERROR(IF((AT5-AS5)<=$J$1,(AT5-AS5),IF((AT5-AS5)>=$J$1,(AT5-AS5)-$K$1,IF((AT5-AS5)>$L$1,(AT5-AS5)-$M$1)))),"00:00",IF((AT5-AS5)<=$J$1,(AT5-AS5),IF((AT5-AS5)>=$J$1,(AT5-AS5)-$K$1,IF((AT5-AS5)>$L$1,(AT5-AS5)-$M$1)))) -> 00:00 | AV5: =IF(ISERROR(VLOOKUP(AV4,Service,3,0)),"",VLOOKUP(AV4,Service,3,0)) | AW5: =IF(ISERROR(VLOOKUP(AV4,Service,4,0)),"",VLOOKUP(AV4,Service,4,0)) | AX5: =IF(ISERROR(IF((AW5-AV5)<=$J$1,(AW5-AV5),IF((AW5-AV5)>=$J$1,(AW5-AV5)-$K$1,IF((AW5-AV5)>$L$1,(AW5-AV5)-$M$1)))),"00:00",IF((AW5-AV5)<=$J$1,(AW5-AV5),IF((AW5-AV5)>=$J$1,(AW5-AV5)-$K$1,IF((AW5-AV5)>$L$1,(AW5-AV5)-$M$1)))) -> 00:00 | AY5: =IF(ISERROR(VLOOKUP(AY4,Service,3,0)),"",VLOOKUP(AY4,Service,3,0)) | AZ5: =IF(ISERROR(VLOOKUP(AY4,Service,4,0)),"",VLOOKUP(AY4,Service,4,0)) | BA5: =IF(ISERROR(IF((AZ5-AY5)<=$J$1,(AZ5-AY5),IF((AZ5-AY5)>=$J$1,(AZ5-AY5)-$K$1,IF((AZ5-AY5)>$L$1,(AZ5-AY5)-$M$1)))),"00:00",IF((AZ5-AY5)<=$J$1,(AZ5-AY5),IF((AZ5-AY5)>=$J$1,(AZ5-AY5)-$K$1,IF((AZ5-AY5)>$L$1,(AZ5-AY5)-$M$1)))) -> 00:00 | BB5: =IF(ISERROR(VLOOKUP(BB4,Service,3,0)),"",VLOOKUP(BB4,Service,3,0)) | BC5: =IF(ISERROR(VLOOKUP(BB4,Service,4,0)),"",VLOOKUP(BB4,Service,4,0)) | BD5: =IF(ISERROR(IF((BC5-BB5)<=$J$1,(BC5-BB5),IF((BC5-BB5)>=$J$1,(BC5-BB5)-$K$1,IF((BC5-BB5)>$L$1,(BC5-BB5)-$M$1)))),"00:00",IF((BC5-BB5)<=$J$1,(BC5-BB5),IF((BC5-BB5)>=$J$1,(BC5-BB5)-$K$1,IF((BC5-BB5)>$L$1,(BC5-BB5)-$M$1)))) -> 00:00 | BE5: =IF(ISERROR(VLOOKUP(BE4,Service,3,0)),"",VLOOKUP(BE4,Service,3,0)) | BF5: =IF(ISERROR(VLOOKUP(BE4,Service,4,0)),"",VLOOKUP(BE4,Service,4,0)) | BG5: =IF(ISERROR(IF((BF5-BE5)<=$J$1,(BF5-BE5),IF((BF5-BE5)>=$J$1,(BF5-BE5)-$K$1,IF((BF5-BE5)>$L$1,(BF5-BE5)-$M$1)))),"00:00",IF((BF5-BE5)<=$J$1,(BF5-BE5),IF((BF5-BE5)>=$J$1,(BF5-BE5)-$K$1,IF((BF5-BE5)>$L$1,(BF5-BE5)-$M$1)))) -> 00:00 | BH5: =IF(ISERROR(VLOOKUP(BH4,Service,3,0)),"",VLOOKUP(BH4,Service,3,0)) | BI5: =IF(ISERROR(VLOOKUP(BH4,Service,4,0)),"",VLOOKUP(BH4,Service,4,0)) | BJ5: =IF(ISERROR(IF((BI5-BH5)<=$J$1,(BI5-BH5),IF((BI5-BH5)>=$J$1,(BI5-BH5)-$K$1,IF((BI5-BH5)>$L$1,(BI5-BH5)-$M$1)))),"00:00",IF((BI5-BH5)<=$J$1,(BI5-BH5),IF((BI5-BH5)>=$J$1,(BI5-BH5)-$K$1,IF((BI5-BH5)>$L$1,(BI5-BH5)-$M$1)))) -> 00:00 | BK5: =IF(ISERROR(VLOOKUP(BK4,Service,3,0)),"",VLOOKUP(BK4,Service,3,0)) | BL5: =IF(ISERROR(VLOOKUP(BK4,Service,4,0)),"",VLOOKUP(BK4,Service,4,0)) | BM5: =IF(ISERROR(IF((BL5-BK5)<=$J$1,(BL5-BK5),IF((BL5-BK5)>=$J$1,(BL5-BK5)-$K$1,IF((BL5-BK5)>$L$1,(BL5-BK5)-$M$1)))),"00:00",IF((BL5-BK5)<=$J$1,(BL5-BK5),IF((BL5-BK5)>=$J$1,(BL5-BK5)-$K$1,IF((BL5-BK5)>$L$1,(BL5-BK5)-$M$1)))) -> 00:00 | BN5: =IF(ISERROR(VLOOKUP(BN4,Service,3,0)),"",VLOOKUP(BN4,Service,3,0)) | BO5: =IF(ISERROR(VLOOKUP(BN4,Service,4,0)),"",VLOOKUP(BN4,Service,4,0)) | BP5: =IF(ISERROR(IF((BO5-BN5)<=$J$1,(BO5-BN5),IF((BO5-BN5)>=$J$1,(BO5-BN5)-$K$1,IF((BO5-BN5)>$L$1,(BO5-BN5)-$M$1)))),"00:00",IF((BO5-BN5)<=$J$1,(BO5-BN5),IF((BO5-BN5)>=$J$1,(BO5-BN5)-$K$1,IF((BO5-BN5)>$L$1,(BO5-BN5)-$M$1)))) -> 00:00 | BQ5: =IF(ISERROR(VLOOKUP(BQ4,Service,3,0)),"",VLOOKUP(BQ4,Service,3,0)) | BR5: =IF(ISERROR(VLOOKUP(BQ4,Service,4,0)),"",VLOOKUP(BQ4,Service,4,0)) | BS5: =IF(ISERROR(IF((BR5-BQ5)<=$J$1,(BR5-BQ5),IF((BR5-BQ5)>=$J$1,(BR5-BQ5)-$K$1,IF((BR5-BQ5)>$L$1,(BR5-BQ5)-$M$1)))),"00:00",IF((BR5-BQ5)<=$J$1,(BR5-BQ5),IF((BR5-BQ5)>=$J$1,(BR5-BQ5)-$K$1,IF((BR5-BQ5)>$L$1,(BR5-BQ5)-$M$1)))) -> 00:00 | BT5: =IF(ISERROR(VLOOKUP(BT4,Service,3,0)),"",VLOOKUP(BT4,Service,3,0)) | BU5: =IF(ISERROR(VLOOKUP(BT4,Service,4,0)),"",VLOOKUP(BT4,Service,4,0)) | BV5: =IF(ISERROR(IF((BU5-BT5)<=$J$1,(BU5-BT5),IF((BU5-BT5)>=$J$1,(BU5-BT5)-$K$1,IF((BU5-BT5)>$L$1,(BU5-BT5)-$M$1)))),"00:00",IF((BU5-BT5)<=$J$1,(BU5-BT5),IF((BU5-BT5)>=$J$1,(BU5-BT5)-$K$1,IF((BU5-BT5)>$L$1,(BU5-BT5)-$M$1)))) -> 00:00 | BW5: =IF(ISERROR(VLOOKUP(BW4,Service,3,0)),"",VLOOKUP(BW4,Service,3,0)) | BX5: =IF(ISERROR(VLOOKUP(BW4,Service,4,0)),"",VLOOKUP(BW4,Service,4,0)) | BY5: =IF(ISERROR(IF((BX5-BW5)<=$J$1,(BX5-BW5),IF((BX5-BW5)>=$J$1,(BX5-BW5)-$K$1,IF((BX5-BW5)>$L$1,(BX5-BW5)-$M$1)))),"00:00",IF((BX5-BW5)<=$J$1,(BX5-BW5),IF((BX5-BW5)>=$J$1,(BX5-BW5)-$K$1,IF((BX5-BW5)>$L$1,(BX5-BW5)-$M$1)))) -> 00:00 | BZ5: =IF(ISERROR(VLOOKUP(BZ4,Service,3,0)),"",VLOOKUP(BZ4,Service,3,0)) | CA5: =IF(ISERROR(VLOOKUP(BZ4,Service,4,0)),"",VLOOKUP(BZ4,Service,4,0)) | CB5: =IF(ISERROR(IF((CA5-BZ5)<=$J$1,(CA5-BZ5),IF((CA5-BZ5)>=$J$1,(CA5-BZ5)-$K$1,IF((CA5-BZ5)>$L$1,(CA5-BZ5)-$M$1)))),"00:00",IF((CA5-BZ5)<=$J$1,(CA5-BZ5),IF((CA5-BZ5)>=$J$1,(CA5-BZ5)-$K$1,IF((CA5-BZ5)>$L$1,(CA5-BZ5)-$M$1)))) -> 00:00 | CC5: =IF(ISERROR(VLOOKUP(CC4,Service,3,0)),"",VLOOKUP(CC4,Service,3,0)) | CD5: =IF(ISERROR(VLOOKUP(CC4,Service,4,0)),"",VLOOKUP(CC4,Service,4,0)) | CE5: =IF(ISERROR(IF((CD5-CC5)<=$J$1,(CD5-CC5),IF((CD5-CC5)>=$J$1,(CD5-CC5)-$K$1,IF((CD5-CC5)>$L$1,(CD5-CC5)-$M$1)))),"00:00",IF((CD5-CC5)<=$J$1,(CD5-CC5),IF((CD5-CC5)>=$J$1,(CD5-CC5)-$K$1,IF((CD5-CC5)>$L$1,(CD5-CC5)-$M$1)))) -> 00:00 | CF5: =IF(ISERROR(VLOOKUP(CF4,Service,3,0)),"",VLOOKUP(CF4,Service,3,0)) | CG5: =IF(ISERROR(VLOOKUP(CF4,Service,4,0)),"",VLOOKUP(CF4,Service,4,0)) | CH5: =IF(ISERROR(IF((CG5-CF5)<=$J$1,(CG5-CF5),IF((CG5-CF5)>=$J$1,(CG5-CF5)-$K$1,IF((CG5-CF5)>$L$1,(CG5-CF5)-$M$1)))),"00:00",IF((CG5-CF5)<=$J$1,(CG5-CF5),IF((CG5-CF5)>=$J$1,(CG5-CF5)-$K$1,IF((CG5-CF5)>$L$1,(CG5-CF5)-$M$1)))) -> 00:00 | CI5: =IF(ISERROR(VLOOKUP(CI4,Service,3,0)),"",VLOOKUP(CI4,Service,3,0)) | CJ5: =IF(ISERROR(VLOOKUP(CI4,Service,4,0)),"",VLOOKUP(CI4,Service,4,0)) | CK5: =IF(ISERROR(IF((CJ5-CI5)<=$J$1,(CJ5-CI5),IF((CJ5-CI5)>=$J$1,(CJ5-CI5)-$K$1,IF((CJ5-CI5)>$L$1,(CJ5-CI5)-$M$1)))),"00:00",IF((CJ5-CI5)<=$J$1,(CJ5-CI5),IF((CJ5-CI5)>=$J$1,(CJ5-CI5)-$K$1,IF((CJ5-CI5)>$L$1,(CJ5-CI5)-$M$1)))) -> 00:00 | CL5: =IF(ISERROR(VLOOKUP(CL4,Service,3,0)),"",VLOOKUP(CL4,Service,3,0)) | CM5: =IF(ISERROR(VLOOKUP(CL4,Service,4,0)),"",VLOOKUP(CL4,Service,4,0)) | CN5: =IF(ISERROR(IF((CM5-CL5)<=$J$1,(CM5-CL5),IF((CM5-CL5)>=$J$1,(CM5-CL5)-$K$1,IF((CM5-CL5)>$L$1,(CM5-CL5)-$M$1)))),"00:00",IF((CM5-CL5)<=$J$1,(CM5-CL5),IF((CM5-CL5)>=$J$1,(CM5-CL5)-$K$1,IF((CM5-CL5)>$L$1,(CM5-CL5)-$M$1)))) -> 00:00 | CO5: =IF(ISERROR(VLOOKUP(CO4,Service,3,0)),"",VLOOKUP(CO4,Service,3,0)) | CP5: =IF(ISERROR(VLOOKUP(CO4,Service,4,0)),"",VLOOKUP(CO4,Service,4,0)) | CQ5: =IF(ISERROR(IF((CP5-CO5)<=$J$1,(CP5-CO5),IF((CP5-CO5)>=$J$1,(CP5-CO5)-$K$1,IF((CP5-CO5)>$L$1,(CP5-CO5)-$M$1)))),"00:00",IF((CP5-CO5)<=$J$1,(CP5-CO5),IF((CP5-CO5)>=$J$1,(CP5-CO5)-$K$1,IF((CP5-CO5)>$L$1,(CP5-CO5)-$M$1)))) -> 00:00 | CR5: =IF(ISERROR(VLOOKUP(CR4,Service,3,0)),"",VLOOKUP(CR4,Service,3,0)) | CS5: =IF(ISERROR(VLOOKUP(CR4,Service,4,0)),"",VLOOKUP(CR4,Service,4,0)) | CT5: =IF(ISERROR(IF((CS5-CR5)<=$J$1,(CS5-CR5),IF((CS5-CR5)>=$J$1,(CS5-CR5)-$K$1,IF((CS5-CR5)>$L$1,(CS5-CR5)-$M$1)))),"00:00",IF((CS5-CR5)<=$J$1,(CS5-CR5),IF((CS5-CR5)>=$J$1,(CS5-CR5)-$K$1,IF((CS5-CR5)>$L$1,(CS5-CR5)-$M$1)))) -> 00:00
A6: =IF(ISERROR(VLOOKUP(A4,Personnel,3,0)),"",VLOOKUP(A4,Personnel,3,0)) -> Ville | B6: =A6 -> Ville | D6: =(COUNTIF(F4:CT4,"M")) -> 1 | E6: =IF(ISERROR((D6+D8)*C8),"",((D6+D8)*C8)) -> 0.70833333 | F6: =IF(ISERROR(VLOOKUP(F4,Service,5,0)),"",VLOOKUP(F4,Service,5,0)) -> 0.375 | G6: =IF(ISERROR(VLOOKUP(F4,Service,6,0)),"",VLOOKUP(F4,Service,6,0)) -> 0.5 | H6: =IF(ISERROR(IF((G6-F6)<=$J$1,(G6-F6),IF((G6-F6)>=$J$1,(G6-F6)-$K$1,IF((G6-F6)>$L$1,(G6-F6)-$M$1)))),"00:00",IF((G6-F6)<=$J$1,(G6-F6),IF((G6-F6)>=$J$1,(G6-F6)-$K$1,IF((G6-F6)>$L$1,(G6-F6)-$M$1)))) -> 0.125 | I6: =IF(ISERROR(VLOOKUP(I4,Service,5,0)),"",VLOOKUP(I4,Service,5,0)) -> 0 | J6: =IF(ISERROR(VLOOKUP(I4,Service,6,0)),"",VLOOKUP(I4,Service,6,0)) -> 0 | K6: =IF(ISERROR(IF((J6-I6)<$J$1,(J6-I6),IF((J6-I6)>$J$1,(J6-I6)-$K$1,IF((J6-I6)>$L$1,(J6-I6)-$M$1)))),"00:00",IF((J6-I6)<$J$1,(J6-I6),IF((J6-I6)>$J$1,(J6-I6)-$K$1,IF((J6-I6)>$L$1,(J6-I6)-$M$1)))) -> 0 | L6: =IF(ISERROR(VLOOKUP(L4,Service,5,0)),"",VLOOKUP(L4,Service,5,0)) -> V | M6: =IF(ISERROR(VLOOKUP(L4,Service,6,0)),"",VLOOKUP(L4,Service,6,0)) -> V | N6: =IF(ISERROR(IF((M6-L6)<=$J$1,(M6-L6),IF((M6-L6)>=$J$1,(M6-L6)-$K$1,IF((M6-L6)>$L$1,(M6-L6)-$M$1)))),"00:00",IF((M6-L6)<=$J$1,(M6-L6),IF((M6-L6)>=$J$1,(M6-L6)-$K$1,IF((M6-L6)>$L$1,(M6-L6)-$M$1)))) -> 00:00 | O6: =IF(ISERROR(VLOOKUP(O4,Service,5,0)),"",VLOOKUP(O4,Service,5,0)) -> 0 | P6: =IF(ISERROR(VLOOKUP(O4,Service,6,0)),"",VLOOKUP(O4,Service,6,0)) -> 0 | Q6: =IF(ISERROR(IF((P6-O6)<=$J$1,(P6-O6),IF((P6-O6)>=$J$1,(P6-O6)-$K$1,IF((P6-O6)>$L$1,(P6-O6)-$M$1)))),"00:00",IF((P6-O6)<=$J$1,(P6-O6),IF((P6-O6)>=$J$1,(P6-O6)-$K$1,IF((P6-O6)>$L$1,(P6-O6)-$M$1)))) -> 0 | R6: =IF(ISERROR(VLOOKUP(R4,Service,5,0)),"",VLOOKUP(R4,Service,5,0)) -> M | S6: =IF(ISERROR(VLOOKUP(R4,Service,6,0)),"",VLOOKUP(R4,Service,6,0)) -> M | T6: =IF(ISERROR(IF((S6-R6)<=$J$1,(S6-R6),IF((S6-R6)>=$J$1,(S6-R6)-$K$1,IF((S6-R6)>$L$1,(S6-R6)-$M$1)))),"00:00",IF((S6-R6)<=$J$1,(S6-R6),IF((S6-R6)>=$J$1,(S6-R6)-$K$1,IF((S6-R6)>$L$1,(S6-R6)-$M$1)))) -> 00:00 | U6: =IF(ISERROR(VLOOKUP(U4,Service,5,0)),"",VLOOKUP(U4,Service,5,0)) -> 0 | V6: =IF(ISERROR(VLOOKUP(U4,Service,6,0)),"",VLOOKUP(U4,Service,6,0)) -> 0 | W6: =IF(ISERROR(IF((V6-U6)<=$J$1,(V6-U6),IF((V6-U6)>=$J$1,(V6-U6)-$K$1,IF((V6-U6)>$L$1,(V6-U6)-$M$1)))),"00:00",IF((V6-U6)<=$J$1,(V6-U6),IF((V6-U6)>=$J$1,(V6-U6)-$K$1,IF((V6-U6)>$L$1,(V6-U6)-$M$1)))) -> 0 | X6: =IF(ISERROR(VLOOKUP(X4,Service,5,0)),"",VLOOKUP(X4,Service,5,0)) -> 0 | Y6: =IF(ISERROR(VLOOKUP(X4,Service,6,0)),"",VLOOKUP(X4,Service,6,0)) -> 0 | Z6: =IF(ISERROR(IF((Y6-X6)<=$J$1,(Y6-X6),IF((Y6-X6)>=$J$1,(Y6-X6)-$K$1,IF((Y6-X6)>$L$1,(Y6-X6)-$M$1)))),"00:00",IF((Y6-X6)<=$J$1,(Y6-X6),IF((Y6-X6)>=$J$1,(Y6-X6)-$K$1,IF((Y6-X6)>$L$1,(Y6-X6)-$M$1)))) -> 0 | AA6: =IF(ISERROR(VLOOKUP(AA4,Service,5,0)),"",VLOOKUP(AA4,Service,5,0)) | AB6: =IF(ISERROR(VLOOKUP(AA4,Service,6,0)),"",VLOOKUP(AA4,Service,6,0)) | AC6: =IF(ISERROR(IF((AB6-AA6)<=$J$1,(AB6-AA6),IF((AB6-AA6)>=$J$1,(AB6-AA6)-$K$1,IF((AB6-AA6)>$L$1,(AB6-AA6)-$M$1)))),"00:00",IF((AB6-AA6)<=$J$1,(AB6-AA6),IF((AB6-AA6)>=$J$1,(AB6-AA6)-$K$1,IF((AB6-AA6)>$L$1,(AB6-AA6)-$M$1)))) -> 00:00 | AD6: =IF(ISERROR(VLOOKUP(AD4,Service,5,0)),"",VLOOKUP(AD4,Service,5,0)) | AE6: =IF(ISERROR(VLOOKUP(AD4,Service,6,0)),"",VLOOKUP(AD4,Service,6,0)) | AF6: =IF(ISERROR(IF((AE6-AD6)<=$J$1,(AE6-AD6),IF((AE6-AD6)>=$J$1,(AE6-AD6)-$K$1,IF((AE6-AD6)>$L$1,(AE6-AD6)-$M$1)))),"00:00",IF((AE6-AD6)<=$J$1,(AE6-AD6),IF((AE6-AD6)>=$J$1,(AE6-AD6)-$K$1,IF((AE6-AD6)>$L$1,(AE6-AD6)-$M$1)))) -> 00:00 | AG6: =IF(ISERROR(VLOOKUP(AG4,Service,5,0)),"",VLOOKUP(AG4,Service,5,0)) | AH6: =IF(ISERROR(VLOOKUP(AG4,Service,6,0)),"",VLOOKUP(AG4,Service,6,0)) | AI6: =IF(ISERROR(IF((AH6-AG6)<=$J$1,(AH6-AG6),IF((AH6-AG6)>=$J$1,(AH6-AG6)-$K$1,IF((AH6-AG6)>$L$1,(AH6-AG6)-$M$1)))),"00:00",IF((AH6-AG6)<=$J$1,(AH6-AG6),IF((AH6-AG6)>=$J$1,(AH6-AG6)-$K$1,IF((AH6-AG6)>$L$1,(AH6-AG6)-$M$1)))) -> 00:00 | AJ6: =IF(ISERROR(VLOOKUP(AJ4,Service,5,0)),"",VLOOKUP(AJ4,Service,5,0)) | AK6: =IF(ISERROR(VLOOKUP(AJ4,Service,6,0)),"",VLOOKUP(AJ4,Service,6,0)) | AL6: =IF(ISERROR(IF((AK6-AJ6)<=$J$1,(AK6-AJ6),IF((AK6-AJ6)>=$J$1,(AK6-AJ6)-$K$1,IF((AK6-AJ6)>$L$1,(AK6-AJ6)-$M$1)))),"00:00",IF((AK6-AJ6)<=$J$1,(AK6-AJ6),IF((AK6-AJ6)>=$J$1,(AK6-AJ6)-$K$1,IF((AK6-AJ6)>$L$1,(AK6-AJ6)-$M$1)))) -> 00:00 | AM6: =IF(ISERROR(VLOOKUP(AM4,Service,5,0)),"",VLOOKUP(AM4,Service,5,0)) | AN6: =IF(ISERROR(VLOOKUP(AM4,Service,6,0)),"",VLOOKUP(AM4,Service,6,0)) | AO6: =IF(ISERROR(IF((AN6-AM6)<=$J$1,(AN6-AM6),IF((AN6-AM6)>=$J$1,(AN6-AM6)-$K$1,IF((AN6-AM6)>$L$1,(AN6-AM6)-$M$1)))),"00:00",IF((AN6-AM6)<=$J$1,(AN6-AM6),IF((AN6-AM6)>=$J$1,(AN6-AM6)-$K$1,IF((AN6-AM6)>$L$1,(AN6-AM6)-$M$1)))) -> 00:00 | AP6: =IF(ISERROR(VLOOKUP(AP4,Service,5,0)),"",VLOOKUP(AP4,Service,5,0)) | AQ6: =IF(ISERROR(VLOOKUP(AP4,Service,6,0)),"",VLOOKUP(AP4,Service,6,0)) | AR6: =IF(ISERROR(IF((AQ6-AP6)<=$J$1,(AQ6-AP6),IF((AQ6-AP6)>=$J$1,(AQ6-AP6)-$K$1,IF((AQ6-AP6)>$L$1,(AQ6-AP6)-$M$1)))),"00:00",IF((AQ6-AP6)<=$J$1,(AQ6-AP6),IF((AQ6-AP6)>=$J$1,(AQ6-AP6)-$K$1,IF((AQ6-AP6)>$L$1,(AQ6-AP6)-$M$1)))) -> 00:00 | AS6: =IF(ISERROR(VLOOKUP(AS4,Service,5,0)),"",VLOOKUP(AS4,Service,5,0)) | AT6: =IF(ISERROR(VLOOKUP(AS4,Service,6,0)),"",VLOOKUP(AS4,Service,6,0)) | AU6: =IF(ISERROR(IF((AT6-AS6)<=$J$1,(AT6-AS6),IF((AT6-AS6)>=$J$1,(AT6-AS6)-$K$1,IF((AT6-AS6)>$L$1,(AT6-AS6)-$M$1)))),"00:00",IF((AT6-AS6)<=$J$1,(AT6-AS6),IF((AT6-AS6)>=$J$1,(AT6-AS6)-$K$1,IF((AT6-AS6)>$L$1,(AT6-AS6)-$M$1)))) -> 00:00 | AV6: =IF(ISERROR(VLOOKUP(AV4,Service,5,0)),"",VLOOKUP(AV4,Service,5,0)) | AW6: =IF(ISERROR(VLOOKUP(AV4,Service,6,0)),"",VLOOKUP(AV4,Service,6,0)) | AX6: =IF(ISERROR(IF((AW6-AV6)<=$J$1,(AW6-AV6),IF((AW6-AV6)>=$J$1,(AW6-AV6)-$K$1,IF((AW6-AV6)>$L$1,(AW6-AV6)-$M$1)))),"00:00",IF((AW6-AV6)<=$J$1,(AW6-AV6),IF((AW6-AV6)>=$J$1,(AW6-AV6)-$K$1,IF((AW6-AV6)>$L$1,(AW6-AV6)-$M$1)))) -> 00:00 | AY6: =IF(ISERROR(VLOOKUP(AY4,Service,5,0)),"",VLOOKUP(AY4,Service,5,0)) | AZ6: =IF(ISERROR(VLOOKUP(AY4,Service,6,0)),"",VLOOKUP(AY4,Service,6,0)) | BA6: =IF(ISERROR(IF((AZ6-AY6)<=$J$1,(AZ6-AY6),IF((AZ6-AY6)>=$J$1,(AZ6-AY6)-$K$1,IF((AZ6-AY6)>$L$1,(AZ6-AY6)-$M$1)))),"00:00",IF((AZ6-AY6)<=$J$1,(AZ6-AY6),IF((AZ6-AY6)>=$J$1,(AZ6-AY6)-$K$1,IF((AZ6-AY6)>$L$1,(AZ6-AY6)-$M$1)))) -> 00:00 | BB6: =IF(ISERROR(VLOOKUP(BB4,Service,5,0)),"",VLOOKUP(BB4,Service,5,0)) | BC6: =IF(ISERROR(VLOOKUP(BB4,Service,6,0)),"",VLOOKUP(BB4,Service,6,0)) | BD6: =IF(ISERROR(IF((BC6-BB6)<=$J$1,(BC6-BB6),IF((BC6-BB6)>=$J$1,(BC6-BB6)-$K$1,IF((BC6-BB6)>$L$1,(BC6-BB6)-$M$1)))),"00:00",IF((BC6-BB6)<=$J$1,(BC6-BB6),IF((BC6-BB6)>=$J$1,(BC6-BB6)-$K$1,IF((BC6-BB6)>$L$1,(BC6-BB6)-$M$1)))) -> 00:00 | BE6: =IF(ISERROR(VLOOKUP(BE4,Service,5,0)),"",VLOOKUP(BE4,Service,5,0)) | BF6: =IF(ISERROR(VLOOKUP(BE4,Service,6,0)),"",VLOOKUP(BE4,Service,6,0)) | BG6: =IF(ISERROR(IF((BF6-BE6)<=$J$1,(BF6-BE6),IF((BF6-BE6)>=$J$1,(BF6-BE6)-$K$1,IF((BF6-BE6)>$L$1,(BF6-BE6)-$M$1)))),"00:00",IF((BF6-BE6)<=$J$1,(BF6-BE6),IF((BF6-BE6)>=$J$1,(BF6-BE6)-$K$1,IF((BF6-BE6)>$L$1,(BF6-BE6)-$M$1)))) -> 00:00 | BH6: =IF(ISERROR(VLOOKUP(BH4,Service,5,0)),"",VLOOKUP(BH4,Service,5,0)) | BI6: =IF(ISERROR(VLOOKUP(BH4,Service,6,0)),"",VLOOKUP(BH4,Service,6,0)) | BJ6: =IF(ISERROR(IF((BI6-BH6)<=$J$1,(BI6-BH6),IF((BI6-BH6)>=$J$1,(BI6-BH6)-$K$1,IF((BI6-BH6)>$L$1,(BI6-BH6)-$M$1)))),"00:00",IF((BI6-BH6)<=$J$1,(BI6-BH6),IF((BI6-BH6)>=$J$1,(BI6-BH6)-$K$1,IF((BI6-BH6)>$L$1,(BI6-BH6)-$M$1)))) -> 00:00 | BK6: =IF(ISERROR(VLOOKUP(BK4,Service,5,0)),"",VLOOKUP(BK4,Service,5,0)) | BL6: =IF(ISERROR(VLOOKUP(BK4,Service,6,0)),"",VLOOKUP(BK4,Service,6,0)) | BM6: =IF(ISERROR(IF((BL6-BK6)<=$J$1,(BL6-BK6),IF((BL6-BK6)>=$J$1,(BL6-BK6)-$K$1,IF((BL6-BK6)>$L$1,(BL6-BK6)-$M$1)))),"00:00",IF((BL6-BK6)<=$J$1,(BL6-BK6),IF((BL6-BK6)>=$J$1,(BL6-BK6)-$K$1,IF((BL6-BK6)>$L$1,(BL6-BK6)-$M$1)))) -> 00:00 | BN6: =IF(ISERROR(VLOOKUP(BN4,Service,5,0)),"",VLOOKUP(BN4,Service,5,0)) | BO6: =IF(ISERROR(VLOOKUP(BN4,Service,6,0)),"",VLOOKUP(BN4,Service,6,0)) | BP6: =IF(ISERROR(IF((BO6-BN6)<=$J$1,(BO6-BN6),IF((BO6-BN6)>=$J$1,(BO6-BN6)-$K$1,IF((BO6-BN6)>$L$1,(BO6-BN6)-$M$1)))),"00:00",IF((BO6-BN6)<=$J$1,(BO6-BN6),IF((BO6-BN6)>=$J$1,(BO6-BN6)-$K$1,IF((BO6-BN6)>$L$1,(BO6-BN6)-$M$1)))) -> 00:00 | BQ6: =IF(ISERROR(VLOOKUP(BQ4,Service,5,0)),"",VLOOKUP(BQ4,Service,5,0)) | BR6: =IF(ISERROR(VLOOKUP(BQ4,Service,6,0)),"",VLOOKUP(BQ4,Service,6,0)) | BS6: =IF(ISERROR(IF((BR6-BQ6)<=$J$1,(BR6-BQ6),IF((BR6-BQ6)>=$J$1,(BR6-BQ6)-$K$1,IF((BR6-BQ6)>$L$1,(BR6-BQ6)-$M$1)))),"00:00",IF((BR6-BQ6)<=$J$1,(BR6-BQ6),IF((BR6-BQ6)>=$J$1,(BR6-BQ6)-$K$1,IF((BR6-BQ6)>$L$1,(BR6-BQ6)-$M$1)))) -> 00:00 | BT6: =IF(ISERROR(VLOOKUP(BT4,Service,5,0)),"",VLOOKUP(BT4,Service,5,0)) | BU6: =IF(ISERROR(VLOOKUP(BT4,Service,6,0)),"",VLOOKUP(BT4,Service,6,0)) | BV6: =IF(ISERROR(IF((BU6-BT6)<=$J$1,(BU6-BT6),IF((BU6-BT6)>=$J$1,(BU6-BT6)-$K$1,IF((BU6-BT6)>$L$1,(BU6-BT6)-$M$1)))),"00:00",IF((BU6-BT6)<=$J$1,(BU6-BT6),IF((BU6-BT6)>=$J$1,(BU6-BT6)-$K$1,IF((BU6-BT6)>$L$1,(BU6-BT6)-$M$1)))) -> 00:00 | BW6: =IF(ISERROR(VLOOKUP(BW4,Service,5,0)),"",VLOOKUP(BW4,Service,5,0)) | BX6: =IF(ISERROR(VLOOKUP(BW4,Service,6,0)),"",VLOOKUP(BW4,Service,6,0)) | BY6: =IF(ISERROR(IF((BX6-BW6)<=$J$1,(BX6-BW6),IF((BX6-BW6)>=$J$1,(BX6-BW6)-$K$1,IF((BX6-BW6)>$L$1,(BX6-BW6)-$M$1)))),"00:00",IF((BX6-BW6)<=$J$1,(BX6-BW6),IF((BX6-BW6)>=$J$1,(BX6-BW6)-$K$1,IF((BX6-BW6)>$L$1,(BX6-BW6)-$M$1)))) -> 00:00 | BZ6: =IF(ISERROR(VLOOKUP(BZ4,Service,5,0)),"",VLOOKUP(BZ4,Service,5,0)) | CA6: =IF(ISERROR(VLOOKUP(BZ4,Service,6,0)),"",VLOOKUP(BZ4,Service,6,0)) | CB6: =IF(ISERROR(IF((CA6-BZ6)<=$J$1,(CA6-BZ6),IF((CA6-BZ6)>=$J$1,(CA6-BZ6)-$K$1,IF((CA6-BZ6)>$L$1,(CA6-BZ6)-$M$1)))),"00:00",IF((CA6-BZ6)<=$J$1,(CA6-BZ6),IF((CA6-BZ6)>=$J$1,(CA6-BZ6)-$K$1,IF((CA6-BZ6)>$L$1,(CA6-BZ6)-$M$1)))) -> 00:00 | CC6: =IF(ISERROR(VLOOKUP(CC4,Service,5,0)),"",VLOOKUP(CC4,Service,5,0)) | CD6: =IF(ISERROR(VLOOKUP(CC4,Service,6,0)),"",VLOOKUP(CC4,Service,6,0)) | CE6: =IF(ISERROR(IF((CD6-CC6)<=$J$1,(CD6-CC6),IF((CD6-CC6)>=$J$1,(CD6-CC6)-$K$1,IF((CD6-CC6)>$L$1,(CD6-CC6)-$M$1)))),"00:00",IF((CD6-CC6)<=$J$1,(CD6-CC6),IF((CD6-CC6)>=$J$1,(CD6-CC6)-$K$1,IF((CD6-CC6)>$L$1,(CD6-CC6)-$M$1)))) -> 00:00 | CF6: =IF(ISERROR(VLOOKUP(CF4,Service,5,0)),"",VLOOKUP(CF4,Service,5,0)) | CG6: =IF(ISERROR(VLOOKUP(CF4,Service,6,0)),"",VLOOKUP(CF4,Service,6,0)) | CH6: =IF(ISERROR(IF((CG6-CF6)<=$J$1,(CG6-CF6),IF((CG6-CF6)>=$J$1,(CG6-CF6)-$K$1,IF((CG6-CF6)>$L$1,(CG6-CF6)-$M$1)))),"00:00",IF((CG6-CF6)<=$J$1,(CG6-CF6),IF((CG6-CF6)>=$J$1,(CG6-CF6)-$K$1,IF((CG6-CF6)>$L$1,(CG6-CF6)-$M$1)))) -> 00:00 | CI6: =IF(ISERROR(VLOOKUP(CI4,Service,5,0)),"",VLOOKUP(CI4,Service,5,0)) | CJ6: =IF(ISERROR(VLOOKUP(CI4,Service,6,0)),"",VLOOKUP(CI4,Service,6,0)) | CK6: =IF(ISERROR(IF((CJ6-CI6)<=$J$1,(CJ6-CI6),IF((CJ6-CI6)>=$J$1,(CJ6-CI6)-$K$1,IF((CJ6-CI6)>$L$1,(CJ6-CI6)-$M$1)))),"00:00",IF((CJ6-CI6)<=$J$1,(CJ6-CI6),IF((CJ6-CI6)>=$J$1,(CJ6-CI6)-$K$1,IF((CJ6-CI6)>$L$1,(CJ6-CI6)-$M$1)))) -> 00:00 | CL6: =IF(ISERROR(VLOOKUP(CL4,Service,5,0)),"",VLOOKUP(CL4,Service,5,0)) | CM6: =IF(ISERROR(VLOOKUP(CL4,Service,6,0)),"",VLOOKUP(CL4,Service,6,0)) | CN6: =IF(ISERROR(IF((CM6-CL6)<=$J$1,(CM6-CL6),IF((CM6-CL6)>=$J$1,(CM6-CL6)-$K$1,IF((CM6-CL6)>$L$1,(CM6-CL6)-$M$1)))),"00:00",IF((CM6-CL6)<=$J$1,(CM6-CL6),IF((CM6-CL6)>=$J$1,(CM6-CL6)-$K$1,IF((CM6-CL6)>$L$1,(CM6-CL6)-$M$1)))) -> 00:00 | CO6: =IF(ISERROR(VLOOKUP(CO4,Service,5,0)),"",VLOOKUP(CO4,Service,5,0)) | CP6: =IF(ISERROR(VLOOKUP(CO4,Service,6,0)),"",VLOOKUP(CO4,Service,6,0)) | CQ6: =IF(ISERROR(IF((CP6-CO6)<=$J$1,(CP6-CO6),IF((CP6-CO6)>=$J$1,(CP6-CO6)-$K$1,IF((CP6-CO6)>$L$1,(CP6-CO6)-$M$1)))),"00:00",IF((CP6-CO6)<=$J$1,(CP6-CO6),IF((CP6-CO6)>=$J$1,(CP6-CO6)-$K$1,IF((CP6-CO6)>$L$1,(CP6-CO6)-$M$1)))) -> 00:00 | CR6: =IF(ISERROR(VLOOKUP(CR4,Service,5,0)),"",VLOOKUP(CR4,Service,5,0)) | CS6: =IF(ISERROR(VLOOKUP(CR4,Service,6,0)),"",VLOOKUP(CR4,Service,6,0)) | CT6: =IF(ISERROR(IF((CS6-CR6)<=$J$1,(CS6-CR6),IF((CS6-CR6)>=$J$1,(CS6-CR6)-$K$1,IF((CS6-CR6)>$L$1,(CS6-CR6)-$M$1)))),"00:00",IF((CS6-CR6)<=$J$1,(CS6-CR6),IF((CS6-CR6)>=$J$1,(CS6-CR6)-$K$1,IF((CS6-CR6)>$L$1,(CS6-CR6)-$M$1)))) -> 00:00
A7: =IF(ISERROR(VLOOKUP(A4,Personnel,2,0)),"",VLOOKUP(A4,Personnel,2,0)) -> 1 | B7: =A6 -> Ville | C7: Journalier | D7: Vacances | E7: Ss Mal/Vac | F7: =IF(ISERROR(VLOOKUP(F4,Service,7,0)),"",VLOOKUP(F4,Service,7,0)) -> 0.58333333 | G7: =IF(ISERROR(VLOOKUP(F4,Service,8,0)),"",VLOOKUP(F4,Service,8,0)) -> 0.6875 | H7: =IF(ISERROR(IF((G7-F7)<=$J$1,(G7-F7),IF((G7-F7)>=$J$1,(G7-F7)-$K$1,IF((G7-F7)>$L$1,(G7-F7)-$M$1)))),"00:00",IF((G7-F7)<=$J$1,(G7-F7),IF((G7-F7)>=$J$1,(G7-F7)-$K$1,IF((G7-F7)>$L$1,(G7-F7)-$M$1)))) -> 0.10416667 | I7: =IF(ISERROR(VLOOKUP(I4,Service,7,0)),"",VLOOKUP(I4,Service,7,0)) -> 0 | J7: =IF(ISERROR(VLOOKUP(I4,Service,8,0)),"",VLOOKUP(I4,Service,8,0)) -> 0 | K7: =IF(ISERROR(IF((J7-I7)<$J$1,(J7-I7),IF((J7-I7)>$J$1,(J7-I7)-$K$1,IF((J7-I7)>$L$1,(J7-I7)-$M$1)))),"00:00",IF((J7-I7)<$J$1,(J7-I7),IF((J7-I7)>$J$1,(J7-I7)-$K$1,IF((J7-I7)>$L$1,(J7-I7)-$M$1)))) -> 0 | L7: =IF(ISERROR(VLOOKUP(L4,Service,7,0)),"",VLOOKUP(L4,Service,7,0)) -> V | M7: =IF(ISERROR(VLOOKUP(L4,Service,8,0)),"",VLOOKUP(L4,Service,8,0)) -> V | N7: =IF(ISERROR(IF((M7-L7)<=$J$1,(M7-L7),IF((M7-L7)>=$J$1,(M7-L7)-$K$1,IF((M7-L7)>$L$1,(M7-L7)-$M$1)))),"00:00",IF((M7-L7)<=$J$1,(M7-L7),IF((M7-L7)>=$J$1,(M7-L7)-$K$1,IF((M7-L7)>$L$1,(M7-L7)-$M$1)))) -> 00:00 | O7: =IF(ISERROR(VLOOKUP(O4,Service,7,0)),"",VLOOKUP(O4,Service,7,0)) -> 0 | P7: =IF(ISERROR(VLOOKUP(O4,Service,8,0)),"",VLOOKUP(O4,Service,8,0)) -> 0 | Q7: =IF(ISERROR(IF((P7-O7)<=$J$1,(P7-O7),IF((P7-O7)>=$J$1,(P7-O7)-$K$1,IF((P7-O7)>$L$1,(P7-O7)-$M$1)))),"00:00",IF((P7-O7)<=$J$1,(P7-O7),IF((P7-O7)>=$J$1,(P7-O7)-$K$1,IF((P7-O7)>$L$1,(P7-O7)-$M$1)))) -> 0 | R7: =IF(ISERROR(VLOOKUP(R4,Service,7,0)),"",VLOOKUP(R4,Service,7,0)) -> M | S7: =IF(ISERROR(VLOOKUP(R4,Service,8,0)),"",VLOOKUP(R4,Service,8,0)) -> M | T7: =IF(ISERROR(IF((S7-R7)<=$J$1,(S7-R7),IF((S7-R7)>=$J$1,(S7-R7)-$K$1,IF((S7-R7)>$L$1,(S7-R7)-$M$1)))),"00:00",IF((S7-R7)<=$J$1,(S7-R7),IF((S7-R7)>=$J$1,(S7-R7)-$K$1,IF((S7-R7)>$L$1,(S7-R7)-$M$1)))) -> 00:00 | U7: =IF(ISERROR(VLOOKUP(U4,Service,7,0)),"",VLOOKUP(U4,Service,7,0)) -> 0 | V7: =IF(ISERROR(VLOOKUP(U4,Service,8,0)),"",VLOOKUP(U4,Service,8,0)) -> 0 | W7: =IF(ISERROR(IF((V7-U7)<=$J$1,(V7-U7),IF((V7-U7)>=$J$1,(V7-U7)-$K$1,IF((V7-U7)>$L$1,(V7-U7)-$M$1)))),"00:00",IF((V7-U7)<=$J$1,(V7-U7),IF((V7-U7)>=$J$1,(V7-U7)-$K$1,IF((V7-U7)>$L$1,(V7-U7)-$M$1)))) -> 0 | X7: =IF(ISERROR(VLOOKUP(X4,Service,7,0)),"",VLOOKUP(X4,Service,7,0)) -> 0 | Y7: =IF(ISERROR(VLOOKUP(X4,Service,8,0)),"",VLOOKUP(X4,Service,8,0)) -> 0 | Z7: =IF(ISERROR(IF((Y7-X7)<=$J$1,(Y7-X7),IF((Y7-X7)>=$J$1,(Y7-X7)-$K$1,IF((Y7-X7)>$L$1,(Y7-X7)-$M$1)))),"00:00",IF((Y7-X7)<=$J$1,(Y7-X7),IF((Y7-X7)>=$J$1,(Y7-X7)-$K$1,IF((Y7-X7)>$L$1,(Y7-X7)-$M$1)))) -> 0 | AA7: =IF(ISERROR(VLOOKUP(AA4,Service,7,0)),"",VLOOKUP(AA4,Service,7,0)) | AB7: =IF(ISERROR(VLOOKUP(AA4,Service,8,0)),"",VLOOKUP(AA4,Service,8,0)) | AC7: =IF(ISERROR(IF((AB7-AA7)<=$J$1,(AB7-AA7),IF((AB7-AA7)>=$J$1,(AB7-AA7)-$K$1,IF((AB7-AA7)>$L$1,(AB7-AA7)-$M$1)))),"00:00",IF((AB7-AA7)<=$J$1,(AB7-AA7),IF((AB7-AA7)>=$J$1,(AB7-AA7)-$K$1,IF((AB7-AA7)>$L$1,(AB7-AA7)-$M$1)))) -> 00:00 | AD7: =IF(ISERROR(VLOOKUP(AD4,Service,7,0)),"",VLOOKUP(AD4,Service,7,0)) | AE7: =IF(ISERROR(VLOOKUP(AD4,Service,8,0)),"",VLOOKUP(AD4,Service,8,0)) | AF7: =IF(ISERROR(IF((AE7-AD7)<=$J$1,(AE7-AD7),IF((AE7-AD7)>=$J$1,(AE7-AD7)-$K$1,IF((AE7-AD7)>$L$1,(AE7-AD7)-$M$1)))),"00:00",IF((AE7-AD7)<=$J$1,(AE7-AD7),IF((AE7-AD7)>=$J$1,(AE7-AD7)-$K$1,IF((AE7-AD7)>$L$1,(AE7-AD7)-$M$1)))) -> 00:00 | AG7: =IF(ISERROR(VLOOKUP(AG4,Service,7,0)),"",VLOOKUP(AG4,Service,7,0)) | AH7: =IF(ISERROR(VLOOKUP(AG4,Service,8,0)),"",VLOOKUP(AG4,Service,8,0)) | AI7: =IF(ISERROR(IF((AH7-AG7)<=$J$1,(AH7-AG7),IF((AH7-AG7)>=$J$1,(AH7-AG7)-$K$1,IF((AH7-AG7)>$L$1,(AH7-AG7)-$M$1)))),"00:00",IF((AH7-AG7)<=$J$1,(AH7-AG7),IF((AH7-AG7)>=$J$1,(AH7-AG7)-$K$1,IF((AH7-AG7)>$L$1,(AH7-AG7)-$M$1)))) -> 00:00 | AJ7: =IF(ISERROR(VLOOKUP(AJ4,Service,7,0)),"",VLOOKUP(AJ4,Service,7,0)) | AK7: =IF(ISERROR(VLOOKUP(AJ4,Service,8,0)),"",VLOOKUP(AJ4,Service,8,0)) | AL7: =IF(ISERROR(IF((AK7-AJ7)<=$J$1,(AK7-AJ7),IF((AK7-AJ7)>=$J$1,(AK7-AJ7)-$K$1,IF((AK7-AJ7)>$L$1,(AK7-AJ7)-$M$1)))),"00:00",IF((AK7-AJ7)<=$J$1,(AK7-AJ7),IF((AK7-AJ7)>=$J$1,(AK7-AJ7)-$K$1,IF((AK7-AJ7)>$L$1,(AK7-AJ7)-$M$1)))) -> 00:00 | AM7: =IF(ISERROR(VLOOKUP(AM4,Service,7,0)),"",VLOOKUP(AM4,Service,7,0)) | AN7: =IF(ISERROR(VLOOKUP(AM4,Service,8,0)),"",VLOOKUP(AM4,Service,8,0)) | AO7: =IF(ISERROR(IF((AN7-AM7)<=$J$1,(AN7-AM7),IF((AN7-AM7)>=$J$1,(AN7-AM7)-$K$1,IF((AN7-AM7)>$L$1,(AN7-AM7)-$M$1)))),"00:00",IF((AN7-AM7)<=$J$1,(AN7-AM7),IF((AN7-AM7)>=$J$1,(AN7-AM7)-$K$1,IF((AN7-AM7)>$L$1,(AN7-AM7)-$M$1)))) -> 00:00 | AP7: =IF(ISERROR(VLOOKUP(AP4,Service,7,0)),"",VLOOKUP(AP4,Service,7,0)) | AQ7: =IF(ISERROR(VLOOKUP(AP4,Service,8,0)),"",VLOOKUP(AP4,Service,8,0)) | AR7: =IF(ISERROR(IF((AQ7-AP7)<=$J$1,(AQ7-AP7),IF((AQ7-AP7)>=$J$1,(AQ7-AP7)-$K$1,IF((AQ7-AP7)>$L$1,(AQ7-AP7)-$M$1)))),"00:00",IF((AQ7-AP7)<=$J$1,(AQ7-AP7),IF((AQ7-AP7)>=$J$1,(AQ7-AP7)-$K$1,IF((AQ7-AP7)>$L$1,(AQ7-AP7)-$M$1)))) -> 00:00 | AS7: =IF(ISERROR(VLOOKUP(AS4,Service,7,0)),"",VLOOKUP(AS4,Service,7,0)) | AT7: =IF(ISERROR(VLOOKUP(AS4,Service,8,0)),"",VLOOKUP(AS4,Service,8,0)) | AU7: =IF(ISERROR(IF((AT7-AS7)<=$J$1,(AT7-AS7),IF((AT7-AS7)>=$J$1,(AT7-AS7)-$K$1,IF((AT7-AS7)>$L$1,(AT7-AS7)-$M$1)))),"00:00",IF((AT7-AS7)<=$J$1,(AT7-AS7),IF((AT7-AS7)>=$J$1,(AT7-AS7)-$K$1,IF((AT7-AS7)>$L$1,(AT7-AS7)-$M$1)))) -> 00:00 | AV7: =IF(ISERROR(VLOOKUP(AV4,Service,7,0)),"",VLOOKUP(AV4,Service,7,0)) | AW7: =IF(ISERROR(VLOOKUP(AV4,Service,8,0)),"",VLOOKUP(AV4,Service,8,0)) | AX7: =IF(ISERROR(IF((AW7-AV7)<=$J$1,(AW7-AV7),IF((AW7-AV7)>=$J$1,(AW7-AV7)-$K$1,IF((AW7-AV7)>$L$1,(AW7-AV7)-$M$1)))),"00:00",IF((AW7-AV7)<=$J$1,(AW7-AV7),IF((AW7-AV7)>=$J$1,(AW7-AV7)-$K$1,IF((AW7-AV7)>$L$1,(AW7-AV7)-$M$1)))) -> 00:00 | AY7: =IF(ISERROR(VLOOKUP(AY4,Service,7,0)),"",VLOOKUP(AY4,Service,7,0)) | AZ7: =IF(ISERROR(VLOOKUP(AY4,Service,8,0)),"",VLOOKUP(AY4,Service,8,0)) | BA7: =IF(ISERROR(IF((AZ7-AY7)<=$J$1,(AZ7-AY7),IF((AZ7-AY7)>=$J$1,(AZ7-AY7)-$K$1,IF((AZ7-AY7)>$L$1,(AZ7-AY7)-$M$1)))),"00:00",IF((AZ7-AY7)<=$J$1,(AZ7-AY7),IF((AZ7-AY7)>=$J$1,(AZ7-AY7)-$K$1,IF((AZ7-AY7)>$L$1,(AZ7-AY7)-$M$1)))) -> 00:00 | BB7: =IF(ISERROR(VLOOKUP(BB4,Service,7,0)),"",VLOOKUP(BB4,Service,7,0)) | BC7: =IF(ISERROR(VLOOKUP(BB4,Service,8,0)),"",VLOOKUP(BB4,Service,8,0)) | BD7: =IF(ISERROR(IF((BC7-BB7)<=$J$1,(BC7-BB7),IF((BC7-BB7)>=$J$1,(BC7-BB7)-$K$1,IF((BC7-BB7)>$L$1,(BC7-BB7)-$M$1)))),"00:00",IF((BC7-BB7)<=$J$1,(BC7-BB7),IF((BC7-BB7)>=$J$1,(BC7-BB7)-$K$1,IF((BC7-BB7)>$L$1,(BC7-BB7)-$M$1)))) -> 00:00 | BE7: =IF(ISERROR(VLOOKUP(BE4,Service,7,0)),"",VLOOKUP(BE4,Service,7,0)) | BF7: =IF(ISERROR(VLOOKUP(BE4,Service,8,0)),"",VLOOKUP(BE4,Service,8,0)) | BG7: =IF(ISERROR(IF((BF7-BE7)<=$J$1,(BF7-BE7),IF((BF7-BE7)>=$J$1,(BF7-BE7)-$K$1,IF((BF7-BE7)>$L$1,(BF7-BE7)-$M$1)))),"00:00",IF((BF7-BE7)<=$J$1,(BF7-BE7),IF((BF7-BE7)>=$J$1,(BF7-BE7)-$K$1,IF((BF7-BE7)>$L$1,(BF7-BE7)-$M$1)))) -> 00:00 | BH7: =IF(ISERROR(VLOOKUP(BH4,Service,7,0)),"",VLOOKUP(BH4,Service,7,0)) | BI7: =IF(ISERROR(VLOOKUP(BH4,Service,8,0)),"",VLOOKUP(BH4,Service,8,0)) | BJ7: =IF(ISERROR(IF((BI7-BH7)<=$J$1,(BI7-BH7),IF((BI7-BH7)>=$J$1,(BI7-BH7)-$K$1,IF((BI7-BH7)>$L$1,(BI7-BH7)-$M$1)))),"00:00",IF((BI7-BH7)<=$J$1,(BI7-BH7),IF((BI7-BH7)>=$J$1,(BI7-BH7)-$K$1,IF((BI7-BH7)>$L$1,(BI7-BH7)-$M$1)))) -> 00:00 | BK7: =IF(ISERROR(VLOOKUP(BK4,Service,7,0)),"",VLOOKUP(BK4,Service,7,0)) | BL7: =IF(ISERROR(VLOOKUP(BK4,Service,8,0)),"",VLOOKUP(BK4,Service,8,0)) | BM7: =IF(ISERROR(IF((BL7-BK7)<=$J$1,(BL7-BK7),IF((BL7-BK7)>=$J$1,(BL7-BK7)-$K$1,IF((BL7-BK7)>$L$1,(BL7-BK7)-$M$1)))),"00:00",IF((BL7-BK7)<=$J$1,(BL7-BK7),IF((BL7-BK7)>=$J$1,(BL7-BK7)-$K$1,IF((BL7-BK7)>$L$1,(BL7-BK7)-$M$1)))) -> 00:00 | BN7: =IF(ISERROR(VLOOKUP(BN4,Service,7,0)),"",VLOOKUP(BN4,Service,7,0)) | BO7: =IF(ISERROR(VLOOKUP(BN4,Service,8,0)),"",VLOOKUP(BN4,Service,8,0)) | BP7: =IF(ISERROR(IF((BO7-BN7)<=$J$1,(BO7-BN7),IF((BO7-BN7)>=$J$1,(BO7-BN7)-$K$1,IF((BO7-BN7)>$L$1,(BO7-BN7)-$M$1)))),"00:00",IF((BO7-BN7)<=$J$1,(BO7-BN7),IF((BO7-BN7)>=$J$1,(BO7-BN7)-$K$1,IF((BO7-BN7)>$L$1,(BO7-BN7)-$M$1)))) -> 00:00 | BQ7: =IF(ISERROR(VLOOKUP(BQ4,Service,7,0)),"",VLOOKUP(BQ4,Service,7,0)) | BR7: =IF(ISERROR(VLOOKUP(BQ4,Service,8,0)),"",VLOOKUP(BQ4,Service,8,0)) | BS7: =IF(ISERROR(IF((BR7-BQ7)<=$J$1,(BR7-BQ7),IF((BR7-BQ7)>=$J$1,(BR7-BQ7)-$K$1,IF((BR7-BQ7)>$L$1,(BR7-BQ7)-$M$1)))),"00:00",IF((BR7-BQ7)<=$J$1,(BR7-BQ7),IF((BR7-BQ7)>=$J$1,(BR7-BQ7)-$K$1,IF((BR7-BQ7)>$L$1,(BR7-BQ7)-$M$1)))) -> 00:00 | BT7: =IF(ISERROR(VLOOKUP(BT4,Service,7,0)),"",VLOOKUP(BT4,Service,7,0)) | BU7: =IF(ISERROR(VLOOKUP(BT4,Service,8,0)),"",VLOOKUP(BT4,Service,8,0)) | BV7: =IF(ISERROR(IF((BU7-BT7)<=$J$1,(BU7-BT7),IF((BU7-BT7)>=$J$1,(BU7-BT7)-$K$1,IF((BU7-BT7)>$L$1,(BU7-BT7)-$M$1)))),"00:00",IF((BU7-BT7)<=$J$1,(BU7-BT7),IF((BU7-BT7)>=$J$1,(BU7-BT7)-$K$1,IF((BU7-BT7)>$L$1,(BU7-BT7)-$M$1)))) -> 00:00 | BW7: =IF(ISERROR(VLOOKUP(BW4,Service,7,0)),"",VLOOKUP(BW4,Service,7,0)) | BX7: =IF(ISERROR(VLOOKUP(BW4,Service,8,0)),"",VLOOKUP(BW4,Service,8,0)) | BY7: =IF(ISERROR(IF((BX7-BW7)<=$J$1,(BX7-BW7),IF((BX7-BW7)>=$J$1,(BX7-BW7)-$K$1,IF((BX7-BW7)>$L$1,(BX7-BW7)-$M$1)))),"00:00",IF((BX7-BW7)<=$J$1,(BX7-BW7),IF((BX7-BW7)>=$J$1,(BX7-BW7)-$K$1,IF((BX7-BW7)>$L$1,(BX7-BW7)-$M$1)))) -> 00:00 | BZ7: =IF(ISERROR(VLOOKUP(BZ4,Service,7,0)),"",VLOOKUP(BZ4,Service,7,0)) | CA7: =IF(ISERROR(VLOOKUP(BZ4,Service,8,0)),"",VLOOKUP(BZ4,Service,8,0)) | CB7: =IF(ISERROR(IF((CA7-BZ7)<=$J$1,(CA7-BZ7),IF((CA7-BZ7)>=$J$1,(CA7-BZ7)-$K$1,IF((CA7-BZ7)>$L$1,(CA7-BZ7)-$M$1)))),"00:00",IF((CA7-BZ7)<=$J$1,(CA7-BZ7),IF((CA7-BZ7)>=$J$1,(CA7-BZ7)-$K$1,IF((CA7-BZ7)>$L$1,(CA7-BZ7)-$M$1)))) -> 00:00 | CC7: =IF(ISERROR(VLOOKUP(CC4,Service,7,0)),"",VLOOKUP(CC4,Service,7,0)) | CD7: =IF(ISERROR(VLOOKUP(CC4,Service,8,0)),"",VLOOKUP(CC4,Service,8,0)) | CE7: =IF(ISERROR(IF((CD7-CC7)<=$J$1,(CD7-CC7),IF((CD7-CC7)>=$J$1,(CD7-CC7)-$K$1,IF((CD7-CC7)>$L$1,(CD7-CC7)-$M$1)))),"00:00",IF((CD7-CC7)<=$J$1,(CD7-CC7),IF((CD7-CC7)>=$J$1,(CD7-CC7)-$K$1,IF((CD7-CC7)>$L$1,(CD7-CC7)-$M$1)))) -> 00:00 | CF7: =IF(ISERROR(VLOOKUP(CF4,Service,7,0)),"",VLOOKUP(CF4,Service,7,0)) | CG7: =IF(ISERROR(VLOOKUP(CF4,Service,8,0)),"",VLOOKUP(CF4,Service,8,0)) | CH7: =IF(ISERROR(IF((CG7-CF7)<=$J$1,(CG7-CF7),IF((CG7-CF7)>=$J$1,(CG7-CF7)-$K$1,IF((CG7-CF7)>$L$1,(CG7-CF7)-$M$1)))),"00:00",IF((CG7-CF7)<=$J$1,(CG7-CF7),IF((CG7-CF7)>=$J$1,(CG7-CF7)-$K$1,IF((CG7-CF7)>$L$1,(CG7-CF7)-$M$1)))) -> 00:00 | CI7: =IF(ISERROR(VLOOKUP(CI4,Service,7,0)),"",VLOOKUP(CI4,Service,7,0)) | CJ7: =IF(ISERROR(VLOOKUP(CI4,Service,8,0)),"",VLOOKUP(CI4,Service,8,0)) | CK7: =IF(ISERROR(IF((CJ7-CI7)<=$J$1,(CJ7-CI7),IF((CJ7-CI7)>=$J$1,(CJ7-CI7)-$K$1,IF((CJ7-CI7)>$L$1,(CJ7-CI7)-$M$1)))),"00:00",IF((CJ7-CI7)<=$J$1,(CJ7-CI7),IF((CJ7-CI7)>=$J$1,(CJ7-CI7)-$K$1,IF((CJ7-CI7)>$L$1,(CJ7-CI7)-$M$1)))) -> 00:00 | CL7: =IF(ISERROR(VLOOKUP(CL4,Service,7,0)),"",VLOOKUP(CL4,Service,7,0)) | CM7: =IF(ISERROR(VLOOKUP(CL4,Service,8,0)),"",VLOOKUP(CL4,Service,8,0)) | CN7: =IF(ISERROR(IF((CM7-CL7)<=$J$1,(CM7-CL7),IF((CM7-CL7)>=$J$1,(CM7-CL7)-$K$1,IF((CM7-CL7)>$L$1,(CM7-CL7)-$M$1)))),"00:00",IF((CM7-CL7)<=$J$1,(CM7-CL7),IF((CM7-CL7)>=$J$1,(CM7-CL7)-$K$1,IF((CM7-CL7)>$L$1,(CM7-CL7)-$M$1)))) -> 00:00 | CO7: =IF(ISERROR(VLOOKUP(CO4,Service,7,0)),"",VLOOKUP(CO4,Service,7,0)) | CP7: =IF(ISERROR(VLOOKUP(CO4,Service,8,0)),"",VLOOKUP(CO4,Service,8,0)) | CQ7: =IF(ISERROR(IF((CP7-CO7)<=$J$1,(CP7-CO7),IF((CP7-CO7)>=$J$1,(CP7-CO7)-$K$1,IF((CP7-CO7)>$L$1,(CP7-CO7)-$M$1)))),"00:00",IF((CP7-CO7)<=$J$1,(CP7-CO7),IF((CP7-CO7)>=$J$1,(CP7-CO7)-$K$1,IF((CP7-CO7)>$L$1,(CP7-CO7)-$M$1)))) -> 00:00 | CR7: =IF(ISERROR(VLOOKUP(CR4,Service,7,0)),"",VLOOKUP(CR4,Service,7,0)) | CS7: =IF(ISERROR(VLOOKUP(CR4,Service,8,0)),"",VLOOKUP(CR4,Service,8,0)) | CT7: =IF(ISERROR(IF((CS7-CR7)<=$J$1,(CS7-CR7),IF((CS7-CR7)>=$J$1,(CS7-CR7)-$K$1,IF((CS7-CR7)>$L$1,(CS7-CR7)-$M$1)))),"00:00",IF((CS7-CR7)<=$J$1,(CS7-CR7),IF((CS7-CR7)>=$J$1,(CS7-CR7)-$K$1,IF((CS7-CR7)>$L$1,(CS7-CR7)-$M$1)))) -> 00:00
B8: =A6 -> Ville | C8: =IF(ISERROR(VLOOKUP(A4,Personnel,4,0)),"",VLOOKUP(A4,Personnel,4,0)) -> 0.35416667 | D8: =COUNTIF(F4:CT4, "*V") -> 1 | E8: =IF(ISERROR(D4-C4),"",D4-C4) -> -6.875 | H8: =IF(ISERROR(IF((G8-F8)<=$J$1,(G8-F8),IF((G8-F8)>=$J$1,(G8-F8)-$K$1,IF((G8-F8)>$L$1,(G8-F8)-$M$1)))),"00:00",IF((G8-F8)<=$J$1,(G8-F8),IF((G8-F8)>=$J$1,(G8-F8)-$K$1,IF((G8-F8)>$L$1,(G8-F8)-$M$1)))) -> 0 | K8: =IF(ISERROR(IF((J8-I8)<$J$1,(J8-I8),IF((J8-I8)>$J$1,(J8-I8)-$K$1,IF((J8-I8)>$L$1,(J8-I8)-$M$1)))),"00:00",IF((J8-I8)<$J$1,(J8-I8),IF((J8-I8)>$J$1,(J8-I8)-$K$1,IF((J8-I8)>$L$1,(J8-I8)-$M$1)))) -> 0 | N8: =IF(ISERROR(IF((M8-L8)<$J$1,(M8-L8),IF((M8-L8)>$J$1,(M8-L8)-$K$1,IF((M8-L8)>$L$1,(M8-L8)-$M$1)))),"00:00",IF((M8-L8)<$J$1,(M8-L8),IF((M8-L8)>$J$1,(M8-L8)-$K$1,IF((M8-L8)>$L$1,(M8-L8)-$M$1)))) -> 0 | Q8: =IF(ISERROR(IF((P8-O8)<=$J$1,(P8-O8),IF((P8-O8)>=$J$1,(P8-O8)-$K$1,IF((P8-O8)>$L$1,(P8-O8)-$M$1)))),"00:00",IF((P8-O8)<=$J$1,(P8-O8),IF((P8-O8)>=$J$1,(P8-O8)-$K$1,IF((P8-O8)>$L$1,(P8-O8)-$M$1)))) -> 0 | T8: =IF(ISERROR(IF((S8-R8)<=$J$1,(S8-R8),IF((S8-R8)>=$J$1,(S8-R8)-$K$1,IF((S8-R8)>$L$1,(S8-R8)-$M$1)))),"00:00",IF((S8-R8)<=$J$1,(S8-R8),IF((S8-R8)>=$J$1,(S8-R8)-$K$1,IF((S8-R8)>$L$1,(S8-R8)-$M$1)))) -> 0 | W8: =IF(ISERROR(IF((V8-U8)<=$J$1,(V8-U8),IF((V8-U8)>=$J$1,(V8-U8)-$K$1,IF((V8-U8)>$L$1,(V8-U8)-$M$1)))),"00:00",IF((V8-U8)<=$J$1,(V8-U8),IF((V8-U8)>=$J$1,(V8-U8)-$K$1,IF((V8-U8)>$L$1,(V8-U8)-$M$1)))) -> 0 | Z8: =IF(ISERROR(IF((Y8-X8)<=$J$1,(Y8-X8),IF((Y8-X8)>=$J$1,(Y8-X8)-$K$1,IF((Y8-X8)>$L$1,(Y8-X8)-$M$1)))),"00:00",IF((Y8-X8)<=$J$1,(Y8-X8),IF((Y8-X8)>=$J$1,(Y8-X8)-$K$1,IF((Y8-X8)>$L$1,(Y8-X8)-$M$1)))) -> 0 | AC8: =IF(ISERROR(IF((AB8-AA8)<=$J$1,(AB8-AA8),IF((AB8-AA8)>=$J$1,(AB8-AA8)-$K$1,IF((AB8-AA8)>$L$1,(AB8-AA8)-$M$1)))),"00:00",IF((AB8-AA8)<=$J$1,(AB8-AA8),IF((AB8-AA8)>=$J$1,(AB8-AA8)-$K$1,IF((AB8-AA8)>$L$1,(AB8-AA8)-$M$1)))) -> 0 | AF8: =IF(ISERROR(IF((AE8-AD8)<=$J$1,(AE8-AD8),IF((AE8-AD8)>=$J$1,(AE8-AD8)-$K$1,IF((AE8-AD8)>$L$1,(AE8-AD8)-$M$1)))),"00:00",IF((AE8-AD8)<=$J$1,(AE8-AD8),IF((AE8-AD8)>=$J$1,(AE8-AD8)-$K$1,IF((AE8-AD8)>$L$1,(AE8-AD8)-$M$1)))) -> 0 | AI8: =IF(ISERROR(IF((AH8-AG8)<=$J$1,(AH8-AG8),IF((AH8-AG8)>=$J$1,(AH8-AG8)-$K$1,IF((AH8-AG8)>$L$1,(AH8-AG8)-$M$1)))),"00:00",IF((AH8-AG8)<=$J$1,(AH8-AG8),IF((AH8-AG8)>=$J$1,(AH8-AG8)-$K$1,IF((AH8-AG8)>$L$1,(AH8-AG8)-$M$1)))) -> 0 | AL8: =IF(ISERROR(IF((AK8-AJ8)<=$J$1,(AK8-AJ8),IF((AK8-AJ8)>=$J$1,(AK8-AJ8)-$K$1,IF((AK8-AJ8)>$L$1,(AK8-AJ8)-$M$1)))),"00:00",IF((AK8-AJ8)<=$J$1,(AK8-AJ8),IF((AK8-AJ8)>=$J$1,(AK8-AJ8)-$K$1,IF((AK8-AJ8)>$L$1,(AK8-AJ8)-$M$1)))) -> 0 | AO8: =IF(ISERROR(IF((AN8-AM8)<=$J$1,(AN8-AM8),IF((AN8-AM8)>=$J$1,(AN8-AM8)-$K$1,IF((AN8-AM8)>$L$1,(AN8-AM8)-$M$1)))),"00:00",IF((AN8-AM8)<=$J$1,(AN8-AM8),IF((AN8-AM8)>=$J$1,(AN8-AM8)-$K$1,IF((AN8-AM8)>$L$1,(AN8-AM8)-$M$1)))) -> 0 | AR8: =IF(ISERROR(IF((AQ8-AP8)<=$J$1,(AQ8-AP8),IF((AQ8-AP8)>=$J$1,(AQ8-AP8)-$K$1,IF((AQ8-AP8)>$L$1,(AQ8-AP8)-$M$1)))),"00:00",IF((AQ8-AP8)<=$J$1,(AQ8-AP8),IF((AQ8-AP8)>=$J$1,(AQ8-AP8)-$K$1,IF((AQ8-AP8)>$L$1,(AQ8-AP8)-$M$1)))) -> 0 | AU8: =IF(ISERROR(IF((AT8-AS8)<=$J$1,(AT8-AS8),IF((AT8-AS8)>=$J$1,(AT8-AS8)-$K$1,IF((AT8-AS8)>$L$1,(AT8-AS8)-$M$1)))),"00:00",IF((AT8-AS8)<=$J$1,(AT8-AS8),IF((AT8-AS8)>=$J$1,(AT8-AS8)-$K$1,IF((AT8-AS8)>$L$1,(AT8-AS8)-$M$1)))) -> 0 | BA8: =IF(ISERROR(IF((AZ8-AY8)<=$J$1,(AZ8-AY8),IF((AZ8-AY8)>=$J$1,(AZ8-AY8)-$K$1,IF((AZ8-AY8)>$L$1,(AZ8-AY8)-$M$1)))),"00:00",IF((AZ8-AY8)<=$J$1,(AZ8-AY8),IF((AZ8-AY8)>=$J$1,(AZ8-AY8)-$K$1,IF((AZ8-AY8)>$L$1,(AZ8-AY8)-$M$1)))) -> 0 | BD8: =IF(ISERROR(IF((BC8-BB8)<=$J$1,(BC8-BB8),IF((BC8-BB8)>=$J$1,(BC8-BB8)-$K$1,IF((BC8-BB8)>$L$1,(BC8-BB8)-$M$1)))),"00:00",IF((BC8-BB8)<=$J$1,(BC8-BB8),IF((BC8-BB8)>=$J$1,(BC8-BB8)-$K$1,IF((BC8-BB8)>$L$1,(BC8-BB8)-$M$1)))) -> 0 | BG8: =IF(ISERROR(IF((BF8-BE8)<=$J$1,(BF8-BE8),IF((BF8-BE8)>=$J$1,(BF8-BE8)-$K$1,IF((BF8-BE8)>$L$1,(BF8-BE8)-$M$1)))),"00:00",IF((BF8-BE8)<=$J$1,(BF8-BE8),IF((BF8-BE8)>=$J$1,(BF8-BE8)-$K$1,IF((BF8-BE8)>$L$1,(BF8-BE8)-$M$1)))) -> 0 | BJ8: =IF(ISERROR(IF((BI8-BH8)<=$J$1,(BI8-BH8),IF((BI8-BH8)>=$J$1,(BI8-BH8)-$K$1,IF((BI8-BH8)>$L$1,(BI8-BH8)-$M$1)))),"00:00",IF((BI8-BH8)<=$J$1,(BI8-BH8),IF((BI8-BH8)>=$J$1,(BI8-BH8)-$K$1,IF((BI8-BH8)>$L$1,(BI8-BH8)-$M$1)))) -> 0 | BM8: =IF(ISERROR(IF((BL8-BK8)<=$J$1,(BL8-BK8),IF((BL8-BK8)>=$J$1,(BL8-BK8)-$K$1,IF((BL8-BK8)>$L$1,(BL8-BK8)-$M$1)))),"00:00",IF((BL8-BK8)<=$J$1,(BL8-BK8),IF((BL8-BK8)>=$J$1,(BL8-BK8)-$K$1,IF((BL8-BK8)>$L$1,(BL8-BK8)-$M$1)))) -> 0 | BP8: =IF(ISERROR(IF((BO8-BN8)<=$J$1,(BO8-BN8),IF((BO8-BN8)>=$J$1,(BO8-BN8)-$K$1,IF((BO8-BN8)>$L$1,(BO8-BN8)-$M$1)))),"00:00",IF((BO8-BN8)<=$J$1,(BO8-BN8),IF((BO8-BN8)>=$J$1,(BO8-BN8)-$K$1,IF((BO8-BN8)>$L$1,(BO8-BN8)-$M$1)))) -> 0 | BS8: =IF(ISERROR(IF((BR8-BQ8)<=$J$1,(BR8-BQ8),IF((BR8-BQ8)>=$J$1,(BR8-BQ8)-$K$1,IF((BR8-BQ8)>$L$1,(BR8-BQ8)-$M$1)))),"00:00",IF((BR8-BQ8)<=$J$1,(BR8-BQ8),IF((BR8-BQ8)>=$J$1,(BR8-BQ8)-$K$1,IF((BR8-BQ8)>$L$1,(BR8-BQ8)-$M$1)))) -> 0 | BV8: =IF(ISERROR(IF((BU8-BT8)<=$J$1,(BU8-BT8),IF((BU8-BT8)>=$J$1,(BU8-BT8)-$K$1,IF((BU8-BT8)>$L$1,(BU8-BT8)-$M$1)))),"00:00",IF((BU8-BT8)<=$J$1,(BU8-BT8),IF((BU8-BT8)>=$J$1,(BU8-BT8)-$K$1,IF((BU8-BT8)>$L$1,(BU8-BT8)-$M$1)))) -> 0 | BY8: =IF(ISERROR(IF((BX8-BW8)<=$J$1,(BX8-BW8),IF((BX8-BW8)>=$J$1,(BX8-BW8)-$K$1,IF((BX8-BW8)>$L$1,(BX8-BW8)-$M$1)))),"00:00",IF((BX8-BW8)<=$J$1,(BX8-BW8),IF((BX8-BW8)>=$J$1,(BX8-BW8)-$K$1,IF((BX8-BW8)>$L$1,(BX8-BW8)-$M$1)))) -> 0 | CB8: =IF(ISERROR(IF((CA8-BZ8)<=$J$1,(CA8-BZ8),IF((CA8-BZ8)>=$J$1,(CA8-BZ8)-$K$1,IF((CA8-BZ8)>$L$1,(CA8-BZ8)-$M$1)))),"00:00",IF((CA8-BZ8)<=$J$1,(CA8-BZ8),IF((CA8-BZ8)>=$J$1,(CA8-BZ8)-$K$1,IF((CA8-BZ8)>$L$1,(CA8-BZ8)-$M$1)))) -> 0 | CE8: =IF(ISERROR(IF((CD8-CC8)<=$J$1,(CD8-CC8),IF((CD8-CC8)>=$J$1,(CD8-CC8)-$K$1,IF((CD8-CC8)>$L$1,(CD8-CC8)-$M$1)))),"00:00",IF((CD8-CC8)<=$J$1,(CD8-CC8),IF((CD8-CC8)>=$J$1,(CD8-CC8)-$K$1,IF((CD8-CC8)>$L$1,(CD8-CC8)-$M$1)))) -> 0 | CH8: =IF(ISERROR(IF((CG8-CF8)<=$J$1,(CG8-CF8),IF((CG8-CF8)>=$J$1,(CG8-CF8)-$K$1,IF((CG8-CF8)>$L$1,(CG8-CF8)-$M$1)))),"00:00",IF((CG8-CF8)<=$J$1,(CG8-CF8),IF((CG8-CF8)>=$J$1,(CG8-CF8)-$K$1,IF((CG8-CF8)>$L$1,(CG8-CF8)-$M$1)))) -> 0 | CK8: =IF(ISERROR(IF((CJ8-CI8)<=$J$1,(CJ8-CI8),IF((CJ8-CI8)>=$J$1,(CJ8-CI8)-$K$1,IF((CJ8-CI8)>$L$1,(CJ8-CI8)-$M$1)))),"00:00",IF((CJ8-CI8)<=$J$1,(CJ8-CI8),IF((CJ8-CI8)>=$J$1,(CJ8-CI8)-$K$1,IF((CJ8-CI8)>$L$1,(CJ8-CI8)-$M$1)))) -> 0 | CN8: =IF(ISERROR(IF((CM8-CL8)<=$J$1,(CM8-CL8),IF((CM8-CL8)>=$J$1,(CM8-CL8)-$K$1,IF((CM8-CL8)>$L$1,(CM8-CL8)-$M$1)))),"00:00",IF((CM8-CL8)<=$J$1,(CM8-CL8),IF((CM8-CL8)>=$J$1,(CM8-CL8)-$K$1,IF((CM8-CL8)>$L$1,(CM8-CL8)-$M$1)))) -> 0 | CQ8: =IF(ISERROR(IF((CP8-CO8)<=$J$1,(CP8-CO8),IF((CP8-CO8)>=$J$1,(CP8-CO8)-$K$1,IF((CP8-CO8)>$L$1,(CP8-CO8)-$M$1)))),"00:00",IF((CP8-CO8)<=$J$1,(CP8-CO8),IF((CP8-CO8)>=$J$1,(CP8-CO8)-$K$1,IF((CP8-CO8)>$L$1,(CP8-CO8)-$M$1)))) -> 0 | CT8: =IF(ISERROR(IF((CS8-CR8)<=$J$1,(CS8-CR8),IF((CS8-CR8)>=$J$1,(CS8-CR8)-$K$1,IF((CS8-CR8)>$L$1,(CS8-CR8)-$M$1)))),"00:00",IF((CS8-CR8)<=$J$1,(CS8-CR8),IF((CS8-CR8)>=$J$1,(CS8-CR8)-$K$1,IF((CS8-CR8)>$L$1,(CS8-CR8)-$M$1)))) -> 0
