Workbook
Name Aout: #REF!
Name Avr: #REF!
Name Dec: #REF!
Name Fev: #REF!
Name Janv: Jan!$A$3:$CU$8
Name Journalier: Pers!$S$45:$U$56
Name Juil: #REF!
Name Juin: #REF!
Name Mai: #REF!
Name Mars: #REF!
Name Nov: #REF!
Name Oct: #REF!
Name Personnel: Pers!$A$2:$P$164
Name Sept: #REF!
Name Service: Pers!#REF!
Name Service: Serv!$A$3:$N$661
Name Taux: Pers!$R$1:$AD$13
Name Travail: Serv!#REF!
Name Vacances: #REF!

Sheet Pers
A1: Employé | B1: Taux | C1: Secteur | D1: Jour | E1: Dû Janv. | F1: Dû Fév. | G1: Dû Mars | H1: Dû Avril | I1: Dû Mai | J1: Dû Juin | K1: Dû Juil. | L1: Dû Août | M1: Dû Sept. | N1: Dû Oct. | O1: Dû Nov. | P1: Dû Déc. | R1: 2014 | S1: 1 | T1: 2 | U1: 3 | V1: 4 | W1: 5 | X1: 6 | Y1: 7 | Z1: 8 | AA1: 9 | AB1: 10 | AC1: 11 | AD1: 12 | AE1: Total
A2: Employé test | B2: 1 | C2: Ville | D2: =IF(ISERROR(VLOOKUP(B2,Journalier,2,0)),"",VLOOKUP(B2,Journalier,2,0)) -> 0.35416667 | E2: =IF(ISERROR(VLOOKUP(B2,Taux,2,0)),"",VLOOKUP(B2,Taux,2,0)) -> 7.4375 | F2: =IF(ISERROR(VLOOKUP(B2,Taux,3,0)),"",VLOOKUP(B2,Taux,3,0)) -> 7.0833333 | G2: =IF(ISERROR(VLOOKUP(B2,Taux,4,0)),"",VLOOKUP(B2,Taux,4,0)) -> 7.4375 | H2: =IF(ISERROR(VLOOKUP(B2,Taux,5,0)),"",VLOOKUP(B2,Taux,5,0)) -> 7.0416667 | I2: =IF(ISERROR(VLOOKUP(B2,Taux,6,0)),"",VLOOKUP(B2,Taux,6,0)) -> 7.0416667 | J2: =IF(ISERROR(VLOOKUP(B2,Taux,7,0)),"",VLOOKUP(B2,Taux,7,0)) -> 7.0833333 | K2: =IF(ISERROR(VLOOKUP(B2,Taux,8,0)),"",VLOOKUP(B2,Taux,8,0)) -> 8.1458333 | L2: =IF(ISERROR(VLOOKUP(B2,Taux,9,0)),"",VLOOKUP(B2,Taux,9,0)) -> 7.0833333 | M2: =IF(ISERROR(VLOOKUP(B2,Taux,10,0)),"",VLOOKUP(B2,Taux,10,0)) -> 7.4375 | N2: =IF(ISERROR(VLOOKUP(B2,Taux,11,0)),"",VLOOKUP(B2,Taux,11,0)) -> 8.1458333 | O2: =IF(ISERROR(VLOOKUP(B2,Taux,12,0)),"",VLOOKUP(B2,Taux,12,0)) -> 7.0833333 | P2: =IF(ISERROR(VLOOKUP(B2,Taux,13,0)),"",VLOOKUP(B2,Taux,13,0)) -> 6.1979167 | R2: 1 | S2: =S16/24 -> 7.4375 | T2: =S17/24 -> 7.0833333 | U2: =S18/24 -> 7.4375 | V2: =S19/24 -> 7.0416667 | W2: =S20/24 -> 7.0416667 | X2: =S21/24 -> 7.0833333 | Y2: =S22/24 -> 8.1458333 | Z2: =S23/24 -> 7.0833333 | AA2: =S24/24 -> 7.4375 | AB2: =S25/24 -> 8.1458333 | AC2: =S26/24 -> 7.0833333 | AD2: =S27/24 -> 6.1979167 | AE2: =SUM(S2:AD2) -> 87.21875
A3: Employé test2 | B3: 0.9 | C3: Campagne | D3: =IF(ISERROR(VLOOKUP(B3,Journalier,2,0)),"",VLOOKUP(B3,Journalier,2,0)) -> 0.31875 | E3: =IF(ISERROR(VLOOKUP(B3,Taux,2,0)),"",VLOOKUP(B3,Taux,2,0)) -> 6.69375 | F3: =IF(ISERROR(VLOOKUP(B3,Taux,3,0)),"",VLOOKUP(B3,Taux,3,0)) -> 6.375 | G3: =IF(ISERROR(VLOOKUP(B3,Taux,4,0)),"",VLOOKUP(B3,Taux,4,0)) -> 6.69375 | H3: =IF(ISERROR(VLOOKUP(B3,Taux,5,0)),"",VLOOKUP(B3,Taux,5,0)) -> 6.3375 | I3: =IF(ISERROR(VLOOKUP(B3,Taux,6,0)),"",VLOOKUP(B3,Taux,6,0)) -> 6.3375 | J3: =IF(ISERROR(VLOOKUP(B3,Taux,7,0)),"",VLOOKUP(B3,Taux,7,0)) -> 6.375 | K3: =IF(ISERROR(VLOOKUP(B3,Taux,8,0)),"",VLOOKUP(B3,Taux,8,0)) -> 7.33125 | L3: =IF(ISERROR(VLOOKUP(B3,Taux,9,0)),"",VLOOKUP(B3,Taux,9,0)) -> 6.375 | M3: =IF(ISERROR(VLOOKUP(B3,Taux,10,0)),"",VLOOKUP(B3,Taux,10,0)) -> 6.69375 | N3: =IF(ISERROR(VLOOKUP(B3,Taux,11,0)),"",VLOOKUP(B3,Taux,11,0)) -> 7.33125 | O3: =IF(ISERROR(VLOOKUP(B3,Taux,12,0)),"",VLOOKUP(B3,Taux,12,0)) -> 6.375 | P3: =IF(ISERROR(VLOOKUP(B3,Taux,13,0)),"",VLOOKUP(B3,Taux,13,0)) -> 5.578125 | R3: 0.9 | S3: =T16/24 -> 6.69375 | T3: =T17/24 -> 6.375 | U3: =T18/24 -> 6.69375 | V3: =T19/24 -> 6.3375 | W3: =T20/24 -> 6.3375 | X3: =T21/24 -> 6.375 | Y3: =T22/24 -> 7.33125 | Z3: =T23/24 -> 6.375 | AA3: =T24/24 -> 6.69375 | AB3: =T25/24 -> 7.33125 | AC3: =T26/24 -> 6.375 | AD3: =T27/24 -> 5.578125 | AE3: =SUM(S3:AD3) -> 78.496875
A4: Employé test3 | B4: 0.8 | C4: Terrain | D4: =IF(ISERROR(VLOOKUP(B4,Journalier,2,0)),"",VLOOKUP(B4,Journalier,2,0)) -> 0.28333333 | E4: =IF(ISERROR(VLOOKUP(B4,Taux,2,0)),"",VLOOKUP(B4,Taux,2,0)) -> 5.95 | F4: =IF(ISERROR(VLOOKUP(B4,Taux,3,0)),"",VLOOKUP(B4,Taux,3,0)) -> 5.6666667 | G4: =IF(ISERROR(VLOOKUP(B4,Taux,4,0)),"",VLOOKUP(B4,Taux,4,0)) -> 5.95 | H4: =IF(ISERROR(VLOOKUP(B4,Taux,5,0)),"",VLOOKUP(B4,Taux,5,0)) -> 5.6333333 | I4: =IF(ISERROR(VLOOKUP(B4,Taux,6,0)),"",VLOOKUP(B4,Taux,6,0)) -> 5.6333333 | J4: =IF(ISERROR(VLOOKUP(B4,Taux,7,0)),"",VLOOKUP(B4,Taux,7,0)) -> 5.6666667 | K4: =IF(ISERROR(VLOOKUP(B4,Taux,8,0)),"",VLOOKUP(B4,Taux,8,0)) -> 6.5166667 | L4: =IF(ISERROR(VLOOKUP(B4,Taux,9,0)),"",VLOOKUP(B4,Taux,9,0)) -> 5.6666667 | M4: =IF(ISERROR(VLOOKUP(B4,Taux,10,0)),"",VLOOKUP(B4,Taux,10,0)) -> 5.95 | N4: =IF(ISERROR(VLOOKUP(B4,Taux,11,0)),"",VLOOKUP(B4,Taux,11,0)) -> 6.5166667 | O4: =IF(ISERROR(VLOOKUP(B4,Taux,12,0)),"",VLOOKUP(B4,Taux,12,0)) -> 5.6666667 | P4: =IF(ISERROR(VLOOKUP(B4,Taux,13,0)),"",VLOOKUP(B4,Taux,13,0)) -> 4.9583333 | R4: 0.8 | S4: =U16/24 -> 5.95 | T4: =U17/24 -> 5.6666667 | U4: =U18/24 -> 5.95 | V4: =U19/24 -> 5.6333333 | W4: =U20/24 -> 5.6333333 | X4: =U21/24 -> 5.6666667 | Y4: =U22/24 -> 6.5166667 | Z4: =U23/24 -> 5.6666667 | AA4: =U24/24 -> 5.95 | AB4: =U25/24 -> 6.5166667 | AC4: =U26/24 -> 5.6666667 | AD4: =U27/24 -> 4.9583333 | AE4: =SUM(S4:AD4) -> 69.775
D5: =IF(ISERROR(VLOOKUP(B5,Journalier,2,0)),"",VLOOKUP(B5,Journalier,2,0)) | E5: =IF(ISERROR(VLOOKUP(B5,Taux,2,0)),"",VLOOKUP(B5,Taux,2,0)) | F5: =IF(ISERROR(VLOOKUP(B5,Taux,3,0)),"",VLOOKUP(B5,Taux,3,0)) | G5: =IF(ISERROR(VLOOKUP(B5,Taux,4,0)),"",VLOOKUP(B5,Taux,4,0)) | H5: =IF(ISERROR(VLOOKUP(B5,Taux,5,0)),"",VLOOKUP(B5,Taux,5,0)) | I5: =IF(ISERROR(VLOOKUP(B5,Taux,6,0)),"",VLOOKUP(B5,Taux,6,0)) | J5: =IF(ISERROR(VLOOKUP(B5,Taux,7,0)),"",VLOOKUP(B5,Taux,7,0)) | K5: =IF(ISERROR(VLOOKUP(B5,Taux,8,0)),"",VLOOKUP(B5,Taux,8,0)) | L5: =IF(ISERROR(VLOOKUP(B5,Taux,9,0)),"",VLOOKUP(B5,Taux,9,0)) | M5: =IF(ISERROR(VLOOKUP(B5,Taux,10,0)),"",VLOOKUP(B5,Taux,10,0)) | N5: =IF(ISERROR(VLOOKUP(B5,Taux,11,0)),"",VLOOKUP(B5,Taux,11,0)) | O5: =IF(ISERROR(VLOOKUP(B5,Taux,12,0)),"",VLOOKUP(B5,Taux,12,0)) | P5: =IF(ISERROR(VLOOKUP(B5,Taux,13,0)),"",VLOOKUP(B5,Taux,13,0)) | R5: 0.75 | S5: =V16/24 -> 5.578125 | T5: =V17/24 -> 5.3125 | U5: =V18/24 -> 5.578125 | V5: =V19/24 -> 5.28125 | W5: =V20/24 -> 5.28125 | X5: =V21/24 -> 5.3125 | Y5: =V22/24 -> 6.109375 | Z5: =V23/24 -> 5.3125 | AA5: =V24/24 -> 5.578125 | AB5: =V25/24 -> 6.109375 | AC5: =V26/24 -> 5.3125 | AD5: =V27/24 -> 4.6484375 | AE5: =SUM(S5:AD5) -> 65.414062
D6: =IF(ISERROR(VLOOKUP(B6,Journalier,2,0)),"",VLOOKUP(B6,Journalier,2,0)) | E6: =IF(ISERROR(VLOOKUP(B6,Taux,2,0)),"",VLOOKUP(B6,Taux,2,0)) | F6: =IF(ISERROR(VLOOKUP(B6,Taux,3,0)),"",VLOOKUP(B6,Taux,3,0)) | G6: =IF(ISERROR(VLOOKUP(B6,Taux,4,0)),"",VLOOKUP(B6,Taux,4,0)) | H6: =IF(ISERROR(VLOOKUP(B6,Taux,5,0)),"",VLOOKUP(B6,Taux,5,0)) | I6: =IF(ISERROR(VLOOKUP(B6,Taux,6,0)),"",VLOOKUP(B6,Taux,6,0)) | J6: =IF(ISERROR(VLOOKUP(B6,Taux,7,0)),"",VLOOKUP(B6,Taux,7,0)) | K6: =IF(ISERROR(VLOOKUP(B6,Taux,8,0)),"",VLOOKUP(B6,Taux,8,0)) | L6: =IF(ISERROR(VLOOKUP(B6,Taux,9,0)),"",VLOOKUP(B6,Taux,9,0)) | M6: =IF(ISERROR(VLOOKUP(B6,Taux,10,0)),"",VLOOKUP(B6,Taux,10,0)) | N6: =IF(ISERROR(VLOOKUP(B6,Taux,11,0)),"",VLOOKUP(B6,Taux,11,0)) | O6: =IF(ISERROR(VLOOKUP(B6,Taux,12,0)),"",VLOOKUP(B6,Taux,12,0)) | P6: =IF(ISERROR(VLOOKUP(B6,Taux,13,0)),"",VLOOKUP(B6,Taux,13,0)) | R6: 0.7 | S6: =W16/24 -> 5.20625 | T6: =W17/24 -> 4.9583333 | U6: =W18/24 -> 5.20625 | V6: =W19/24 -> 4.9291667 | W6: =W20/24 -> 4.9291667 | X6: =W21/24 -> 4.9583333 | Y6: =W22/24 -> 5.7020833 | Z6: =W23/24 -> 4.9583333 | AA6: =W24/24 -> 5.20625 | AB6: =W25/24 -> 5.7020833 | AC6: =W26/24 -> 4.9583333 | AD6: =W27/24 -> 4.3385417 | AE6: =SUM(S6:AD6) -> 61.053125
D7: =IF(ISERROR(VLOOKUP(B7,Journalier,2,0)),"",VLOOKUP(B7,Journalier,2,0)) | E7: =IF(ISERROR(VLOOKUP(B7,Taux,2,0)),"",VLOOKUP(B7,Taux,2,0)) | F7: =IF(ISERROR(VLOOKUP(B7,Taux,3,0)),"",VLOOKUP(B7,Taux,3,0)) | G7: =IF(ISERROR(VLOOKUP(B7,Taux,4,0)),"",VLOOKUP(B7,Taux,4,0)) | H7: =IF(ISERROR(VLOOKUP(B7,Taux,5,0)),"",VLOOKUP(B7,Taux,5,0)) | I7: =IF(ISERROR(VLOOKUP(B7,Taux,6,0)),"",VLOOKUP(B7,Taux,6,0)) | J7: =IF(ISERROR(VLOOKUP(B7,Taux,7,0)),"",VLOOKUP(B7,Taux,7,0)) | K7: =IF(ISERROR(VLOOKUP(B7,Taux,8,0)),"",VLOOKUP(B7,Taux,8,0)) | L7: =IF(ISERROR(VLOOKUP(B7,Taux,9,0)),"",VLOOKUP(B7,Taux,9,0)) | M7: =IF(ISERROR(VLOOKUP(B7,Taux,10,0)),"",VLOOKUP(B7,Taux,10,0)) | N7: =IF(ISERROR(VLOOKUP(B7,Taux,11,0)),"",VLOOKUP(B7,Taux,11,0)) | O7: =IF(ISERROR(VLOOKUP(B7,Taux,12,0)),"",VLOOKUP(B7,Taux,12,0)) | P7: =IF(ISERROR(VLOOKUP(B7,Taux,13,0)),"",VLOOKUP(B7,Taux,13,0)) | R7: 0.6 | S7: =X16/24 -> 4.4625 | T7: =X17/24 -> 4.25 | U7: =X18/24 -> 4.4625 | V7: =X19/24 -> 4.225 | W7: =X20/24 -> 4.225 | X7: =X21/24 -> 4.25 | Y7: =X22/24 -> 4.8875 | Z7: =X23/24 -> 4.25 | AA7: =X24/24 -> 4.4625 | AB7: =X25/24 -> 4.8875 | AC7: =X26/24 -> 4.25 | AD7: =X27/24 -> 3.71875 | AE7: =SUM(S7:AD7) -> 52.33125
D8: =IF(ISERROR(VLOOKUP(B8,Journalier,2,0)),"",VLOOKUP(B8,Journalier,2,0)) | E8: =IF(ISERROR(VLOOKUP(B8,Taux,2,0)),"",VLOOKUP(B8,Taux,2,0)) | F8: =IF(ISERROR(VLOOKUP(B8,Taux,3,0)),"",VLOOKUP(B8,Taux,3,0)) | G8: =IF(ISERROR(VLOOKUP(B8,Taux,4,0)),"",VLOOKUP(B8,Taux,4,0)) | H8: =IF(ISERROR(VLOOKUP(B8,Taux,5,0)),"",VLOOKUP(B8,Taux,5,0)) | I8: =IF(ISERROR(VLOOKUP(B8,Taux,6,0)),"",VLOOKUP(B8,Taux,6,0)) | J8: =IF(ISERROR(VLOOKUP(B8,Taux,7,0)),"",VLOOKUP(B8,Taux,7,0)) | K8: =IF(ISERROR(VLOOKUP(B8,Taux,8,0)),"",VLOOKUP(B8,Taux,8,0)) | L8: =IF(ISERROR(VLOOKUP(B8,Taux,9,0)),"",VLOOKUP(B8,Taux,9,0)) | M8: =IF(ISERROR(VLOOKUP(B8,Taux,10,0)),"",VLOOKUP(B8,Taux,10,0)) | N8: =IF(ISERROR(VLOOKUP(B8,Taux,11,0)),"",VLOOKUP(B8,Taux,11,0)) | O8: =IF(ISERROR(VLOOKUP(B8,Taux,12,0)),"",VLOOKUP(B8,Taux,12,0)) | P8: =IF(ISERROR(VLOOKUP(B8,Taux,13,0)),"",VLOOKUP(B8,Taux,13,0)) | R8: 0.5 | S8: =Y16/24 -> 3.71875 | T8: =Y17/24 -> 3.5416667 | U8: =Y18/24 -> 3.71875 | V8: =Y19/24 -> 3.5208333 | W8: =Y20/24 -> 3.5208333 | X8: =Y21/24 -> 3.5416667 | Y8: =Y22/24 -> 4.0729167 | Z8: =Y23/24 -> 3.5416667 | AA8: =Y24/24 -> 3.71875 | AB8: =Y25/24 -> 4.0729167 | AC8: =Y26/24 -> 3.5416667 | AD8: =Y27/24 -> 3.0989583 | AE8: =SUM(S8:AD8) -> 43.609375
D9: =IF(ISERROR(VLOOKUP(B9,Journalier,2,0)),"",VLOOKUP(B9,Journalier,2,0)) | E9: =IF(ISERROR(VLOOKUP(B9,Taux,2,0)),"",VLOOKUP(B9,Taux,2,0)) | F9: =IF(ISERROR(VLOOKUP(B9,Taux,3,0)),"",VLOOKUP(B9,Taux,3,0)) | G9: =IF(ISERROR(VLOOKUP(B9,Taux,4,0)),"",VLOOKUP(B9,Taux,4,0)) | H9: =IF(ISERROR(VLOOKUP(B9,Taux,5,0)),"",VLOOKUP(B9,Taux,5,0)) | I9: =IF(ISERROR(VLOOKUP(B9,Taux,6,0)),"",VLOOKUP(B9,Taux,6,0)) | J9: =IF(ISERROR(VLOOKUP(B9,Taux,7,0)),"",VLOOKUP(B9,Taux,7,0)) | K9: =IF(ISERROR(VLOOKUP(B9,Taux,8,0)),"",VLOOKUP(B9,Taux,8,0)) | L9: =IF(ISERROR(VLOOKUP(B9,Taux,9,0)),"",VLOOKUP(B9,Taux,9,0)) | M9: =IF(ISERROR(VLOOKUP(B9,Taux,10,0)),"",VLOOKUP(B9,Taux,10,0)) | N9: =IF(ISERROR(VLOOKUP(B9,Taux,11,0)),"",VLOOKUP(B9,Taux,11,0)) | O9: =IF(ISERROR(VLOOKUP(B9,Taux,12,0)),"",VLOOKUP(B9,Taux,12,0)) | P9: =IF(ISERROR(VLOOKUP(B9,Taux,13,0)),"",VLOOKUP(B9,Taux,13,0)) | R9: 0.4 | S9: =Z16/24 -> 2.975 | T9: =Z17/24 -> 2.8333333 | U9: =Z18/24 -> 2.975 | V9: =Z19/24 -> 2.8166667 | W9: =Z20/24 -> 2.8166667 | X9: =Z21/24 -> 2.8333333 | Y9: =Z22/24 -> 3.2583333 | Z9: =Z23/24 -> 2.8333333 | AA9: =Z24/24 -> 2.975 | AB9: =Z25/24 -> 3.2583333 | AC9: =Z26/24 -> 2.8333333 | AD9: =Z27/24 -> 2.4791667 | AE9: =SUM(S9:AD9) -> 34.8875
D10: =IF(ISERROR(VLOOKUP(B10,Journalier,2,0)),"",VLOOKUP(B10,Journalier,2,0)) | E10: =IF(ISERROR(VLOOKUP(B10,Taux,2,0)),"",VLOOKUP(B10,Taux,2,0)) | F10: =IF(ISERROR(VLOOKUP(B10,Taux,3,0)),"",VLOOKUP(B10,Taux,3,0)) | G10: =IF(ISERROR(VLOOKUP(B10,Taux,4,0)),"",VLOOKUP(B10,Taux,4,0)) | H10: =IF(ISERROR(VLOOKUP(B10,Taux,5,0)),"",VLOOKUP(B10,Taux,5,0)) | I10: =IF(ISERROR(VLOOKUP(B10,Taux,6,0)),"",VLOOKUP(B10,Taux,6,0)) | J10: =IF(ISERROR(VLOOKUP(B10,Taux,7,0)),"",VLOOKUP(B10,Taux,7,0)) | K10: =IF(ISERROR(VLOOKUP(B10,Taux,8,0)),"",VLOOKUP(B10,Taux,8,0)) | L10: =IF(ISERROR(VLOOKUP(B10,Taux,9,0)),"",VLOOKUP(B10,Taux,9,0)) | M10: =IF(ISERROR(VLOOKUP(B10,Taux,10,0)),"",VLOOKUP(B10,Taux,10,0)) | N10: =IF(ISERROR(VLOOKUP(B10,Taux,11,0)),"",VLOOKUP(B10,Taux,11,0)) | O10: =IF(ISERROR(VLOOKUP(B10,Taux,12,0)),"",VLOOKUP(B10,Taux,12,0)) | P10: =IF(ISERROR(VLOOKUP(B10,Taux,13,0)),"",VLOOKUP(B10,Taux,13,0)) | R10: 0.3 | S10: =AA16/24 -> 2.23125 | T10: =AA17/24 -> 2.125 | U10: =AA18/24 -> 2.23125 | V10: =AA19/24 -> 2.1125 | W10: =AA20/24 -> 2.1125 | X10: =AA21/24 -> 2.125 | Y10: =AA22/24 -> 2.44375 | Z10: =AA23/24 -> 2.125 | AA10: =AA24/24 -> 2.23125 | AB10: =AA25/24 -> 2.44375 | AC10: =AA26/42 -> 1.2142857 | AD10: =AA27/24 -> 1.859375 | AE10: =SUM(S10:AD10) -> 25.254911
D11: =IF(ISERROR(VLOOKUP(B11,Journalier,2,0)),"",VLOOKUP(B11,Journalier,2,0)) | E11: =IF(ISERROR(VLOOKUP(B11,Taux,2,0)),"",VLOOKUP(B11,Taux,2,0)) | F11: =IF(ISERROR(VLOOKUP(B11,Taux,3,0)),"",VLOOKUP(B11,Taux,3,0)) | G11: =IF(ISERROR(VLOOKUP(B11,Taux,4,0)),"",VLOOKUP(B11,Taux,4,0)) | H11: =IF(ISERROR(VLOOKUP(B11,Taux,5,0)),"",VLOOKUP(B11,Taux,5,0)) | I11: =IF(ISERROR(VLOOKUP(B11,Taux,6,0)),"",VLOOKUP(B11,Taux,6,0)) | J11: =IF(ISERROR(VLOOKUP(B11,Taux,7,0)),"",VLOOKUP(B11,Taux,7,0)) | K11: =IF(ISERROR(VLOOKUP(B11,Taux,8,0)),"",VLOOKUP(B11,Taux,8,0)) | L11: =IF(ISERROR(VLOOKUP(B11,Taux,9,0)),"",VLOOKUP(B11,Taux,9,0)) | M11: =IF(ISERROR(VLOOKUP(B11,Taux,10,0)),"",VLOOKUP(B11,Taux,10,0)) | N11: =IF(ISERROR(VLOOKUP(B11,Taux,11,0)),"",VLOOKUP(B11,Taux,11,0)) | O11: =IF(ISERROR(VLOOKUP(B11,Taux,12,0)),"",VLOOKUP(B11,Taux,12,0)) | P11: =IF(ISERROR(VLOOKUP(B11,Taux,13,0)),"",VLOOKUP(B11,Taux,13,0)) | R11: 0.25 | S11: =AB16/24 -> 1.859375 | T11: =AB17/24 -> 1.7708333 | U11: =AB18/24 -> 1.859375 | V11: =AB19/24 -> 1.7604167 | W11: =AB20/24 -> 1.7604167 | X11: =AB21/24 -> 1.7708333 | Y11: =AB22/24 -> 2.0364583 | Z11: =AB23/24 -> 1.7708333 | AA11: =AB24/24 -> 1.859375 | AB11: =AB25/24 -> 2.0364583 | AC11: =AB26/24 -> 1.7708333 | AD11: =AB27/24 -> 1.5494792 | AE11: =SUM(S11:AD11) -> 21.804688
D12: =IF(ISERROR(VLOOKUP(B12,Journalier,2,0)),"",VLOOKUP(B12,Journalier,2,0)) | E12: =IF(ISERROR(VLOOKUP(B12,Taux,2,0)),"",VLOOKUP(B12,Taux,2,0)) | F12: =IF(ISERROR(VLOOKUP(B12,Taux,3,0)),"",VLOOKUP(B12,Taux,3,0)) | G12: =IF(ISERROR(VLOOKUP(B12,Taux,4,0)),"",VLOOKUP(B12,Taux,4,0)) | H12: =IF(ISERROR(VLOOKUP(B12,Taux,5,0)),"",VLOOKUP(B12,Taux,5,0)) | I12: =IF(ISERROR(VLOOKUP(B12,Taux,6,0)),"",VLOOKUP(B12,Taux,6,0)) | J12: =IF(ISERROR(VLOOKUP(B12,Taux,7,0)),"",VLOOKUP(B12,Taux,7,0)) | K12: =IF(ISERROR(VLOOKUP(B12,Taux,8,0)),"",VLOOKUP(B12,Taux,8,0)) | L12: =IF(ISERROR(VLOOKUP(B12,Taux,9,0)),"",VLOOKUP(B12,Taux,9,0)) | M12: =IF(ISERROR(VLOOKUP(B12,Taux,10,0)),"",VLOOKUP(B12,Taux,10,0)) | N12: =IF(ISERROR(VLOOKUP(B12,Taux,11,0)),"",VLOOKUP(B12,Taux,11,0)) | O12: =IF(ISERROR(VLOOKUP(B12,Taux,12,0)),"",VLOOKUP(B12,Taux,12,0)) | P12: =IF(ISERROR(VLOOKUP(B12,Taux,13,0)),"",VLOOKUP(B12,Taux,13,0)) | R12: 0.2 | S12: =AC16/24 -> 1.4875 | T12: =AC17/24 -> 1.4166667 | U12: =AC18/24 -> 1.4875 | V12: =AC19/24 -> 1.4083333 | W12: =AC20/24 -> 1.4083333 | X12: =AC21/24 -> 1.4166667 | Y12: =AC22/24 -> 1.6291667 | Z12: =AC23/24 -> 1.4166667 | AA12: =AC24/24 -> 1.4875 | AB12: =AC25/24 -> 1.6291667 | AC12: =AC26/24 -> 1.4166667 | AD12: =AC27/24 -> 1.2395833 | AE12: =SUM(S12:AD12) -> 17.44375
D13: =IF(ISERROR(VLOOKUP(B13,Journalier,2,0)),"",VLOOKUP(B13,Journalier,2,0)) | E13: =IF(ISERROR(VLOOKUP(B13,Taux,2,0)),"",VLOOKUP(B13,Taux,2,0)) | F13: =IF(ISERROR(VLOOKUP(B13,Taux,3,0)),"",VLOOKUP(B13,Taux,3,0)) | G13: =IF(ISERROR(VLOOKUP(B13,Taux,4,0)),"",VLOOKUP(B13,Taux,4,0)) | H13: =IF(ISERROR(VLOOKUP(B13,Taux,5,0)),"",VLOOKUP(B13,Taux,5,0)) | I13: =IF(ISERROR(VLOOKUP(B13,Taux,6,0)),"",VLOOKUP(B13,Taux,6,0)) | J13: =IF(ISERROR(VLOOKUP(B13,Taux,7,0)),"",VLOOKUP(B13,Taux,7,0)) | K13: =IF(ISERROR(VLOOKUP(B13,Taux,8,0)),"",VLOOKUP(B13,Taux,8,0)) | L13: =IF(ISERROR(VLOOKUP(B13,Taux,9,0)),"",VLOOKUP(B13,Taux,9,0)) | M13: =IF(ISERROR(VLOOKUP(B13,Taux,10,0)),"",VLOOKUP(B13,Taux,10,0)) | N13: =IF(ISERROR(VLOOKUP(B13,Taux,11,0)),"",VLOOKUP(B13,Taux,11,0)) | O13: =IF(ISERROR(VLOOKUP(B13,Taux,12,0)),"",VLOOKUP(B13,Taux,12,0)) | P13: =IF(ISERROR(VLOOKUP(B13,Taux,13,0)),"",VLOOKUP(B13,Taux,13,0)) | R13: 0.1 | S13: =AD16/24 -> 0.74375 | T13: =AD17/24 -> 0.70833333 | U13: =AD18/24 -> 0.74375 | V13: =AD19/24 -> 0.70416667 | W13: =AD20/24 -> 0.70416667 | X13: =AD21/24 -> 0.70833333 | Y13: =AD22/24 -> 0.81458333 | Z13: =AD23/24 -> 0.70833333 | AA13: =AD24/24 -> 0.74375 | AB13: =AD25/24 -> 0.81458333 | AC13: =AD26/24 -> 0.70833333 | AD13: =AD27/24 -> 0.61979167 | AE13: =SUM(S13:AD13) -> 8.721875
D14: =IF(ISERROR(VLOOKUP(B14,Journalier,2,0)),"",VLOOKUP(B14,Journalier,2,0)) | E14: =IF(ISERROR(VLOOKUP(B14,Taux,2,0)),"",VLOOKUP(B14,Taux,2,0)) | F14: =IF(ISERROR(VLOOKUP(B14,Taux,3,0)),"",VLOOKUP(B14,Taux,3,0)) | G14: =IF(ISERROR(VLOOKUP(B14,Taux,4,0)),"",VLOOKUP(B14,Taux,4,0)) | H14: =IF(ISERROR(VLOOKUP(B14,Taux,5,0)),"",VLOOKUP(B14,Taux,5,0)) | I14: =IF(ISERROR(VLOOKUP(B14,Taux,6,0)),"",VLOOKUP(B14,Taux,6,0)) | J14: =IF(ISERROR(VLOOKUP(B14,Taux,7,0)),"",VLOOKUP(B14,Taux,7,0)) | K14: =IF(ISERROR(VLOOKUP(B14,Taux,8,0)),"",VLOOKUP(B14,Taux,8,0)) | L14: =IF(ISERROR(VLOOKUP(B14,Taux,9,0)),"",VLOOKUP(B14,Taux,9,0)) | M14: =IF(ISERROR(VLOOKUP(B14,Taux,10,0)),"",VLOOKUP(B14,Taux,10,0)) | N14: =IF(ISERROR(VLOOKUP(B14,Taux,11,0)),"",VLOOKUP(B14,Taux,11,0)) | O14: =IF(ISERROR(VLOOKUP(B14,Taux,12,0)),"",VLOOKUP(B14,Taux,12,0)) | P14: =IF(ISERROR(VLOOKUP(B14,Taux,13,0)),"",VLOOKUP(B14,Taux,13,0))
D15: =IF(ISERROR(VLOOKUP(B15,Journalier,2,0)),"",VLOOKUP(B15,Journalier,2,0)) | E15: =IF(ISERROR(VLOOKUP(B15,Taux,2,0)),"",VLOOKUP(B15,Taux,2,0)) | F15: =IF(ISERROR(VLOOKUP(B15,Taux,3,0)),"",VLOOKUP(B15,Taux,3,0)) | G15: =IF(ISERROR(VLOOKUP(B15,Taux,4,0)),"",VLOOKUP(B15,Taux,4,0)) | H15: =IF(ISERROR(VLOOKUP(B15,Taux,5,0)),"",VLOOKUP(B15,Taux,5,0)) | I15: =IF(ISERROR(VLOOKUP(B15,Taux,6,0)),"",VLOOKUP(B15,Taux,6,0)) | J15: =IF(ISERROR(VLOOKUP(B15,Taux,7,0)),"",VLOOKUP(B15,Taux,7,0)) | K15: =IF(ISERROR(VLOOKUP(B15,Taux,8,0)),"",VLOOKUP(B15,Taux,8,0)) | L15: =IF(ISERROR(VLOOKUP(B15,Taux,9,0)),"",VLOOKUP(B15,Taux,9,0)) | M15: =IF(ISERROR(VLOOKUP(B15,Taux,10,0)),"",VLOOKUP(B15,Taux,10,0)) | N15: =IF(ISERROR(VLOOKUP(B15,Taux,11,0)),"",VLOOKUP(B15,Taux,11,0)) | O15: =IF(ISERROR(VLOOKUP(B15,Taux,12,0)),"",VLOOKUP(B15,Taux,12,0)) | P15: =IF(ISERROR(VLOOKUP(B15,Taux,13,0)),"",VLOOKUP(B15,Taux,13,0)) | R15: 2014 | S15: 1 | T15: 0.9 | U15: 0.8 | V15: 0.75 | W15: 0.7 | X15: 0.6 | Y15: 0.5 | Z15: 0.4 | AA15: 0.3 | AB15: 0.25 | AC15: 0.2 | AD15: 0.1 | AE15: Jours | AF15: Hre
D16: =IF(ISERROR(VLOOKUP(B16,Journalier,2,0)),"",VLOOKUP(B16,Journalier,2,0)) | E16: =IF(ISERROR(VLOOKUP(B16,Taux,2,0)),"",VLOOKUP(B16,Taux,2,0)) | F16: =IF(ISERROR(VLOOKUP(B16,Taux,3,0)),"",VLOOKUP(B16,Taux,3,0)) | G16: =IF(ISERROR(VLOOKUP(B16,Taux,4,0)),"",VLOOKUP(B16,Taux,4,0)) | H16: =IF(ISERROR(VLOOKUP(B16,Taux,5,0)),"",VLOOKUP(B16,Taux,5,0)) | I16: =IF(ISERROR(VLOOKUP(B16,Taux,6,0)),"",VLOOKUP(B16,Taux,6,0)) | J16: =IF(ISERROR(VLOOKUP(B16,Taux,7,0)),"",VLOOKUP(B16,Taux,7,0)) | K16: =IF(ISERROR(VLOOKUP(B16,Taux,8,0)),"",VLOOKUP(B16,Taux,8,0)) | L16: =IF(ISERROR(VLOOKUP(B16,Taux,9,0)),"",VLOOKUP(B16,Taux,9,0)) | M16: =IF(ISERROR(VLOOKUP(B16,Taux,10,0)),"",VLOOKUP(B16,Taux,10,0)) | N16: =IF(ISERROR(VLOOKUP(B16,Taux,11,0)),"",VLOOKUP(B16,Taux,11,0)) | O16: =IF(ISERROR(VLOOKUP(B16,Taux,12,0)),"",VLOOKUP(B16,Taux,12,0)) | P16: =IF(ISERROR(VLOOKUP(B16,Taux,13,0)),"",VLOOKUP(B16,Taux,13,0)) | R16: Janvier | S16: =($U$45*AE16)-(AF16*S15) -> 178.5 | T16: =($U$46*AE16)-(AF16*T15) -> 160.65 | U16: =($U$47*AE16)-(AF16*U15) -> 142.8 | V16: =($U$48*AE16)-(AF16*V15) -> 133.875 | W16: =($U$49*AE16)-(AF16*W15) -> 124.95 | X16: =($U$50*AE16)-(AF16*X15) -> 107.1 | Y16: =($U$51*AE16)-(AF16*Y15) -> 89.25 | Z16: =($U$52*AE16)-(AF16*Z15) -> 71.4 | AA16: =($U$53*AE16)-(AF16*AA15) -> 53.55 | AB16: =($U$54*AE16)-(AF16*AB15) -> 44.625 | AC16: =($U$55*AE16)-(AF16*AC15) -> 35.7 | AD16: =($U$56*AE16)-(AF16*AD15) -> 17.85 | AE16: 21
D17: =IF(ISERROR(VLOOKUP(B17,Journalier,2,0)),"",VLOOKUP(B17,Journalier,2,0)) | E17: =IF(ISERROR(VLOOKUP(B17,Taux,2,0)),"",VLOOKUP(B17,Taux,2,0)) | F17: =IF(ISERROR(VLOOKUP(B17,Taux,3,0)),"",VLOOKUP(B17,Taux,3,0)) | G17: =IF(ISERROR(VLOOKUP(B17,Taux,4,0)),"",VLOOKUP(B17,Taux,4,0)) | H17: =IF(ISERROR(VLOOKUP(B17,Taux,5,0)),"",VLOOKUP(B17,Taux,5,0)) | I17: =IF(ISERROR(VLOOKUP(B17,Taux,6,0)),"",VLOOKUP(B17,Taux,6,0)) | J17: =IF(ISERROR(VLOOKUP(B17,Taux,7,0)),"",VLOOKUP(B17,Taux,7,0)) | K17: =IF(ISERROR(VLOOKUP(B17,Taux,8,0)),"",VLOOKUP(B17,Taux,8,0)) | L17: =IF(ISERROR(VLOOKUP(B17,Taux,9,0)),"",VLOOKUP(B17,Taux,9,0)) | M17: =IF(ISERROR(VLOOKUP(B17,Taux,10,0)),"",VLOOKUP(B17,Taux,10,0)) | N17: =IF(ISERROR(VLOOKUP(B17,Taux,11,0)),"",VLOOKUP(B17,Taux,11,0)) | O17: =IF(ISERROR(VLOOKUP(B17,Taux,12,0)),"",VLOOKUP(B17,Taux,12,0)) | P17: =IF(ISERROR(VLOOKUP(B17,Taux,13,0)),"",VLOOKUP(B17,Taux,13,0)) | R17: Février | S17: =($U$45*AE17)-(AF17*S15) -> 170 | T17: =($U$46*AE17)-(AF17*T15) -> 153 | U17: =($U$47*AE17)-(AF17*U15) -> 136 | V17: =($U$48*AE17)-(AF17*V15) -> 127.5 | W17: =($U$49*AE17)-(AF17*W15) -> 119 | X17: =($U$50*AE17)-(AF17*X15) -> 102 | Y17: =($U$51*AE17)-(AF17*Y15) -> 85 | Z17: =($U$52*AE17)-(AF17*Z15) -> 68 | AA17: =($U$53*AE17)-(AF17*AA15) -> 51 | AB17: =($U$54*AE17)-(AF17*AB15) -> 42.5 | AC17: =($U$55*AE17)-(AF17*AC15) -> 34 | AD17: =($U$56*AE17)-(AF17*AD15) -> 17 | AE17: 20
D18: =IF(ISERROR(VLOOKUP(B18,Journalier,2,0)),"",VLOOKUP(B18,Journalier,2,0)) | E18: =IF(ISERROR(VLOOKUP(B18,Taux,2,0)),"",VLOOKUP(B18,Taux,2,0)) | F18: =IF(ISERROR(VLOOKUP(B18,Taux,3,0)),"",VLOOKUP(B18,Taux,3,0)) | G18: =IF(ISERROR(VLOOKUP(B18,Taux,4,0)),"",VLOOKUP(B18,Taux,4,0)) | H18: =IF(ISERROR(VLOOKUP(B18,Taux,5,0)),"",VLOOKUP(B18,Taux,5,0)) | I18: =IF(ISERROR(VLOOKUP(B18,Taux,6,0)),"",VLOOKUP(B18,Taux,6,0)) | J18: =IF(ISERROR(VLOOKUP(B18,Taux,7,0)),"",VLOOKUP(B18,Taux,7,0)) | K18: =IF(ISERROR(VLOOKUP(B18,Taux,8,0)),"",VLOOKUP(B18,Taux,8,0)) | L18: =IF(ISERROR(VLOOKUP(B18,Taux,9,0)),"",VLOOKUP(B18,Taux,9,0)) | M18: =IF(ISERROR(VLOOKUP(B18,Taux,10,0)),"",VLOOKUP(B18,Taux,10,0)) | N18: =IF(ISERROR(VLOOKUP(B18,Taux,11,0)),"",VLOOKUP(B18,Taux,11,0)) | O18: =IF(ISERROR(VLOOKUP(B18,Taux,12,0)),"",VLOOKUP(B18,Taux,12,0)) | P18: =IF(ISERROR(VLOOKUP(B18,Taux,13,0)),"",VLOOKUP(B18,Taux,13,0)) | R18: Mars | S18: =($U$45*AE18)-(AF18*S15) -> 178.5 | T18: =($U$46*AE18)-(AF18*T15) -> 160.65 | U18: =($U$47*AE18)-(AF18*U15) -> 142.8 | V18: =($U$48*AE18)-(AF18*V15) -> 133.875 | W18: =($U$49*AE18)-(AF18*W15) -> 124.95 | X18: =($U$50*AE18)-(AF18*X15) -> 107.1 | Y18: =($U$51*AE18)-(AF18*Y15) -> 89.25 | Z18: =($U$52*AE18)-(AF18*Z15) -> 71.4 | AA18: =($U$53*AE18)-(AF18*AA15) -> 53.55 | AB18: =($U$54*AE18)-(AF18*AB15) -> 44.625 | AC18: =($U$55*AE18)-(AF18*AC15) -> 35.7 | AD18: =($U$56*AE18)-(AF18*AD15) -> 17.85 | AE18: 21
D19: =IF(ISERROR(VLOOKUP(B19,Journalier,2,0)),"",VLOOKUP(B19,Journalier,2,0)) | E19: =IF(ISERROR(VLOOKUP(B19,Taux,2,0)),"",VLOOKUP(B19,Taux,2,0)) | F19: =IF(ISERROR(VLOOKUP(B19,Taux,3,0)),"",VLOOKUP(B19,Taux,3,0)) | G19: =IF(ISERROR(VLOOKUP(B19,Taux,4,0)),"",VLOOKUP(B19,Taux,4,0)) | H19: =IF(ISERROR(VLOOKUP(B19,Taux,5,0)),"",VLOOKUP(B19,Taux,5,0)) | I19: =IF(ISERROR(VLOOKUP(B19,Taux,6,0)),"",VLOOKUP(B19,Taux,6,0)) | J19: =IF(ISERROR(VLOOKUP(B19,Taux,7,0)),"",VLOOKUP(B19,Taux,7,0)) | K19: =IF(ISERROR(VLOOKUP(B19,Taux,8,0)),"",VLOOKUP(B19,Taux,8,0)) | L19: =IF(ISERROR(VLOOKUP(B19,Taux,9,0)),"",VLOOKUP(B19,Taux,9,0)) | M19: =IF(ISERROR(VLOOKUP(B19,Taux,10,0)),"",VLOOKUP(B19,Taux,10,0)) | N19: =IF(ISERROR(VLOOKUP(B19,Taux,11,0)),"",VLOOKUP(B19,Taux,11,0)) | O19: =IF(ISERROR(VLOOKUP(B19,Taux,12,0)),"",VLOOKUP(B19,Taux,12,0)) | P19: =IF(ISERROR(VLOOKUP(B19,Taux,13,0)),"",VLOOKUP(B19,Taux,13,0)) | R19: Avril | S19: =($U$45*AE19)-(AF19*S15) -> 169 | T19: =($U$46*AE19)-(AF19*T15) -> 152.1 | U19: =($U$47*AE19)-(AF19*U15) -> 135.2 | V19: =($U$48*AE19)-(AF19*V15) -> 126.75 | W19: =($U$49*AE19)-(AF19*W15) -> 118.3 | X19: =($U$50*AE19)-(AF19*X15) -> 101.4 | Y19: =($U$51*AE19)-(AF19*Y15) -> 84.5 | Z19: =($U$52*AE19)-(AF19*Z15) -> 67.6 | AA19: =($U$53*AE19)-(AF19*AA15) -> 50.7 | AB19: =($U$54*AE19)-(AF19*AB15) -> 42.25 | AC19: =($U$55*AE19)-(AF19*AC15) -> 33.8 | AD19: =($U$56*AE19)-(AF19*AD15) -> 16.9 | AE19: 20 | AF19: 1
D20: =IF(ISERROR(VLOOKUP(B20,Journalier,2,0)),"",VLOOKUP(B20,Journalier,2,0)) | E20: =IF(ISERROR(VLOOKUP(B20,Taux,2,0)),"",VLOOKUP(B20,Taux,2,0)) | F20: =IF(ISERROR(VLOOKUP(B20,Taux,3,0)),"",VLOOKUP(B20,Taux,3,0)) | G20: =IF(ISERROR(VLOOKUP(B20,Taux,4,0)),"",VLOOKUP(B20,Taux,4,0)) | H20: =IF(ISERROR(VLOOKUP(B20,Taux,5,0)),"",VLOOKUP(B20,Taux,5,0)) | I20: =IF(ISERROR(VLOOKUP(B20,Taux,6,0)),"",VLOOKUP(B20,Taux,6,0)) | J20: =IF(ISERROR(VLOOKUP(B20,Taux,7,0)),"",VLOOKUP(B20,Taux,7,0)) | K20: =IF(ISERROR(VLOOKUP(B20,Taux,8,0)),"",VLOOKUP(B20,Taux,8,0)) | L20: =IF(ISERROR(VLOOKUP(B20,Taux,9,0)),"",VLOOKUP(B20,Taux,9,0)) | M20: =IF(ISERROR(VLOOKUP(B20,Taux,10,0)),"",VLOOKUP(B20,Taux,10,0)) | N20: =IF(ISERROR(VLOOKUP(B20,Taux,11,0)),"",VLOOKUP(B20,Taux,11,0)) | O20: =IF(ISERROR(VLOOKUP(B20,Taux,12,0)),"",VLOOKUP(B20,Taux,12,0)) | P20: =IF(ISERROR(VLOOKUP(B20,Taux,13,0)),"",VLOOKUP(B20,Taux,13,0)) | R20: Mai | S20: =($U$45*AE20)-(AF20*$S$15) -> 169 | T20: =($U$46*AE20)-(AF20*$T$15) -> 152.1 | U20: =($U$47*AE20)-(AF20*$U$15) -> 135.2 | V20: =($U$48*AE20)-(AF20*$V$15) -> 126.75 | W20: =($U$49*AE20)-(AF20*$W$15) -> 118.3 | X20: =($U$50*AE20)-(AF20*$X$15) -> 101.4 | Y20: =($U$51*AE20)-(AF20*$Y$15) -> 84.5 | Z20: =($U$52*AE20)-(AF20*$Z$15) -> 67.6 | AA20: =($U$53*AE20)-(AF20*$AA$15) -> 50.7 | AB20: =($U$54*AE20)-(AF20*$AB$15) -> 42.25 | AC20: =($U$55*AE20)-(AF20*$AC$15) -> 33.8 | AD20: =($U$56*AE20)-(AF20*$AD$15) -> 16.9 | AE20: 20 | AF20: 1
D21: =IF(ISERROR(VLOOKUP(B21,Journalier,2,0)),"",VLOOKUP(B21,Journalier,2,0)) | E21: =IF(ISERROR(VLOOKUP(B21,Taux,2,0)),"",VLOOKUP(B21,Taux,2,0)) | F21: =IF(ISERROR(VLOOKUP(B21,Taux,3,0)),"",VLOOKUP(B21,Taux,3,0)) | G21: =IF(ISERROR(VLOOKUP(B21,Taux,4,0)),"",VLOOKUP(B21,Taux,4,0)) | H21: =IF(ISERROR(VLOOKUP(B21,Taux,5,0)),"",VLOOKUP(B21,Taux,5,0)) | I21: =IF(ISERROR(VLOOKUP(B21,Taux,6,0)),"",VLOOKUP(B21,Taux,6,0)) | J21: =IF(ISERROR(VLOOKUP(B21,Taux,7,0)),"",VLOOKUP(B21,Taux,7,0)) | K21: =IF(ISERROR(VLOOKUP(B21,Taux,8,0)),"",VLOOKUP(B21,Taux,8,0)) | L21: =IF(ISERROR(VLOOKUP(B21,Taux,9,0)),"",VLOOKUP(B21,Taux,9,0)) | M21: =IF(ISERROR(VLOOKUP(B21,Taux,10,0)),"",VLOOKUP(B21,Taux,10,0)) | N21: =IF(ISERROR(VLOOKUP(B21,Taux,11,0)),"",VLOOKUP(B21,Taux,11,0)) | O21: =IF(ISERROR(VLOOKUP(B21,Taux,12,0)),"",VLOOKUP(B21,Taux,12,0)) | P21: =IF(ISERROR(VLOOKUP(B21,Taux,13,0)),"",VLOOKUP(B21,Taux,13,0)) | R21: Juin | S21: =($U$45*AE21)-(AF21*$S$15) -> 170 | T21: =($U$46*AE21)-(AF21*$T$15) -> 153 | U21: =($U$47*AE21)-(AF21*$U$15) -> 136 | V21: =($U$48*AE21)-(AF21*$V$15) -> 127.5 | W21: =($U$49*AE21)-(AF21*$W$15) -> 119 | X21: =($U$50*AE21)-(AF21*$X$15) -> 102 | Y21: =($U$51*AE21)-(AF21*$Y$15) -> 85 | Z21: =($U$52*AE21)-(AF21*$Z$15) -> 68 | AA21: =($U$53*AE21)-(AF21*$AA$15) -> 51 | AB21: =($U$54*AE21)-(AF21*$AB$15) -> 42.5 | AC21: =($U$55*AE21)-(AF21*$AC$15) -> 34 | AD21: =($U$56*AE21)-(AF21*$AD$15) -> 17 | AE21: 20
D22: =IF(ISERROR(VLOOKUP(B22,Journalier,2,0)),"",VLOOKUP(B22,Journalier,2,0)) | E22: =IF(ISERROR(VLOOKUP(B22,Taux,2,0)),"",VLOOKUP(B22,Taux,2,0)) | F22: =IF(ISERROR(VLOOKUP(B22,Taux,3,0)),"",VLOOKUP(B22,Taux,3,0)) | G22: =IF(ISERROR(VLOOKUP(B22,Taux,4,0)),"",VLOOKUP(B22,Taux,4,0)) | H22: =IF(ISERROR(VLOOKUP(B22,Taux,5,0)),"",VLOOKUP(B22,Taux,5,0)) | I22: =IF(ISERROR(VLOOKUP(B22,Taux,6,0)),"",VLOOKUP(B22,Taux,6,0)) | J22: =IF(ISERROR(VLOOKUP(B22,Taux,7,0)),"",VLOOKUP(B22,Taux,7,0)) | K22: =IF(ISERROR(VLOOKUP(B22,Taux,8,0)),"",VLOOKUP(B22,Taux,8,0)) | L22: =IF(ISERROR(VLOOKUP(B22,Taux,9,0)),"",VLOOKUP(B22,Taux,9,0)) | M22: =IF(ISERROR(VLOOKUP(B22,Taux,10,0)),"",VLOOKUP(B22,Taux,10,0)) | N22: =IF(ISERROR(VLOOKUP(B22,Taux,11,0)),"",VLOOKUP(B22,Taux,11,0)) | O22: =IF(ISERROR(VLOOKUP(B22,Taux,12,0)),"",VLOOKUP(B22,Taux,12,0)) | P22: =IF(ISERROR(VLOOKUP(B22,Taux,13,0)),"",VLOOKUP(B22,Taux,13,0)) | R22: Juillet | S22: =($U$45*AE22)-(AF22*$S$15) -> 195.5 | T22: =($U$46*AE22)-(AF22*$T$15) -> 175.95 | U22: =($U$47*AE22)-(AF22*$U$15) -> 156.4 | V22: =($U$48*AE22)-(AF22*$V$15) -> 146.625 | W22: =($U$49*AE22)-(AF22*$W$15) -> 136.85 | X22: =($U$50*AE22)-(AF22*$X$15) -> 117.3 | Y22: =($U$51*AE22)-(AF22*$Y$15) -> 97.75 | Z22: =($U$52*AE22)-(AF22*$Z$15) -> 78.2 | AA22: =($U$53*AE22)-(AF22*$AA$15) -> 58.65 | AB22: =($U$54*AE22)-(AF22*$AB$15) -> 48.875 | AC22: =($U$55*AE22)-(AF22*$AC$15) -> 39.1 | AD22: =($U$56*AE22)-(AF22*$AD$15) -> 19.55 | AE22: 23
D23: =IF(ISERROR(VLOOKUP(B23,Journalier,2,0)),"",VLOOKUP(B23,Journalier,2,0)) | E23: =IF(ISERROR(VLOOKUP(B23,Taux,2,0)),"",VLOOKUP(B23,Taux,2,0)) | F23: =IF(ISERROR(VLOOKUP(B23,Taux,3,0)),"",VLOOKUP(B23,Taux,3,0)) | G23: =IF(ISERROR(VLOOKUP(B23,Taux,4,0)),"",VLOOKUP(B23,Taux,4,0)) | H23: =IF(ISERROR(VLOOKUP(B23,Taux,5,0)),"",VLOOKUP(B23,Taux,5,0)) | I23: =IF(ISERROR(VLOOKUP(B23,Taux,6,0)),"",VLOOKUP(B23,Taux,6,0)) | J23: =IF(ISERROR(VLOOKUP(B23,Taux,7,0)),"",VLOOKUP(B23,Taux,7,0)) | K23: =IF(ISERROR(VLOOKUP(B23,Taux,8,0)),"",VLOOKUP(B23,Taux,8,0)) | L23: =IF(ISERROR(VLOOKUP(B23,Taux,9,0)),"",VLOOKUP(B23,Taux,9,0)) | M23: =IF(ISERROR(VLOOKUP(B23,Taux,10,0)),"",VLOOKUP(B23,Taux,10,0)) | N23: =IF(ISERROR(VLOOKUP(B23,Taux,11,0)),"",VLOOKUP(B23,Taux,11,0)) | O23: =IF(ISERROR(VLOOKUP(B23,Taux,12,0)),"",VLOOKUP(B23,Taux,12,0)) | P23: =IF(ISERROR(VLOOKUP(B23,Taux,13,0)),"",VLOOKUP(B23,Taux,13,0)) | R23: Août | S23: =($U$45*AE23)-(AF23*$S$15) -> 170 | T23: =($U$46*AE23)-(AF23*$T$15) -> 153 | U23: =($U$47*AE23)-(AF23*$U$15) -> 136 | V23: =($U$48*AE23)-(AF23*$V$15) -> 127.5 | W23: =($U$49*AE23)-(AF23*$W$15) -> 119 | X23: =($U$50*AE23)-(AF23*$X$15) -> 102 | Y23: =($U$51*AE23)-(AF23*$Y$15) -> 85 | Z23: =($U$52*AE23)-(AF23*$Z$15) -> 68 | AA23: =($U$53*AE23)-(AF23*$AA$15) -> 51 | AB23: =($U$54*AE23)-(AF23*$AB$15) -> 42.5 | AC23: =($U$55*AE23)-(AF23*$AC$15) -> 34 | AD23: =($U$56*AE23)-(AF23*$AD$15) -> 17 | AE23: 20
D24: =IF(ISERROR(VLOOKUP(B24,Journalier,2,0)),"",VLOOKUP(B24,Journalier,2,0)) | E24: =IF(ISERROR(VLOOKUP(B24,Taux,2,0)),"",VLOOKUP(B24,Taux,2,0)) | F24: =IF(ISERROR(VLOOKUP(B24,Taux,3,0)),"",VLOOKUP(B24,Taux,3,0)) | G24: =IF(ISERROR(VLOOKUP(B24,Taux,4,0)),"",VLOOKUP(B24,Taux,4,0)) | H24: =IF(ISERROR(VLOOKUP(B24,Taux,5,0)),"",VLOOKUP(B24,Taux,5,0)) | I24: =IF(ISERROR(VLOOKUP(B24,Taux,6,0)),"",VLOOKUP(B24,Taux,6,0)) | J24: =IF(ISERROR(VLOOKUP(B24,Taux,7,0)),"",VLOOKUP(B24,Taux,7,0)) | K24: =IF(ISERROR(VLOOKUP(B24,Taux,8,0)),"",VLOOKUP(B24,Taux,8,0)) | L24: =IF(ISERROR(VLOOKUP(B24,Taux,9,0)),"",VLOOKUP(B24,Taux,9,0)) | M24: =IF(ISERROR(VLOOKUP(B24,Taux,10,0)),"",VLOOKUP(B24,Taux,10,0)) | N24: =IF(ISERROR(VLOOKUP(B24,Taux,11,0)),"",VLOOKUP(B24,Taux,11,0)) | O24: =IF(ISERROR(VLOOKUP(B24,Taux,12,0)),"",VLOOKUP(B24,Taux,12,0)) | P24: =IF(ISERROR(VLOOKUP(B24,Taux,13,0)),"",VLOOKUP(B24,Taux,13,0)) | R24: Septembre | S24: =($U$45*AE24)-(AF24*$S$15) -> 178.5 | T24: =($U$46*AE24)-(AF24*$T$15) -> 160.65 | U24: =($U$47*AE24)-(AF24*$U$15) -> 142.8 | V24: =($U$48*AE24)-(AF24*$V$15) -> 133.875 | W24: =($U$49*AE24)-(AF24*$W$15) -> 124.95 | X24: =($U$50*AE24)-(AF24*$X$15) -> 107.1 | Y24: =($U$51*AE24)-(AF24*$Y$15) -> 89.25 | Z24: =($U$52*AE24)-(AF24*$Z$15) -> 71.4 | AA24: =($U$53*AE24)-(AF24*$AA$15) -> 53.55 | AB24: =($U$54*AE24)-(AF24*$AB$15) -> 44.625 | AC24: =($U$55*AE24)-(AF24*$AC$15) -> 35.7 | AD24: =($U$56*AE24)-(AF24*$AD$15) -> 17.85 | AE24: 21
D25: =IF(ISERROR(VLOOKUP(B25,Journalier,2,0)),"",VLOOKUP(B25,Journalier,2,0)) | E25: =IF(ISERROR(VLOOKUP(B25,Taux,2,0)),"",VLOOKUP(B25,Taux,2,0)) | F25: =IF(ISERROR(VLOOKUP(B25,Taux,3,0)),"",VLOOKUP(B25,Taux,3,0)) | G25: =IF(ISERROR(VLOOKUP(B25,Taux,4,0)),"",VLOOKUP(B25,Taux,4,0)) | H25: =IF(ISERROR(VLOOKUP(B25,Taux,5,0)),"",VLOOKUP(B25,Taux,5,0)) | I25: =IF(ISERROR(VLOOKUP(B25,Taux,6,0)),"",VLOOKUP(B25,Taux,6,0)) | J25: =IF(ISERROR(VLOOKUP(B25,Taux,7,0)),"",VLOOKUP(B25,Taux,7,0)) | K25: =IF(ISERROR(VLOOKUP(B25,Taux,8,0)),"",VLOOKUP(B25,Taux,8,0)) | L25: =IF(ISERROR(VLOOKUP(B25,Taux,9,0)),"",VLOOKUP(B25,Taux,9,0)) | M25: =IF(ISERROR(VLOOKUP(B25,Taux,10,0)),"",VLOOKUP(B25,Taux,10,0)) | N25: =IF(ISERROR(VLOOKUP(B25,Taux,11,0)),"",VLOOKUP(B25,Taux,11,0)) | O25: =IF(ISERROR(VLOOKUP(B25,Taux,12,0)),"",VLOOKUP(B25,Taux,12,0)) | P25: =IF(ISERROR(VLOOKUP(B25,Taux,13,0)),"",VLOOKUP(B25,Taux,13,0)) | R25: Octobre | S25: =($U$45*AE25)-(AF25*$S$15) -> 195.5 | T25: =($U$46*AE25)-(AF25*$T$15) -> 175.95 | U25: =($U$47*AE25)-(AF25*$U$15) -> 156.4 | V25: =($U$48*AE25)-(AF25*$V$15) -> 146.625 | W25: =($U$49*AE25)-(AF25*$W$15) -> 136.85 | X25: =($U$50*AE25)-(AF25*$X$15) -> 117.3 | Y25: =($U$51*AE25)-(AF25*$Y$15) -> 97.75 | Z25: =($U$52*AE25)-(AF25*$Z$15) -> 78.2 | AA25: =($U$53*AE25)-(AF25*$AA$15) -> 58.65 | AB25: =($U$54*AE25)-(AF25*$AB$15) -> 48.875 | AC25: =($U$55*AE25)-(AF25*$AC$15) -> 39.1 | AD25: =($U$56*AE25)-(AF25*$AD$15) -> 19.55 | AE25: 23
D26: =IF(ISERROR(VLOOKUP(B26,Journalier,2,0)),"",VLOOKUP(B26,Journalier,2,0)) | E26: =IF(ISERROR(VLOOKUP(B26,Taux,2,0)),"",VLOOKUP(B26,Taux,2,0)) | F26: =IF(ISERROR(VLOOKUP(B26,Taux,3,0)),"",VLOOKUP(B26,Taux,3,0)) | G26: =IF(ISERROR(VLOOKUP(B26,Taux,4,0)),"",VLOOKUP(B26,Taux,4,0)) | H26: =IF(ISERROR(VLOOKUP(B26,Taux,5,0)),"",VLOOKUP(B26,Taux,5,0)) | I26: =IF(ISERROR(VLOOKUP(B26,Taux,6,0)),"",VLOOKUP(B26,Taux,6,0)) | J26: =IF(ISERROR(VLOOKUP(B26,Taux,7,0)),"",VLOOKUP(B26,Taux,7,0)) | K26: =IF(ISERROR(VLOOKUP(B26,Taux,8,0)),"",VLOOKUP(B26,Taux,8,0)) | L26: =IF(ISERROR(VLOOKUP(B26,Taux,9,0)),"",VLOOKUP(B26,Taux,9,0)) | M26: =IF(ISERROR(VLOOKUP(B26,Taux,10,0)),"",VLOOKUP(B26,Taux,10,0)) | N26: =IF(ISERROR(VLOOKUP(B26,Taux,11,0)),"",VLOOKUP(B26,Taux,11,0)) | O26: =IF(ISERROR(VLOOKUP(B26,Taux,12,0)),"",VLOOKUP(B26,Taux,12,0)) | P26: =IF(ISERROR(VLOOKUP(B26,Taux,13,0)),"",VLOOKUP(B26,Taux,13,0)) | R26: Novembre | S26: =($U$45*AE26)-(AF26*$S$15) -> 170 | T26: =($U$46*AE26)-(AF26*$T$15) -> 153 | U26: =($U$47*AE26)-(AF26*$U$15) -> 136 | V26: =($U$48*AE26)-(AF26*$V$15) -> 127.5 | W26: =($U$49*AE26)-(AF26*$W$15) -> 119 | X26: =($U$50*AE26)-(AF26*$X$15) -> 102 | Y26: =($U$51*AE26)-(AF26*$Y$15) -> 85 | Z26: =($U$52*AE26)-(AF26*$Z$15) -> 68 | AA26: =($U$53*AE26)-(AF26*$AA$15) -> 51 | AB26: =($U$54*AE26)-(AF26*$AB$15) -> 42.5 | AC26: =($U$55*AE26)-(AF26*$AC$15) -> 34 | AD26: =($U$56*AE26)-(AF26*$AD$15) -> 17 | AE26: 20
D27: =IF(ISERROR(VLOOKUP(B27,Journalier,2,0)),"",VLOOKUP(B27,Journalier,2,0)) | E27: =IF(ISERROR(VLOOKUP(B27,Taux,2,0)),"",VLOOKUP(B27,Taux,2,0)) | F27: =IF(ISERROR(VLOOKUP(B27,Taux,3,0)),"",VLOOKUP(B27,Taux,3,0)) | G27: =IF(ISERROR(VLOOKUP(B27,Taux,4,0)),"",VLOOKUP(B27,Taux,4,0)) | H27: =IF(ISERROR(VLOOKUP(B27,Taux,5,0)),"",VLOOKUP(B27,Taux,5,0)) | I27: =IF(ISERROR(VLOOKUP(B27,Taux,6,0)),"",VLOOKUP(B27,Taux,6,0)) | J27: =IF(ISERROR(VLOOKUP(B27,Taux,7,0)),"",VLOOKUP(B27,Taux,7,0)) | K27: =IF(ISERROR(VLOOKUP(B27,Taux,8,0)),"",VLOOKUP(B27,Taux,8,0)) | L27: =IF(ISERROR(VLOOKUP(B27,Taux,9,0)),"",VLOOKUP(B27,Taux,9,0)) | M27: =IF(ISERROR(VLOOKUP(B27,Taux,10,0)),"",VLOOKUP(B27,Taux,10,0)) | N27: =IF(ISERROR(VLOOKUP(B27,Taux,11,0)),"",VLOOKUP(B27,Taux,11,0)) | O27: =IF(ISERROR(VLOOKUP(B27,Taux,12,0)),"",VLOOKUP(B27,Taux,12,0)) | P27: =IF(ISERROR(VLOOKUP(B27,Taux,13,0)),"",VLOOKUP(B27,Taux,13,0)) | R27: Décembre | S27: =($U$45*AE27)-(AF27*$S$15) -> 148.75 | T27: =($U$46*AE27)-(AF27*$T$15) -> 133.875 | U27: =($U$47*AE27)-(AF27*$U$15) -> 119 | V27: =($U$48*AE27)-(AF27*$V$15) -> 111.5625 | W27: =($U$49*AE27)-(AF27*$W$15) -> 104.125 | X27: =($U$50*AE27)-(AF27*$X$15) -> 89.25 | Y27: =($U$51*AE27)-(AF27*$Y$15) -> 74.375 | Z27: =($U$52*AE27)-(AF27*$Z$15) -> 59.5 | AA27: =($U$53*AE27)-(AF27*$AA$15) -> 44.625 | AB27: =($U$54*AE27)-(AF27*$AB$15) -> 37.1875 | AC27: =($U$55*AE27)-(AF27*$AC$15) -> 29.75 | AD27: =($U$56*AE27)-(AF27*$AD$15) -> 14.875 | AE27: 18 | AF27: 4.25
D28: =IF(ISERROR(VLOOKUP(B28,Journalier,2,0)),"",VLOOKUP(B28,Journalier,2,0)) | E28: =IF(ISERROR(VLOOKUP(B28,Taux,2,0)),"",VLOOKUP(B28,Taux,2,0)) | F28: =IF(ISERROR(VLOOKUP(B28,Taux,3,0)),"",VLOOKUP(B28,Taux,3,0)) | G28: =IF(ISERROR(VLOOKUP(B28,Taux,4,0)),"",VLOOKUP(B28,Taux,4,0)) | H28: =IF(ISERROR(VLOOKUP(B28,Taux,5,0)),"",VLOOKUP(B28,Taux,5,0)) | I28: =IF(ISERROR(VLOOKUP(B28,Taux,6,0)),"",VLOOKUP(B28,Taux,6,0)) | J28: =IF(ISERROR(VLOOKUP(B28,Taux,7,0)),"",VLOOKUP(B28,Taux,7,0)) | K28: =IF(ISERROR(VLOOKUP(B28,Taux,8,0)),"",VLOOKUP(B28,Taux,8,0)) | L28: =IF(ISERROR(VLOOKUP(B28,Taux,9,0)),"",VLOOKUP(B28,Taux,9,0)) | M28: =IF(ISERROR(VLOOKUP(B28,Taux,10,0)),"",VLOOKUP(B28,Taux,10,0)) | N28: =IF(ISERROR(VLOOKUP(B28,Taux,11,0)),"",VLOOKUP(B28,Taux,11,0)) | O28: =IF(ISERROR(VLOOKUP(B28,Taux,12,0)),"",VLOOKUP(B28,Taux,12,0)) | P28: =IF(ISERROR(VLOOKUP(B28,Taux,13,0)),"",VLOOKUP(B28,Taux,13,0)) | R28: TOTAL | S28: =SUM(S16:S27) -> 2093.25 | T28: =SUM(T16:T27) -> 1883.925 | U28: =SUM(U16:U27) -> 1674.6 | V28: =SUM(V16:V27) -> 1569.9375 | W28: =SUM(W16:W27) -> 1465.275 | X28: =SUM(X16:X27) -> 1255.95 | Y28: =SUM(Y16:Y27) -> 1046.625 | Z28: =SUM(Z16:Z27) -> 837.3 | ... AF28: =SUM(AF16:AF27) -> 6.25
D29: =IF(ISERROR(VLOOKUP(B29,Journalier,2,0)),"",VLOOKUP(B29,Journalier,2,0)) | E29: =IF(ISERROR(VLOOKUP(B29,Taux,2,0)),"",VLOOKUP(B29,Taux,2,0)) | F29: =IF(ISERROR(VLOOKUP(B29,Taux,3,0)),"",VLOOKUP(B29,Taux,3,0)) | G29: =IF(ISERROR(VLOOKUP(B29,Taux,4,0)),"",VLOOKUP(B29,Taux,4,0)) | H29: =IF(ISERROR(VLOOKUP(B29,Taux,5,0)),"",VLOOKUP(B29,Taux,5,0)) | I29: =IF(ISERROR(VLOOKUP(B29,Taux,6,0)),"",VLOOKUP(B29,Taux,6,0)) | J29: =IF(ISERROR(VLOOKUP(B29,Taux,7,0)),"",VLOOKUP(B29,Taux,7,0)) | K29: =IF(ISERROR(VLOOKUP(B29,Taux,8,0)),"",VLOOKUP(B29,Taux,8,0)) | L29: =IF(ISERROR(VLOOKUP(B29,Taux,9,0)),"",VLOOKUP(B29,Taux,9,0)) | M29: =IF(ISERROR(VLOOKUP(B29,Taux,10,0)),"",VLOOKUP(B29,Taux,10,0)) | N29: =IF(ISERROR(VLOOKUP(B29,Taux,11,0)),"",VLOOKUP(B29,Taux,11,0)) | O29: =IF(ISERROR(VLOOKUP(B29,Taux,12,0)),"",VLOOKUP(B29,Taux,12,0)) | P29: =IF(ISERROR(VLOOKUP(B29,Taux,13,0)),"",VLOOKUP(B29,Taux,13,0))
D30: =IF(ISERROR(VLOOKUP(B30,Journalier,2,0)),"",VLOOKUP(B30,Journalier,2,0)) | E30: =IF(ISERROR(VLOOKUP(B30,Taux,2,0)),"",VLOOKUP(B30,Taux,2,0)) | F30: =IF(ISERROR(VLOOKUP(B30,Taux,3,0)),"",VLOOKUP(B30,Taux,3,0)) | G30: =IF(ISERROR(VLOOKUP(B30,Taux,4,0)),"",VLOOKUP(B30,Taux,4,0)) | H30: =IF(ISERROR(VLOOKUP(B30,Taux,5,0)),"",VLOOKUP(B30,Taux,5,0)) | I30: =IF(ISERROR(VLOOKUP(B30,Taux,6,0)),"",VLOOKUP(B30,Taux,6,0)) | J30: =IF(ISERROR(VLOOKUP(B30,Taux,7,0)),"",VLOOKUP(B30,Taux,7,0)) | K30: =IF(ISERROR(VLOOKUP(B30,Taux,8,0)),"",VLOOKUP(B30,Taux,8,0)) | L30: =IF(ISERROR(VLOOKUP(B30,Taux,9,0)),"",VLOOKUP(B30,Taux,9,0)) | M30: =IF(ISERROR(VLOOKUP(B30,Taux,10,0)),"",VLOOKUP(B30,Taux,10,0)) | N30: =IF(ISERROR(VLOOKUP(B30,Taux,11,0)),"",VLOOKUP(B30,Taux,11,0)) | O30: =IF(ISERROR(VLOOKUP(B30,Taux,12,0)),"",VLOOKUP(B30,Taux,12,0)) | P30: =IF(ISERROR(VLOOKUP(B30,Taux,13,0)),"",VLOOKUP(B30,Taux,13,0)) | R30: 2014 | S30: 1 | T30: 0.9 | U30: 0.8 | V30: 0.75 | W30: 0.7 | X30: 0.6 | Y30: 0.5 | Z30: 0.4 | AA30: 0.3 | AB30: 0.25 | AC30: 0.2 | AD30: 0.1
D31: =IF(ISERROR(VLOOKUP(B31,Journalier,2,0)),"",VLOOKUP(B31,Journalier,2,0)) | E31: =IF(ISERROR(VLOOKUP(B31,Taux,2,0)),"",VLOOKUP(B31,Taux,2,0)) | F31: =IF(ISERROR(VLOOKUP(B31,Taux,3,0)),"",VLOOKUP(B31,Taux,3,0)) | G31: =IF(ISERROR(VLOOKUP(B31,Taux,4,0)),"",VLOOKUP(B31,Taux,4,0)) | H31: =IF(ISERROR(VLOOKUP(B31,Taux,5,0)),"",VLOOKUP(B31,Taux,5,0)) | I31: =IF(ISERROR(VLOOKUP(B31,Taux,6,0)),"",VLOOKUP(B31,Taux,6,0)) | J31: =IF(ISERROR(VLOOKUP(B31,Taux,7,0)),"",VLOOKUP(B31,Taux,7,0)) | K31: =IF(ISERROR(VLOOKUP(B31,Taux,8,0)),"",VLOOKUP(B31,Taux,8,0)) | L31: =IF(ISERROR(VLOOKUP(B31,Taux,9,0)),"",VLOOKUP(B31,Taux,9,0)) | M31: =IF(ISERROR(VLOOKUP(B31,Taux,10,0)),"",VLOOKUP(B31,Taux,10,0)) | N31: =IF(ISERROR(VLOOKUP(B31,Taux,11,0)),"",VLOOKUP(B31,Taux,11,0)) | O31: =IF(ISERROR(VLOOKUP(B31,Taux,12,0)),"",VLOOKUP(B31,Taux,12,0)) | P31: =IF(ISERROR(VLOOKUP(B31,Taux,13,0)),"",VLOOKUP(B31,Taux,13,0)) | R31: Janvier | S31: =S2 -> 7.4375 | T31: =S3 -> 6.69375 | U31: =S4 -> 5.95 | V31: =S5 -> 5.578125 | W31: =S6 -> 5.20625 | X31: =S7 -> 4.4625 | Y31: =S8 -> 3.71875 | Z31: =S9 -> 2.975 | AA31: =S10 -> 2.23125 | AB31: =S11 -> 1.859375 | AC31: =S12 -> 1.4875 | AD31: =S13 -> 0.74375
D32: =IF(ISERROR(VLOOKUP(B32,Journalier,2,0)),"",VLOOKUP(B32,Journalier,2,0)) | E32: =IF(ISERROR(VLOOKUP(B32,Taux,2,0)),"",VLOOKUP(B32,Taux,2,0)) | F32: =IF(ISERROR(VLOOKUP(B32,Taux,3,0)),"",VLOOKUP(B32,Taux,3,0)) | G32: =IF(ISERROR(VLOOKUP(B32,Taux,4,0)),"",VLOOKUP(B32,Taux,4,0)) | H32: =IF(ISERROR(VLOOKUP(B32,Taux,5,0)),"",VLOOKUP(B32,Taux,5,0)) | I32: =IF(ISERROR(VLOOKUP(B32,Taux,6,0)),"",VLOOKUP(B32,Taux,6,0)) | J32: =IF(ISERROR(VLOOKUP(B32,Taux,7,0)),"",VLOOKUP(B32,Taux,7,0)) | K32: =IF(ISERROR(VLOOKUP(B32,Taux,8,0)),"",VLOOKUP(B32,Taux,8,0)) | L32: =IF(ISERROR(VLOOKUP(B32,Taux,9,0)),"",VLOOKUP(B32,Taux,9,0)) | M32: =IF(ISERROR(VLOOKUP(B32,Taux,10,0)),"",VLOOKUP(B32,Taux,10,0)) | N32: =IF(ISERROR(VLOOKUP(B32,Taux,11,0)),"",VLOOKUP(B32,Taux,11,0)) | O32: =IF(ISERROR(VLOOKUP(B32,Taux,12,0)),"",VLOOKUP(B32,Taux,12,0)) | P32: =IF(ISERROR(VLOOKUP(B32,Taux,13,0)),"",VLOOKUP(B32,Taux,13,0)) | R32: Février | S32: =T2 -> 7.0833333 | T32: =T3 -> 6.375 | U32: =T4 -> 5.6666667 | V32: =T5 -> 5.3125 | W32: =T6 -> 4.9583333 | X32: =T7 -> 4.25 | Y32: =T8 -> 3.5416667 | Z32: =T9 -> 2.8333333 | AA32: =T10 -> 2.125 | AB32: =T11 -> 1.7708333 | AC32: =T12 -> 1.4166667 | AD32: =T13 -> 0.70833333
D33: =IF(ISERROR(VLOOKUP(B33,Journalier,2,0)),"",VLOOKUP(B33,Journalier,2,0)) | E33: =IF(ISERROR(VLOOKUP(B33,Taux,2,0)),"",VLOOKUP(B33,Taux,2,0)) | F33: =IF(ISERROR(VLOOKUP(B33,Taux,3,0)),"",VLOOKUP(B33,Taux,3,0)) | G33: =IF(ISERROR(VLOOKUP(B33,Taux,4,0)),"",VLOOKUP(B33,Taux,4,0)) | H33: =IF(ISERROR(VLOOKUP(B33,Taux,5,0)),"",VLOOKUP(B33,Taux,5,0)) | I33: =IF(ISERROR(VLOOKUP(B33,Taux,6,0)),"",VLOOKUP(B33,Taux,6,0)) | J33: =IF(ISERROR(VLOOKUP(B33,Taux,7,0)),"",VLOOKUP(B33,Taux,7,0)) | K33: =IF(ISERROR(VLOOKUP(B33,Taux,8,0)),"",VLOOKUP(B33,Taux,8,0)) | L33: =IF(ISERROR(VLOOKUP(B33,Taux,9,0)),"",VLOOKUP(B33,Taux,9,0)) | M33: =IF(ISERROR(VLOOKUP(B33,Taux,10,0)),"",VLOOKUP(B33,Taux,10,0)) | N33: =IF(ISERROR(VLOOKUP(B33,Taux,11,0)),"",VLOOKUP(B33,Taux,11,0)) | O33: =IF(ISERROR(VLOOKUP(B33,Taux,12,0)),"",VLOOKUP(B33,Taux,12,0)) | P33: =IF(ISERROR(VLOOKUP(B33,Taux,13,0)),"",VLOOKUP(B33,Taux,13,0)) | R33: Mars | S33: =U2 -> 7.4375 | T33: =U3 -> 6.69375 | U33: =U4 -> 5.95 | V33: =U5 -> 5.578125 | W33: =U6 -> 5.20625 | X33: =U7 -> 4.4625 | Y33: =U8 -> 3.71875 | Z33: =U9 -> 2.975 | AA33: =U10 -> 2.23125 | AB33: =U11 -> 1.859375 | AC33: =U12 -> 1.4875 | AD33: =U13 -> 0.74375
D34: =IF(ISERROR(VLOOKUP(B34,Journalier,2,0)),"",VLOOKUP(B34,Journalier,2,0)) | E34: =IF(ISERROR(VLOOKUP(B34,Taux,2,0)),"",VLOOKUP(B34,Taux,2,0)) | F34: =IF(ISERROR(VLOOKUP(B34,Taux,3,0)),"",VLOOKUP(B34,Taux,3,0)) | G34: =IF(ISERROR(VLOOKUP(B34,Taux,4,0)),"",VLOOKUP(B34,Taux,4,0)) | H34: =IF(ISERROR(VLOOKUP(B34,Taux,5,0)),"",VLOOKUP(B34,Taux,5,0)) | I34: =IF(ISERROR(VLOOKUP(B34,Taux,6,0)),"",VLOOKUP(B34,Taux,6,0)) | J34: =IF(ISERROR(VLOOKUP(B34,Taux,7,0)),"",VLOOKUP(B34,Taux,7,0)) | K34: =IF(ISERROR(VLOOKUP(B34,Taux,8,0)),"",VLOOKUP(B34,Taux,8,0)) | L34: =IF(ISERROR(VLOOKUP(B34,Taux,9,0)),"",VLOOKUP(B34,Taux,9,0)) | M34: =IF(ISERROR(VLOOKUP(B34,Taux,10,0)),"",VLOOKUP(B34,Taux,10,0)) | N34: =IF(ISERROR(VLOOKUP(B34,Taux,11,0)),"",VLOOKUP(B34,Taux,11,0)) | O34: =IF(ISERROR(VLOOKUP(B34,Taux,12,0)),"",VLOOKUP(B34,Taux,12,0)) | P34: =IF(ISERROR(VLOOKUP(B34,Taux,13,0)),"",VLOOKUP(B34,Taux,13,0)) | R34: Avril | S34: =V2 -> 7.0416667 | T34: =V3 -> 6.3375 | U34: =V4 -> 5.6333333 | V34: =V5 -> 5.28125 | W34: =V6 -> 4.9291667 | X34: =V7 -> 4.225 | Y34: =V8 -> 3.5208333 | Z34: =V9 -> 2.8166667 | AA34: =V10 -> 2.1125 | AB34: =V11 -> 1.7604167 | AC34: =V12 -> 1.4083333 | AD34: =V13 -> 0.70416667
D35: =IF(ISERROR(VLOOKUP(B35,Journalier,2,0)),"",VLOOKUP(B35,Journalier,2,0)) | E35: =IF(ISERROR(VLOOKUP(B35,Taux,2,0)),"",VLOOKUP(B35,Taux,2,0)) | F35: =IF(ISERROR(VLOOKUP(B35,Taux,3,0)),"",VLOOKUP(B35,Taux,3,0)) | G35: =IF(ISERROR(VLOOKUP(B35,Taux,4,0)),"",VLOOKUP(B35,Taux,4,0)) | H35: =IF(ISERROR(VLOOKUP(B35,Taux,5,0)),"",VLOOKUP(B35,Taux,5,0)) | I35: =IF(ISERROR(VLOOKUP(B35,Taux,6,0)),"",VLOOKUP(B35,Taux,6,0)) | J35: =IF(ISERROR(VLOOKUP(B35,Taux,7,0)),"",VLOOKUP(B35,Taux,7,0)) | K35: =IF(ISERROR(VLOOKUP(B35,Taux,8,0)),"",VLOOKUP(B35,Taux,8,0)) | L35: =IF(ISERROR(VLOOKUP(B35,Taux,9,0)),"",VLOOKUP(B35,Taux,9,0)) | M35: =IF(ISERROR(VLOOKUP(B35,Taux,10,0)),"",VLOOKUP(B35,Taux,10,0)) | N35: =IF(ISERROR(VLOOKUP(B35,Taux,11,0)),"",VLOOKUP(B35,Taux,11,0)) | O35: =IF(ISERROR(VLOOKUP(B35,Taux,12,0)),"",VLOOKUP(B35,Taux,12,0)) | P35: =IF(ISERROR(VLOOKUP(B35,Taux,13,0)),"",VLOOKUP(B35,Taux,13,0)) | R35: Mai | S35: =W2 -> 7.0416667 | T35: =W3 -> 6.3375 | U35: =W4 -> 5.6333333 | V35: =W5 -> 5.28125 | W35: =W6 -> 4.9291667 | X35: =W7 -> 4.225 | Y35: =W8 -> 3.5208333 | Z35: =W9 -> 2.8166667 | AA35: =W10 -> 2.1125 | AB35: =W11 -> 1.7604167 | AC35: =W12 -> 1.4083333 | AD35: =W13 -> 0.70416667
D36: =IF(ISERROR(VLOOKUP(B36,Journalier,2,0)),"",VLOOKUP(B36,Journalier,2,0)) | E36: =IF(ISERROR(VLOOKUP(B36,Taux,2,0)),"",VLOOKUP(B36,Taux,2,0)) | F36: =IF(ISERROR(VLOOKUP(B36,Taux,3,0)),"",VLOOKUP(B36,Taux,3,0)) | G36: =IF(ISERROR(VLOOKUP(B36,Taux,4,0)),"",VLOOKUP(B36,Taux,4,0)) | H36: =IF(ISERROR(VLOOKUP(B36,Taux,5,0)),"",VLOOKUP(B36,Taux,5,0)) | I36: =IF(ISERROR(VLOOKUP(B36,Taux,6,0)),"",VLOOKUP(B36,Taux,6,0)) | J36: =IF(ISERROR(VLOOKUP(B36,Taux,7,0)),"",VLOOKUP(B36,Taux,7,0)) | K36: =IF(ISERROR(VLOOKUP(B36,Taux,8,0)),"",VLOOKUP(B36,Taux,8,0)) | L36: =IF(ISERROR(VLOOKUP(B36,Taux,9,0)),"",VLOOKUP(B36,Taux,9,0)) | M36: =IF(ISERROR(VLOOKUP(B36,Taux,10,0)),"",VLOOKUP(B36,Taux,10,0)) | N36: =IF(ISERROR(VLOOKUP(B36,Taux,11,0)),"",VLOOKUP(B36,Taux,11,0)) | O36: =IF(ISERROR(VLOOKUP(B36,Taux,12,0)),"",VLOOKUP(B36,Taux,12,0)) | P36: =IF(ISERROR(VLOOKUP(B36,Taux,13,0)),"",VLOOKUP(B36,Taux,13,0)) | R36: Juin | S36: =X2 -> 7.0833333 | T36: =X3 -> 6.375 | U36: =X4 -> 5.6666667 | V36: =X5 -> 5.3125 | W36: =X6 -> 4.9583333 | X36: =X7 -> 4.25 | Y36: =X8 -> 3.5416667 | Z36: =X9 -> 2.8333333 | AA36: =X10 -> 2.125 | AB36: =X11 -> 1.7708333 | AC36: =X12 -> 1.4166667 | AD36: =X13 -> 0.70833333
D37: =IF(ISERROR(VLOOKUP(B37,Journalier,2,0)),"",VLOOKUP(B37,Journalier,2,0)) | E37: =IF(ISERROR(VLOOKUP(B37,Taux,2,0)),"",VLOOKUP(B37,Taux,2,0)) | F37: =IF(ISERROR(VLOOKUP(B37,Taux,3,0)),"",VLOOKUP(B37,Taux,3,0)) | G37: =IF(ISERROR(VLOOKUP(B37,Taux,4,0)),"",VLOOKUP(B37,Taux,4,0)) | H37: =IF(ISERROR(VLOOKUP(B37,Taux,5,0)),"",VLOOKUP(B37,Taux,5,0)) | I37: =IF(ISERROR(VLOOKUP(B37,Taux,6,0)),"",VLOOKUP(B37,Taux,6,0)) | J37: =IF(ISERROR(VLOOKUP(B37,Taux,7,0)),"",VLOOKUP(B37,Taux,7,0)) | K37: =IF(ISERROR(VLOOKUP(B37,Taux,8,0)),"",VLOOKUP(B37,Taux,8,0)) | L37: =IF(ISERROR(VLOOKUP(B37,Taux,9,0)),"",VLOOKUP(B37,Taux,9,0)) | M37: =IF(ISERROR(VLOOKUP(B37,Taux,10,0)),"",VLOOKUP(B37,Taux,10,0)) | N37: =IF(ISERROR(VLOOKUP(B37,Taux,11,0)),"",VLOOKUP(B37,Taux,11,0)) | O37: =IF(ISERROR(VLOOKUP(B37,Taux,12,0)),"",VLOOKUP(B37,Taux,12,0)) | P37: =IF(ISERROR(VLOOKUP(B37,Taux,13,0)),"",VLOOKUP(B37,Taux,13,0)) | R37: Juillet | S37: =Y2 -> 8.1458333 | T37: =Y3 -> 7.33125 | U37: =Y4 -> 6.5166667 | V37: =Y5 -> 6.109375 | W37: =Y6 -> 5.7020833 | X37: =Y7 -> 4.8875 | Y37: =Y8 -> 4.0729167 | Z37: =Y9 -> 3.2583333 | AA37: =Y10 -> 2.44375 | AB37: =Y11 -> 2.0364583 | AC37: =Y12 -> 1.6291667 | AD37: =Y13 -> 0.81458333
D38: =IF(ISERROR(VLOOKUP(B38,Journalier,2,0)),"",VLOOKUP(B38,Journalier,2,0)) | E38: =IF(ISERROR(VLOOKUP(B38,Taux,2,0)),"",VLOOKUP(B38,Taux,2,0)) | F38: =IF(ISERROR(VLOOKUP(B38,Taux,3,0)),"",VLOOKUP(B38,Taux,3,0)) | G38: =IF(ISERROR(VLOOKUP(B38,Taux,4,0)),"",VLOOKUP(B38,Taux,4,0)) | H38: =IF(ISERROR(VLOOKUP(B38,Taux,5,0)),"",VLOOKUP(B38,Taux,5,0)) | I38: =IF(ISERROR(VLOOKUP(B38,Taux,6,0)),"",VLOOKUP(B38,Taux,6,0)) | J38: =IF(ISERROR(VLOOKUP(B38,Taux,7,0)),"",VLOOKUP(B38,Taux,7,0)) | K38: =IF(ISERROR(VLOOKUP(B38,Taux,8,0)),"",VLOOKUP(B38,Taux,8,0)) | L38: =IF(ISERROR(VLOOKUP(B38,Taux,9,0)),"",VLOOKUP(B38,Taux,9,0)) | M38: =IF(ISERROR(VLOOKUP(B38,Taux,10,0)),"",VLOOKUP(B38,Taux,10,0)) | N38: =IF(ISERROR(VLOOKUP(B38,Taux,11,0)),"",VLOOKUP(B38,Taux,11,0)) | O38: =IF(ISERROR(VLOOKUP(B38,Taux,12,0)),"",VLOOKUP(B38,Taux,12,0)) | P38: =IF(ISERROR(VLOOKUP(B38,Taux,13,0)),"",VLOOKUP(B38,Taux,13,0)) | R38: Octobre | S38: 195.5 | T38: 175.95 | U38: 156.4 | V38: 146.625 | W38: 136.85 | X38: 117.3 | Y38: 97.75 | Z38: =Z9 -> 2.8333333 | AA38: =Z10 -> 2.125 | AB38: =Z11 -> 1.7708333 | AC38: =Z12 -> 1.4166667 | AD38: =Z13 -> 0.70833333
D39: =IF(ISERROR(VLOOKUP(B39,Journalier,2,0)),"",VLOOKUP(B39,Journalier,2,0)) | E39: =IF(ISERROR(VLOOKUP(B39,Taux,2,0)),"",VLOOKUP(B39,Taux,2,0)) | F39: =IF(ISERROR(VLOOKUP(B39,Taux,3,0)),"",VLOOKUP(B39,Taux,3,0)) | G39: =IF(ISERROR(VLOOKUP(B39,Taux,4,0)),"",VLOOKUP(B39,Taux,4,0)) | H39: =IF(ISERROR(VLOOKUP(B39,Taux,5,0)),"",VLOOKUP(B39,Taux,5,0)) | I39: =IF(ISERROR(VLOOKUP(B39,Taux,6,0)),"",VLOOKUP(B39,Taux,6,0)) | J39: =IF(ISERROR(VLOOKUP(B39,Taux,7,0)),"",VLOOKUP(B39,Taux,7,0)) | K39: =IF(ISERROR(VLOOKUP(B39,Taux,8,0)),"",VLOOKUP(B39,Taux,8,0)) | L39: =IF(ISERROR(VLOOKUP(B39,Taux,9,0)),"",VLOOKUP(B39,Taux,9,0)) | M39: =IF(ISERROR(VLOOKUP(B39,Taux,10,0)),"",VLOOKUP(B39,Taux,10,0)) | N39: =IF(ISERROR(VLOOKUP(B39,Taux,11,0)),"",VLOOKUP(B39,Taux,11,0)) | O39: =IF(ISERROR(VLOOKUP(B39,Taux,12,0)),"",VLOOKUP(B39,Taux,12,0)) | P39: =IF(ISERROR(VLOOKUP(B39,Taux,13,0)),"",VLOOKUP(B39,Taux,13,0)) | R39: Septembre | S39: =AA2 -> 7.4375 | T39: =AA3 -> 6.69375 | U39: =AA4 -> 5.95 | V39: =AA5 -> 5.578125 | W39: =AA6 -> 5.20625 | X39: =AA7 -> 4.4625 | Y39: =AA8 -> 3.71875 | Z39: =AA9 -> 2.975 | AA39: =AA10 -> 2.23125 | AB39: =AA11 -> 1.859375 | AC39: =AA12 -> 1.4875 | AD39: =AA13 -> 0.74375
D40: =IF(ISERROR(VLOOKUP(B40,Journalier,2,0)),"",VLOOKUP(B40,Journalier,2,0)) | E40: =IF(ISERROR(VLOOKUP(B40,Taux,2,0)),"",VLOOKUP(B40,Taux,2,0)) | F40: =IF(ISERROR(VLOOKUP(B40,Taux,3,0)),"",VLOOKUP(B40,Taux,3,0)) | G40: =IF(ISERROR(VLOOKUP(B40,Taux,4,0)),"",VLOOKUP(B40,Taux,4,0)) | H40: =IF(ISERROR(VLOOKUP(B40,Taux,5,0)),"",VLOOKUP(B40,Taux,5,0)) | I40: =IF(ISERROR(VLOOKUP(B40,Taux,6,0)),"",VLOOKUP(B40,Taux,6,0)) | J40: =IF(ISERROR(VLOOKUP(B40,Taux,7,0)),"",VLOOKUP(B40,Taux,7,0)) | K40: =IF(ISERROR(VLOOKUP(B40,Taux,8,0)),"",VLOOKUP(B40,Taux,8,0)) | L40: =IF(ISERROR(VLOOKUP(B40,Taux,9,0)),"",VLOOKUP(B40,Taux,9,0)) | M40: =IF(ISERROR(VLOOKUP(B40,Taux,10,0)),"",VLOOKUP(B40,Taux,10,0)) | N40: =IF(ISERROR(VLOOKUP(B40,Taux,11,0)),"",VLOOKUP(B40,Taux,11,0)) | O40: =IF(ISERROR(VLOOKUP(B40,Taux,12,0)),"",VLOOKUP(B40,Taux,12,0)) | P40: =IF(ISERROR(VLOOKUP(B40,Taux,13,0)),"",VLOOKUP(B40,Taux,13,0)) | R40: Octobre | S40: =AB2 -> 8.1458333 | T40: =AB3 -> 7.33125 | U40: =AB4 -> 6.5166667 | V40: =AB5 -> 6.109375 | W40: =AB6 -> 5.7020833 | X40: =AB7 -> 4.8875 | Y40: =AB8 -> 4.0729167 | Z40: =AB9 -> 3.2583333 | AA40: =AB10 -> 2.44375 | AB40: =AB11 -> 2.0364583 | AC40: =AB12 -> 1.6291667 | AD40: =AB13 -> 0.81458333
...

Sheet Serv
A1: N° Service | B1: Lieu | C1: Début 1 | D1: Fin 1 | E1: Début 2 | F1: Fin 2 | G1: Début 2 | H1: Fin 2 | I1: Durée totale | J1: P1 | K1: P2 | L1: P3 | M1: Pause | N1: Durée réelle
C2: 0.25 | D2: 0.020833333 | E2: 0.5 | F2: 0.041666667
A3: C | B3: Congé | C3: C | D3: C | E3: C | F3: C | G3: C | H3: C | I3: 0 | M3: 0 | N3: =I3-M3 -> 0
A4: V | B4: Vacances | C4: V | D4: V | E4: V | F4: V | G4: V | H4: V | I4: =Pers!$AE$46 -> 0 | M4: 0 | N4: =I4-M4 -> 0
A5: M | B5: Maladie / Accident | C5: M | D5: M | E5: M | F5: M | G5: M | H5: M | I5: =Pers!$AF$46 -> 0 | M5: 0 | N5: =I5-M5 -> 0
A6: D | B6: Service manuel | I6: =Pers!$AE$46 -> 0 | M6: 0 | N6: =I6-M6 -> 0
I7: =Pers!$AE$46 -> 0 | M7: 0 | N7: =I7-M7 -> 0
I8: =Pers!$AE$46 -> 0 | M8: 0 | N8: =I8-M8 -> 0
A9: 100 | B9: Pl. Château | C9: 0.25 | D9: 0.375 | E9: 0.375 | F9: 0.5 | G9: 0.58333333 | H9: 0.6875 | I9: =(D9-C9)+(F9-E9)+(H9-G9) -> 0.35416667 | J9: =IF(((D9-C9)>$C$2),$D$2,IF(((D9-C9)>$E$2),$F$2,0)) -> 0 | K9: =IF(((F9-E9)>$C$2),$D$2,IF(((F9-E9)>$E$2),$F$2,0)) -> 0 | L9: =IF(((H9-G9)>$C$2),$D$2,IF(((H9-G9)>$E$2),$F$2,0)) -> 0 | M9: =SUM(J9:L9) -> 0 | N9: =I9-M9 -> 0.35416667
A10: 101 | B10: Pl. Château | C10: 0.25 | D10: 0.625 | I10: =(D10-C10)+(F10-E10)+(H10-G10) -> 0.375 | J10: =IF(((D10-C10)>$C$2),$D$2,IF(((D10-C10)>$E$2),$F$2,0)) -> 0.020833333 | K10: =IF(((F10-E10)>$C$2),$D$2,IF(((F10-E10)>$E$2),$F$2,0)) -> 0 | L10: =IF(((H10-G10)>$C$2),$D$2,IF(((H10-G10)>$E$2),$F$2,0)) -> 0 | M10: =SUM(J10:L10) -> 0.020833333 | N10: =I10-M10 -> 0.35416667
A11: 102 | B11: Pl. Château | C11: 0.58333333 | D11: 0.95833333 | I11: =(D11-C11)+(F11-E11)+(H11-G11) -> 0.375 | J11: =IF(((D11-C11)>$C$2),$D$2,IF(((D11-C11)>$E$2),$F$2,0)) -> 0.020833333 | K11: =IF(((F11-E11)>$C$2),$D$2,IF(((F11-E11)>$E$2),$F$2,0)) -> 0 | L11: =IF(((H11-G11)>$C$2),$D$2,IF(((H11-G11)>$E$2),$F$2,0)) -> 0 | M11: =SUM(J11:L11) -> 0.020833333 | N11: =I11-M11 -> 0.35416667
A12: 103 | B12: Pl. Château | C12: 0.35416667 | D12: 0.5 | E12: 0.6875 | F12: 0.89583333 | I12: =(D12-C12)+(F12-E12)+(H12-G12) -> 0.35416667 | J12: =IF(((D12-C12)>$C$2),$D$2,IF(((D12-C12)>$E$2),$F$2,0)) -> 0 | K12: =IF(((F12-E12)>$C$2),$D$2,IF(((F12-E12)>$E$2),$F$2,0)) -> 0 | L12: =IF(((H12-G12)>$C$2),$D$2,IF(((H12-G12)>$E$2),$F$2,0)) -> 0 | M12: =SUM(J12:L12) -> 0 | N12: =I12-M12 -> 0.35416667
A13: 104 | B13: Pl. Château | C13: 0.25 | D13: 0.33333333 | E13: 0.70833333 | F13: 0.85416667 | I13: =(D13-C13)+(F13-E13)+(H13-G13) -> 0.22916667 | J13: =IF(((D13-C13)>$C$2),$D$2,IF(((D13-C13)>$E$2),$F$2,0)) -> 0 | K13: =IF(((F13-E13)>$C$2),$D$2,IF(((F13-E13)>$E$2),$F$2,0)) -> 0 | L13: =IF(((H13-G13)>$C$2),$D$2,IF(((H13-G13)>$E$2),$F$2,0)) -> 0 | M13: =SUM(J13:L13) -> 0 | N13: =I13-M13 -> 0.22916667
A14: 105 | B14: Pl Château (Sa) | C14: 0.29166667 | D14: 0.66666667 | I14: =(D14-C14)+(F14-E14)+(H14-G14) -> 0.375 | J14: =IF(((D14-C14)>$C$2),$D$2,IF(((D14-C14)>$E$2),$F$2,0)) -> 0.020833333 | K14: =IF(((F14-E14)>$C$2),$D$2,IF(((F14-E14)>$E$2),$F$2,0)) -> 0 | L14: =IF(((H14-G14)>$C$2),$D$2,IF(((H14-G14)>$E$2),$F$2,0)) -> 0 | M14: =SUM(J14:L14) -> 0.020833333 | N14: =I14-M14 -> 0.35416667
A15: 106 | B15: Pl Château (Di + fériés) | C15: 0.29166667 | D15: 0.58333333 | I15: =(D15-C15)+(F15-E15)+(H15-G15) -> 0.29166667 | J15: =IF(((D15-C15)>$C$2),$D$2,IF(((D15-C15)>$E$2),$F$2,0)) -> 0.020833333 | K15: =IF(((F15-E15)>$C$2),$D$2,IF(((F15-E15)>$E$2),$F$2,0)) -> 0 | L15: =IF(((H15-G15)>$C$2),$D$2,IF(((H15-G15)>$E$2),$F$2,0)) -> 0 | M15: =SUM(J15:L15) -> 0.020833333 | N15: =I15-M15 -> 0.27083333
A16: 107 | B16: Château | C16: 0.29166667 | D16: 0.5 | E16: 0.70833333 | F16: 0.79166667 | I16: =(D16-C16)+(F16-E16)+(H16-G16) -> 0.29166667 | J16: =IF(((D16-C16)>$C$2),$D$2,IF(((D16-C16)>$E$2),$F$2,0)) -> 0 | K16: =IF(((F16-E16)>$C$2),$D$2,IF(((F16-E16)>$E$2),$F$2,0)) -> 0 | L16: =IF(((H16-G16)>$C$2),$D$2,IF(((H16-G16)>$E$2),$F$2,0)) -> 0 | M16: =SUM(J16:L16) -> 0 | N16: =I16-M16 -> 0.29166667
I126: =(D126-C126)+(F126-E126)+(H126-G126) -> 0 | J126: =IF(((D126-C126)>$C$2),$D$2,IF(((D126-C126)>$E$2),$F$2,0)) -> 0 | K126: =IF(((F126-E126)>$C$2),$D$2,IF(((F126-E126)>$E$2),$F$2,0)) -> 0 | L126: =IF(((H126-G126)>$C$2),$D$2,IF(((H126-G126)>$E$2),$F$2,0)) -> 0 | M126: =SUM(J126:L126) -> 0 | N126: =I126-M126 -> 0
I127: =(D127-C127)+(F127-E127)+(H127-G127) -> 0 | J127: =IF(((D127-C127)>$C$2),$D$2,IF(((D127-C127)>$E$2),$F$2,0)) -> 0 | K127: =IF(((F127-E127)>$C$2),$D$2,IF(((F127-E127)>$E$2),$F$2,0)) -> 0 | L127: =IF(((H127-G127)>$C$2),$D$2,IF(((H127-G127)>$E$2),$F$2,0)) -> 0 | M127: =SUM(J127:L127) -> 0 | N127: =I127-M127 -> 0
I128: =(D128-C128)+(F128-E128)+(H128-G128) -> 0 | J128: =IF(((D128-C128)>$C$2),$D$2,IF(((D128-C128)>$E$2),$F$2,0)) -> 0 | K128: =IF(((F128-E128)>$C$2),$D$2,IF(((F128-E128)>$E$2),$F$2,0)) -> 0 | L128: =IF(((H128-G128)>$C$2),$D$2,IF(((H128-G128)>$E$2),$F$2,0)) -> 0 | M128: =SUM(J128:L128) -> 0 | N128: =I128-M128 -> 0
I129: =(D129-C129)+(F129-E129)+(H129-G129) -> 0 | J129: =IF(((D129-C129)>$C$2),$D$2,IF(((D129-C129)>$E$2),$F$2,0)) -> 0 | K129: =IF(((F129-E129)>$C$2),$D$2,IF(((F129-E129)>$E$2),$F$2,0)) -> 0 | L129: =IF(((H129-G129)>$C$2),$D$2,IF(((H129-G129)>$E$2),$F$2,0)) -> 0 | M129: =SUM(J129:L129) -> 0 | N129: =I129-M129 -> 0
I130: =(D130-C130)+(F130-E130)+(H130-G130) -> 0 | J130: =IF(((D130-C130)>$C$2),$D$2,IF(((D130-C130)>$E$2),$F$2,0)) -> 0 | K130: =IF(((F130-E130)>$C$2),$D$2,IF(((F130-E130)>$E$2),$F$2,0)) -> 0 | L130: =IF(((H130-G130)>$C$2),$D$2,IF(((H130-G130)>$E$2),$F$2,0)) -> 0 | M130: =SUM(J130:L130) -> 0 | N130: =I130-M130 -> 0
I131: =(D131-C131)+(F131-E131)+(H131-G131) -> 0 | J131: =IF(((D131-C131)>$C$2),$D$2,IF(((D131-C131)>$E$2),$F$2,0)) -> 0 | K131: =IF(((F131-E131)>$C$2),$D$2,IF(((F131-E131)>$E$2),$F$2,0)) -> 0 | L131: =IF(((H131-G131)>$C$2),$D$2,IF(((H131-G131)>$E$2),$F$2,0)) -> 0 | M131: =SUM(J131:L131) -> 0 | N131: =I131-M131 -> 0
I132: =(D132-C132)+(F132-E132)+(H132-G132) -> 0 | J132: =IF(((D132-C132)>$C$2),$D$2,IF(((D132-C132)>$E$2),$F$2,0)) -> 0 | K132: =IF(((F132-E132)>$C$2),$D$2,IF(((F132-E132)>$E$2),$F$2,0)) -> 0 | L132: =IF(((H132-G132)>$C$2),$D$2,IF(((H132-G132)>$E$2),$F$2,0)) -> 0 | M132: =SUM(J132:L132) -> 0 | N132: =I132-M132 -> 0
I133: =(D133-C133)+(F133-E133)+(H133-G133) -> 0 | J133: =IF(((D133-C133)>$C$2),$D$2,IF(((D133-C133)>$E$2),$F$2,0)) -> 0 | K133: =IF(((F133-E133)>$C$2),$D$2,IF(((F133-E133)>$E$2),$F$2,0)) -> 0 | L133: =IF(((H133-G133)>$C$2),$D$2,IF(((H133-G133)>$E$2),$F$2,0)) -> 0 | M133: =SUM(J133:L133) -> 0 | N133: =I133-M133 -> 0
I134: =(D134-C134)+(F134-E134)+(H134-G134) -> 0 | J134: =IF(((D134-C134)>$C$2),$D$2,IF(((D134-C134)>$E$2),$F$2,0)) -> 0 | K134: =IF(((F134-E134)>$C$2),$D$2,IF(((F134-E134)>$E$2),$F$2,0)) -> 0 | L134: =IF(((H134-G134)>$C$2),$D$2,IF(((H134-G134)>$E$2),$F$2,0)) -> 0 | M134: =SUM(J134:L134) -> 0 | N134: =I134-M134 -> 0
I135: =(D135-C135)+(F135-E135)+(H135-G135) -> 0 | J135: =IF(((D135-C135)>$C$2),$D$2,IF(((D135-C135)>$E$2),$F$2,0)) -> 0 | K135: =IF(((F135-E135)>$C$2),$D$2,IF(((F135-E135)>$E$2),$F$2,0)) -> 0 | L135: =IF(((H135-G135)>$C$2),$D$2,IF(((H135-G135)>$E$2),$F$2,0)) -> 0 | M135: =SUM(J135:L135) -> 0 | N135: =I135-M135 -> 0
I136: =(D136-C136)+(F136-E136)+(H136-G136) -> 0 | J136: =IF(((D136-C136)>$C$2),$D$2,IF(((D136-C136)>$E$2),$F$2,0)) -> 0 | K136: =IF(((F136-E136)>$C$2),$D$2,IF(((F136-E136)>$E$2),$F$2,0)) -> 0 | L136: =IF(((H136-G136)>$C$2),$D$2,IF(((H136-G136)>$E$2),$F$2,0)) -> 0 | M136: =SUM(J136:L136) -> 0 | N136: =I136-M136 -> 0
I137: =(D137-C137)+(F137-E137)+(H137-G137) -> 0 | J137: =IF(((D137-C137)>$C$2),$D$2,IF(((D137-C137)>$E$2),$F$2,0)) -> 0 | K137: =IF(((F137-E137)>$C$2),$D$2,IF(((F137-E137)>$E$2),$F$2,0)) -> 0 | L137: =IF(((H137-G137)>$C$2),$D$2,IF(((H137-G137)>$E$2),$F$2,0)) -> 0 | M137: =SUM(J137:L137) -> 0 | N137: =I137-M137 -> 0
... I1005: =(D1005-C1005)+(F1005-E1005)+(H1005-G1005) -> 0 | J1005: =IF(((D1005-C1005)>$C$2),$D$2,IF(((D1005-C1005)>$E$2),$F$2,0)) -> 0 | K1005: =IF(((F1005-E1005)>$C$2),$D$2,IF(((F1005-E1005)>$E$2),$F$2,0)) -> 0 | L1005: =IF(((H1005-G1005)>$C$2),$D$2,IF(((H1005-G1005)>$E$2),$F$2,0)) -> 0 | M1005: =SUM(J1005:L1005) -> 0 | N1005: =I1005-M1005 -> 0

Sheet Jan
A1: Planning de travail de la maintenance | I1: M | J1: 0.25 | K1: 0.020833333 | L1: 0.5 | M1: 0.041666667 | N1: V | O1: 2014 | R1: Janvier
F2: 1er janvier | I2: 2 janvier | O2: Samedi | R2: Dimanche | AJ2: Samedi | AM2: Dimanche | BE2: Samedi | BH2: Dimanche | BZ2: Samedi | CC2: Dimanche
A3: Employé | B3: Tri | C3: Dû | D3: Plan | E3: Delta | F3: 1 | I3: 2 | L3: 3 | O3: 4 | R3: 5 | U3: 6 | X3: 7 | AA3: 8 | AD3: 9 | AG3: 10 | AJ3: 11 | AM3: 12 | AP3: 13 | AS3: 14 | AV3: 15 | AY3: 16 | BB3: 17 | BE3: 18 | BH3: 19 | BK3: 20 | BN3: 21 | BQ3: 22 | BT3: 23 | BW3: 24 | BZ3: 25 | CC3: 26 | CF3: 27 | CI3: 28 | CL3: 29 | CO3: 30 | CR3: 31
