Workbook

Sheet Récap
B1: Janvier | C1: Février | D1: Mars | E1: Avril | F1: Mai | G1: Juin | H1: Juillet | I1: Août | J1: Septembre | K1: Octobre | L1: Novembre | M1: Décembre
A2: 1 | B2: =IF(COUNTIF(Repas!$A$2:$A$500,DATEVALUE($A2&B$1&2013)),SUMPRODUCT((Repas!$A$2:$A$500=DATEVALUE($A2&B$1&2013))*(Repas!$B$2:$H$500)*(Paramétrage!$A$2:$A$500<=DATEVALUE($A2&B$1&2013))*(Paramétrage!$B$2:$H$500)),"0") -> 0 | C2: =IF(COUNTIF(Repas!$A$2:$A$500,DATEVALUE($A2&C$1&2013)),SUMPRODUCT((Repas!$A$2:$A$500=DATEVALUE($A2&C$1&2013))*(Repas!$B$2:$H$500)*(Paramétrage!$A$2:$A$500<=DATEVALUE($A2&C$1&2013))*(Paramétrage!$B$2:$H$500)),"0") -> 0 | D2: =IF(COUNTIF(Repas!$A$2:$A$500,DATEVALUE($A2&D$1&2013)),SUMPRODUCT((Repas!$A$2:$A$500=DATEVALUE($A2&D$1&2013))*(Repas!$B$2:$H$500)*(Paramétrage!$A$2:$A$500<=DATEVALUE($A2&D$1&2013))*(Paramétrage!$B$2:$H$500)),"0") -> 0 | E2: =IF(COUNTIF(Repas!$A$2:$A$500,DATEVALUE($A2&E$1&2013)),SUMPRODUCT((Repas!$A$2:$A$500=DATEVALUE($A2&E$1&2013))*(Repas!$B$2:$H$500)*(Paramétrage!$A$2:$A$500<=DATEVALUE($A2&E$1&2013))*(Paramétrage!$B$2:$H$500)),"0") -> 0 | F2: =IF(COUNTIF(Repas!$A$2:$A$500,DATEVALUE($A2&F$1&2013)),SUMPRODUCT((Repas!$A$2:$A$500=DATEVALUE($A2&F$1&2013))*(Repas!$B$2:$H$500)*(Paramétrage!$A$2:$A$500<=DATEVALUE($A2&F$1&2013))*(Paramétrage!$B$2:$H$500)),"0") -> 0 | G2: =IF(COUNTIF(Repas!$A$2:$A$500,DATEVALUE($A2&G$1&2013)),SUMPRODUCT((Repas!$A$2:$A$500=DATEVALUE($A2&G$1&2013))*(Repas!$B$2:$H$500)*(Paramétrage!$A$2:$A$500<=DATEVALUE($A2&G$1&2013))*(Paramétrage!$B$2:$H$500)),"0") -> 0 | H2: =IF(COUNTIF(Repas!$A$2:$A$500,DATEVALUE($A2&H$1&2013)),SUMPRODUCT((Repas!$A$2:$A$500=DATEVALUE($A2&H$1&2013))*(Repas!$B$2:$H$500)*(Paramétrage!$A$2:$A$500<=DATEVALUE($A2&H$1&2013))*(Paramétrage!$B$2:$H$500)),"0") -> 0 | I2: =IF(COUNTIF(Repas!$A$2:$A$500,DATEVALUE($A2&I$1&2013)),SUMPRODUCT((Repas!$A$2:$A$500=DATEVALUE($A2&I$1&2013))*(Repas!$B$2:$H$500)*(Paramétrage!$A$2:$A$500<=DATEVALUE($A2&I$1&2013))*(Paramétrage!$B$2:$H$500)),"0") -> 0 | ... M2: =IF(COUNTIF(Repas!$A$2:$A$500,DATEVALUE($A2&M$1&2013)),SUMPRODUCT((Repas!$A$2:$A$500=DATEVALUE($A2&M$1&2013))*(Repas!$B$2:$H$500)*(Paramétrage!$A$2:$A$500<=DATEVALUE($A2&M$1&2013))*(Paramétrage!$B$2:$H$500)),"0") -> 0
A3: 2 | B3: =IF(COUNTIF(Repas!$A$2:$A$500,DATEVALUE($A3&B$1&2013)),SUMPRODUCT((Repas!$A$2:$A$500=DATEVALUE($A3&B$1&2013))*(Repas!$B$2:$H$500)*(Paramétrage!$A$2:$A$500<=DATEVALUE($A3&B$1&2013))*(Paramétrage!$B$2:$H$500)),"0") -> 70 | C3: =IF(COUNTIF(Repas!$A$2:$A$500,DATEVALUE($A3&C$1&2013)),SUMPRODUCT((Repas!$A$2:$A$500=DATEVALUE($A3&C$1&2013))*(Repas!$B$2:$H$500)*(Paramétrage!$A$2:$A$500<=DATEVALUE($A3&C$1&2013))*(Paramétrage!$B$2:$H$500)),"0") -> 0 | D3: =IF(COUNTIF(Repas!$A$2:$A$500,DATEVALUE($A3&D$1&2013)),SUMPRODUCT((Repas!$A$2:$A$500=DATEVALUE($A3&D$1&2013))*(Repas!$B$2:$H$500)*(Paramétrage!$A$2:$A$500<=DATEVALUE($A3&D$1&2013))*(Paramétrage!$B$2:$H$500)),"0") -> 0 | E3: =IF(COUNTIF(Repas!$A$2:$A$500,DATEVALUE($A3&E$1&2013)),SUMPRODUCT((Repas!$A$2:$A$500=DATEVALUE($A3&E$1&2013))*(Repas!$B$2:$H$500)*(Paramétrage!$A$2:$A$500<=DATEVALUE($A3&E$1&2013))*(Paramétrage!$B$2:$H$500)),"0") -> 0 | F3: =IF(COUNTIF(Repas!$A$2:$A$500,DATEVALUE($A3&F$1&2013)),SUMPRODUCT((Repas!$A$2:$A$500=DATEVALUE($A3&F$1&2013))*(Repas!$B$2:$H$500)*(Paramétrage!$A$2:$A$500<=DATEVALUE($A3&F$1&2013))*(Paramétrage!$B$2:$H$500)),"0") -> 0 | G3: =IF(COUNTIF(Repas!$A$2:$A$500,DATEVALUE($A3&G$1&2013)),SUMPRODUCT((Repas!$A$2:$A$500=DATEVALUE($A3&G$1&2013))*(Repas!$B$2:$H$500)*(Paramétrage!$A$2:$A$500<=DATEVALUE($A3&G$1&2013))*(Paramétrage!$B$2:$H$500)),"0") -> 0 | H3: =IF(COUNTIF(Repas!$A$2:$A$500,DATEVALUE($A3&H$1&2013)),SUMPRODUCT((Repas!$A$2:$A$500=DATEVALUE($A3&H$1&2013))*(Repas!$B$2:$H$500)*(Paramétrage!$A$2:$A$500<=DATEVALUE($A3&H$1&2013))*(Paramétrage!$B$2:$H$500)),"0") -> 0 | I3: =IF(COUNTIF(Repas!$A$2:$A$500,DATEVALUE($A3&I$1&2013)),SUMPRODUCT((Repas!$A$2:$A$500=DATEVALUE($A3&I$1&2013))*(Repas!$B$2:$H$500)*(Paramétrage!$A$2:$A$500<=DATEVALUE($A3&I$1&2013))*(Paramétrage!$B$2:$H$500)),"0") -> 0 | ... M3: =IF(COUNTIF(Repas!$A$2:$A$500,DATEVALUE($A3&M$1&2013)),SUMPRODUCT((Repas!$A$2:$A$500=DATEVALUE($A3&M$1&2013))*(Repas!$B$2:$H$500)*(Paramétrage!$A$2:$A$500<=DATEVALUE($A3&M$1&2013))*(Paramétrage!$B$2:$H$500)),"0") -> 0
A4: 3 | B4: =IF(COUNTIF(Repas!$A$2:$A$500,DATEVALUE($A4&B$1&2013)),SUMPRODUCT((Repas!$A$2:$A$500=DATEVALUE($A4&B$1&2013))*(Repas!$B$2:$H$500)*(Paramétrage!$A$2:$A$500<=DATEVALUE($A4&B$1&2013))*(Paramétrage!$B$2:$H$500)),"0") -> 0 | C4: =IF(COUNTIF(Repas!$A$2:$A$500,DATEVALUE($A4&C$1&2013)),SUMPRODUCT((Repas!$A$2:$A$500=DATEVALUE($A4&C$1&2013))*(Repas!$B$2:$H$500)*(Paramétrage!$A$2:$A$500<=DATEVALUE($A4&C$1&2013))*(Paramétrage!$B$2:$H$500)),"0") -> 0 | D4: =IF(COUNTIF(Repas!$A$2:$A$500,DATEVALUE($A4&D$1&2013)),SUMPRODUCT((Repas!$A$2:$A$500=DATEVALUE($A4&D$1&2013))*(Repas!$B$2:$H$500)*(Paramétrage!$A$2:$A$500<=DATEVALUE($A4&D$1&2013))*(Paramétrage!$B$2:$H$500)),"0") -> 0 | E4: =IF(COUNTIF(Repas!$A$2:$A$500,DATEVALUE($A4&E$1&2013)),SUMPRODUCT((Repas!$A$2:$A$500=DATEVALUE($A4&E$1&2013))*(Repas!$B$2:$H$500)*(Paramétrage!$A$2:$A$500<=DATEVALUE($A4&E$1&2013))*(Paramétrage!$B$2:$H$500)),"0") -> 0 | F4: =IF(COUNTIF(Repas!$A$2:$A$500,DATEVALUE($A4&F$1&2013)),SUMPRODUCT((Repas!$A$2:$A$500=DATEVALUE($A4&F$1&2013))*(Repas!$B$2:$H$500)*(Paramétrage!$A$2:$A$500<=DATEVALUE($A4&F$1&2013))*(Paramétrage!$B$2:$H$500)),"0") -> 0 | G4: =IF(COUNTIF(Repas!$A$2:$A$500,DATEVALUE($A4&G$1&2013)),SUMPRODUCT((Repas!$A$2:$A$500=DATEVALUE($A4&G$1&2013))*(Repas!$B$2:$H$500)*(Paramétrage!$A$2:$A$500<=DATEVALUE($A4&G$1&2013))*(Paramétrage!$B$2:$H$500)),"0") -> 0 | H4: =IF(COUNTIF(Repas!$A$2:$A$500,DATEVALUE($A4&H$1&2013)),SUMPRODUCT((Repas!$A$2:$A$500=DATEVALUE($A4&H$1&2013))*(Repas!$B$2:$H$500)*(Paramétrage!$A$2:$A$500<=DATEVALUE($A4&H$1&2013))*(Paramétrage!$B$2:$H$500)),"0") -> 0 | I4: =IF(COUNTIF(Repas!$A$2:$A$500,DATEVALUE($A4&I$1&2013)),SUMPRODUCT((Repas!$A$2:$A$500=DATEVALUE($A4&I$1&2013))*(Repas!$B$2:$H$500)*(Paramétrage!$A$2:$A$500<=DATEVALUE($A4&I$1&2013))*(Paramétrage!$B$2:$H$500)),"0") -> 0 | ... M4: =IF(COUNTIF(Repas!$A$2:$A$500,DATEVALUE($A4&M$1&2013)),SUMPRODUCT((Repas!$A$2:$A$500=DATEVALUE($A4&M$1&2013))*(Repas!$B$2:$H$500)*(Paramétrage!$A$2:$A$500<=DATEVALUE($A4&M$1&2013))*(Paramétrage!$B$2:$H$500)),"0") -> 0
A5: 4 | B5: =IF(COUNTIF(Repas!$A$2:$A$500,DATEVALUE($A5&B$1&2013)),SUMPRODUCT((Repas!$A$2:$A$500=DATEVALUE($A5&B$1&2013))*(Repas!$B$2:$H$500)*(Paramétrage!$A$2:$A$500<=DATEVALUE($A5&B$1&2013))*(Paramétrage!$B$2:$H$500)),"0") -> 0 | C5: =IF(COUNTIF(Repas!$A$2:$A$500,DATEVALUE($A5&C$1&2013)),SUMPRODUCT((Repas!$A$2:$A$500=DATEVALUE($A5&C$1&2013))*(Repas!$B$2:$H$500)*(Paramétrage!$A$2:$A$500<=DATEVALUE($A5&C$1&2013))*(Paramétrage!$B$2:$H$500)),"0") -> 0 | D5: =IF(COUNTIF(Repas!$A$2:$A$500,DATEVALUE($A5&D$1&2013)),SUMPRODUCT((Repas!$A$2:$A$500=DATEVALUE($A5&D$1&2013))*(Repas!$B$2:$H$500)*(Paramétrage!$A$2:$A$500<=DATEVALUE($A5&D$1&2013))*(Paramétrage!$B$2:$H$500)),"0") -> 5600000000 | E5: =IF(COUNTIF(Repas!$A$2:$A$500,DATEVALUE($A5&E$1&2013)),SUMPRODUCT((Repas!$A$2:$A$500=DATEVALUE($A5&E$1&2013))*(Repas!$B$2:$H$500)*(Paramétrage!$A$2:$A$500<=DATEVALUE($A5&E$1&2013))*(Paramétrage!$B$2:$H$500)),"0") -> 0 | F5: =IF(COUNTIF(Repas!$A$2:$A$500,DATEVALUE($A5&F$1&2013)),SUMPRODUCT((Repas!$A$2:$A$500=DATEVALUE($A5&F$1&2013))*(Repas!$B$2:$H$500)*(Paramétrage!$A$2:$A$500<=DATEVALUE($A5&F$1&2013))*(Paramétrage!$B$2:$H$500)),"0") -> 0 | G5: =IF(COUNTIF(Repas!$A$2:$A$500,DATEVALUE($A5&G$1&2013)),SUMPRODUCT((Repas!$A$2:$A$500=DATEVALUE($A5&G$1&2013))*(Repas!$B$2:$H$500)*(Paramétrage!$A$2:$A$500<=DATEVALUE($A5&G$1&2013))*(Paramétrage!$B$2:$H$500)),"0") -> 0 | H5: =IF(COUNTIF(Repas!$A$2:$A$500,DATEVALUE($A5&H$1&2013)),SUMPRODUCT((Repas!$A$2:$A$500=DATEVALUE($A5&H$1&2013))*(Repas!$B$2:$H$500)*(Paramétrage!$A$2:$A$500<=DATEVALUE($A5&H$1&2013))*(Paramétrage!$B$2:$H$500)),"0") -> 0 | I5: =IF(COUNTIF(Repas!$A$2:$A$500,DATEVALUE($A5&I$1&2013)),SUMPRODUCT((Repas!$A$2:$A$500=DATEVALUE($A5&I$1&2013))*(Repas!$B$2:$H$500)*(Paramétrage!$A$2:$A$500<=DATEVALUE($A5&I$1&2013))*(Paramétrage!$B$2:$H$500)),"0") -> 0 | ... M5: =IF(COUNTIF(Repas!$A$2:$A$500,DATEVALUE($A5&M$1&2013)),SUMPRODUCT((Repas!$A$2:$A$500=DATEVALUE($A5&M$1&2013))*(Repas!$B$2:$H$500)*(Paramétrage!$A$2:$A$500<=DATEVALUE($A5&M$1&2013))*(Paramétrage!$B$2:$H$500)),"0") -> 0 | Q5: repas | S5: param
A6: 5 | B6: =IF(COUNTIF(Repas!$A$2:$A$500,DATEVALUE($A6&B$1&2013)),SUMPRODUCT((Repas!$A$2:$A$500=DATEVALUE($A6&B$1&2013))*(Repas!$B$2:$H$500)*(Paramétrage!$A$2:$A$500<=DATEVALUE($A6&B$1&2013))*(Paramétrage!$B$2:$H$500)),"0") -> 1400 | C6: =IF(COUNTIF(Repas!$A$2:$A$500,DATEVALUE($A6&C$1&2013)),SUMPRODUCT((Repas!$A$2:$A$500=DATEVALUE($A6&C$1&2013))*(Repas!$B$2:$H$500)*(Paramétrage!$A$2:$A$500<=DATEVALUE($A6&C$1&2013))*(Paramétrage!$B$2:$H$500)),"0") -> 0 | D6: =IF(COUNTIF(Repas!$A$2:$A$500,DATEVALUE($A6&D$1&2013)),SUMPRODUCT((Repas!$A$2:$A$500=DATEVALUE($A6&D$1&2013))*(Repas!$B$2:$H$500)*(Paramétrage!$A$2:$A$500<=DATEVALUE($A6&D$1&2013))*(Paramétrage!$B$2:$H$500)),"0") -> 0 | E6: =IF(COUNTIF(Repas!$A$2:$A$500,DATEVALUE($A6&E$1&2013)),SUMPRODUCT((Repas!$A$2:$A$500=DATEVALUE($A6&E$1&2013))*(Repas!$B$2:$H$500)*(Paramétrage!$A$2:$A$500<=DATEVALUE($A6&E$1&2013))*(Paramétrage!$B$2:$H$500)),"0") -> 0 | F6: =IF(COUNTIF(Repas!$A$2:$A$500,DATEVALUE($A6&F$1&2013)),SUMPRODUCT((Repas!$A$2:$A$500=DATEVALUE($A6&F$1&2013))*(Repas!$B$2:$H$500)*(Paramétrage!$A$2:$A$500<=DATEVALUE($A6&F$1&2013))*(Paramétrage!$B$2:$H$500)),"0") -> 0 | G6: =IF(COUNTIF(Repas!$A$2:$A$500,DATEVALUE($A6&G$1&2013)),SUMPRODUCT((Repas!$A$2:$A$500=DATEVALUE($A6&G$1&2013))*(Repas!$B$2:$H$500)*(Paramétrage!$A$2:$A$500<=DATEVALUE($A6&G$1&2013))*(Paramétrage!$B$2:$H$500)),"0") -> 0 | H6: =IF(COUNTIF(Repas!$A$2:$A$500,DATEVALUE($A6&H$1&2013)),SUMPRODUCT((Repas!$A$2:$A$500=DATEVALUE($A6&H$1&2013))*(Repas!$B$2:$H$500)*(Paramétrage!$A$2:$A$500<=DATEVALUE($A6&H$1&2013))*(Paramétrage!$B$2:$H$500)),"0") -> 0 | I6: =IF(COUNTIF(Repas!$A$2:$A$500,DATEVALUE($A6&I$1&2013)),SUMPRODUCT((Repas!$A$2:$A$500=DATEVALUE($A6&I$1&2013))*(Repas!$B$2:$H$500)*(Paramétrage!$A$2:$A$500<=DATEVALUE($A6&I$1&2013))*(Paramétrage!$B$2:$H$500)),"0") -> 0 | ... M6: =IF(COUNTIF(Repas!$A$2:$A$500,DATEVALUE($A6&M$1&2013)),SUMPRODUCT((Repas!$A$2:$A$500=DATEVALUE($A6&M$1&2013))*(Repas!$B$2:$H$500)*(Paramétrage!$A$2:$A$500<=DATEVALUE($A6&M$1&2013))*(Paramétrage!$B$2:$H$500)),"0") -> 0 | Q6: =Repas!A2 -> 41276 | S6: =Paramétrage!A2 -> 41275 | T6: =Paramétrage!B2 -> 10
A7: 6 | B7: =IF(COUNTIF(Repas!$A$2:$A$500,DATEVALUE($A7&B$1&2013)),SUMPRODUCT((Repas!$A$2:$A$500=DATEVALUE($A7&B$1&2013))*(Repas!$B$2:$H$500)*(Paramétrage!$A$2:$A$500<=DATEVALUE($A7&B$1&2013))*(Paramétrage!$B$2:$H$500)),"0") -> 0 | C7: =IF(COUNTIF(Repas!$A$2:$A$500,DATEVALUE($A7&C$1&2013)),SUMPRODUCT((Repas!$A$2:$A$500=DATEVALUE($A7&C$1&2013))*(Repas!$B$2:$H$500)*(Paramétrage!$A$2:$A$500<=DATEVALUE($A7&C$1&2013))*(Paramétrage!$B$2:$H$500)),"0") -> 0 | D7: =IF(COUNTIF(Repas!$A$2:$A$500,DATEVALUE($A7&D$1&2013)),SUMPRODUCT((Repas!$A$2:$A$500=DATEVALUE($A7&D$1&2013))*(Repas!$B$2:$H$500)*(Paramétrage!$A$2:$A$500<=DATEVALUE($A7&D$1&2013))*(Paramétrage!$B$2:$H$500)),"0") -> 0 | E7: =IF(COUNTIF(Repas!$A$2:$A$500,DATEVALUE($A7&E$1&2013)),SUMPRODUCT((Repas!$A$2:$A$500=DATEVALUE($A7&E$1&2013))*(Repas!$B$2:$H$500)*(Paramétrage!$A$2:$A$500<=DATEVALUE($A7&E$1&2013))*(Paramétrage!$B$2:$H$500)),"0") -> 0 | F7: =IF(COUNTIF(Repas!$A$2:$A$500,DATEVALUE($A7&F$1&2013)),SUMPRODUCT((Repas!$A$2:$A$500=DATEVALUE($A7&F$1&2013))*(Repas!$B$2:$H$500)*(Paramétrage!$A$2:$A$500<=DATEVALUE($A7&F$1&2013))*(Paramétrage!$B$2:$H$500)),"0") -> 0 | G7: =IF(COUNTIF(Repas!$A$2:$A$500,DATEVALUE($A7&G$1&2013)),SUMPRODUCT((Repas!$A$2:$A$500=DATEVALUE($A7&G$1&2013))*(Repas!$B$2:$H$500)*(Paramétrage!$A$2:$A$500<=DATEVALUE($A7&G$1&2013))*(Paramétrage!$B$2:$H$500)),"0") -> 0 | H7: =IF(COUNTIF(Repas!$A$2:$A$500,DATEVALUE($A7&H$1&2013)),SUMPRODUCT((Repas!$A$2:$A$500=DATEVALUE($A7&H$1&2013))*(Repas!$B$2:$H$500)*(Paramétrage!$A$2:$A$500<=DATEVALUE($A7&H$1&2013))*(Paramétrage!$B$2:$H$500)),"0") -> 0 | I7: =IF(COUNTIF(Repas!$A$2:$A$500,DATEVALUE($A7&I$1&2013)),SUMPRODUCT((Repas!$A$2:$A$500=DATEVALUE($A7&I$1&2013))*(Repas!$B$2:$H$500)*(Paramétrage!$A$2:$A$500<=DATEVALUE($A7&I$1&2013))*(Paramétrage!$B$2:$H$500)),"0") -> 0 | ... M7: =IF(COUNTIF(Repas!$A$2:$A$500,DATEVALUE($A7&M$1&2013)),SUMPRODUCT((Repas!$A$2:$A$500=DATEVALUE($A7&M$1&2013))*(Repas!$B$2:$H$500)*(Paramétrage!$A$2:$A$500<=DATEVALUE($A7&M$1&2013))*(Paramétrage!$B$2:$H$500)),"0") -> 0 | Q7: =Repas!A3 -> 41279 | S7: =Paramétrage!A3 -> 41279 | T7: =Paramétrage!B3 -> 100
A8: 7 | B8: =IF(COUNTIF(Repas!$A$2:$A$500,DATEVALUE($A8&B$1&2013)),SUMPRODUCT((Repas!$A$2:$A$500=DATEVALUE($A8&B$1&2013))*(Repas!$B$2:$H$500)*(Paramétrage!$A$2:$A$500<=DATEVALUE($A8&B$1&2013))*(Paramétrage!$B$2:$H$500)),"0") -> 0 | C8: =IF(COUNTIF(Repas!$A$2:$A$500,DATEVALUE($A8&C$1&2013)),SUMPRODUCT((Repas!$A$2:$A$500=DATEVALUE($A8&C$1&2013))*(Repas!$B$2:$H$500)*(Paramétrage!$A$2:$A$500<=DATEVALUE($A8&C$1&2013))*(Paramétrage!$B$2:$H$500)),"0") -> 0 | D8: =IF(COUNTIF(Repas!$A$2:$A$500,DATEVALUE($A8&D$1&2013)),SUMPRODUCT((Repas!$A$2:$A$500=DATEVALUE($A8&D$1&2013))*(Repas!$B$2:$H$500)*(Paramétrage!$A$2:$A$500<=DATEVALUE($A8&D$1&2013))*(Paramétrage!$B$2:$H$500)),"0") -> 0 | E8: =IF(COUNTIF(Repas!$A$2:$A$500,DATEVALUE($A8&E$1&2013)),SUMPRODUCT((Repas!$A$2:$A$500=DATEVALUE($A8&E$1&2013))*(Repas!$B$2:$H$500)*(Paramétrage!$A$2:$A$500<=DATEVALUE($A8&E$1&2013))*(Paramétrage!$B$2:$H$500)),"0") -> 0 | F8: =IF(COUNTIF(Repas!$A$2:$A$500,DATEVALUE($A8&F$1&2013)),SUMPRODUCT((Repas!$A$2:$A$500=DATEVALUE($A8&F$1&2013))*(Repas!$B$2:$H$500)*(Paramétrage!$A$2:$A$500<=DATEVALUE($A8&F$1&2013))*(Paramétrage!$B$2:$H$500)),"0") -> 0 | G8: =IF(COUNTIF(Repas!$A$2:$A$500,DATEVALUE($A8&G$1&2013)),SUMPRODUCT((Repas!$A$2:$A$500=DATEVALUE($A8&G$1&2013))*(Repas!$B$2:$H$500)*(Paramétrage!$A$2:$A$500<=DATEVALUE($A8&G$1&2013))*(Paramétrage!$B$2:$H$500)),"0") -> 0 | H8: =IF(COUNTIF(Repas!$A$2:$A$500,DATEVALUE($A8&H$1&2013)),SUMPRODUCT((Repas!$A$2:$A$500=DATEVALUE($A8&H$1&2013))*(Repas!$B$2:$H$500)*(Paramétrage!$A$2:$A$500<=DATEVALUE($A8&H$1&2013))*(Paramétrage!$B$2:$H$500)),"0") -> 0 | I8: =IF(COUNTIF(Repas!$A$2:$A$500,DATEVALUE($A8&I$1&2013)),SUMPRODUCT((Repas!$A$2:$A$500=DATEVALUE($A8&I$1&2013))*(Repas!$B$2:$H$500)*(Paramétrage!$A$2:$A$500<=DATEVALUE($A8&I$1&2013))*(Paramétrage!$B$2:$H$500)),"0") -> 0 | ... M8: =IF(COUNTIF(Repas!$A$2:$A$500,DATEVALUE($A8&M$1&2013)),SUMPRODUCT((Repas!$A$2:$A$500=DATEVALUE($A8&M$1&2013))*(Repas!$B$2:$H$500)*(Paramétrage!$A$2:$A$500<=DATEVALUE($A8&M$1&2013))*(Paramétrage!$B$2:$H$500)),"0") -> 0 | Q8: =Repas!A4 -> 41289 | S8: =Paramétrage!A4 -> 41288 | T8: =Paramétrage!B4 -> 1000
A9: 8 | B9: =IF(COUNTIF(Repas!$A$2:$A$500,DATEVALUE($A9&B$1&2013)),SUMPRODUCT((Repas!$A$2:$A$500=DATEVALUE($A9&B$1&2013))*(Repas!$B$2:$H$500)*(Paramétrage!$A$2:$A$500<=DATEVALUE($A9&B$1&2013))*(Paramétrage!$B$2:$H$500)),"0") -> 0 | C9: =IF(COUNTIF(Repas!$A$2:$A$500,DATEVALUE($A9&C$1&2013)),SUMPRODUCT((Repas!$A$2:$A$500=DATEVALUE($A9&C$1&2013))*(Repas!$B$2:$H$500)*(Paramétrage!$A$2:$A$500<=DATEVALUE($A9&C$1&2013))*(Paramétrage!$B$2:$H$500)),"0") -> 42000000 | D9: =IF(COUNTIF(Repas!$A$2:$A$500,DATEVALUE($A9&D$1&2013)),SUMPRODUCT((Repas!$A$2:$A$500=DATEVALUE($A9&D$1&2013))*(Repas!$B$2:$H$500)*(Paramétrage!$A$2:$A$500<=DATEVALUE($A9&D$1&2013))*(Paramétrage!$B$2:$H$500)),"0") -> 0 | E9: =IF(COUNTIF(Repas!$A$2:$A$500,DATEVALUE($A9&E$1&2013)),SUMPRODUCT((Repas!$A$2:$A$500=DATEVALUE($A9&E$1&2013))*(Repas!$B$2:$H$500)*(Paramétrage!$A$2:$A$500<=DATEVALUE($A9&E$1&2013))*(Paramétrage!$B$2:$H$500)),"0") -> 0 | F9: =IF(COUNTIF(Repas!$A$2:$A$500,DATEVALUE($A9&F$1&2013)),SUMPRODUCT((Repas!$A$2:$A$500=DATEVALUE($A9&F$1&2013))*(Repas!$B$2:$H$500)*(Paramétrage!$A$2:$A$500<=DATEVALUE($A9&F$1&2013))*(Paramétrage!$B$2:$H$500)),"0") -> 0 | G9: =IF(COUNTIF(Repas!$A$2:$A$500,DATEVALUE($A9&G$1&2013)),SUMPRODUCT((Repas!$A$2:$A$500=DATEVALUE($A9&G$1&2013))*(Repas!$B$2:$H$500)*(Paramétrage!$A$2:$A$500<=DATEVALUE($A9&G$1&2013))*(Paramétrage!$B$2:$H$500)),"0") -> 0 | H9: =IF(COUNTIF(Repas!$A$2:$A$500,DATEVALUE($A9&H$1&2013)),SUMPRODUCT((Repas!$A$2:$A$500=DATEVALUE($A9&H$1&2013))*(Repas!$B$2:$H$500)*(Paramétrage!$A$2:$A$500<=DATEVALUE($A9&H$1&2013))*(Paramétrage!$B$2:$H$500)),"0") -> 0 | I9: =IF(COUNTIF(Repas!$A$2:$A$500,DATEVALUE($A9&I$1&2013)),SUMPRODUCT((Repas!$A$2:$A$500=DATEVALUE($A9&I$1&2013))*(Repas!$B$2:$H$500)*(Paramétrage!$A$2:$A$500<=DATEVALUE($A9&I$1&2013))*(Paramétrage!$B$2:$H$500)),"0") -> 0 | ... M9: =IF(COUNTIF(Repas!$A$2:$A$500,DATEVALUE($A9&M$1&2013)),SUMPRODUCT((Repas!$A$2:$A$500=DATEVALUE($A9&M$1&2013))*(Repas!$B$2:$H$500)*(Paramétrage!$A$2:$A$500<=DATEVALUE($A9&M$1&2013))*(Paramétrage!$B$2:$H$500)),"0") -> 0 | Q9: =Repas!A5 -> 41294 | S9: =Paramétrage!A5 -> 41296 | T9: =Paramétrage!B5 -> 10000
A10: 9 | B10: =IF(COUNTIF(Repas!$A$2:$A$500,DATEVALUE($A10&B$1&2013)),SUMPRODUCT((Repas!$A$2:$A$500=DATEVALUE($A10&B$1&2013))*(Repas!$B$2:$H$500)*(Paramétrage!$A$2:$A$500<=DATEVALUE($A10&B$1&2013))*(Paramétrage!$B$2:$H$500)),"0") -> 0 | C10: =IF(COUNTIF(Repas!$A$2:$A$500,DATEVALUE($A10&C$1&2013)),SUMPRODUCT((Repas!$A$2:$A$500=DATEVALUE($A10&C$1&2013))*(Repas!$B$2:$H$500)*(Paramétrage!$A$2:$A$500<=DATEVALUE($A10&C$1&2013))*(Paramétrage!$B$2:$H$500)),"0") -> 0 | D10: =IF(COUNTIF(Repas!$A$2:$A$500,DATEVALUE($A10&D$1&2013)),SUMPRODUCT((Repas!$A$2:$A$500=DATEVALUE($A10&D$1&2013))*(Repas!$B$2:$H$500)*(Paramétrage!$A$2:$A$500<=DATEVALUE($A10&D$1&2013))*(Paramétrage!$B$2:$H$500)),"0") -> 0 | E10: =IF(COUNTIF(Repas!$A$2:$A$500,DATEVALUE($A10&E$1&2013)),SUMPRODUCT((Repas!$A$2:$A$500=DATEVALUE($A10&E$1&2013))*(Repas!$B$2:$H$500)*(Paramétrage!$A$2:$A$500<=DATEVALUE($A10&E$1&2013))*(Paramétrage!$B$2:$H$500)),"0") -> 0 | F10: =IF(COUNTIF(Repas!$A$2:$A$500,DATEVALUE($A10&F$1&2013)),SUMPRODUCT((Repas!$A$2:$A$500=DATEVALUE($A10&F$1&2013))*(Repas!$B$2:$H$500)*(Paramétrage!$A$2:$A$500<=DATEVALUE($A10&F$1&2013))*(Paramétrage!$B$2:$H$500)),"0") -> 0 | G10: =IF(COUNTIF(Repas!$A$2:$A$500,DATEVALUE($A10&G$1&2013)),SUMPRODUCT((Repas!$A$2:$A$500=DATEVALUE($A10&G$1&2013))*(Repas!$B$2:$H$500)*(Paramétrage!$A$2:$A$500<=DATEVALUE($A10&G$1&2013))*(Paramétrage!$B$2:$H$500)),"0") -> 0 | H10: =IF(COUNTIF(Repas!$A$2:$A$500,DATEVALUE($A10&H$1&2013)),SUMPRODUCT((Repas!$A$2:$A$500=DATEVALUE($A10&H$1&2013))*(Repas!$B$2:$H$500)*(Paramétrage!$A$2:$A$500<=DATEVALUE($A10&H$1&2013))*(Paramétrage!$B$2:$H$500)),"0") -> 0 | I10: =IF(COUNTIF(Repas!$A$2:$A$500,DATEVALUE($A10&I$1&2013)),SUMPRODUCT((Repas!$A$2:$A$500=DATEVALUE($A10&I$1&2013))*(Repas!$B$2:$H$500)*(Paramétrage!$A$2:$A$500<=DATEVALUE($A10&I$1&2013))*(Paramétrage!$B$2:$H$500)),"0") -> 0 | ... M10: =IF(COUNTIF(Repas!$A$2:$A$500,DATEVALUE($A10&M$1&2013)),SUMPRODUCT((Repas!$A$2:$A$500=DATEVALUE($A10&M$1&2013))*(Repas!$B$2:$H$500)*(Paramétrage!$A$2:$A$500<=DATEVALUE($A10&M$1&2013))*(Paramétrage!$B$2:$H$500)),"0") -> 0 | Q10: =Repas!A6 -> 41307 | S10: =Paramétrage!A6 -> 41309 | T10: =Paramétrage!B6 -> 100000
A11: 10 | B11: =IF(COUNTIF(Repas!$A$2:$A$500,DATEVALUE($A11&B$1&2013)),SUMPRODUCT((Repas!$A$2:$A$500=DATEVALUE($A11&B$1&2013))*(Repas!$B$2:$H$500)*(Paramétrage!$A$2:$A$500<=DATEVALUE($A11&B$1&2013))*(Paramétrage!$B$2:$H$500)),"0") -> 0 | C11: =IF(COUNTIF(Repas!$A$2:$A$500,DATEVALUE($A11&C$1&2013)),SUMPRODUCT((Repas!$A$2:$A$500=DATEVALUE($A11&C$1&2013))*(Repas!$B$2:$H$500)*(Paramétrage!$A$2:$A$500<=DATEVALUE($A11&C$1&2013))*(Paramétrage!$B$2:$H$500)),"0") -> 0 | D11: =IF(COUNTIF(Repas!$A$2:$A$500,DATEVALUE($A11&D$1&2013)),SUMPRODUCT((Repas!$A$2:$A$500=DATEVALUE($A11&D$1&2013))*(Repas!$B$2:$H$500)*(Paramétrage!$A$2:$A$500<=DATEVALUE($A11&D$1&2013))*(Paramétrage!$B$2:$H$500)),"0") -> 0 | E11: =IF(COUNTIF(Repas!$A$2:$A$500,DATEVALUE($A11&E$1&2013)),SUMPRODUCT((Repas!$A$2:$A$500=DATEVALUE($A11&E$1&2013))*(Repas!$B$2:$H$500)*(Paramétrage!$A$2:$A$500<=DATEVALUE($A11&E$1&2013))*(Paramétrage!$B$2:$H$500)),"0") -> 0 | F11: =IF(COUNTIF(Repas!$A$2:$A$500,DATEVALUE($A11&F$1&2013)),SUMPRODUCT((Repas!$A$2:$A$500=DATEVALUE($A11&F$1&2013))*(Repas!$B$2:$H$500)*(Paramétrage!$A$2:$A$500<=DATEVALUE($A11&F$1&2013))*(Paramétrage!$B$2:$H$500)),"0") -> 0 | G11: =IF(COUNTIF(Repas!$A$2:$A$500,DATEVALUE($A11&G$1&2013)),SUMPRODUCT((Repas!$A$2:$A$500=DATEVALUE($A11&G$1&2013))*(Repas!$B$2:$H$500)*(Paramétrage!$A$2:$A$500<=DATEVALUE($A11&G$1&2013))*(Paramétrage!$B$2:$H$500)),"0") -> 0 | H11: =IF(COUNTIF(Repas!$A$2:$A$500,DATEVALUE($A11&H$1&2013)),SUMPRODUCT((Repas!$A$2:$A$500=DATEVALUE($A11&H$1&2013))*(Repas!$B$2:$H$500)*(Paramétrage!$A$2:$A$500<=DATEVALUE($A11&H$1&2013))*(Paramétrage!$B$2:$H$500)),"0") -> 0 | I11: =IF(COUNTIF(Repas!$A$2:$A$500,DATEVALUE($A11&I$1&2013)),SUMPRODUCT((Repas!$A$2:$A$500=DATEVALUE($A11&I$1&2013))*(Repas!$B$2:$H$500)*(Paramétrage!$A$2:$A$500<=DATEVALUE($A11&I$1&2013))*(Paramétrage!$B$2:$H$500)),"0") -> 0 | ... M11: =IF(COUNTIF(Repas!$A$2:$A$500,DATEVALUE($A11&M$1&2013)),SUMPRODUCT((Repas!$A$2:$A$500=DATEVALUE($A11&M$1&2013))*(Repas!$B$2:$H$500)*(Paramétrage!$A$2:$A$500<=DATEVALUE($A11&M$1&2013))*(Paramétrage!$B$2:$H$500)),"0") -> 0 | Q11: =Repas!A7 -> 41313 | S11: =Paramétrage!A7 -> 41312 | T11: =Paramétrage!B7 -> 1000000
A12: 11 | B12: =IF(COUNTIF(Repas!$A$2:$A$500,DATEVALUE($A12&B$1&2013)),SUMPRODUCT((Repas!$A$2:$A$500=DATEVALUE($A12&B$1&2013))*(Repas!$B$2:$H$500)*(Paramétrage!$A$2:$A$500<=DATEVALUE($A12&B$1&2013))*(Paramétrage!$B$2:$H$500)),"0") -> 0 | C12: =IF(COUNTIF(Repas!$A$2:$A$500,DATEVALUE($A12&C$1&2013)),SUMPRODUCT((Repas!$A$2:$A$500=DATEVALUE($A12&C$1&2013))*(Repas!$B$2:$H$500)*(Paramétrage!$A$2:$A$500<=DATEVALUE($A12&C$1&2013))*(Paramétrage!$B$2:$H$500)),"0") -> 0 | D12: =IF(COUNTIF(Repas!$A$2:$A$500,DATEVALUE($A12&D$1&2013)),SUMPRODUCT((Repas!$A$2:$A$500=DATEVALUE($A12&D$1&2013))*(Repas!$B$2:$H$500)*(Paramétrage!$A$2:$A$500<=DATEVALUE($A12&D$1&2013))*(Paramétrage!$B$2:$H$500)),"0") -> 0 | E12: =IF(COUNTIF(Repas!$A$2:$A$500,DATEVALUE($A12&E$1&2013)),SUMPRODUCT((Repas!$A$2:$A$500=DATEVALUE($A12&E$1&2013))*(Repas!$B$2:$H$500)*(Paramétrage!$A$2:$A$500<=DATEVALUE($A12&E$1&2013))*(Paramétrage!$B$2:$H$500)),"0") -> 0 | F12: =IF(COUNTIF(Repas!$A$2:$A$500,DATEVALUE($A12&F$1&2013)),SUMPRODUCT((Repas!$A$2:$A$500=DATEVALUE($A12&F$1&2013))*(Repas!$B$2:$H$500)*(Paramétrage!$A$2:$A$500<=DATEVALUE($A12&F$1&2013))*(Paramétrage!$B$2:$H$500)),"0") -> 0 | G12: =IF(COUNTIF(Repas!$A$2:$A$500,DATEVALUE($A12&G$1&2013)),SUMPRODUCT((Repas!$A$2:$A$500=DATEVALUE($A12&G$1&2013))*(Repas!$B$2:$H$500)*(Paramétrage!$A$2:$A$500<=DATEVALUE($A12&G$1&2013))*(Paramétrage!$B$2:$H$500)),"0") -> 0 | H12: =IF(COUNTIF(Repas!$A$2:$A$500,DATEVALUE($A12&H$1&2013)),SUMPRODUCT((Repas!$A$2:$A$500=DATEVALUE($A12&H$1&2013))*(Repas!$B$2:$H$500)*(Paramétrage!$A$2:$A$500<=DATEVALUE($A12&H$1&2013))*(Paramétrage!$B$2:$H$500)),"0") -> 0 | I12: =IF(COUNTIF(Repas!$A$2:$A$500,DATEVALUE($A12&I$1&2013)),SUMPRODUCT((Repas!$A$2:$A$500=DATEVALUE($A12&I$1&2013))*(Repas!$B$2:$H$500)*(Paramétrage!$A$2:$A$500<=DATEVALUE($A12&I$1&2013))*(Paramétrage!$B$2:$H$500)),"0") -> 0 | ... M12: =IF(COUNTIF(Repas!$A$2:$A$500,DATEVALUE($A12&M$1&2013)),SUMPRODUCT((Repas!$A$2:$A$500=DATEVALUE($A12&M$1&2013))*(Repas!$B$2:$H$500)*(Paramétrage!$A$2:$A$500<=DATEVALUE($A12&M$1&2013))*(Paramétrage!$B$2:$H$500)),"0") -> 0 | Q12: =Repas!A8 -> 41332 | S12: =Paramétrage!A8 -> 41332 | T12: =Paramétrage!B8 -> 10000000
A13: 12 | B13: =IF(COUNTIF(Repas!$A$2:$A$500,DATEVALUE($A13&B$1&2013)),SUMPRODUCT((Repas!$A$2:$A$500=DATEVALUE($A13&B$1&2013))*(Repas!$B$2:$H$500)*(Paramétrage!$A$2:$A$500<=DATEVALUE($A13&B$1&2013))*(Paramétrage!$B$2:$H$500)),"0") -> 0 | C13: =IF(COUNTIF(Repas!$A$2:$A$500,DATEVALUE($A13&C$1&2013)),SUMPRODUCT((Repas!$A$2:$A$500=DATEVALUE($A13&C$1&2013))*(Repas!$B$2:$H$500)*(Paramétrage!$A$2:$A$500<=DATEVALUE($A13&C$1&2013))*(Paramétrage!$B$2:$H$500)),"0") -> 0 | D13: =IF(COUNTIF(Repas!$A$2:$A$500,DATEVALUE($A13&D$1&2013)),SUMPRODUCT((Repas!$A$2:$A$500=DATEVALUE($A13&D$1&2013))*(Repas!$B$2:$H$500)*(Paramétrage!$A$2:$A$500<=DATEVALUE($A13&D$1&2013))*(Paramétrage!$B$2:$H$500)),"0") -> 0 | E13: =IF(COUNTIF(Repas!$A$2:$A$500,DATEVALUE($A13&E$1&2013)),SUMPRODUCT((Repas!$A$2:$A$500=DATEVALUE($A13&E$1&2013))*(Repas!$B$2:$H$500)*(Paramétrage!$A$2:$A$500<=DATEVALUE($A13&E$1&2013))*(Paramétrage!$B$2:$H$500)),"0") -> 0 | F13: =IF(COUNTIF(Repas!$A$2:$A$500,DATEVALUE($A13&F$1&2013)),SUMPRODUCT((Repas!$A$2:$A$500=DATEVALUE($A13&F$1&2013))*(Repas!$B$2:$H$500)*(Paramétrage!$A$2:$A$500<=DATEVALUE($A13&F$1&2013))*(Paramétrage!$B$2:$H$500)),"0") -> 0 | G13: =IF(COUNTIF(Repas!$A$2:$A$500,DATEVALUE($A13&G$1&2013)),SUMPRODUCT((Repas!$A$2:$A$500=DATEVALUE($A13&G$1&2013))*(Repas!$B$2:$H$500)*(Paramétrage!$A$2:$A$500<=DATEVALUE($A13&G$1&2013))*(Paramétrage!$B$2:$H$500)),"0") -> 0 | H13: =IF(COUNTIF(Repas!$A$2:$A$500,DATEVALUE($A13&H$1&2013)),SUMPRODUCT((Repas!$A$2:$A$500=DATEVALUE($A13&H$1&2013))*(Repas!$B$2:$H$500)*(Paramétrage!$A$2:$A$500<=DATEVALUE($A13&H$1&2013))*(Paramétrage!$B$2:$H$500)),"0") -> 0 | I13: =IF(COUNTIF(Repas!$A$2:$A$500,DATEVALUE($A13&I$1&2013)),SUMPRODUCT((Repas!$A$2:$A$500=DATEVALUE($A13&I$1&2013))*(Repas!$B$2:$H$500)*(Paramétrage!$A$2:$A$500<=DATEVALUE($A13&I$1&2013))*(Paramétrage!$B$2:$H$500)),"0") -> 0 | ... M13: =IF(COUNTIF(Repas!$A$2:$A$500,DATEVALUE($A13&M$1&2013)),SUMPRODUCT((Repas!$A$2:$A$500=DATEVALUE($A13&M$1&2013))*(Repas!$B$2:$H$500)*(Paramétrage!$A$2:$A$500<=DATEVALUE($A13&M$1&2013))*(Paramétrage!$B$2:$H$500)),"0") -> 0 | Q13: =Repas!A9 -> 41337 | S13: =Paramétrage!A9 -> 41337 | T13: =Paramétrage!B9 -> 100000000
A14: 13 | B14: =IF(COUNTIF(Repas!$A$2:$A$500,DATEVALUE($A14&B$1&2013)),SUMPRODUCT((Repas!$A$2:$A$500=DATEVALUE($A14&B$1&2013))*(Repas!$B$2:$H$500)*(Paramétrage!$A$2:$A$500<=DATEVALUE($A14&B$1&2013))*(Paramétrage!$B$2:$H$500)),"0") -> 0 | C14: =IF(COUNTIF(Repas!$A$2:$A$500,DATEVALUE($A14&C$1&2013)),SUMPRODUCT((Repas!$A$2:$A$500=DATEVALUE($A14&C$1&2013))*(Repas!$B$2:$H$500)*(Paramétrage!$A$2:$A$500<=DATEVALUE($A14&C$1&2013))*(Paramétrage!$B$2:$H$500)),"0") -> 0 | D14: =IF(COUNTIF(Repas!$A$2:$A$500,DATEVALUE($A14&D$1&2013)),SUMPRODUCT((Repas!$A$2:$A$500=DATEVALUE($A14&D$1&2013))*(Repas!$B$2:$H$500)*(Paramétrage!$A$2:$A$500<=DATEVALUE($A14&D$1&2013))*(Paramétrage!$B$2:$H$500)),"0") -> 0 | E14: =IF(COUNTIF(Repas!$A$2:$A$500,DATEVALUE($A14&E$1&2013)),SUMPRODUCT((Repas!$A$2:$A$500=DATEVALUE($A14&E$1&2013))*(Repas!$B$2:$H$500)*(Paramétrage!$A$2:$A$500<=DATEVALUE($A14&E$1&2013))*(Paramétrage!$B$2:$H$500)),"0") -> 0 | F14: =IF(COUNTIF(Repas!$A$2:$A$500,DATEVALUE($A14&F$1&2013)),SUMPRODUCT((Repas!$A$2:$A$500=DATEVALUE($A14&F$1&2013))*(Repas!$B$2:$H$500)*(Paramétrage!$A$2:$A$500<=DATEVALUE($A14&F$1&2013))*(Paramétrage!$B$2:$H$500)),"0") -> 0 | G14: =IF(COUNTIF(Repas!$A$2:$A$500,DATEVALUE($A14&G$1&2013)),SUMPRODUCT((Repas!$A$2:$A$500=DATEVALUE($A14&G$1&2013))*(Repas!$B$2:$H$500)*(Paramétrage!$A$2:$A$500<=DATEVALUE($A14&G$1&2013))*(Paramétrage!$B$2:$H$500)),"0") -> 0 | H14: =IF(COUNTIF(Repas!$A$2:$A$500,DATEVALUE($A14&H$1&2013)),SUMPRODUCT((Repas!$A$2:$A$500=DATEVALUE($A14&H$1&2013))*(Repas!$B$2:$H$500)*(Paramétrage!$A$2:$A$500<=DATEVALUE($A14&H$1&2013))*(Paramétrage!$B$2:$H$500)),"0") -> 0 | I14: =IF(COUNTIF(Repas!$A$2:$A$500,DATEVALUE($A14&I$1&2013)),SUMPRODUCT((Repas!$A$2:$A$500=DATEVALUE($A14&I$1&2013))*(Repas!$B$2:$H$500)*(Paramétrage!$A$2:$A$500<=DATEVALUE($A14&I$1&2013))*(Paramétrage!$B$2:$H$500)),"0") -> 0 | ... M14: =IF(COUNTIF(Repas!$A$2:$A$500,DATEVALUE($A14&M$1&2013)),SUMPRODUCT((Repas!$A$2:$A$500=DATEVALUE($A14&M$1&2013))*(Repas!$B$2:$H$500)*(Paramétrage!$A$2:$A$500<=DATEVALUE($A14&M$1&2013))*(Paramétrage!$B$2:$H$500)),"0") -> 0 | Q14: =Repas!A10 -> 40988 | S14: =Paramétrage!A10 -> 40988 | T14: =Paramétrage!B10 -> 1000000000
A15: 14 | B15: =IF(COUNTIF(Repas!$A$2:$A$500,DATEVALUE($A15&B$1&2013)),SUMPRODUCT((Repas!$A$2:$A$500=DATEVALUE($A15&B$1&2013))*(Repas!$B$2:$H$500)*(Paramétrage!$A$2:$A$500<=DATEVALUE($A15&B$1&2013))*(Paramétrage!$B$2:$H$500)),"0") -> 0 | C15: =IF(COUNTIF(Repas!$A$2:$A$500,DATEVALUE($A15&C$1&2013)),SUMPRODUCT((Repas!$A$2:$A$500=DATEVALUE($A15&C$1&2013))*(Repas!$B$2:$H$500)*(Paramétrage!$A$2:$A$500<=DATEVALUE($A15&C$1&2013))*(Paramétrage!$B$2:$H$500)),"0") -> 0 | D15: =IF(COUNTIF(Repas!$A$2:$A$500,DATEVALUE($A15&D$1&2013)),SUMPRODUCT((Repas!$A$2:$A$500=DATEVALUE($A15&D$1&2013))*(Repas!$B$2:$H$500)*(Paramétrage!$A$2:$A$500<=DATEVALUE($A15&D$1&2013))*(Paramétrage!$B$2:$H$500)),"0") -> 0 | E15: =IF(COUNTIF(Repas!$A$2:$A$500,DATEVALUE($A15&E$1&2013)),SUMPRODUCT((Repas!$A$2:$A$500=DATEVALUE($A15&E$1&2013))*(Repas!$B$2:$H$500)*(Paramétrage!$A$2:$A$500<=DATEVALUE($A15&E$1&2013))*(Paramétrage!$B$2:$H$500)),"0") -> 0 | F15: =IF(COUNTIF(Repas!$A$2:$A$500,DATEVALUE($A15&F$1&2013)),SUMPRODUCT((Repas!$A$2:$A$500=DATEVALUE($A15&F$1&2013))*(Repas!$B$2:$H$500)*(Paramétrage!$A$2:$A$500<=DATEVALUE($A15&F$1&2013))*(Paramétrage!$B$2:$H$500)),"0") -> 0 | G15: =IF(COUNTIF(Repas!$A$2:$A$500,DATEVALUE($A15&G$1&2013)),SUMPRODUCT((Repas!$A$2:$A$500=DATEVALUE($A15&G$1&2013))*(Repas!$B$2:$H$500)*(Paramétrage!$A$2:$A$500<=DATEVALUE($A15&G$1&2013))*(Paramétrage!$B$2:$H$500)),"0") -> 0 | H15: =IF(COUNTIF(Repas!$A$2:$A$500,DATEVALUE($A15&H$1&2013)),SUMPRODUCT((Repas!$A$2:$A$500=DATEVALUE($A15&H$1&2013))*(Repas!$B$2:$H$500)*(Paramétrage!$A$2:$A$500<=DATEVALUE($A15&H$1&2013))*(Paramétrage!$B$2:$H$500)),"0") -> 0 | I15: =IF(COUNTIF(Repas!$A$2:$A$500,DATEVALUE($A15&I$1&2013)),SUMPRODUCT((Repas!$A$2:$A$500=DATEVALUE($A15&I$1&2013))*(Repas!$B$2:$H$500)*(Paramétrage!$A$2:$A$500<=DATEVALUE($A15&I$1&2013))*(Paramétrage!$B$2:$H$500)),"0") -> 0 | ... M15: =IF(COUNTIF(Repas!$A$2:$A$500,DATEVALUE($A15&M$1&2013)),SUMPRODUCT((Repas!$A$2:$A$500=DATEVALUE($A15&M$1&2013))*(Repas!$B$2:$H$500)*(Paramétrage!$A$2:$A$500<=DATEVALUE($A15&M$1&2013))*(Paramétrage!$B$2:$H$500)),"0") -> 0 | Q15: =Repas!A11 -> 0 | S15: =Paramétrage!A11 -> 0 | T15: =Paramétrage!B11 -> 0
A16: 15 | B16: =IF(COUNTIF(Repas!$A$2:$A$500,DATEVALUE($A16&B$1&2013)),SUMPRODUCT((Repas!$A$2:$A$500=DATEVALUE($A16&B$1&2013))*(Repas!$B$2:$H$500)*(Paramétrage!$A$2:$A$500<=DATEVALUE($A16&B$1&2013))*(Paramétrage!$B$2:$H$500)),"0") -> 21000 | C16: =IF(COUNTIF(Repas!$A$2:$A$500,DATEVALUE($A16&C$1&2013)),SUMPRODUCT((Repas!$A$2:$A$500=DATEVALUE($A16&C$1&2013))*(Repas!$B$2:$H$500)*(Paramétrage!$A$2:$A$500<=DATEVALUE($A16&C$1&2013))*(Paramétrage!$B$2:$H$500)),"0") -> 0 | D16: =IF(COUNTIF(Repas!$A$2:$A$500,DATEVALUE($A16&D$1&2013)),SUMPRODUCT((Repas!$A$2:$A$500=DATEVALUE($A16&D$1&2013))*(Repas!$B$2:$H$500)*(Paramétrage!$A$2:$A$500<=DATEVALUE($A16&D$1&2013))*(Paramétrage!$B$2:$H$500)),"0") -> 0 | E16: =IF(COUNTIF(Repas!$A$2:$A$500,DATEVALUE($A16&E$1&2013)),SUMPRODUCT((Repas!$A$2:$A$500=DATEVALUE($A16&E$1&2013))*(Repas!$B$2:$H$500)*(Paramétrage!$A$2:$A$500<=DATEVALUE($A16&E$1&2013))*(Paramétrage!$B$2:$H$500)),"0") -> 0 | F16: =IF(COUNTIF(Repas!$A$2:$A$500,DATEVALUE($A16&F$1&2013)),SUMPRODUCT((Repas!$A$2:$A$500=DATEVALUE($A16&F$1&2013))*(Repas!$B$2:$H$500)*(Paramétrage!$A$2:$A$500<=DATEVALUE($A16&F$1&2013))*(Paramétrage!$B$2:$H$500)),"0") -> 0 | G16: =IF(COUNTIF(Repas!$A$2:$A$500,DATEVALUE($A16&G$1&2013)),SUMPRODUCT((Repas!$A$2:$A$500=DATEVALUE($A16&G$1&2013))*(Repas!$B$2:$H$500)*(Paramétrage!$A$2:$A$500<=DATEVALUE($A16&G$1&2013))*(Paramétrage!$B$2:$H$500)),"0") -> 0 | H16: =IF(COUNTIF(Repas!$A$2:$A$500,DATEVALUE($A16&H$1&2013)),SUMPRODUCT((Repas!$A$2:$A$500=DATEVALUE($A16&H$1&2013))*(Repas!$B$2:$H$500)*(Paramétrage!$A$2:$A$500<=DATEVALUE($A16&H$1&2013))*(Paramétrage!$B$2:$H$500)),"0") -> 0 | I16: =IF(COUNTIF(Repas!$A$2:$A$500,DATEVALUE($A16&I$1&2013)),SUMPRODUCT((Repas!$A$2:$A$500=DATEVALUE($A16&I$1&2013))*(Repas!$B$2:$H$500)*(Paramétrage!$A$2:$A$500<=DATEVALUE($A16&I$1&2013))*(Paramétrage!$B$2:$H$500)),"0") -> 0 | ... M16: =IF(COUNTIF(Repas!$A$2:$A$500,DATEVALUE($A16&M$1&2013)),SUMPRODUCT((Repas!$A$2:$A$500=DATEVALUE($A16&M$1&2013))*(Repas!$B$2:$H$500)*(Paramétrage!$A$2:$A$500<=DATEVALUE($A16&M$1&2013))*(Paramétrage!$B$2:$H$500)),"0") -> 0 | Q16: =Repas!A12 -> 0 | S16: =Paramétrage!A12 -> 0 | T16: =Paramétrage!B12 -> 0
A17: 16 | B17: =IF(COUNTIF(Repas!$A$2:$A$500,DATEVALUE($A17&B$1&2013)),SUMPRODUCT((Repas!$A$2:$A$500=DATEVALUE($A17&B$1&2013))*(Repas!$B$2:$H$500)*(Paramétrage!$A$2:$A$500<=DATEVALUE($A17&B$1&2013))*(Paramétrage!$B$2:$H$500)),"0") -> 0 | C17: =IF(COUNTIF(Repas!$A$2:$A$500,DATEVALUE($A17&C$1&2013)),SUMPRODUCT((Repas!$A$2:$A$500=DATEVALUE($A17&C$1&2013))*(Repas!$B$2:$H$500)*(Paramétrage!$A$2:$A$500<=DATEVALUE($A17&C$1&2013))*(Paramétrage!$B$2:$H$500)),"0") -> 0 | D17: =IF(COUNTIF(Repas!$A$2:$A$500,DATEVALUE($A17&D$1&2013)),SUMPRODUCT((Repas!$A$2:$A$500=DATEVALUE($A17&D$1&2013))*(Repas!$B$2:$H$500)*(Paramétrage!$A$2:$A$500<=DATEVALUE($A17&D$1&2013))*(Paramétrage!$B$2:$H$500)),"0") -> 0 | E17: =IF(COUNTIF(Repas!$A$2:$A$500,DATEVALUE($A17&E$1&2013)),SUMPRODUCT((Repas!$A$2:$A$500=DATEVALUE($A17&E$1&2013))*(Repas!$B$2:$H$500)*(Paramétrage!$A$2:$A$500<=DATEVALUE($A17&E$1&2013))*(Paramétrage!$B$2:$H$500)),"0") -> 0 | F17: =IF(COUNTIF(Repas!$A$2:$A$500,DATEVALUE($A17&F$1&2013)),SUMPRODUCT((Repas!$A$2:$A$500=DATEVALUE($A17&F$1&2013))*(Repas!$B$2:$H$500)*(Paramétrage!$A$2:$A$500<=DATEVALUE($A17&F$1&2013))*(Paramétrage!$B$2:$H$500)),"0") -> 0 | G17: =IF(COUNTIF(Repas!$A$2:$A$500,DATEVALUE($A17&G$1&2013)),SUMPRODUCT((Repas!$A$2:$A$500=DATEVALUE($A17&G$1&2013))*(Repas!$B$2:$H$500)*(Paramétrage!$A$2:$A$500<=DATEVALUE($A17&G$1&2013))*(Paramétrage!$B$2:$H$500)),"0") -> 0 | H17: =IF(COUNTIF(Repas!$A$2:$A$500,DATEVALUE($A17&H$1&2013)),SUMPRODUCT((Repas!$A$2:$A$500=DATEVALUE($A17&H$1&2013))*(Repas!$B$2:$H$500)*(Paramétrage!$A$2:$A$500<=DATEVALUE($A17&H$1&2013))*(Paramétrage!$B$2:$H$500)),"0") -> 0 | I17: =IF(COUNTIF(Repas!$A$2:$A$500,DATEVALUE($A17&I$1&2013)),SUMPRODUCT((Repas!$A$2:$A$500=DATEVALUE($A17&I$1&2013))*(Repas!$B$2:$H$500)*(Paramétrage!$A$2:$A$500<=DATEVALUE($A17&I$1&2013))*(Paramétrage!$B$2:$H$500)),"0") -> 0 | ... M17: =IF(COUNTIF(Repas!$A$2:$A$500,DATEVALUE($A17&M$1&2013)),SUMPRODUCT((Repas!$A$2:$A$500=DATEVALUE($A17&M$1&2013))*(Repas!$B$2:$H$500)*(Paramétrage!$A$2:$A$500<=DATEVALUE($A17&M$1&2013))*(Paramétrage!$B$2:$H$500)),"0") -> 0 | Q17: =Repas!A13 -> 0 | S17: =Paramétrage!A13 -> 0 | T17: =Paramétrage!B13 -> 0
... A20: 19 | B20: =IF(COUNTIF(Repas!$A$2:$A$500,DATEVALUE($A20&B$1&2013)),SUMPRODUCT((Repas!$A$2:$A$500=DATEVALUE($A20&B$1&2013))*(Repas!$B$2:$H$500)*(Paramétrage!$A$2:$A$500<=DATEVALUE($A20&B$1&2013))*(Paramétrage!$B$2:$H$500)),"0") -> 0 | C20: =IF(COUNTIF(Repas!$A$2:$A$500,DATEVALUE($A20&C$1&2013)),SUMPRODUCT((Repas!$A$2:$A$500=DATEVALUE($A20&C$1&2013))*(Repas!$B$2:$H$500)*(Paramétrage!$A$2:$A$500<=DATEVALUE($A20&C$1&2013))*(Paramétrage!$B$2:$H$500)),"0") -> 0 | D20: =IF(COUNTIF(Repas!$A$2:$A$500,DATEVALUE($A20&D$1&2013)),SUMPRODUCT((Repas!$A$2:$A$500=DATEVALUE($A20&D$1&2013))*(Repas!$B$2:$H$500)*(Paramétrage!$A$2:$A$500<=DATEVALUE($A20&D$1&2013))*(Paramétrage!$B$2:$H$500)),"0") -> 0 | E20: =IF(COUNTIF(Repas!$A$2:$A$500,DATEVALUE($A20&E$1&2013)),SUMPRODUCT((Repas!$A$2:$A$500=DATEVALUE($A20&E$1&2013))*(Repas!$B$2:$H$500)*(Paramétrage!$A$2:$A$500<=DATEVALUE($A20&E$1&2013))*(Paramétrage!$B$2:$H$500)),"0") -> 0 | F20: =IF(COUNTIF(Repas!$A$2:$A$500,DATEVALUE($A20&F$1&2013)),SUMPRODUCT((Repas!$A$2:$A$500=DATEVALUE($A20&F$1&2013))*(Repas!$B$2:$H$500)*(Paramétrage!$A$2:$A$500<=DATEVALUE($A20&F$1&2013))*(Paramétrage!$B$2:$H$500)),"0") -> 0 | G20: =IF(COUNTIF(Repas!$A$2:$A$500,DATEVALUE($A20&G$1&2013)),SUMPRODUCT((Repas!$A$2:$A$500=DATEVALUE($A20&G$1&2013))*(Repas!$B$2:$H$500)*(Paramétrage!$A$2:$A$500<=DATEVALUE($A20&G$1&2013))*(Paramétrage!$B$2:$H$500)),"0") -> 0 | H20: =IF(COUNTIF(Repas!$A$2:$A$500,DATEVALUE($A20&H$1&2013)),SUMPRODUCT((Repas!$A$2:$A$500=DATEVALUE($A20&H$1&2013))*(Repas!$B$2:$H$500)*(Paramétrage!$A$2:$A$500<=DATEVALUE($A20&H$1&2013))*(Paramétrage!$B$2:$H$500)),"0") -> 0 | I20: =IF(COUNTIF(Repas!$A$2:$A$500,DATEVALUE($A20&I$1&2013)),SUMPRODUCT((Repas!$A$2:$A$500=DATEVALUE($A20&I$1&2013))*(Repas!$B$2:$H$500)*(Paramétrage!$A$2:$A$500<=DATEVALUE($A20&I$1&2013))*(Paramétrage!$B$2:$H$500)),"0") -> 0 | ... M20: =IF(COUNTIF(Repas!$A$2:$A$500,DATEVALUE($A20&M$1&2013)),SUMPRODUCT((Repas!$A$2:$A$500=DATEVALUE($A20&M$1&2013))*(Repas!$B$2:$H$500)*(Paramétrage!$A$2:$A$500<=DATEVALUE($A20&M$1&2013))*(Paramétrage!$B$2:$H$500)),"0") -> 0 | Q20: =Repas!A16 -> 0 | S20: =Paramétrage!A16 -> 0 | T20: =Paramétrage!B16 -> 0
A21: 20 | B21: =IF(COUNTIF(Repas!$A$2:$A$500,DATEVALUE($A21&B$1&2013)),SUMPRODUCT((Repas!$A$2:$A$500=DATEVALUE($A21&B$1&2013))*(Repas!$B$2:$H$500)*(Paramétrage!$A$2:$A$500<=DATEVALUE($A21&B$1&2013))*(Paramétrage!$B$2:$H$500)),"0") -> 0 | C21: =IF(COUNTIF(Repas!$A$2:$A$500,DATEVALUE($A21&C$1&2013)),SUMPRODUCT((Repas!$A$2:$A$500=DATEVALUE($A21&C$1&2013))*(Repas!$B$2:$H$500)*(Paramétrage!$A$2:$A$500<=DATEVALUE($A21&C$1&2013))*(Paramétrage!$B$2:$H$500)),"0") -> 0 | D21: =IF(COUNTIF(Repas!$A$2:$A$500,DATEVALUE($A21&D$1&2013)),SUMPRODUCT((Repas!$A$2:$A$500=DATEVALUE($A21&D$1&2013))*(Repas!$B$2:$H$500)*(Paramétrage!$A$2:$A$500<=DATEVALUE($A21&D$1&2013))*(Paramétrage!$B$2:$H$500)),"0") -> 0 | E21: =IF(COUNTIF(Repas!$A$2:$A$500,DATEVALUE($A21&E$1&2013)),SUMPRODUCT((Repas!$A$2:$A$500=DATEVALUE($A21&E$1&2013))*(Repas!$B$2:$H$500)*(Paramétrage!$A$2:$A$500<=DATEVALUE($A21&E$1&2013))*(Paramétrage!$B$2:$H$500)),"0") -> 0 | F21: =IF(COUNTIF(Repas!$A$2:$A$500,DATEVALUE($A21&F$1&2013)),SUMPRODUCT((Repas!$A$2:$A$500=DATEVALUE($A21&F$1&2013))*(Repas!$B$2:$H$500)*(Paramétrage!$A$2:$A$500<=DATEVALUE($A21&F$1&2013))*(Paramétrage!$B$2:$H$500)),"0") -> 0 | G21: =IF(COUNTIF(Repas!$A$2:$A$500,DATEVALUE($A21&G$1&2013)),SUMPRODUCT((Repas!$A$2:$A$500=DATEVALUE($A21&G$1&2013))*(Repas!$B$2:$H$500)*(Paramétrage!$A$2:$A$500<=DATEVALUE($A21&G$1&2013))*(Paramétrage!$B$2:$H$500)),"0") -> 0 | H21: =IF(COUNTIF(Repas!$A$2:$A$500,DATEVALUE($A21&H$1&2013)),SUMPRODUCT((Repas!$A$2:$A$500=DATEVALUE($A21&H$1&2013))*(Repas!$B$2:$H$500)*(Paramétrage!$A$2:$A$500<=DATEVALUE($A21&H$1&2013))*(Paramétrage!$B$2:$H$500)),"0") -> 0 | I21: =IF(COUNTIF(Repas!$A$2:$A$500,DATEVALUE($A21&I$1&2013)),SUMPRODUCT((Repas!$A$2:$A$500=DATEVALUE($A21&I$1&2013))*(Repas!$B$2:$H$500)*(Paramétrage!$A$2:$A$500<=DATEVALUE($A21&I$1&2013))*(Paramétrage!$B$2:$H$500)),"0") -> 0 | ... M21: =IF(COUNTIF(Repas!$A$2:$A$500,DATEVALUE($A21&M$1&2013)),SUMPRODUCT((Repas!$A$2:$A$500=DATEVALUE($A21&M$1&2013))*(Repas!$B$2:$H$500)*(Paramétrage!$A$2:$A$500<=DATEVALUE($A21&M$1&2013))*(Paramétrage!$B$2:$H$500)),"0") -> 0
A22: 21 | B22: =IF(COUNTIF(Repas!$A$2:$A$500,DATEVALUE($A22&B$1&2013)),SUMPRODUCT((Repas!$A$2:$A$500=DATEVALUE($A22&B$1&2013))*(Repas!$B$2:$H$500)*(Paramétrage!$A$2:$A$500<=DATEVALUE($A22&B$1&2013))*(Paramétrage!$B$2:$H$500)),"0") -> 0 | C22: =IF(COUNTIF(Repas!$A$2:$A$500,DATEVALUE($A22&C$1&2013)),SUMPRODUCT((Repas!$A$2:$A$500=DATEVALUE($A22&C$1&2013))*(Repas!$B$2:$H$500)*(Paramétrage!$A$2:$A$500<=DATEVALUE($A22&C$1&2013))*(Paramétrage!$B$2:$H$500)),"0") -> 0 | D22: =IF(COUNTIF(Repas!$A$2:$A$500,DATEVALUE($A22&D$1&2013)),SUMPRODUCT((Repas!$A$2:$A$500=DATEVALUE($A22&D$1&2013))*(Repas!$B$2:$H$500)*(Paramétrage!$A$2:$A$500<=DATEVALUE($A22&D$1&2013))*(Paramétrage!$B$2:$H$500)),"0") -> 0 | E22: =IF(COUNTIF(Repas!$A$2:$A$500,DATEVALUE($A22&E$1&2013)),SUMPRODUCT((Repas!$A$2:$A$500=DATEVALUE($A22&E$1&2013))*(Repas!$B$2:$H$500)*(Paramétrage!$A$2:$A$500<=DATEVALUE($A22&E$1&2013))*(Paramétrage!$B$2:$H$500)),"0") -> 0 | F22: =IF(COUNTIF(Repas!$A$2:$A$500,DATEVALUE($A22&F$1&2013)),SUMPRODUCT((Repas!$A$2:$A$500=DATEVALUE($A22&F$1&2013))*(Repas!$B$2:$H$500)*(Paramétrage!$A$2:$A$500<=DATEVALUE($A22&F$1&2013))*(Paramétrage!$B$2:$H$500)),"0") -> 0 | G22: =IF(COUNTIF(Repas!$A$2:$A$500,DATEVALUE($A22&G$1&2013)),SUMPRODUCT((Repas!$A$2:$A$500=DATEVALUE($A22&G$1&2013))*(Repas!$B$2:$H$500)*(Paramétrage!$A$2:$A$500<=DATEVALUE($A22&G$1&2013))*(Paramétrage!$B$2:$H$500)),"0") -> 0 | H22: =IF(COUNTIF(Repas!$A$2:$A$500,DATEVALUE($A22&H$1&2013)),SUMPRODUCT((Repas!$A$2:$A$500=DATEVALUE($A22&H$1&2013))*(Repas!$B$2:$H$500)*(Paramétrage!$A$2:$A$500<=DATEVALUE($A22&H$1&2013))*(Paramétrage!$B$2:$H$500)),"0") -> 0 | I22: =IF(COUNTIF(Repas!$A$2:$A$500,DATEVALUE($A22&I$1&2013)),SUMPRODUCT((Repas!$A$2:$A$500=DATEVALUE($A22&I$1&2013))*(Repas!$B$2:$H$500)*(Paramétrage!$A$2:$A$500<=DATEVALUE($A22&I$1&2013))*(Paramétrage!$B$2:$H$500)),"0") -> 0 | ... M22: =IF(COUNTIF(Repas!$A$2:$A$500,DATEVALUE($A22&M$1&2013)),SUMPRODUCT((Repas!$A$2:$A$500=DATEVALUE($A22&M$1&2013))*(Repas!$B$2:$H$500)*(Paramétrage!$A$2:$A$500<=DATEVALUE($A22&M$1&2013))*(Paramétrage!$B$2:$H$500)),"0") -> 0
A23: 22 | B23: =IF(COUNTIF(Repas!$A$2:$A$500,DATEVALUE($A23&B$1&2013)),SUMPRODUCT((Repas!$A$2:$A$500=DATEVALUE($A23&B$1&2013))*(Repas!$B$2:$H$500)*(Paramétrage!$A$2:$A$500<=DATEVALUE($A23&B$1&2013))*(Paramétrage!$B$2:$H$500)),"0") -> 0 | C23: =IF(COUNTIF(Repas!$A$2:$A$500,DATEVALUE($A23&C$1&2013)),SUMPRODUCT((Repas!$A$2:$A$500=DATEVALUE($A23&C$1&2013))*(Repas!$B$2:$H$500)*(Paramétrage!$A$2:$A$500<=DATEVALUE($A23&C$1&2013))*(Paramétrage!$B$2:$H$500)),"0") -> 0 | D23: =IF(COUNTIF(Repas!$A$2:$A$500,DATEVALUE($A23&D$1&2013)),SUMPRODUCT((Repas!$A$2:$A$500=DATEVALUE($A23&D$1&2013))*(Repas!$B$2:$H$500)*(Paramétrage!$A$2:$A$500<=DATEVALUE($A23&D$1&2013))*(Paramétrage!$B$2:$H$500)),"0") -> 0 | E23: =IF(COUNTIF(Repas!$A$2:$A$500,DATEVALUE($A23&E$1&2013)),SUMPRODUCT((Repas!$A$2:$A$500=DATEVALUE($A23&E$1&2013))*(Repas!$B$2:$H$500)*(Paramétrage!$A$2:$A$500<=DATEVALUE($A23&E$1&2013))*(Paramétrage!$B$2:$H$500)),"0") -> 0 | F23: =IF(COUNTIF(Repas!$A$2:$A$500,DATEVALUE($A23&F$1&2013)),SUMPRODUCT((Repas!$A$2:$A$500=DATEVALUE($A23&F$1&2013))*(Repas!$B$2:$H$500)*(Paramétrage!$A$2:$A$500<=DATEVALUE($A23&F$1&2013))*(Paramétrage!$B$2:$H$500)),"0") -> 0 | G23: =IF(COUNTIF(Repas!$A$2:$A$500,DATEVALUE($A23&G$1&2013)),SUMPRODUCT((Repas!$A$2:$A$500=DATEVALUE($A23&G$1&2013))*(Repas!$B$2:$H$500)*(Paramétrage!$A$2:$A$500<=DATEVALUE($A23&G$1&2013))*(Paramétrage!$B$2:$H$500)),"0") -> 0 | H23: =IF(COUNTIF(Repas!$A$2:$A$500,DATEVALUE($A23&H$1&2013)),SUMPRODUCT((Repas!$A$2:$A$500=DATEVALUE($A23&H$1&2013))*(Repas!$B$2:$H$500)*(Paramétrage!$A$2:$A$500<=DATEVALUE($A23&H$1&2013))*(Paramétrage!$B$2:$H$500)),"0") -> 0 | I23: =IF(COUNTIF(Repas!$A$2:$A$500,DATEVALUE($A23&I$1&2013)),SUMPRODUCT((Repas!$A$2:$A$500=DATEVALUE($A23&I$1&2013))*(Repas!$B$2:$H$500)*(Paramétrage!$A$2:$A$500<=DATEVALUE($A23&I$1&2013))*(Paramétrage!$B$2:$H$500)),"0") -> 0 | ... M23: =IF(COUNTIF(Repas!$A$2:$A$500,DATEVALUE($A23&M$1&2013)),SUMPRODUCT((Repas!$A$2:$A$500=DATEVALUE($A23&M$1&2013))*(Repas!$B$2:$H$500)*(Paramétrage!$A$2:$A$500<=DATEVALUE($A23&M$1&2013))*(Paramétrage!$B$2:$H$500)),"0") -> 0
A24: 23 | B24: =IF(COUNTIF(Repas!$A$2:$A$500,DATEVALUE($A24&B$1&2013)),SUMPRODUCT((Repas!$A$2:$A$500=DATEVALUE($A24&B$1&2013))*(Repas!$B$2:$H$500)*(Paramétrage!$A$2:$A$500<=DATEVALUE($A24&B$1&2013))*(Paramétrage!$B$2:$H$500)),"0") -> 0 | C24: =IF(COUNTIF(Repas!$A$2:$A$500,DATEVALUE($A24&C$1&2013)),SUMPRODUCT((Repas!$A$2:$A$500=DATEVALUE($A24&C$1&2013))*(Repas!$B$2:$H$500)*(Paramétrage!$A$2:$A$500<=DATEVALUE($A24&C$1&2013))*(Paramétrage!$B$2:$H$500)),"0") -> 0 | D24: =IF(COUNTIF(Repas!$A$2:$A$500,DATEVALUE($A24&D$1&2013)),SUMPRODUCT((Repas!$A$2:$A$500=DATEVALUE($A24&D$1&2013))*(Repas!$B$2:$H$500)*(Paramétrage!$A$2:$A$500<=DATEVALUE($A24&D$1&2013))*(Paramétrage!$B$2:$H$500)),"0") -> 0 | E24: =IF(COUNTIF(Repas!$A$2:$A$500,DATEVALUE($A24&E$1&2013)),SUMPRODUCT((Repas!$A$2:$A$500=DATEVALUE($A24&E$1&2013))*(Repas!$B$2:$H$500)*(Paramétrage!$A$2:$A$500<=DATEVALUE($A24&E$1&2013))*(Paramétrage!$B$2:$H$500)),"0") -> 0 | F24: =IF(COUNTIF(Repas!$A$2:$A$500,DATEVALUE($A24&F$1&2013)),SUMPRODUCT((Repas!$A$2:$A$500=DATEVALUE($A24&F$1&2013))*(Repas!$B$2:$H$500)*(Paramétrage!$A$2:$A$500<=DATEVALUE($A24&F$1&2013))*(Paramétrage!$B$2:$H$500)),"0") -> 0 | G24: =IF(COUNTIF(Repas!$A$2:$A$500,DATEVALUE($A24&G$1&2013)),SUMPRODUCT((Repas!$A$2:$A$500=DATEVALUE($A24&G$1&2013))*(Repas!$B$2:$H$500)*(Paramétrage!$A$2:$A$500<=DATEVALUE($A24&G$1&2013))*(Paramétrage!$B$2:$H$500)),"0") -> 0 | H24: =IF(COUNTIF(Repas!$A$2:$A$500,DATEVALUE($A24&H$1&2013)),SUMPRODUCT((Repas!$A$2:$A$500=DATEVALUE($A24&H$1&2013))*(Repas!$B$2:$H$500)*(Paramétrage!$A$2:$A$500<=DATEVALUE($A24&H$1&2013))*(Paramétrage!$B$2:$H$500)),"0") -> 0 | I24: =IF(COUNTIF(Repas!$A$2:$A$500,DATEVALUE($A24&I$1&2013)),SUMPRODUCT((Repas!$A$2:$A$500=DATEVALUE($A24&I$1&2013))*(Repas!$B$2:$H$500)*(Paramétrage!$A$2:$A$500<=DATEVALUE($A24&I$1&2013))*(Paramétrage!$B$2:$H$500)),"0") -> 0 | ... M24: =IF(COUNTIF(Repas!$A$2:$A$500,DATEVALUE($A24&M$1&2013)),SUMPRODUCT((Repas!$A$2:$A$500=DATEVALUE($A24&M$1&2013))*(Repas!$B$2:$H$500)*(Paramétrage!$A$2:$A$500<=DATEVALUE($A24&M$1&2013))*(Paramétrage!$B$2:$H$500)),"0") -> 0
A25: 24 | B25: =IF(COUNTIF(Repas!$A$2:$A$500,DATEVALUE($A25&B$1&2013)),SUMPRODUCT((Repas!$A$2:$A$500=DATEVALUE($A25&B$1&2013))*(Repas!$B$2:$H$500)*(Paramétrage!$A$2:$A$500<=DATEVALUE($A25&B$1&2013))*(Paramétrage!$B$2:$H$500)),"0") -> 0 | C25: =IF(COUNTIF(Repas!$A$2:$A$500,DATEVALUE($A25&C$1&2013)),SUMPRODUCT((Repas!$A$2:$A$500=DATEVALUE($A25&C$1&2013))*(Repas!$B$2:$H$500)*(Paramétrage!$A$2:$A$500<=DATEVALUE($A25&C$1&2013))*(Paramétrage!$B$2:$H$500)),"0") -> 0 | D25: =IF(COUNTIF(Repas!$A$2:$A$500,DATEVALUE($A25&D$1&2013)),SUMPRODUCT((Repas!$A$2:$A$500=DATEVALUE($A25&D$1&2013))*(Repas!$B$2:$H$500)*(Paramétrage!$A$2:$A$500<=DATEVALUE($A25&D$1&2013))*(Paramétrage!$B$2:$H$500)),"0") -> 0 | E25: =IF(COUNTIF(Repas!$A$2:$A$500,DATEVALUE($A25&E$1&2013)),SUMPRODUCT((Repas!$A$2:$A$500=DATEVALUE($A25&E$1&2013))*(Repas!$B$2:$H$500)*(Paramétrage!$A$2:$A$500<=DATEVALUE($A25&E$1&2013))*(Paramétrage!$B$2:$H$500)),"0") -> 0 | F25: =IF(COUNTIF(Repas!$A$2:$A$500,DATEVALUE($A25&F$1&2013)),SUMPRODUCT((Repas!$A$2:$A$500=DATEVALUE($A25&F$1&2013))*(Repas!$B$2:$H$500)*(Paramétrage!$A$2:$A$500<=DATEVALUE($A25&F$1&2013))*(Paramétrage!$B$2:$H$500)),"0") -> 0 | G25: =IF(COUNTIF(Repas!$A$2:$A$500,DATEVALUE($A25&G$1&2013)),SUMPRODUCT((Repas!$A$2:$A$500=DATEVALUE($A25&G$1&2013))*(Repas!$B$2:$H$500)*(Paramétrage!$A$2:$A$500<=DATEVALUE($A25&G$1&2013))*(Paramétrage!$B$2:$H$500)),"0") -> 0 | H25: =IF(COUNTIF(Repas!$A$2:$A$500,DATEVALUE($A25&H$1&2013)),SUMPRODUCT((Repas!$A$2:$A$500=DATEVALUE($A25&H$1&2013))*(Repas!$B$2:$H$500)*(Paramétrage!$A$2:$A$500<=DATEVALUE($A25&H$1&2013))*(Paramétrage!$B$2:$H$500)),"0") -> 0 | I25: =IF(COUNTIF(Repas!$A$2:$A$500,DATEVALUE($A25&I$1&2013)),SUMPRODUCT((Repas!$A$2:$A$500=DATEVALUE($A25&I$1&2013))*(Repas!$B$2:$H$500)*(Paramétrage!$A$2:$A$500<=DATEVALUE($A25&I$1&2013))*(Paramétrage!$B$2:$H$500)),"0") -> 0 | ... M25: =IF(COUNTIF(Repas!$A$2:$A$500,DATEVALUE($A25&M$1&2013)),SUMPRODUCT((Repas!$A$2:$A$500=DATEVALUE($A25&M$1&2013))*(Repas!$B$2:$H$500)*(Paramétrage!$A$2:$A$500<=DATEVALUE($A25&M$1&2013))*(Paramétrage!$B$2:$H$500)),"0") -> 0
A26: 25 | B26: =IF(COUNTIF(Repas!$A$2:$A$500,DATEVALUE($A26&B$1&2013)),SUMPRODUCT((Repas!$A$2:$A$500=DATEVALUE($A26&B$1&2013))*(Repas!$B$2:$H$500)*(Paramétrage!$A$2:$A$500<=DATEVALUE($A26&B$1&2013))*(Paramétrage!$B$2:$H$500)),"0") -> 0 | C26: =IF(COUNTIF(Repas!$A$2:$A$500,DATEVALUE($A26&C$1&2013)),SUMPRODUCT((Repas!$A$2:$A$500=DATEVALUE($A26&C$1&2013))*(Repas!$B$2:$H$500)*(Paramétrage!$A$2:$A$500<=DATEVALUE($A26&C$1&2013))*(Paramétrage!$B$2:$H$500)),"0") -> 0 | D26: =IF(COUNTIF(Repas!$A$2:$A$500,DATEVALUE($A26&D$1&2013)),SUMPRODUCT((Repas!$A$2:$A$500=DATEVALUE($A26&D$1&2013))*(Repas!$B$2:$H$500)*(Paramétrage!$A$2:$A$500<=DATEVALUE($A26&D$1&2013))*(Paramétrage!$B$2:$H$500)),"0") -> 0 | E26: =IF(COUNTIF(Repas!$A$2:$A$500,DATEVALUE($A26&E$1&2013)),SUMPRODUCT((Repas!$A$2:$A$500=DATEVALUE($A26&E$1&2013))*(Repas!$B$2:$H$500)*(Paramétrage!$A$2:$A$500<=DATEVALUE($A26&E$1&2013))*(Paramétrage!$B$2:$H$500)),"0") -> 0 | F26: =IF(COUNTIF(Repas!$A$2:$A$500,DATEVALUE($A26&F$1&2013)),SUMPRODUCT((Repas!$A$2:$A$500=DATEVALUE($A26&F$1&2013))*(Repas!$B$2:$H$500)*(Paramétrage!$A$2:$A$500<=DATEVALUE($A26&F$1&2013))*(Paramétrage!$B$2:$H$500)),"0") -> 0 | G26: =IF(COUNTIF(Repas!$A$2:$A$500,DATEVALUE($A26&G$1&2013)),SUMPRODUCT((Repas!$A$2:$A$500=DATEVALUE($A26&G$1&2013))*(Repas!$B$2:$H$500)*(Paramétrage!$A$2:$A$500<=DATEVALUE($A26&G$1&2013))*(Paramétrage!$B$2:$H$500)),"0") -> 0 | H26: =IF(COUNTIF(Repas!$A$2:$A$500,DATEVALUE($A26&H$1&2013)),SUMPRODUCT((Repas!$A$2:$A$500=DATEVALUE($A26&H$1&2013))*(Repas!$B$2:$H$500)*(Paramétrage!$A$2:$A$500<=DATEVALUE($A26&H$1&2013))*(Paramétrage!$B$2:$H$500)),"0") -> 0 | I26: =IF(COUNTIF(Repas!$A$2:$A$500,DATEVALUE($A26&I$1&2013)),SUMPRODUCT((Repas!$A$2:$A$500=DATEVALUE($A26&I$1&2013))*(Repas!$B$2:$H$500)*(Paramétrage!$A$2:$A$500<=DATEVALUE($A26&I$1&2013))*(Paramétrage!$B$2:$H$500)),"0") -> 0 | ... M26: =IF(COUNTIF(Repas!$A$2:$A$500,DATEVALUE($A26&M$1&2013)),SUMPRODUCT((Repas!$A$2:$A$500=DATEVALUE($A26&M$1&2013))*(Repas!$B$2:$H$500)*(Paramétrage!$A$2:$A$500<=DATEVALUE($A26&M$1&2013))*(Paramétrage!$B$2:$H$500)),"0") -> 0
A27: 26 | B27: =IF(COUNTIF(Repas!$A$2:$A$500,DATEVALUE($A27&B$1&2013)),SUMPRODUCT((Repas!$A$2:$A$500=DATEVALUE($A27&B$1&2013))*(Repas!$B$2:$H$500)*(Paramétrage!$A$2:$A$500<=DATEVALUE($A27&B$1&2013))*(Paramétrage!$B$2:$H$500)),"0") -> 0 | C27: =IF(COUNTIF(Repas!$A$2:$A$500,DATEVALUE($A27&C$1&2013)),SUMPRODUCT((Repas!$A$2:$A$500=DATEVALUE($A27&C$1&2013))*(Repas!$B$2:$H$500)*(Paramétrage!$A$2:$A$500<=DATEVALUE($A27&C$1&2013))*(Paramétrage!$B$2:$H$500)),"0") -> 0 | D27: =IF(COUNTIF(Repas!$A$2:$A$500,DATEVALUE($A27&D$1&2013)),SUMPRODUCT((Repas!$A$2:$A$500=DATEVALUE($A27&D$1&2013))*(Repas!$B$2:$H$500)*(Paramétrage!$A$2:$A$500<=DATEVALUE($A27&D$1&2013))*(Paramétrage!$B$2:$H$500)),"0") -> 0 | E27: =IF(COUNTIF(Repas!$A$2:$A$500,DATEVALUE($A27&E$1&2013)),SUMPRODUCT((Repas!$A$2:$A$500=DATEVALUE($A27&E$1&2013))*(Repas!$B$2:$H$500)*(Paramétrage!$A$2:$A$500<=DATEVALUE($A27&E$1&2013))*(Paramétrage!$B$2:$H$500)),"0") -> 0 | F27: =IF(COUNTIF(Repas!$A$2:$A$500,DATEVALUE($A27&F$1&2013)),SUMPRODUCT((Repas!$A$2:$A$500=DATEVALUE($A27&F$1&2013))*(Repas!$B$2:$H$500)*(Paramétrage!$A$2:$A$500<=DATEVALUE($A27&F$1&2013))*(Paramétrage!$B$2:$H$500)),"0") -> 0 | G27: =IF(COUNTIF(Repas!$A$2:$A$500,DATEVALUE($A27&G$1&2013)),SUMPRODUCT((Repas!$A$2:$A$500=DATEVALUE($A27&G$1&2013))*(Repas!$B$2:$H$500)*(Paramétrage!$A$2:$A$500<=DATEVALUE($A27&G$1&2013))*(Paramétrage!$B$2:$H$500)),"0") -> 0 | H27: =IF(COUNTIF(Repas!$A$2:$A$500,DATEVALUE($A27&H$1&2013)),SUMPRODUCT((Repas!$A$2:$A$500=DATEVALUE($A27&H$1&2013))*(Repas!$B$2:$H$500)*(Paramétrage!$A$2:$A$500<=DATEVALUE($A27&H$1&2013))*(Paramétrage!$B$2:$H$500)),"0") -> 0 | I27: =IF(COUNTIF(Repas!$A$2:$A$500,DATEVALUE($A27&I$1&2013)),SUMPRODUCT((Repas!$A$2:$A$500=DATEVALUE($A27&I$1&2013))*(Repas!$B$2:$H$500)*(Paramétrage!$A$2:$A$500<=DATEVALUE($A27&I$1&2013))*(Paramétrage!$B$2:$H$500)),"0") -> 0 | ... M27: =IF(COUNTIF(Repas!$A$2:$A$500,DATEVALUE($A27&M$1&2013)),SUMPRODUCT((Repas!$A$2:$A$500=DATEVALUE($A27&M$1&2013))*(Repas!$B$2:$H$500)*(Paramétrage!$A$2:$A$500<=DATEVALUE($A27&M$1&2013))*(Paramétrage!$B$2:$H$500)),"0") -> 0
A28: 27 | B28: =IF(COUNTIF(Repas!$A$2:$A$500,DATEVALUE($A28&B$1&2013)),SUMPRODUCT((Repas!$A$2:$A$500=DATEVALUE($A28&B$1&2013))*(Repas!$B$2:$H$500)*(Paramétrage!$A$2:$A$500<=DATEVALUE($A28&B$1&2013))*(Paramétrage!$B$2:$H$500)),"0") -> 0 | C28: =IF(COUNTIF(Repas!$A$2:$A$500,DATEVALUE($A28&C$1&2013)),SUMPRODUCT((Repas!$A$2:$A$500=DATEVALUE($A28&C$1&2013))*(Repas!$B$2:$H$500)*(Paramétrage!$A$2:$A$500<=DATEVALUE($A28&C$1&2013))*(Paramétrage!$B$2:$H$500)),"0") -> 490000000 | D28: =IF(COUNTIF(Repas!$A$2:$A$500,DATEVALUE($A28&D$1&2013)),SUMPRODUCT((Repas!$A$2:$A$500=DATEVALUE($A28&D$1&2013))*(Repas!$B$2:$H$500)*(Paramétrage!$A$2:$A$500<=DATEVALUE($A28&D$1&2013))*(Paramétrage!$B$2:$H$500)),"0") -> 0 | E28: =IF(COUNTIF(Repas!$A$2:$A$500,DATEVALUE($A28&E$1&2013)),SUMPRODUCT((Repas!$A$2:$A$500=DATEVALUE($A28&E$1&2013))*(Repas!$B$2:$H$500)*(Paramétrage!$A$2:$A$500<=DATEVALUE($A28&E$1&2013))*(Paramétrage!$B$2:$H$500)),"0") -> 0 | F28: =IF(COUNTIF(Repas!$A$2:$A$500,DATEVALUE($A28&F$1&2013)),SUMPRODUCT((Repas!$A$2:$A$500=DATEVALUE($A28&F$1&2013))*(Repas!$B$2:$H$500)*(Paramétrage!$A$2:$A$500<=DATEVALUE($A28&F$1&2013))*(Paramétrage!$B$2:$H$500)),"0") -> 0 | G28: =IF(COUNTIF(Repas!$A$2:$A$500,DATEVALUE($A28&G$1&2013)),SUMPRODUCT((Repas!$A$2:$A$500=DATEVALUE($A28&G$1&2013))*(Repas!$B$2:$H$500)*(Paramétrage!$A$2:$A$500<=DATEVALUE($A28&G$1&2013))*(Paramétrage!$B$2:$H$500)),"0") -> 0 | H28: =IF(COUNTIF(Repas!$A$2:$A$500,DATEVALUE($A28&H$1&2013)),SUMPRODUCT((Repas!$A$2:$A$500=DATEVALUE($A28&H$1&2013))*(Repas!$B$2:$H$500)*(Paramétrage!$A$2:$A$500<=DATEVALUE($A28&H$1&2013))*(Paramétrage!$B$2:$H$500)),"0") -> 0 | I28: =IF(COUNTIF(Repas!$A$2:$A$500,DATEVALUE($A28&I$1&2013)),SUMPRODUCT((Repas!$A$2:$A$500=DATEVALUE($A28&I$1&2013))*(Repas!$B$2:$H$500)*(Paramétrage!$A$2:$A$500<=DATEVALUE($A28&I$1&2013))*(Paramétrage!$B$2:$H$500)),"0") -> 0 | ... M28: =IF(COUNTIF(Repas!$A$2:$A$500,DATEVALUE($A28&M$1&2013)),SUMPRODUCT((Repas!$A$2:$A$500=DATEVALUE($A28&M$1&2013))*(Repas!$B$2:$H$500)*(Paramétrage!$A$2:$A$500<=DATEVALUE($A28&M$1&2013))*(Paramétrage!$B$2:$H$500)),"0") -> 0
A29: 28 | B29: =IF(COUNTIF(Repas!$A$2:$A$500,DATEVALUE($A29&B$1&2013)),SUMPRODUCT((Repas!$A$2:$A$500=DATEVALUE($A29&B$1&2013))*(Repas!$B$2:$H$500)*(Paramétrage!$A$2:$A$500<=DATEVALUE($A29&B$1&2013))*(Paramétrage!$B$2:$H$500)),"0") -> 0 | C29: =IF(COUNTIF(Repas!$A$2:$A$500,DATEVALUE($A29&C$1&2013)),SUMPRODUCT((Repas!$A$2:$A$500=DATEVALUE($A29&C$1&2013))*(Repas!$B$2:$H$500)*(Paramétrage!$A$2:$A$500<=DATEVALUE($A29&C$1&2013))*(Paramétrage!$B$2:$H$500)),"0") -> 0 | D29: =IF(COUNTIF(Repas!$A$2:$A$500,DATEVALUE($A29&D$1&2013)),SUMPRODUCT((Repas!$A$2:$A$500=DATEVALUE($A29&D$1&2013))*(Repas!$B$2:$H$500)*(Paramétrage!$A$2:$A$500<=DATEVALUE($A29&D$1&2013))*(Paramétrage!$B$2:$H$500)),"0") -> 0 | E29: =IF(COUNTIF(Repas!$A$2:$A$500,DATEVALUE($A29&E$1&2013)),SUMPRODUCT((Repas!$A$2:$A$500=DATEVALUE($A29&E$1&2013))*(Repas!$B$2:$H$500)*(Paramétrage!$A$2:$A$500<=DATEVALUE($A29&E$1&2013))*(Paramétrage!$B$2:$H$500)),"0") -> 0 | F29: =IF(COUNTIF(Repas!$A$2:$A$500,DATEVALUE($A29&F$1&2013)),SUMPRODUCT((Repas!$A$2:$A$500=DATEVALUE($A29&F$1&2013))*(Repas!$B$2:$H$500)*(Paramétrage!$A$2:$A$500<=DATEVALUE($A29&F$1&2013))*(Paramétrage!$B$2:$H$500)),"0") -> 0 | G29: =IF(COUNTIF(Repas!$A$2:$A$500,DATEVALUE($A29&G$1&2013)),SUMPRODUCT((Repas!$A$2:$A$500=DATEVALUE($A29&G$1&2013))*(Repas!$B$2:$H$500)*(Paramétrage!$A$2:$A$500<=DATEVALUE($A29&G$1&2013))*(Paramétrage!$B$2:$H$500)),"0") -> 0 | H29: =IF(COUNTIF(Repas!$A$2:$A$500,DATEVALUE($A29&H$1&2013)),SUMPRODUCT((Repas!$A$2:$A$500=DATEVALUE($A29&H$1&2013))*(Repas!$B$2:$H$500)*(Paramétrage!$A$2:$A$500<=DATEVALUE($A29&H$1&2013))*(Paramétrage!$B$2:$H$500)),"0") -> 0 | I29: =IF(COUNTIF(Repas!$A$2:$A$500,DATEVALUE($A29&I$1&2013)),SUMPRODUCT((Repas!$A$2:$A$500=DATEVALUE($A29&I$1&2013))*(Repas!$B$2:$H$500)*(Paramétrage!$A$2:$A$500<=DATEVALUE($A29&I$1&2013))*(Paramétrage!$B$2:$H$500)),"0") -> 0 | ... M29: =IF(COUNTIF(Repas!$A$2:$A$500,DATEVALUE($A29&M$1&2013)),SUMPRODUCT((Repas!$A$2:$A$500=DATEVALUE($A29&M$1&2013))*(Repas!$B$2:$H$500)*(Paramétrage!$A$2:$A$500<=DATEVALUE($A29&M$1&2013))*(Paramétrage!$B$2:$H$500)),"0") -> 0
A30: 29 | B30: =IF(COUNTIF(Repas!$A$2:$A$500,DATEVALUE($A30&B$1&2013)),SUMPRODUCT((Repas!$A$2:$A$500=DATEVALUE($A30&B$1&2013))*(Repas!$B$2:$H$500)*(Paramétrage!$A$2:$A$500<=DATEVALUE($A30&B$1&2013))*(Paramétrage!$B$2:$H$500)),"0") -> 0 | C30: =IF(COUNTIF(Repas!$A$2:$A$500,DATEVALUE($A30&C$1&2013)),SUMPRODUCT((Repas!$A$2:$A$500=DATEVALUE($A30&C$1&2013))*(Repas!$B$2:$H$500)*(Paramétrage!$A$2:$A$500<=DATEVALUE($A30&C$1&2013))*(Paramétrage!$B$2:$H$500)),"0") -> 0 | D30: =IF(COUNTIF(Repas!$A$2:$A$500,DATEVALUE($A30&D$1&2013)),SUMPRODUCT((Repas!$A$2:$A$500=DATEVALUE($A30&D$1&2013))*(Repas!$B$2:$H$500)*(Paramétrage!$A$2:$A$500<=DATEVALUE($A30&D$1&2013))*(Paramétrage!$B$2:$H$500)),"0") -> 0 | E30: =IF(COUNTIF(Repas!$A$2:$A$500,DATEVALUE($A30&E$1&2013)),SUMPRODUCT((Repas!$A$2:$A$500=DATEVALUE($A30&E$1&2013))*(Repas!$B$2:$H$500)*(Paramétrage!$A$2:$A$500<=DATEVALUE($A30&E$1&2013))*(Paramétrage!$B$2:$H$500)),"0") -> 0 | F30: =IF(COUNTIF(Repas!$A$2:$A$500,DATEVALUE($A30&F$1&2013)),SUMPRODUCT((Repas!$A$2:$A$500=DATEVALUE($A30&F$1&2013))*(Repas!$B$2:$H$500)*(Paramétrage!$A$2:$A$500<=DATEVALUE($A30&F$1&2013))*(Paramétrage!$B$2:$H$500)),"0") -> 0 | G30: =IF(COUNTIF(Repas!$A$2:$A$500,DATEVALUE($A30&G$1&2013)),SUMPRODUCT((Repas!$A$2:$A$500=DATEVALUE($A30&G$1&2013))*(Repas!$B$2:$H$500)*(Paramétrage!$A$2:$A$500<=DATEVALUE($A30&G$1&2013))*(Paramétrage!$B$2:$H$500)),"0") -> 0 | H30: =IF(COUNTIF(Repas!$A$2:$A$500,DATEVALUE($A30&H$1&2013)),SUMPRODUCT((Repas!$A$2:$A$500=DATEVALUE($A30&H$1&2013))*(Repas!$B$2:$H$500)*(Paramétrage!$A$2:$A$500<=DATEVALUE($A30&H$1&2013))*(Paramétrage!$B$2:$H$500)),"0") -> 0 | I30: =IF(COUNTIF(Repas!$A$2:$A$500,DATEVALUE($A30&I$1&2013)),SUMPRODUCT((Repas!$A$2:$A$500=DATEVALUE($A30&I$1&2013))*(Repas!$B$2:$H$500)*(Paramétrage!$A$2:$A$500<=DATEVALUE($A30&I$1&2013))*(Paramétrage!$B$2:$H$500)),"0") -> 0 | ... M30: =IF(COUNTIF(Repas!$A$2:$A$500,DATEVALUE($A30&M$1&2013)),SUMPRODUCT((Repas!$A$2:$A$500=DATEVALUE($A30&M$1&2013))*(Repas!$B$2:$H$500)*(Paramétrage!$A$2:$A$500<=DATEVALUE($A30&M$1&2013))*(Paramétrage!$B$2:$H$500)),"0") -> 0
A31: 30 | B31: =IF(COUNTIF(Repas!$A$2:$A$500,DATEVALUE($A31&B$1&2013)),SUMPRODUCT((Repas!$A$2:$A$500=DATEVALUE($A31&B$1&2013))*(Repas!$B$2:$H$500)*(Paramétrage!$A$2:$A$500<=DATEVALUE($A31&B$1&2013))*(Paramétrage!$B$2:$H$500)),"0") -> 0 | C31: =IF(COUNTIF(Repas!$A$2:$A$500,DATEVALUE($A31&C$1&2013)),SUMPRODUCT((Repas!$A$2:$A$500=DATEVALUE($A31&C$1&2013))*(Repas!$B$2:$H$500)*(Paramétrage!$A$2:$A$500<=DATEVALUE($A31&C$1&2013))*(Paramétrage!$B$2:$H$500)),"0") -> 0 | D31: =IF(COUNTIF(Repas!$A$2:$A$500,DATEVALUE($A31&D$1&2013)),SUMPRODUCT((Repas!$A$2:$A$500=DATEVALUE($A31&D$1&2013))*(Repas!$B$2:$H$500)*(Paramétrage!$A$2:$A$500<=DATEVALUE($A31&D$1&2013))*(Paramétrage!$B$2:$H$500)),"0") -> 0 | E31: =IF(COUNTIF(Repas!$A$2:$A$500,DATEVALUE($A31&E$1&2013)),SUMPRODUCT((Repas!$A$2:$A$500=DATEVALUE($A31&E$1&2013))*(Repas!$B$2:$H$500)*(Paramétrage!$A$2:$A$500<=DATEVALUE($A31&E$1&2013))*(Paramétrage!$B$2:$H$500)),"0") -> 0 | F31: =IF(COUNTIF(Repas!$A$2:$A$500,DATEVALUE($A31&F$1&2013)),SUMPRODUCT((Repas!$A$2:$A$500=DATEVALUE($A31&F$1&2013))*(Repas!$B$2:$H$500)*(Paramétrage!$A$2:$A$500<=DATEVALUE($A31&F$1&2013))*(Paramétrage!$B$2:$H$500)),"0") -> 0 | G31: =IF(COUNTIF(Repas!$A$2:$A$500,DATEVALUE($A31&G$1&2013)),SUMPRODUCT((Repas!$A$2:$A$500=DATEVALUE($A31&G$1&2013))*(Repas!$B$2:$H$500)*(Paramétrage!$A$2:$A$500<=DATEVALUE($A31&G$1&2013))*(Paramétrage!$B$2:$H$500)),"0") -> 0 | H31: =IF(COUNTIF(Repas!$A$2:$A$500,DATEVALUE($A31&H$1&2013)),SUMPRODUCT((Repas!$A$2:$A$500=DATEVALUE($A31&H$1&2013))*(Repas!$B$2:$H$500)*(Paramétrage!$A$2:$A$500<=DATEVALUE($A31&H$1&2013))*(Paramétrage!$B$2:$H$500)),"0") -> 0 | I31: =IF(COUNTIF(Repas!$A$2:$A$500,DATEVALUE($A31&I$1&2013)),SUMPRODUCT((Repas!$A$2:$A$500=DATEVALUE($A31&I$1&2013))*(Repas!$B$2:$H$500)*(Paramétrage!$A$2:$A$500<=DATEVALUE($A31&I$1&2013))*(Paramétrage!$B$2:$H$500)),"0") -> 0 | ... M31: =IF(COUNTIF(Repas!$A$2:$A$500,DATEVALUE($A31&M$1&2013)),SUMPRODUCT((Repas!$A$2:$A$500=DATEVALUE($A31&M$1&2013))*(Repas!$B$2:$H$500)*(Paramétrage!$A$2:$A$500<=DATEVALUE($A31&M$1&2013))*(Paramétrage!$B$2:$H$500)),"0") -> 0
A32: 31 | B32: =IF(COUNTIF(Repas!$A$2:$A$500,DATEVALUE($A32&B$1&2013)),SUMPRODUCT((Repas!$A$2:$A$500=DATEVALUE($A32&B$1&2013))*(Repas!$B$2:$H$500)*(Paramétrage!$A$2:$A$500<=DATEVALUE($A32&B$1&2013))*(Paramétrage!$B$2:$H$500)),"0") -> 0 | C32: =IF(COUNTIF(Repas!$A$2:$A$500,DATEVALUE($A32&C$1&2013)),SUMPRODUCT((Repas!$A$2:$A$500=DATEVALUE($A32&C$1&2013))*(Repas!$B$2:$H$500)*(Paramétrage!$A$2:$A$500<=DATEVALUE($A32&C$1&2013))*(Paramétrage!$B$2:$H$500)),"0") -> 0 | D32: =IF(COUNTIF(Repas!$A$2:$A$500,DATEVALUE($A32&D$1&2013)),SUMPRODUCT((Repas!$A$2:$A$500=DATEVALUE($A32&D$1&2013))*(Repas!$B$2:$H$500)*(Paramétrage!$A$2:$A$500<=DATEVALUE($A32&D$1&2013))*(Paramétrage!$B$2:$H$500)),"0") -> 0 | E32: =IF(COUNTIF(Repas!$A$2:$A$500,DATEVALUE($A32&E$1&2013)),SUMPRODUCT((Repas!$A$2:$A$500=DATEVALUE($A32&E$1&2013))*(Repas!$B$2:$H$500)*(Paramétrage!$A$2:$A$500<=DATEVALUE($A32&E$1&2013))*(Paramétrage!$B$2:$H$500)),"0") -> 0 | F32: =IF(COUNTIF(Repas!$A$2:$A$500,DATEVALUE($A32&F$1&2013)),SUMPRODUCT((Repas!$A$2:$A$500=DATEVALUE($A32&F$1&2013))*(Repas!$B$2:$H$500)*(Paramétrage!$A$2:$A$500<=DATEVALUE($A32&F$1&2013))*(Paramétrage!$B$2:$H$500)),"0") -> 0 | G32: =IF(COUNTIF(Repas!$A$2:$A$500,DATEVALUE($A32&G$1&2013)),SUMPRODUCT((Repas!$A$2:$A$500=DATEVALUE($A32&G$1&2013))*(Repas!$B$2:$H$500)*(Paramétrage!$A$2:$A$500<=DATEVALUE($A32&G$1&2013))*(Paramétrage!$B$2:$H$500)),"0") -> 0 | H32: =IF(COUNTIF(Repas!$A$2:$A$500,DATEVALUE($A32&H$1&2013)),SUMPRODUCT((Repas!$A$2:$A$500=DATEVALUE($A32&H$1&2013))*(Repas!$B$2:$H$500)*(Paramétrage!$A$2:$A$500<=DATEVALUE($A32&H$1&2013))*(Paramétrage!$B$2:$H$500)),"0") -> 0 | I32: =IF(COUNTIF(Repas!$A$2:$A$500,DATEVALUE($A32&I$1&2013)),SUMPRODUCT((Repas!$A$2:$A$500=DATEVALUE($A32&I$1&2013))*(Repas!$B$2:$H$500)*(Paramétrage!$A$2:$A$500<=DATEVALUE($A32&I$1&2013))*(Paramétrage!$B$2:$H$500)),"0") -> 0 | ... M32: =IF(COUNTIF(Repas!$A$2:$A$500,DATEVALUE($A32&M$1&2013)),SUMPRODUCT((Repas!$A$2:$A$500=DATEVALUE($A32&M$1&2013))*(Repas!$B$2:$H$500)*(Paramétrage!$A$2:$A$500<=DATEVALUE($A32&M$1&2013))*(Paramétrage!$B$2:$H$500)),"0") -> 0
A36: SI(NB.SI(Repas!$A$2:$A$10;DATEVAL($A3&B$1&2013));SOMMEPROD((Repas!$A$2:$A$10=DATEVAL($A3&B$1&2013))*(Repas!$B$2:$H$10)*(Paramétrage!$B$2:$H$2));"0")
A38: SI(NB.SI(Repas!$A$2:$A$10;DATEVAL($A3&B$1&2013));SOMMEPROD((Repas!$A$2:$A$10=DATEVAL($A3&B$1&2013))*(Repas!$B$2:$H$10)*(Paramétrage!$A$2:$A$10=DATEVAL($A3&B$1&2013))*(Paramétrage!$B$2:$H$10));"0")

Sheet Repas
A1: Date | B1: Lieu | C1: Truite | D1: Sardines | E1: Maquereau | F1: Calmar | G1: Thon | H1: Bonite
A2: 41276 | B2: 1 | C2: 1 | D2: 1 | E2: 1 | F2: 1 | G2: 1 | H2: 1
A3: 41279 | B3: 2 | C3: 2 | D3: 2 | E3: 2 | F3: 2 | G3: 2 | H3: 2
A4: 41289 | B4: 3 | C4: 3 | D4: 3 | E4: 3 | F4: 3 | G4: 3 | H4: 3
A5: 41294 | B5: 4 | C5: 4 | D5: 4 | E5: 4 | F5: 4 | G5: 4 | H5: 4
A6: 41307 | B6: 5 | C6: 5 | D6: 5 | E6: 5 | F6: 5 | G6: 5 | H6: 5
A7: 41313 | B7: 6 | C7: 6 | D7: 6 | E7: 6 | F7: 6 | G7: 6 | H7: 6
A8: 41332 | B8: 7 | C8: 7 | D8: 7 | E8: 7 | F8: 7 | G8: 7 | H8: 7
A9: 41337 | B9: 8 | C9: 8 | D9: 8 | E9: 8 | F9: 8 | G9: 8 | H9: 8
A10: 40988 | B10: 9 | C10: 9 | D10: 9 | E10: 9 | F10: 9 | G10: 9 | H10: 9

Sheet Paramétrage
A1: Date | B1: Lieu | C1: Truite | D1: Sardines | E1: Maquereau | F1: Calmar | G1: Thon | H1: Bonite
A2: 41275 | B2: 10 | C2: 10 | D2: 10 | E2: 10 | F2: 10 | G2: 10 | H2: 10
A3: 41279 | B3: 100 | C3: 100 | D3: 100 | E3: 100 | F3: 100 | G3: 100 | H3: 100
A4: 41288 | B4: 1000 | C4: 1000 | D4: 1000 | E4: 1000 | F4: 1000 | G4: 1000 | H4: 1000
A5: 41296 | B5: 10000 | C5: 10000 | D5: 10000 | E5: 10000 | F5: 10000 | G5: 10000 | H5: 10000
A6: 41309 | B6: 100000 | C6: 100000 | D6: 100000 | E6: 100000 | F6: 100000 | G6: 100000 | H6: 100000
A7: 41312 | B7: 1000000 | C7: 1000000 | D7: 1000000 | E7: 1000000 | F7: 1000000 | G7: 1000000 | H7: 1000000
A8: 41332 | B8: 10000000 | C8: 10000000 | D8: 10000000 | E8: 10000000 | F8: 10000000 | G8: 10000000 | H8: 10000000
A9: 41337 | B9: 100000000 | C9: 100000000 | D9: 100000000 | E9: 100000000 | F9: 100000000 | G9: 100000000 | H9: 100000000
A10: 40988 | B10: 1000000000 | C10: 1000000000 | D10: 1000000000 | E10: 1000000000 | F10: 1000000000 | G10: 1000000000 | H10: 1000000000
