Workbook

Sheet Saisie Guichet
B1: Saisie des anomalies 2013 - Guichet
B3: Guichet | E3: d1 | F3: d2 | G3: d3 | H3: d4 | I3: d5 | J3: d6 | K3: d7 | L3: d8 | M3: Total anomalies | N3: Nombre camions reçus
C4: SEM. 43 | D4: 21 | E4: 10 | F4: 0 | G4: 2 | H4: 56 | I4: 3 | J4: 45 | K4: 3 | L4: 2 | M4: =SUM(E4:L4) -> 121 | N4: 100
D5: 22 | E5: 2 | F5: 0 | G5: 0 | H5: 26 | I5: 0 | J5: 58 | K5: 0 | L5: 0 | M5: =SUM(E5:L5) -> 86 | N5: 80
D6: 23 | E6: 0 | F6: 1 | G6: 1 | H6: 16 | I6: 1 | J6: 12 | K6: 1 | L6: 1 | M6: =SUM(E6:L6) -> 33 | N6: 53
D7: 24 | E7: 2 | F7: 2 | G7: 0 | H7: 6 | I7: 0 | J7: 5 | K7: 0 | L7: 0 | M7: =SUM(E7:L7) -> 15 | N7: 25
D8: 25 | E8: 1 | F8: 0 | G8: 0 | H8: 32 | I8: 0 | J8: 23 | K8: 0 | L8: 0 | M8: =SUM(E8:L8) -> 56 | N8: 75
D9: 26 | E9: 0 | F9: 0 | G9: 0 | H9: 12 | I9: 0 | J9: 2 | K9: 0 | L9: 0 | M9: =SUM(E9:L9) -> 14 | N9: 45
D10: 27 | E10: 0 | F10: 0 | G10: 0 | H10: 2 | I10: 0 | J10: 0 | K10: 0 | L10: 0 | M10: =SUM(E10:L10) -> 2 | N10: 30
C11: SEM. 44 | D11: 28 | E11: 18 | F11: 0 | G11: 1 | H11: 23 | I11: 0 | J11: 15 | K11: 0 | L11: 0 | M11: =SUM(E11:L11) -> 57 | N11: 96
D12: 29 | E12: 2 | F12: 1 | G12: 0 | H12: 2 | I12: 0 | J12: 8 | K12: 1 | L12: 1 | M12: =SUM(E12:L12) -> 15 | N12: 45
D13: 30 | E13: 0 | F13: 0 | G13: 0 | H13: 3 | I13: 0 | J13: 1 | K13: 0 | L13: 0 | M13: =SUM(E13:L13) -> 4 | N13: 82
D14: 31 | E14: 11 | F14: 1 | G14: 0 | H14: 1 | I14: 0 | J14: 2 | K14: 0 | L14: 0 | M14: =SUM(E14:L14) -> 15 | N14: 96
B15: NOVEMBRE | D15: 1 | E15: 2 | F15: 0 | G15: 1 | H15: 12 | I15: 1 | J15: 0 | K15: 0 | L15: 0 | M15: =SUM(E15:L15) -> 16 | N15: 56
D16: 2 | E16: 8 | F16: 0 | G16: 1 | H16: 6 | I16: 0 | J16: 1 | K16: 0 | L16: 0 | M16: =SUM(E16:L16) -> 16 | N16: 85
D17: 3 | E17: 0 | F17: 0 | G17: 1 | H17: 4 | I17: 0 | J17: 2 | K17: 1 | L17: 1 | M17: =SUM(E17:L17) -> 9 | N17: 36
C18: SEM. 45 | D18: 4 | E18: 15 | F18: 1 | G18: 0 | H18: 8 | I18: 0 | J18: 1 | K18: 0 | L18: 0 | M18: =SUM(E18:L18) -> 25 | N18: 54
D19: 5 | E19: 13 | F19: 2 | G19: 0 | H19: 7 | I19: 0 | J19: 2 | K19: 0 | L19: 0 | M19: =SUM(E19:L19) -> 24 | N19: 58
D20: 6 | E20: 15 | F20: 0 | G20: 0 | H20: 5 | I20: 0 | J20: 0 | K20: 0 | L20: 0 | M20: =SUM(E20:L20) -> 20 | N20: 63
D21: 7 | E21: 14 | F21: 0 | G21: 1 | H21: 0 | I21: 1 | J21: 0 | K21: 1 | L21: 1 | M21: =SUM(E21:L21) -> 18 | N21: 87
D22: 8 | E22: 9 | F22: 1 | G22: 0 | H22: 1 | I22: 0 | J22: 2 | K22: 0 | L22: 0 | M22: =SUM(E22:L22) -> 13 | N22: 79
D23: 9 | E23: 5 | F23: 0 | G23: 0 | H23: 3 | I23: 0 | J23: 5 | K23: 0 | L23: 0 | M23: =SUM(E23:L23) -> 13 | N23: 59
D24: 10 | E24: 0 | F24: 1 | G24: 0 | H24: 0 | I24: 0 | J24: 1 | K24: 0 | L24: 0 | M24: =SUM(E24:L24) -> 2 | N24: 87
C25: SEM. 46 | D25: 11 | E25: 23 | F25: 5 | G25: 6 | H25: 58 | I25: 6 | J25: 14 | K25: 3 | L25: 2 | M25: =SUM(E25:L25) -> 117 | N25: 105
D26: 12 | E26: 14 | F26: 0 | G26: 1 | H26: 0 | I26: 1 | J26: 0 | K26: 1 | L26: 1 | M26: =SUM(E26:L26) -> 18 | N26: 56
D27: 13 | E27: 9 | F27: 1 | G27: 0 | H27: 1 | I27: 0 | J27: 2 | K27: 0 | L27: 0 | M27: =SUM(E27:L27) -> 13 | N27: 89
D28: 14 | E28: 21 | F28: 0 | G28: 1 | H28: 13 | I28: 2 | J28: 0 | K28: 0 | L28: 0 | M28: =SUM(E28:L28) -> 37 | N28: 51
D29: 15 | E29: 6 | F29: 1 | G29: 0 | H29: 3 | I29: 0 | J29: 0 | K29: 0 | L29: 0 | M29: =SUM(E29:L29) -> 10 | N29: 26
D30: 16 | E30: 5 | F30: 3 | G30: 0 | H30: 2 | I30: 0 | J30: 1 | K30: 0 | L30: 0 | M30: =SUM(E30:L30) -> 11 | N30: 23
D31: 17 | E31: 2 | F31: 0 | G31: 0 | H31: 0 | I31: 0 | J31: 1 | K31: 0 | L31: 0 | M31: =SUM(E31:L31) -> 3 | N31: 15
C32: SEM. 47 | D32: 18 | E32: 26 | F32: 1 | G32: 0 | H32: 12 | I32: 0 | J32: 1 | K32: 0 | L32: 0 | M32: =SUM(E32:L32) -> 40 | N32: 98
D33: 19 | E33: 14 | F33: 0 | G33: 1 | H33: 0 | I33: 1 | J33: 0 | K33: 1 | L33: 1 | M33: =SUM(E33:L33) -> 18 | N33: 56
D34: 20 | E34: 9 | F34: 1 | G34: 0 | H34: 1 | I34: 0 | J34: 2 | K34: 0 | L34: 0 | M34: =SUM(E34:L34) -> 13 | N34: 91
D35: 21 | E35: 12 | F35: 2 | G35: 3 | H35: 9 | I35: 0 | J35: 0 | K35: 1 | L35: 0 | M35: =SUM(E35:L35) -> 27 | N35: 63
D36: 22 | E36: 8 | F36: 1 | G36: 0 | H36: 15 | I36: 0 | J36: 1 | K36: 0 | L36: 1 | M36: =SUM(E36:L36) -> 26 | N36: 41
D37: 23 | E37: 6 | F37: 1 | G37: 0 | H37: 8 | I37: 0 | J37: 3 | K37: 0 | L37: 0 | M37: =SUM(E37:L37) -> 18 | N37: 48
D38: 24 | E38: 7 | F38: 2 | G38: 1 | H38: 2 | I38: 1 | J38: 0 | K38: 0 | L38: 0 | M38: =SUM(E38:L38) -> 13 | N38: 42
C39: SEM. 48 | D39: 25 | E39: 18 | F39: 0 | G39: 0 | H39: 1 | I39: 0 | J39: 1 | K39: 0 | L39: 0 | M39: =SUM(E39:L39) -> 20 | N39: 56
D40: 26 | E40: 12 | F40: 1 | G40: 0 | H40: 2 | J40: 0 | K40: 1 | L40: 1 | M40: =SUM(E40:L40) -> 17 | N40: 89
D41: 27 | E41: 9 | F41: 0 | G41: 1 | H41: 0 | I41: 6 | J41: 0 | K41: 0 | L41: 0 | M41: =SUM(E41:L41) -> 16 | N41: 84
...

Sheet Guichet H
B1: Récapitulatif hebdomadaire 2013 - Guichet
B3: Guichet | D3: d1 | E3: d2 | F3: d3 | G3: d4 | H3: d5 | I3: d6 | J3: d7 | K3: d8 | L3: Total anomalies hebdomadaires | M3: Nombre camions reçus
C4: 43 | D4: =SUM('Saisie Guichet'!E4:E10) -> 15 | E4: =SUM('Saisie Guichet'!F4:F10) -> 3 | F4: =SUM('Saisie Guichet'!G4:G10) -> 3 | G4: =SUM('Saisie Guichet'!H4:H10) -> 150 | H4: =SUM('Saisie Guichet'!I4:I10) -> 4 | I4: =SUM('Saisie Guichet'!J4:J10) -> 145 | J4: =SUM('Saisie Guichet'!K4:K10) -> 4 | K4: =SUM('Saisie Guichet'!L4:L10) -> 3 | L4: =SUM(D4:K4) -> 327 | M4: =SUM('Saisie Guichet'!N4:N10) -> 408
C5: 44 | D5: =SUM('Saisie Guichet'!E11:E14) -> 31 | E5: =SUM('Saisie Guichet'!F11:F14) -> 2 | F5: =SUM('Saisie Guichet'!G11:G14) -> 1 | G5: =SUM('Saisie Guichet'!H11:H14) -> 29 | H5: =SUM('Saisie Guichet'!I11:I14) -> 0 | I5: =SUM('Saisie Guichet'!J11:J14) -> 26 | J5: =SUM('Saisie Guichet'!K11:K14) -> 1 | K5: =SUM('Saisie Guichet'!L11:L14) -> 1 | L5: =SUM(D5:K5) -> 91 | M5: =SUM('Saisie Guichet'!N11:N14) -> 319
B6: NOVEMBRE | C6: 44 | D6: =SUM('Saisie Guichet'!E15:E17) -> 10 | E6: =SUM('Saisie Guichet'!F15:F17) -> 0 | F6: =SUM('Saisie Guichet'!G15:G17) -> 3 | G6: =SUM('Saisie Guichet'!H15:H17) -> 22 | H6: =SUM('Saisie Guichet'!I15:I17) -> 1 | I6: =SUM('Saisie Guichet'!J15:J17) -> 3 | J6: =SUM('Saisie Guichet'!K15:K17) -> 1 | K6: =SUM('Saisie Guichet'!L15:L17) -> 1 | L6: =SUM(D6:K6) -> 41 | M6: =SUM('Saisie Guichet'!N15:N17) -> 177
C7: 45 | D7: =SUM('Saisie Guichet'!E18:E24) -> 71 | E7: =SUM('Saisie Guichet'!F18:F24) -> 5 | F7: =SUM('Saisie Guichet'!G18:G24) -> 1 | G7: =SUM('Saisie Guichet'!H18:H24) -> 24 | H7: =SUM('Saisie Guichet'!I18:I24) -> 1 | I7: =SUM('Saisie Guichet'!J18:J24) -> 11 | J7: =SUM('Saisie Guichet'!K18:K24) -> 1 | K7: =SUM('Saisie Guichet'!L18:L24) -> 1 | L7: =SUM(D7:K7) -> 115 | M7: =SUM('Saisie Guichet'!N18:N24) -> 487
C8: 46 | D8: =SUM('Saisie Guichet'!E25:E31) -> 80 | E8: =SUM('Saisie Guichet'!F25:F31) -> 10 | F8: =SUM('Saisie Guichet'!G25:G31) -> 8 | G8: =SUM('Saisie Guichet'!H25:H31) -> 77 | H8: =SUM('Saisie Guichet'!I25:I31) -> 9 | I8: =SUM('Saisie Guichet'!J25:J31) -> 18 | J8: =SUM('Saisie Guichet'!K25:K31) -> 4 | K8: =SUM('Saisie Guichet'!L25:L31) -> 3 | L8: =SUM(D8:K8) -> 209 | M8: =SUM('Saisie Guichet'!N25:N31) -> 365
C9: 47 | D9: =SUM('Saisie Guichet'!E32:E38) -> 82 | E9: =SUM('Saisie Guichet'!F32:F38) -> 8 | F9: =SUM('Saisie Guichet'!G32:G38) -> 5 | G9: =SUM('Saisie Guichet'!H32:H38) -> 47 | H9: =SUM('Saisie Guichet'!I32:I38) -> 2 | I9: =SUM('Saisie Guichet'!J32:J38) -> 7 | J9: =SUM('Saisie Guichet'!K32:K38) -> 2 | K9: =SUM('Saisie Guichet'!L32:L38) -> 2 | L9: =SUM(D9:K9) -> 155 | M9: =SUM('Saisie Guichet'!N32:N38) -> 439
C10: 48 | D10: =SUM('Saisie Guichet'!E39:E44) -> 64 | E10: =SUM('Saisie Guichet'!F39:F44) -> 2 | F10: =SUM('Saisie Guichet'!G39:G44) -> 5 | G10: =SUM('Saisie Guichet'!H39:H44) -> 4 | H10: =SUM('Saisie Guichet'!I39:I44) -> 7 | I10: =SUM('Saisie Guichet'!J39:J44) -> 4 | J10: =SUM('Saisie Guichet'!K39:K44) -> 2 | K10: =SUM('Saisie Guichet'!L39:L44) -> 2 | L10: =SUM(D10:K10) -> 90 | M10: =SUM('Saisie Guichet'!N39:N44) -> 372
B11: DECEMBRE | C11: 48 | D11: =SUM('Saisie Guichet'!E45) -> 3 | E11: =SUM('Saisie Guichet'!F45) -> 0 | F11: =SUM('Saisie Guichet'!G45) -> 0 | G11: =SUM('Saisie Guichet'!H45) -> 2 | H11: =SUM('Saisie Guichet'!I45) -> 0 | I11: =SUM('Saisie Guichet'!J45) -> 0 | J11: =SUM('Saisie Guichet'!K45) -> 0 | K11: =SUM('Saisie Guichet'!L45) -> 0 | L11: =SUM(D11:K11) -> 5 | M11: =SUM('Saisie Guichet'!N45) -> 23
C12: 49 | D12: =SUM('Saisie Guichet'!E46:E52) -> 98 | E12: =SUM('Saisie Guichet'!F46:F52) -> 3 | F12: =SUM('Saisie Guichet'!G46:G52) -> 1 | G12: =SUM('Saisie Guichet'!H46:H52) -> 39 | H12: =SUM('Saisie Guichet'!I46:I52) -> 2 | I12: =SUM('Saisie Guichet'!J46:J52) -> 13 | J12: =SUM('Saisie Guichet'!K46:K52) -> 1 | K12: =SUM('Saisie Guichet'!L46:L52) -> 3 | L12: =SUM(D12:K12) -> 160 | M12: =SUM('Saisie Guichet'!N46:N52) -> 344
C13: 50 | D13: =SUM('Saisie Guichet'!E53:E59) -> 106 | E13: =SUM('Saisie Guichet'!F53:F59) -> 6 | F13: =SUM('Saisie Guichet'!G53:G59) -> 2 | G13: =SUM('Saisie Guichet'!H53:H59) -> 60 | H13: =SUM('Saisie Guichet'!I53:I59) -> 4 | I13: =SUM('Saisie Guichet'!J53:J59) -> 15 | J13: =SUM('Saisie Guichet'!K53:K59) -> 3 | K13: =SUM('Saisie Guichet'!L53:L59) -> 14 | L13: =SUM(D13:K13) -> 210 | M13: =SUM('Saisie Guichet'!N53:N59) -> 401
C14: 51 | D14: =SUM('Saisie Guichet'!E60:E66) -> 98 | E14: =SUM('Saisie Guichet'!F60:F66) -> 3 | F14: =SUM('Saisie Guichet'!G60:G66) -> 1 | G14: =SUM('Saisie Guichet'!H60:H66) -> 39 | H14: =SUM('Saisie Guichet'!I60:I66) -> 2 | I14: =SUM('Saisie Guichet'!J60:J66) -> 13 | J14: =SUM('Saisie Guichet'!K60:K66) -> 1 | K14: =SUM('Saisie Guichet'!L60:L66) -> 3 | L14: =SUM(D14:K14) -> 160 | M14: =SUM('Saisie Guichet'!N60:N66) -> 344
C15: 52 | D15: =SUM('Saisie Guichet'!E67:E73) -> 80 | E15: =SUM('Saisie Guichet'!F67:F73) -> 10 | F15: =SUM('Saisie Guichet'!G67:G73) -> 8 | G15: =SUM('Saisie Guichet'!H67:H73) -> 77 | H15: =SUM('Saisie Guichet'!I67:I73) -> 9 | I15: =SUM('Saisie Guichet'!J67:J73) -> 18 | J15: =SUM('Saisie Guichet'!K67:K73) -> 4 | K15: =SUM('Saisie Guichet'!L67:L73) -> 3 | L15: =SUM(D15:K15) -> 209 | M15: =SUM('Saisie Guichet'!N67:N73) -> 365
C16: 1 | D16: =SUM('Saisie Guichet'!E74:E75) -> 10 | E16: =SUM('Saisie Guichet'!F74:F75) -> 0 | F16: =SUM('Saisie Guichet'!G74:G75) -> 0 | G16: =SUM('Saisie Guichet'!H74:H75) -> 2 | H16: =SUM('Saisie Guichet'!I74:I75) -> 1 | I16: =SUM('Saisie Guichet'!J74:J75) -> 1 | J16: =SUM('Saisie Guichet'!K74:K75) -> 0 | K16: =SUM('Saisie Guichet'!L74:L75) -> 1 | L16: =SUM(D16:K16) -> 15 | M16: =SUM('Saisie Guichet'!N74:N75) -> 56

Sheet MAQ Prod BB
B1: LIGNE 1 Sacs
B3: Fournisseur | C3: Ensachage (pesée) | D3: Palettisation | E3: Contrôle fin de ligne | F3: Stockage | G3: Transfert | H3: Préparation | I3: Contrôle Chargement
A4: Ensachage (pesée)
A5: Palettisation
A6: Contrôle fin de ligne
A7: Stockage
A8: Transfert
A9: Préparation
A10: Contrôle Chargement
A11: Clients

Sheet Suivi Sem.43
B2: Semaine 43 | D2: Rapport Hebdomadaire AC-VM Guichet
D4: Arrivées Traitées | E4: Anomalies relevées | F4: % NC semaine 43 | H4: % NC semaine 42
B5: d1 | F5: =E5/D5 -> #DIV/0! | H5: -
B6: d2 | D6: =D5 -> 0 | F6: =E6/D6 -> #DIV/0! | H6: -
B7: d3 | D7: =D5 -> 0 | F7: =E7/D7 -> #DIV/0! | H7: -
B8: d4 | D8: =D5 -> 0 | F8: =E8/D8 -> #DIV/0! | H8: -
B9: d5 | D9: =D5 -> 0 | F9: =E9/D9 -> #DIV/0! | H9: -
B10: d6 | D10: =D5 -> 0 | F10: =E10/D10 -> #DIV/0! | H10: -
B11: d7 | D11: =D5 -> 0 | F11: =E11/D11 -> #DIV/0! | H11: -
B12: d8 | D12: =D5 -> 0 | F12: =E12/D12 -> #DIV/0! | H12: -
B29: Commentaires :
